{"text_format":"1","workbook":"xlsx","n_sheets":7,"sheets":["Step 1 - Introduction","Step 2 - Ornamental","Step 2 - Naturalized","Supplemental-Pros-Cons","Supplemental-Installation","Ornamental Plant List","Naturalized Plant List"],"not_rendered":{"charts":0,"images":65,"macros":1,"external_links":0,"defined_names":6,"comments":2,"pivot_tables":0},"unopened":[],"bounds":{"document_bytes":16777216,"sheet_cells":100000,"rows_first":2000,"rows_last":500,"rows_between":2000,"halvings":0,"cell_chars":16384,"cell_head_chars":4096},"cells_cut":0,"cells_raw":0,"read":"whole","date_system":"1900"}

{"sheet":"Step 1 - Introduction","index":0,"n_rows":18,"n_cols":4,"rows_kept":18,"cut":false,"hidden":false,"merged":[[2,0,2,13],[0,0,0,18],[1,0,1,18],[16,0,16,13],[18,0,18,13],[10,2,10,16],[19,0,31,13],[13,0,13,13],[14,1,14,13],[17,0,17,18],[3,0,3,2],[12,0,12,2],[3,3,3,16],[12,3,12,16],[4,0,4,18],[5,1,5,13],[9,1,9,13],[11,0,11,13],[15,2,15,16],[8,2,8,16],[7,1,7,13],[6,2,6,16]]}
["Green Infrastructure Plant Selection Spreadsheet"]
["Milwaukee Metropolitan Sewerage District"]
[]
[null,null,null,"Introduction"]
[]
[null,"Disclaimer"]
[null,"i. \n\n","This tool is intended to be a starting point for the successful use of plants in green infrastructure applications. It is the responsibility of the local municipality or designer to understand the conditions specific to their site and the requirements for planting. It is recommended that planting plans be developed and/or reviewed by a licensed landscape architect, landscape designer, or qualified tradesperson."]
[null,"1. Application"]
[null,"i. \n\n\nii.  \n\n\n\nIii.\n","The Milwaukee Metropolitan Sewerage District (District) has created this tool to help project partners and interested residents with the selection of plants for green infrastructure applications. \n\nGreen infrastructure is one piece of the multi-tiered approach to meeting the District’s 2035 Vision for zero basement backups, zero overflows, and improved water quality. Widespread green infrastructure plays an important part in achieving the Vision by capturing stormwater. This infrastructure allows stormwater to soak into the ground or be absorbed by plants, and prevents it from entering sewers and contributing to sewer overflows and basement backups. \n\nThe District recognizes the important role that plants play in this infrastructure, but also understands that the conditions the plants must survive in can be challenging. This tool allows users to select those conditions and narrow down a master list of plants to reveal the ones most suited to their particular site."]
[null,"2. Steps to Complete"]
[null,"i. \n\nii.  \n\nIii.\n\nIv.","Save a copy of this file to a local drive. You must have access to Adobe Acrobat Viewer, Microsoft Word and Excel to open some of the supplemental materials.\n\nOrange buttons will move you to the next step. \n\nNext, fill in information about your project with the yellow buttons to create a customized plant list. \n\nGreen buttons will provide supplemental information."]
[]
["Step One",null,null,"Choose Planting Style"]
[]
[null,"1. Ornamental or Naturalized"]
[null,"i.\n\nii.\n\n\n\n\n\niii.\n\n","The first choice this tool requires you to make, is to select the type of planting approach that will be used. The two choices offered are, ornamental or naturalized. \n\nAn ornamental landscape is one that most people are familiar with. It has been the typical planting approach in the U.S. for the last half century. Ornamental landscapes rely on the use of plants whose traits are carefully selected by growers to be durable, long-lived, and produce bold leaves or flower displays. These plants are typically not native to one specific region having been originally imported from all over the world. Because each selection of plant tends to possess identical genes, these landscapes can be unproductive with plants producing few, if any, offspring. The arrangement of ornamental plantings usually uses plants in blocks or groupings. The simple collection of these large masses of individual plants is what many people think of when they imagine a garden.\n\nNaturalized landscapes are beginning to gain popularity. The naturalized approach utilizes local native plants in arrangements that attempt to mimic a common regional plant community like a prairie. The placement of these plants is more dense and diverse than in an ornamental landscape. Unlike the typical cultivated approach, the naturalized landscape is designed to self-replicate through natural reproduction."]
[]
["Choose Planting Style"]

{"sheet":"Step 2 - Ornamental","index":1,"n_rows":26,"n_cols":40,"rows_kept":26,"cut":false,"hidden":true,"merged":[[14,1,14,9],[9,45,9,46],[10,45,10,46],[11,45,11,46],[12,45,12,46],[9,25,9,26],[10,25,10,26],[11,25,11,26],[12,25,12,26],[16,1,16,3],[17,1,17,3],[19,13,19,14],[18,5,18,6],[18,7,18,8],[18,9,18,10],[18,11,18,12],[18,13,18,14],[19,5,19,6],[19,7,19,8],[19,9,19,10],[19,11,19,12],[18,1,18,3],[17,13,17,14],[22,36,22,37],[21,11,21,12],[21,13,21,14],[20,13,20,14],[21,5,21,6],[21,7,21,8],[21,9,21,10],[20,5,20,6],[20,7,20,8],[20,9,20,10],[22,3,22,5],[20,11,20,12],[22,11,22,14],[22,7,22,9],[0,0,0,20],[1,0,1,20],[3,4,3,16],[11,1,11,3],[20,1,20,3],[10,1,10,3],[13,0,13,13],[15,0,15,14],[16,5,16,6],[16,7,16,8],[16,9,16,10],[16,11,16,12],[16,13,16,14],[17,5,17,6],[17,7,17,8],[17,9,17,10],[25,1,27,1],[5,1,5,16],[4,0,4,17],[2,0,2,17],[7,1,7,14],[8,0,8,14],[9,5,9,6],[9,1,9,3],[10,5,10,6],[11,5,11,6],[12,5,12,6],[6,2,6,17],[3,0,3,2],[21,1,21,3],[17,11,17,12],[19,1,19,3]]}
["Green Infrastructure Plant Selection Spreadsheet"]
["Milwaukee Metropolitan Sewerage District"]
[]
["Step Two",null,null,null,"Select Site Conditions (Ornamental)",null,null,null,null,null,null,null,null,null,null,null,null,null,null,{"$f":"IF(($V$16>0),2,1)","v":1},{"$f":"IF(($U$16>0),2,1)","v":1}]
[]
[null,"1. Application"]
[null,"i.\n\n\n\nIi.","This page will allow you to enter the conditions on your site that will determine the appropriate plant material to choose from. You can customize your settings by going directly to #3 and choosing from a range of conditions, or you can select a series of default conditions for typical green infrastructure practices under #2. Once you are happy with your selections, hit the “Submit Data and Create Plant List” button under #4.     \n\nFor more information on standard green infrastructure practices visit www.freshcoastguardians.com."]
[null,"2. Default Selection for Green Infrastructure"]
[]
["(?)","Bio-Swale",null,null,null,null,null,"Standard Detail",null,null,null,null,null,null,null,null,null,null,null,null,null,null,null,null,null,"Bio Retention PDF",null,null,null,null,null,null,null,null,"Bio Swale"]
["(?)","Rain Garden",null,null,null,null,null,null,null,null,null,null,null,null,null,null,null,null,null,null,null,null,null,null,null,"Rain Garden PDF",null,null,null,null,null,null,null,null,"Rain Garden"]
["(?)","Extensive Green Roof",null,null,null,null,null,null,null,null,null,null,null,null,null,null,null,null,null,null,null,null,null,null,null,"Ex Green Roof PDF",null,null,null,null,null,null,null,null,"Ext Green Roof"]
["(?)","Semi-Intensive Green Roof",null,null,null,null,null,null,null,null,null,null,null,null,null,null,null,null,null,null,null,null,null,null,null,"Int Green Roof PDF",null,null,null,null,null,null,null,null,"Semi Int Green Roof"]
[]
[null,"3. Custom Selection for Green Infrastructure",null,null,null,null,null,null,null,null,"(?)"]
[null,null,null,null,null,null,null,null,null,null,null,null,null,null,null,null,null,null,null,null,{"$f":"SUM($U$17*$U$18*$U$19*$U$20*$U$21*$U$22)","v":0}]
["(?)","Sun Exposure",null,null,null,"                (?)",null,"                (?)",null,"                (?)",null,null,null,null,null,null,null,null,null,null,{"$f":"SUM($V$17,$W$17,$X$17)","v":0},{"$f":"IF($AA$17=\"X\",1,0)","v":0},{"$f":"IF($AB$17=\"X\",1,0)","v":0},{"$f":"IF($AC$17=\"X\",1,0)","v":0},null,null,null,null,null,null,null,null,null,null,"Sun Exposure","Full Sun","Part Sun","Full Shade"]
["(?)","Soil Moisture",null,null,null,"                (?)",null,"                (?)",null,"                (?)",null,"                (?)",null,"                (?)",null,null,null,null,null,null,{"$f":"SUM($V$18,$W$18,$X$18,$Y$18,$Z$18)","v":0},{"$f":"IF($AA$18=\"X\",1,0)","v":0},{"$f":"IF($AB$18=\"X\",1,0)","v":0},{"$f":"IF($AC$18=\"X\",1,0)","v":0},{"$f":"IF($AD$18=\"X\",1,0)","v":0},{"$f":"IF($AE$18=\"X\",1,0)","v":0},null,null,null,null,null,null,null,null,"Soil Moisture","Dry","Mesic","Wet","Emergent Type 1","Emergent Type 2"]
["(?)","Salt Exposure",null,null,null,"                (?)",null,"                (?)",null,"                (?)",null,null,null,null,null,null,null,null,null,null,{"$f":"SUM($V$19,$W$19,$X$19)","v":0},{"$f":"IF($AA$19=\"X\",1,0)","v":0},{"$f":"IF($AB$19=\"X\",1,0)","v":0},{"$f":"IF($AC$19=\"X\",1,0)","v":0},null,null,null,null,null,null,null,null,null,null,"Salt Exposure","Low","Medium","High"]
["(?)","Flood Duration",null,null,null,"                (?)",null,"                (?)",null,"                (?)",null,null,null,null,null,null,null,null,null,null,{"$f":"SUM($V$20,$W$20,$X$20)","v":0},{"$f":"IF($AA$20=\"X\",1,0)","v":0},{"$f":"IF($AB$20=\"X\",1,0)","v":0},{"$f":"IF($AC$20=\"X\",1,0)","v":0},null,null,null,null,null,null,null,null,null,null,"Flood Duration","Short ","Medium","Long"]
["(?)","Soil pH",null,null,null,"                (?)",null,"                (?)",null,"                (?)",null,null,null,null,null,null,null,null,null,null,{"$f":"SUM($V$21,$W$21,$X$21)","v":0},{"$f":"IF($AA$21=\"X\",1,0)","v":0},{"$f":"IF($AB$21=\"X\",1,0)","v":0},{"$f":"IF($AC$21=\"X\",1,0)","v":0},null,null,null,null,null,null,null,null,null,null,"Soil pH","Acidic ","Neutral","Alkaline"]
["(?)","Planting Soil Depth",null,null,null,"                (?)",null,"                (?)",null,"                (?)",null,"                (?)",null,null,null,null,null,null,null,null,{"$f":"SUM($V$22,$W$22,$X$22,$Y$22)","v":0},{"$f":"IF($AA$22=\"X\",1,0)","v":0},{"$f":"IF($AB$22=\"X\",1,0)","v":0},{"$f":"IF($AC$22=\"X\",1,0)","v":0},{"$f":"IF($AD$22=\"X\",1,0)","v":0},null,null,null,null,null,null,null,null,null,"Planting Soil Depth","3\" to 5\"","6\" to 17\"","18\" to 29\"","≥30\""]
[null,null,null,"Clear Selection",null,null,null,"        Select All",null,null,null,null,null,null,null,null,null,null,null,null,null,null,null,null,null,null,null,null,null,null,null,null,null,null,"Clear Selection",null,"Select All"]
[]
[]
[null,"4.."]

{"sheet":"Step 2 - Naturalized","index":2,"n_rows":26,"n_cols":40,"rows_kept":26,"cut":false,"hidden":true,"merged":[[9,25,9,26],[10,25,10,26],[11,25,11,26],[12,25,12,26],[20,1,20,3],[19,1,19,3],[18,13,18,14],[17,5,17,6],[18,5,18,6],[18,7,18,8],[18,9,18,10],[18,11,18,12],[17,1,17,3],[18,1,18,3],[16,1,16,3],[17,7,17,8],[22,36,22,37],[21,5,21,6],[21,7,21,8],[21,9,21,10],[21,11,21,12],[21,13,21,14],[22,11,22,12],[21,1,21,3],[22,3,22,5],[20,13,20,14],[19,5,19,6],[19,7,19,8],[19,9,19,10],[19,11,19,12],[19,13,19,14],[20,5,20,6],[20,7,20,8],[20,9,20,10],[20,11,20,12],[17,11,17,12],[17,13,17,14],[16,5,16,6],[16,7,16,8],[16,9,16,10],[16,11,16,12],[16,13,16,14],[25,1,27,1],[22,7,22,9],[4,0,4,17],[9,5,9,6],[9,1,9,3],[10,5,10,6],[11,5,11,6],[12,5,12,6],[10,1,10,3],[11,1,11,3],[12,1,12,3],[13,0,13,13],[15,0,15,14],[7,1,7,14],[8,0,8,14],[17,9,17,10],[6,2,6,17],[3,0,3,2],[14,1,14,9],[0,0,0,20],[1,0,1,20],[3,4,3,16],[2,0,2,17],[5,1,5,16]]}
["Green Infrastructure Plant Selection Spreadsheet"]
["Milwaukee Metropolitan Sewerage District"]
[]
["Step Two",null,null,null,"Select Site Conditions (Naturalized)",null,null,null,null,null,null,null,null,null,null,null,null,null,null,null,{"$f":"IF(($U$16>0),2,1)","v":1}]
[]
[null,"1. Application"]
[null,"i.\n\n\n\nIi.","This page will allow you to enter the conditions on your site that will determine the appropriate plant material to choose from. You can customize your settings by going directly to #3 and choosing from a range of conditions, or you can select a series of default conditions for typical green infrastructure practices under #2. Once you are happy with your selections, hit the “Submit Data and Create Plant List” button under #4.   \n\nFor more information on standard green infrastructure practices visit www.freshcoastguardians.com."]
[null,"2. Default Selection for Green Infrastructure"]
[]
["(?)","Bio-Swale",null,null,null,null,null,"Standard Detail",null,null,null,null,null,null,null,null,null,null,null,null,null,null,null,null,null,"Bio Retention PDF",null,null,null,null,null,null,null,null,"Bio Swale"]
["(?)","Rain Garden",null,null,null,null,null,null,null,null,null,null,null,null,null,null,null,null,null,null,null,null,null,null,null,"Rain Garden PDF",null,null,null,null,null,null,null,null,"Rain Garden"]
["(?)","Extensive Green Roof",null,null,null,null,null,null,null,null,null,null,null,null,null,null,null,null,null,null,null,null,null,null,null,"Ex Green Roof PDF",null,null,null,null,null,null,null,null,"Ext Green Roof"]
["(?)","Semi-Intensive Green Roof",null,null,null,null,null,null,null,null,null,null,null,null,null,null,null,null,null,null,null,null,null,null,null,"Int Green Roof PDF",null,null,null,null,null,null,null,null,"Semi Int Green Roof"]
[]
[null,"3. Custom Selection for Green Infrastructure",null,null,null,null,null,null,null,null,"(?)"]
[null,null,null,null,null,null,null,null,null,null,null,null,null,null,null,null,null,null,null,null,{"$f":"SUM($U$17*$U$18*$U$19*$U$20*$U$21*$U$22)","v":0}]
["(?)","Sun Exposure",null,null,null,"                (?)",null,"                (?)",null,"                (?)",null,null,null,null,null,null,null,null,null,null,{"$f":"SUM($V$17,$W$17,$X$17)","v":0},{"$f":"IF($AA$17=\"X\",1,0)","v":0},{"$f":"IF($AB$17=\"X\",1,0)","v":0},{"$f":"IF($AC$17=\"X\",1,0)","v":0},null,null,null,null,null,null,null,null,null,null,"Sun Exposure","Full Sun","Part Sun","Full Shade"]
["(?)","Soil Moisture",null,null,null,"                (?)",null,"                (?)",null,"                (?)",null,"                (?)",null,"                (?)",null,null,null,null,null,null,{"$f":"SUM($V$18,$W$18,$X$18,$Y$18,$Z$18)","v":0},{"$f":"IF($AA$18=\"X\",1,0)","v":0},{"$f":"IF($AB$18=\"X\",1,0)","v":0},{"$f":"IF($AC$18=\"X\",1,0)","v":0},{"$f":"IF($AD$18=\"X\",1,0)","v":0},{"$f":"IF($AE$18=\"X\",1,0)","v":0},null,null,null,null,null,null,null,null,"Soil Moisture","Dry","Mesic","Wet","Emergent Type 1","Emergent Type 2"]
["(?)","Salt Exposure",null,null,null,"                (?)",null,"                (?)",null,"                (?)",null,null,null,null,null,null,null,null,null,null,{"$f":"SUM($V$19,$W$19,$X$19)","v":0},{"$f":"IF($AA$19=\"X\",1,0)","v":0},{"$f":"IF($AB$19=\"X\",1,0)","v":0},{"$f":"IF($AC$19=\"X\",1,0)","v":0},null,null,null,null,null,null,null,null,null,null,"Salt Exposure","Low","Medium","High"]
["(?)","Flood Duration",null,null,null,"                (?)",null,"                (?)",null,"                (?)",null,null,null,null,null,null,null,null,null,null,{"$f":"SUM($V$20,$W$20,$X$20)","v":0},{"$f":"IF($AA$20=\"X\",1,0)","v":0},{"$f":"IF($AB$20=\"X\",1,0)","v":0},{"$f":"IF($AC$20=\"X\",1,0)","v":0},null,null,null,null,null,null,null,null,null,null,"Flood Duration","Short ","Medium","Long"]
["(?)","Soil pH",null,null,null,"                (?)",null,"                (?)",null,"                (?)",null,null,null,null,null,null,null,null,null,null,{"$f":"SUM($V$21,$W$21,$X$21)","v":0},{"$f":"IF($AA$21=\"X\",1,0)","v":0},{"$f":"IF($AB$21=\"X\",1,0)","v":0},{"$f":"IF($AC$21=\"X\",1,0)","v":0},null,null,null,null,null,null,null,null,null,null,"Soil pH","Acidic ","Neutral","Alkaline"]
["(?)","Planting Soil Depth",null,null,null,"                (?)",null,"                (?)",null,"                (?)",null,"                (?)",null,null,null,null,null,null,null,null,{"$f":"SUM($V$22,$W$22,$X$22,$Y$22)","v":0},{"$f":"IF($AA$22=\"X\",1,0)","v":0},{"$f":"IF($AB$22=\"X\",1,0)","v":0},{"$f":"IF($AC$22=\"X\",1,0)","v":0},{"$f":"IF($AD$22=\"X\",1,0)","v":0},null,null,null,null,null,null,null,null,null,"Planting Soil Depth","3\" to 5\"","6\" to 17\"","18\" to 29\"","≥30\""]
[null,null,null,"Clear Selection",null,null,null,"        Select All",null,null,null,null,null,null,null,null,null,null,null,null,null,null,null,null,null,null,null,null,null,null,null,null,null,null,"Clear Selection",null,"Select All"]
[]
[]
[null,"4.."]

{"sheet":"Supplemental-Pros-Cons","index":3,"n_rows":7,"n_cols":5,"rows_kept":7,"cut":false,"hidden":true,"merged":[[0,0,0,20],[1,0,1,20],[4,0,4,13],[2,0,2,14],[6,2,6,18],[3,4,3,17],[5,1,5,18]]}
["Green Infrastructure Plant Selection Spreadsheet"]
["Milwaukee Metropolitan Sewerage District"]
[]
[null,null,null,null,"Supplemental Data"]
[]
[null,"Pros and Cons of Ornamental and Naturalized \nLandscapes"]
[null,"1.\n\n\n\n2.\n\n\n3.\n\n\n\n4.\n\n\n\n\n\n","Ornamental landscapes produce simple and bold plant displays which are a look many people prefer. It’s a look that communicates control, safety, and cleanliness. Another important benefit is that it can be easier to keep weeds at bay in an ornamental landscape. A weed is easier to spot in a monoculture of plants, especially among a group of plants with familiar leaves and flowers. \n\nOne of the biggest downsides to the ornamental approach is that it has a relatively small number of species used in mass, which may make it vulnerable to pests and diseases, resulting in an unhealthy reliance on pesticides, irrigation, and fertilization. It is also a temporary landscape that must be frequently replaced when its component plants die.   \n\nNaturalized landscapes offer the promise of continual renewal. Their diversity also makes them naturally more resistant to pests and diseases. The biggest benefit of a natural landscape, however, might be the habitat it creates for native plants and animals. This can be especially important in urban areas where remaining natural areas are few and far between. The aesthetic of a naturalized landscape is one that many people have come to appreciate for its complexity and its authentic representation of the local ecosystem. \n\nA downside to a naturalized landscape is that it can appear messy and unkempt to someone who doesn’t realize that it’s an intentional landscape. Establishment and long-term maintenance can also be a challenge. Nature works on economies of scale. A truly sustainable native plant community relies upon its size to be self-propagating. Applying a naturalized planting approach to a small, fragmented space can result in a lot of weed competition. Think about it this way, it is hard to take a vast prairie and condense it down to the size of the average city lot. And since many conventional landscapers don’t possess the knowledge to discern a native grass or forb from a non-native one, a naturalized landscape can quickly become a weed garden. Proper stewardship of a diverse, native plant community requires patience and a commitment to intensive maintenance during an establishment period that can last 3 to 5 years. Many native plant communities also benefit from frequent prescribed burning. For these reasons, if an owner desires a naturalized planting, it is a good idea to have a maintenance company with restoration ecologists on staff."]

{"sheet":"Supplemental-Installation","index":4,"n_rows":8,"n_cols":8,"rows_kept":8,"cut":false,"hidden":true,"merged":[[6,2,6,19],[7,3,7,19],[0,0,0,20],[1,0,1,20],[5,1,5,15],[2,0,2,15],[4,0,4,15],[3,7,3,14]]}
["Green Infrastructure Plant Selection Spreadsheet"]
["Milwaukee Metropolitan Sewerage District"]
[]
[null,null,null,null,null,null,null,"Supplemental Data"]
[]
[null,"Landscape Cost Considerations"]
[null,"1)\n\n\n2)\n\n\n\n\n3)","While the environmental benefits of conservation practices such as bioretention and rain gardens are well known, cost-sensitive municipalities and developers are often hesitant to try them. A common concern about these approaches is the perception of increased costs. \n\nGreen infrastructure strategies such as green roofs, rain gardens, bioretention, and naturalized plantings address stormwater on-site by distributing the water across the landscape, thereby mimicking and restoring the natural hydrology. The result is a range of environmental benefits: groundwater recharge, improved surface water hydrology, improved water quality, habitat protection, and more. Conventional practices such as engineered stormwater ponds or concrete-lined drainage ditches, overtime, have shown negative environmental impacts not present with conservation practices, such as increased flooding and decreased water quality. \n\nAn analysis of conservation practices conducted by Conservation Research Institute concluded that:"]
[null,null,"a)\n\nb)\n\nc)\n\nd)\n\ne)\n\n\nf)\n\n\n\ng)\n","Public infrastructure costs are higher when a development is built within the context of urban sprawl, as compared to smart growth patterns*, that conserve land.\n\nAt the site level, significant cost savings can be achieved from clustering facilities such as, stormwater and transportation infrastructure, and utilities. \n\nInstallation costs can be between $6,000 and $12,000 cheaper per acre for natural landscaping than for turf grass approaches.\n\nMaintenance costs savings range between $5,000 and $5,500 per acre per year over ten years for native landscaping approaches over turf grass approaches.\n\nCosts for retention or detention cannot be examined in isolation but must instead be analyzed in combination with conveyance costs, at which point conservation methods utilizing distributed rain gardens and bioretention approaches generally have a cost advantage.\n\nGreen roofs are more expensive to install than standard roofs. The cost for an extensive green roof can range from $25 to $50 per square foot depending upon the type of system and the size of the roof. Green roofs, however, have been shown to reduce the cooling costs for buildings during the summer and can also extend the life of the roofing membrane by protecting it from the sun.\n\nBy combining multiple tools, such as clustering with native landscaping, bioretention, green roofs and other practices, deeper cost savings can be achieved by allowing infrastructure to be downsized.\n\n*A development strategy designed to protect our health and natural environments and make communities attractive economically and aesthetically."]

{"sheet":"Ornamental Plant List","index":5,"n_rows":570,"n_cols":92,"rows_kept":570,"cut":false,"hidden":true,"merged":[[5,1,5,4],[6,1,6,4],[9,22,10,22],[9,23,10,23],[9,41,10,41],[9,42,10,42],[9,43,10,43],[9,44,10,44],[9,40,10,40],[9,6,10,6],[9,5,10,5],[0,1,0,4],[9,37,10,37],[9,21,10,21],[9,18,10,18],[9,14,10,14],[9,8,10,8],[9,17,10,17],[9,15,10,15],[9,20,10,20],[9,13,10,13],[9,12,10,12],[9,16,10,16],[9,19,10,19],[9,36,10,36],[9,31,10,31],[9,32,10,32],[1,1,1,3],[7,1,7,4],[9,4,10,4],[9,3,10,3],[9,2,10,2],[9,26,10,26],[9,30,10,30],[9,7,10,7],[567,91,568,93],[565,91,566,95],[569,91,570,95],[99,66,99,68],[105,63,105,64],[106,63,106,64],[107,63,107,64],[109,64,109,65],[110,64,110,65],[125,65,125,66],[539,64,539,65],[538,64,538,65],[537,63,537,64],[296,66,296,69],[299,64,299,66],[413,65,413,67],[414,66,414,69],[219,67,219,69],[9,49,10,49],[9,45,10,45],[587,91,588,93],[2,1,2,3],[579,91,580,93],[3,47,3,52],[3,53,3,60],[9,55,10,55],[9,56,10,56],[9,57,10,57],[9,58,10,58],[9,59,10,59],[9,60,10,60],[9,47,10,47],[9,48,10,48],[9,50,10,50],[3,61,3,72],[3,1,3,4],[9,51,10,51],[9,52,10,52],[9,53,10,53],[9,33,10,33],[9,34,10,34],[9,24,10,24],[583,91,584,93],[134,66,134,67],[170,66,170,67],[172,67,172,69],[266,68,266,70],[290,65,290,67],[3,13,3,20],[3,7,3,9],[3,21,3,28],[3,29,3,36],[3,37,3,46],[9,54,10,54],[3,10,3,11],[9,10,10,10],[9,11,10,11],[9,9,10,9],[9,25,10,25],[9,35,10,35],[9,46,10,46],[9,38,10,38],[9,39,10,39],[9,27,10,27],[9,28,10,28],[9,29,10,29]]}
[null,"Green Infrastructure Plant Selection Spreadsheet"]
[null,"Milwaukee Metropolitan Sewerage District"]
[]
["STEP THREE","YOUR CUSTOMIZED ORNAMENTAL PLANT LIST",null,null,null,null,null,"NATIVE RANGE",null,null,"TOLERANCE TO",null,null,"SOIL pH",null,null,null,null,null,null,null,"TOLERANCE TO SALT",null,null,null,null,null,null,null,"FLOOD DURATION",null,null,null,null,null,null,null,"PREFERRED SOIL MOISTURE",null,null,null,null,null,null,null,null,null,"PREFERRED SUN EXPOSURE",null,null,null,null,null,"PLANTING SOIL DEPTH",null,null,null,null,null,null,null,"FLOWER COLOR / HEIGHT"]
[]
[null,"* Midwest is defined as the states of Minnesota, Wisconsin, Iowa, Missouri, Illinois, Indiana, Michigan, and Ohio. \n** See green vendor's list for plant suppliers."]
[null,"Recommended Street Tree"]
[null,"High performance plants"]
[]
[null,{"$f":"SUBTOTAL(103,B13:B63,B66:B86,B89:B119,B122:B177,B180:B184,B187:B193,B196:B202,B205:B463,B467:B525,B528:B543,B546:B554)","v":0},"Symbol","Scientific Name","Common Name","Spacing","Comments","NOT NATIVE"," MID-\nWEST*","SOUTH WISC.","DEER ","RABBIT",null,null,"UNKNOWN",null,"ACIDIC\n(6.1-6.5)",null,"NEUTRAL\n(6.6-7.5)",null,"ALKALINE\n(7.6-7.8)",null,"UNKNOWN",null,"LOW",null,"MED",null,"HIGH",null,"UNKNOWN",null,"SHORT \n(2 days or less)",null,"MEDIUM \n(3 or 4 days)",null,"LONG \n(5 days or more)",null,"DRY",null,"MESIC",null,"WET",null,"EMERGENT TYPE 1 \n0-6\" DEPTH",null,"EMERGENT TYPE 2 \n6\"-12\" DEPTH",null,"FULL SUN \n(more than 6 hrs/day)",null,"SUN/SHADE \n(4-6 hrs/day)",null,"FULL SHADE\n(less than 4 hrs/day)",null,"3\" to 5\" \n(Extensive Green Roof)",null,"6\" to 17\" \n(Semi-intensive Green Roof)",null,"18\" to 29\" \n(Typical Bioretention)",null,"30\" and Greater"]
[null,null,null,null,null,null,null,null,null,null,null,null,null,null,null,null,null,null,null,null,null,null,null,null,null,null,null,null,null,null,null,null,null,null,null,null,null,null,null,null,null,null,null,null,null,null,null,null,null,null,null,null,null,null,null,null,null,null,null,null,null,"JAN","FEB","MARCH","APRIL","MAY","JUNE","JULY","AUG","SEPT","OCT","NOV ","DEC"]
["Deciduous Trees",2]
[null,{"$f":"SUM((N13+P13+R13+T13)*(V13+X13+Z13+AB13)*(AD13+AF13+AH13+AJ13)*(AL13+AN13+AP13+AR13+AT13)*(AV13+AX13+AZ13)*(BB13+BD13+BF13+BH13))+1","v":1},"AC GR","Acer griseum","Paperbark Maple","NA","Multi-stem form preferred, Interesting peeling bark in winter (20-30' tall), tolerates clay soil","X",null,null,null,null,null,{"$f":"IF(O13=\"X\",1,0)","v":0},null,{"$f":"IF(AND('Step 2 - Ornamental'!$AA$21=\"X\",Q13=\"X\"),1,0)","v":0},"X",{"$f":"IF(AND('Step 2 - Ornamental'!$AB$21=\"X\",S13=\"X\"),1,0)","v":0},"X",{"$f":"IF(AND('Step 2 - Ornamental'!$AC$21=\"X\",U13=\"X\"),1,0)","v":0},null,{"$f":"IF(AND('Step 2 - Ornamental'!$AA$19=\"X\",W13=\"X\"),1,0)","v":0},"X",{"$f":"IF(AND('Step 2 - Ornamental'!$AA$19=\"X\",Y13=\"X\"),1,0)","v":0},null,{"$f":"IF(AND('Step 2 - Ornamental'!$AB$19=\"X\",AA13=\"X\"),1,0)","v":0},null,{"$f":"IF(AND('Step 2 - Ornamental'!$AC$19=\"X\",AC13=\"X\"),1,0)","v":0},null,{"$f":"IF(AND('Step 2 - Ornamental'!$AA$20=\"X\",AE13=\"X\"),1,0)","v":0},"X",{"$f":"IF(AND('Step 2 - Ornamental'!$AA$20=\"X\",AG13=\"X\"),1,0)","v":0},null,{"$f":"IF(AND('Step 2 - Ornamental'!$AB$20=\"X\",AI13=\"X\"),1,0)","v":0},null,{"$f":"IF(AND('Step 2 - Ornamental'!$AC$20=\"X\",AK13=\"X\"),1,0)","v":0},null,{"$f":"IF(AND('Step 2 - Ornamental'!$AA$18=\"X\",AM13=\"X\"),1,0)","v":0},null,{"$f":"IF(AND('Step 2 - Ornamental'!$AB$18=\"X\",AO13=\"X\"),1,0)","v":0},"X",{"$f":"IF(AND('Step 2 - Ornamental'!$AC$18=\"X\",AQ13=\"X\"),1,0)","v":0},null,{"$f":"IF(AND('Step 2 - Ornamental'!$AD$18=\"X\",AS13=\"X\"),1,0)","v":0},null,{"$f":"IF(AND('Step 2 - Ornamental'!$AE$18=\"X\",AU13=\"X\"),1,0)","v":0},null,{"$f":"IF(AND('Step 2 - Ornamental'!$AA$17=\"X\",AW13=\"X\"),1,0)","v":0},"X",{"$f":"IF(AND('Step 2 - Ornamental'!$AB$17=\"X\",AY13=\"X\"),1,0)","v":0},null,{"$f":"IF(AND('Step 2 - Ornamental'!$AC$17=\"X\",BA13=\"X\"),1,0)","v":0},null,{"$f":"IF(AND('Step 2 - Ornamental'!$AA$22=\"X\",BC13=\"X\"),1,0)","v":0},null,{"$f":"IF(AND('Step 2 - Ornamental'!$AB$22=\"X\",BE13=\"X\"),1,0)","v":0},null,{"$f":"IF(AND('Step 2 - Ornamental'!$AC$22=\"X\",BG13=\"X\"),1,0)","v":0},null,{"$f":"IF(AND('Step 2 - Ornamental'!$AD$22=\"X\",BI13=\"X\"),1,0)","v":0},"X","Flowers are Not Showy"]
[null,{"$f":"SUM((N14+P14+R14+T14)*(V14+X14+Z14+AB14)*(AD14+AF14+AH14+AJ14)*(AL14+AN14+AP14+AR14+AT14)*(AV14+AX14+AZ14)*(BB14+BD14+BF14+BH14))+1","v":1},"AC MI","Acer miyabei 'Morton' ","State Street Miyabe Maple","NA","Good fall color, small to medium size (25-40' tall)","X",null,null,null,null,null,0,null,{"$f":"IF(AND('Step 2 - Ornamental'!$AA$21=\"X\",Q14=\"X\"),1,0)","v":0},"X",{"$f":"IF(AND('Step 2 - Ornamental'!$AB$21=\"X\",S14=\"X\"),1,0)","v":0},"X",{"$f":"IF(AND('Step 2 - Ornamental'!$AC$21=\"X\",U14=\"X\"),1,0)","v":0},null,{"$f":"IF(AND('Step 2 - Ornamental'!$AA$19=\"X\",W14=\"X\"),1,0)","v":0},null,{"$f":"IF(AND('Step 2 - Ornamental'!$AA$19=\"X\",Y14=\"X\"),1,0)","v":0},"X",{"$f":"IF(AND('Step 2 - Ornamental'!$AB$19=\"X\",AA14=\"X\"),1,0)","v":0},"X",{"$f":"IF(AND('Step 2 - Ornamental'!$AC$19=\"X\",AC14=\"X\"),1,0)","v":0},null,{"$f":"IF(AND('Step 2 - Ornamental'!$AA$20=\"X\",AE14=\"X\"),1,0)","v":0},"X",{"$f":"IF(AND('Step 2 - Ornamental'!$AA$20=\"X\",AG14=\"X\"),1,0)","v":0},null,{"$f":"IF(AND('Step 2 - Ornamental'!$AB$20=\"X\",AI14=\"X\"),1,0)","v":0},null,{"$f":"IF(AND('Step 2 - Ornamental'!$AC$20=\"X\",AK14=\"X\"),1,0)","v":0},null,{"$f":"IF(AND('Step 2 - Ornamental'!$AA$18=\"X\",AM14=\"X\"),1,0)","v":0},null,{"$f":"IF(AND('Step 2 - Ornamental'!$AB$18=\"X\",AO14=\"X\"),1,0)","v":0},"X",{"$f":"IF(AND('Step 2 - Ornamental'!$AC$18=\"X\",AQ14=\"X\"),1,0)","v":0},null,{"$f":"IF(AND('Step 2 - Ornamental'!$AD$18=\"X\",AS14=\"X\"),1,0)","v":0},null,{"$f":"IF(AND('Step 2 - Ornamental'!$AE$18=\"X\",AU14=\"X\"),1,0)","v":0},null,{"$f":"IF(AND('Step 2 - Ornamental'!$AA$17=\"X\",AW14=\"X\"),1,0)","v":0},"X",{"$f":"IF(AND('Step 2 - Ornamental'!$AB$17=\"X\",AY14=\"X\"),1,0)","v":0},"X",{"$f":"IF(AND('Step 2 - Ornamental'!$AC$17=\"X\",BA14=\"X\"),1,0)","v":0},null,{"$f":"IF(AND('Step 2 - Ornamental'!$AA$22=\"X\",BC14=\"X\"),1,0)","v":0},null,{"$f":"IF(AND('Step 2 - Ornamental'!$AB$22=\"X\",BE14=\"X\"),1,0)","v":0},null,{"$f":"IF(AND('Step 2 - Ornamental'!$AC$22=\"X\",BG14=\"X\"),1,0)","v":0},null,{"$f":"IF(AND('Step 2 - Ornamental'!$AD$22=\"X\",BI14=\"X\"),1,0)","v":0},"X","Flowers are Not Showy"]
[null,1,"AC SA","Acer saccharum  ","Sugar Maple","NA","Tolerates heavy shade, great fall color, likes uncompacted understory"," ","X","X",null,null,null,{"$f":"IF(O15=\"X\",1,0)","v":0},null,{"$f":"IF(AND('Step 2 - Ornamental'!$AA$21=\"X\",Q15=\"X\"),1,0)","v":0},"X",{"$f":"IF(AND('Step 2 - Ornamental'!$AB$21=\"X\",S15=\"X\"),1,0)","v":0},"X",{"$f":"IF(AND('Step 2 - Ornamental'!$AC$21=\"X\",U15=\"X\"),1,0)","v":0},"X",{"$f":"IF(AND('Step 2 - Ornamental'!$AA$19=\"X\",W15=\"X\"),1,0)","v":0},null,{"$f":"IF(AND('Step 2 - Ornamental'!$AA$19=\"X\",Y15=\"X\"),1,0)","v":0},"X",{"$f":"IF(AND('Step 2 - Ornamental'!$AB$19=\"X\",AA15=\"X\"),1,0)","v":0},null,{"$f":"IF(AND('Step 2 - Ornamental'!$AC$19=\"X\",AC15=\"X\"),1,0)","v":0},null,{"$f":"IF(AND('Step 2 - Ornamental'!$AA$20=\"X\",AE15=\"X\"),1,0)","v":0},null,{"$f":"IF(AND('Step 2 - Ornamental'!$AA$20=\"X\",AG15=\"X\"),1,0)","v":0},"X",{"$f":"IF(AND('Step 2 - Ornamental'!$AB$20=\"X\",AI15=\"X\"),1,0)","v":0},"X",{"$f":"IF(AND('Step 2 - Ornamental'!$AC$20=\"X\",AK15=\"X\"),1,0)","v":0},null,{"$f":"IF(AND('Step 2 - Ornamental'!$AA$18=\"X\",AM15=\"X\"),1,0)","v":0},null,{"$f":"IF(AND('Step 2 - Ornamental'!$AB$18=\"X\",AO15=\"X\"),1,0)","v":0},"X",{"$f":"IF(AND('Step 2 - Ornamental'!$AC$18=\"X\",AQ15=\"X\"),1,0)","v":0},null,{"$f":"IF(AND('Step 2 - Ornamental'!$AD$18=\"X\",AS15=\"X\"),1,0)","v":0},null,{"$f":"IF(AND('Step 2 - Ornamental'!$AE$18=\"X\",AU15=\"X\"),1,0)","v":0},null,{"$f":"IF(AND('Step 2 - Ornamental'!$AA$17=\"X\",AW15=\"X\"),1,0)","v":0},"X",{"$f":"IF(AND('Step 2 - Ornamental'!$AB$17=\"X\",AY15=\"X\"),1,0)","v":0},"X",{"$f":"IF(AND('Step 2 - Ornamental'!$AC$17=\"X\",BA15=\"X\"),1,0)","v":0},"X",{"$f":"IF(AND('Step 2 - Ornamental'!$AA$22=\"X\",BC15=\"X\"),1,0)","v":0},null,{"$f":"IF(AND('Step 2 - Ornamental'!$AB$22=\"X\",BE15=\"X\"),1,0)","v":0},null,{"$f":"IF(AND('Step 2 - Ornamental'!$AC$22=\"X\",BG15=\"X\"),1,0)","v":0},null,{"$f":"IF(AND('Step 2 - Ornamental'!$AD$22=\"X\",BI15=\"X\"),1,0)","v":0},"X","Flowers are Not Showy"]
[null,1,"AC SG","Acer saccharum 'Green Mountain'","Green Mountain Sugar Maple","NA","A sugar maple variety more tolerant of urban conditions, ",null,"X","X",null,null,null,{"$f":"IF(O16=\"X\",1,0)","v":0},null,{"$f":"IF(AND('Step 2 - Ornamental'!$AA$21=\"X\",Q16=\"X\"),1,0)","v":0},"X",{"$f":"IF(AND('Step 2 - Ornamental'!$AB$21=\"X\",S16=\"X\"),1,0)","v":0},"X",{"$f":"IF(AND('Step 2 - Ornamental'!$AC$21=\"X\",U16=\"X\"),1,0)","v":0},"X",{"$f":"IF(AND('Step 2 - Ornamental'!$AA$19=\"X\",W16=\"X\"),1,0)","v":0},null,{"$f":"IF(AND('Step 2 - Ornamental'!$AA$19=\"X\",Y16=\"X\"),1,0)","v":0},"X",{"$f":"IF(AND('Step 2 - Ornamental'!$AB$19=\"X\",AA16=\"X\"),1,0)","v":0},null,{"$f":"IF(AND('Step 2 - Ornamental'!$AC$19=\"X\",AC16=\"X\"),1,0)","v":0},null,{"$f":"IF(AND('Step 2 - Ornamental'!$AA$20=\"X\",AE16=\"X\"),1,0)","v":0},null,{"$f":"IF(AND('Step 2 - Ornamental'!$AA$20=\"X\",AG16=\"X\"),1,0)","v":0},"X",{"$f":"IF(AND('Step 2 - Ornamental'!$AB$20=\"X\",AI16=\"X\"),1,0)","v":0},"X",{"$f":"IF(AND('Step 2 - Ornamental'!$AC$20=\"X\",AK16=\"X\"),1,0)","v":0},null,{"$f":"IF(AND('Step 2 - Ornamental'!$AA$18=\"X\",AM16=\"X\"),1,0)","v":0},"X",{"$f":"IF(AND('Step 2 - Ornamental'!$AB$18=\"X\",AO16=\"X\"),1,0)","v":0},"X",{"$f":"IF(AND('Step 2 - Ornamental'!$AC$18=\"X\",AQ16=\"X\"),1,0)","v":0},null,{"$f":"IF(AND('Step 2 - Ornamental'!$AD$18=\"X\",AS16=\"X\"),1,0)","v":0},null,{"$f":"IF(AND('Step 2 - Ornamental'!$AE$18=\"X\",AU16=\"X\"),1,0)","v":0},null,{"$f":"IF(AND('Step 2 - Ornamental'!$AA$17=\"X\",AW16=\"X\"),1,0)","v":0},"X",{"$f":"IF(AND('Step 2 - Ornamental'!$AB$17=\"X\",AY16=\"X\"),1,0)","v":0},"X",{"$f":"IF(AND('Step 2 - Ornamental'!$AC$17=\"X\",BA16=\"X\"),1,0)","v":0},"X",{"$f":"IF(AND('Step 2 - Ornamental'!$AA$22=\"X\",BC16=\"X\"),1,0)","v":0},null,{"$f":"IF(AND('Step 2 - Ornamental'!$AB$22=\"X\",BE16=\"X\"),1,0)","v":0},null,{"$f":"IF(AND('Step 2 - Ornamental'!$AC$22=\"X\",BG16=\"X\"),1,0)","v":0},null,{"$f":"IF(AND('Step 2 - Ornamental'!$AD$22=\"X\",BI16=\"X\"),1,0)","v":0},"X","Flowers are Not Showy"]
[null,1,"AC AR","Acer x freemanii 'Armstrong'","Armstrong Fastigate Red Maple","NA","Narrow Maple (15'Wx60'T) for wetter soils, hardy hubrid between rubrum and saccharinum,"," ","X","X",null,null,null,0,null,{"$f":"IF(AND('Step 2 - Ornamental'!$AA$21=\"X\",Q17=\"X\"),1,0)","v":0},"X",{"$f":"IF(AND('Step 2 - Ornamental'!$AB$21=\"X\",S17=\"X\"),1,0)","v":0},"X",{"$f":"IF(AND('Step 2 - Ornamental'!$AC$21=\"X\",U17=\"X\"),1,0)","v":0},null,{"$f":"IF(AND('Step 2 - Ornamental'!$AA$19=\"X\",W17=\"X\"),1,0)","v":0},"X",{"$f":"IF(AND('Step 2 - Ornamental'!$AA$19=\"X\",Y17=\"X\"),1,0)","v":0},null,{"$f":"IF(AND('Step 2 - Ornamental'!$AB$19=\"X\",AA17=\"X\"),1,0)","v":0},null,{"$f":"IF(AND('Step 2 - Ornamental'!$AC$19=\"X\",AC17=\"X\"),1,0)","v":0},null,{"$f":"IF(AND('Step 2 - Ornamental'!$AA$20=\"X\",AE17=\"X\"),1,0)","v":0},null,{"$f":"IF(AND('Step 2 - Ornamental'!$AA$20=\"X\",AG17=\"X\"),1,0)","v":0},"X",{"$f":"IF(AND('Step 2 - Ornamental'!$AB$20=\"X\",AI17=\"X\"),1,0)","v":0},"X",{"$f":"IF(AND('Step 2 - Ornamental'!$AC$20=\"X\",AK17=\"X\"),1,0)","v":0},"X",{"$f":"IF(AND('Step 2 - Ornamental'!$AA$18=\"X\",AM17=\"X\"),1,0)","v":0},"X",{"$f":"IF(AND('Step 2 - Ornamental'!$AB$18=\"X\",AO17=\"X\"),1,0)","v":0},"X",{"$f":"IF(AND('Step 2 - Ornamental'!$AC$18=\"X\",AQ17=\"X\"),1,0)","v":0},"X",{"$f":"IF(AND('Step 2 - Ornamental'!$AD$18=\"X\",AS17=\"X\"),1,0)","v":0},null,{"$f":"IF(AND('Step 2 - Ornamental'!$AE$18=\"X\",AU17=\"X\"),1,0)","v":0},null,{"$f":"IF(AND('Step 2 - Ornamental'!$AA$17=\"X\",AW17=\"X\"),1,0)","v":0},"X",{"$f":"IF(AND('Step 2 - Ornamental'!$AB$17=\"X\",AY17=\"X\"),1,0)","v":0},"X",{"$f":"IF(AND('Step 2 - Ornamental'!$AC$17=\"X\",BA17=\"X\"),1,0)","v":0},null,{"$f":"IF(AND('Step 2 - Ornamental'!$AA$22=\"X\",BC17=\"X\"),1,0)","v":0},null,{"$f":"IF(AND('Step 2 - Ornamental'!$AB$22=\"X\",BE17=\"X\"),1,0)","v":0},null,{"$f":"IF(AND('Step 2 - Ornamental'!$AC$22=\"X\",BG17=\"X\"),1,0)","v":0},null,{"$f":"IF(AND('Step 2 - Ornamental'!$AD$22=\"X\",BI17=\"X\"),1,0)","v":0},"X","Flowers are Not Showy"]
[null,1,"AC FR","Acer x freemanii 'Jeffersred' AUTUMN BLAZE","Autumn Blaze Maple","NA","Maple for wetter soils, hardy hybrid between rubrum and saccharinum, good scarlet to orange fall color"," ","X","X",null,null,null,0,null,{"$f":"IF(AND('Step 2 - Ornamental'!$AA$21=\"X\",Q18=\"X\"),1,0)","v":0},"X",{"$f":"IF(AND('Step 2 - Ornamental'!$AB$21=\"X\",S18=\"X\"),1,0)","v":0},"X",{"$f":"IF(AND('Step 2 - Ornamental'!$AC$21=\"X\",U18=\"X\"),1,0)","v":0},null,{"$f":"IF(AND('Step 2 - Ornamental'!$AA$19=\"X\",W18=\"X\"),1,0)","v":0},"X",{"$f":"IF(AND('Step 2 - Ornamental'!$AA$19=\"X\",Y18=\"X\"),1,0)","v":0},null,{"$f":"IF(AND('Step 2 - Ornamental'!$AB$19=\"X\",AA18=\"X\"),1,0)","v":0},null,{"$f":"IF(AND('Step 2 - Ornamental'!$AC$19=\"X\",AC18=\"X\"),1,0)","v":0},null,{"$f":"IF(AND('Step 2 - Ornamental'!$AA$20=\"X\",AE18=\"X\"),1,0)","v":0},null,{"$f":"IF(AND('Step 2 - Ornamental'!$AA$20=\"X\",AG18=\"X\"),1,0)","v":0},"X",{"$f":"IF(AND('Step 2 - Ornamental'!$AB$20=\"X\",AI18=\"X\"),1,0)","v":0},"X",{"$f":"IF(AND('Step 2 - Ornamental'!$AC$20=\"X\",AK18=\"X\"),1,0)","v":0},"X",{"$f":"IF(AND('Step 2 - Ornamental'!$AA$18=\"X\",AM18=\"X\"),1,0)","v":0},"X",{"$f":"IF(AND('Step 2 - Ornamental'!$AB$18=\"X\",AO18=\"X\"),1,0)","v":0},"X",{"$f":"IF(AND('Step 2 - Ornamental'!$AC$18=\"X\",AQ18=\"X\"),1,0)","v":0},"X",{"$f":"IF(AND('Step 2 - Ornamental'!$AD$18=\"X\",AS18=\"X\"),1,0)","v":0},null,{"$f":"IF(AND('Step 2 - Ornamental'!$AE$18=\"X\",AU18=\"X\"),1,0)","v":0},null,{"$f":"IF(AND('Step 2 - Ornamental'!$AA$17=\"X\",AW18=\"X\"),1,0)","v":0},"X",{"$f":"IF(AND('Step 2 - Ornamental'!$AB$17=\"X\",AY18=\"X\"),1,0)","v":0},"X",{"$f":"IF(AND('Step 2 - Ornamental'!$AC$17=\"X\",BA18=\"X\"),1,0)","v":0},null,{"$f":"IF(AND('Step 2 - Ornamental'!$AA$22=\"X\",BC18=\"X\"),1,0)","v":0},null,{"$f":"IF(AND('Step 2 - Ornamental'!$AB$22=\"X\",BE18=\"X\"),1,0)","v":0},null,{"$f":"IF(AND('Step 2 - Ornamental'!$AC$22=\"X\",BG18=\"X\"),1,0)","v":0},null,{"$f":"IF(AND('Step 2 - Ornamental'!$AD$22=\"X\",BI18=\"X\"),1,0)","v":0},"X","Flowers are Not Showy"]
[null,1,"AC RU","Acer rubrum 'Franksred' RED SUNSET","Red Sunset Red Maple","NA","The best red maple cultivar with outstanding red fall color, ",null,"X","X",null,null,null,0,null,{"$f":"IF(AND('Step 2 - Ornamental'!$AA$21=\"X\",Q19=\"X\"),1,0)","v":0},"X",{"$f":"IF(AND('Step 2 - Ornamental'!$AB$21=\"X\",S19=\"X\"),1,0)","v":0},"X",{"$f":"IF(AND('Step 2 - Ornamental'!$AC$21=\"X\",U19=\"X\"),1,0)","v":0},null,{"$f":"IF(AND('Step 2 - Ornamental'!$AA$19=\"X\",W19=\"X\"),1,0)","v":0},null,{"$f":"IF(AND('Step 2 - Ornamental'!$AA$19=\"X\",Y19=\"X\"),1,0)","v":0},"X",{"$f":"IF(AND('Step 2 - Ornamental'!$AB$19=\"X\",AA19=\"X\"),1,0)","v":0},null,{"$f":"IF(AND('Step 2 - Ornamental'!$AC$19=\"X\",AC19=\"X\"),1,0)","v":0},null,{"$f":"IF(AND('Step 2 - Ornamental'!$AA$20=\"X\",AE19=\"X\"),1,0)","v":0},null,{"$f":"IF(AND('Step 2 - Ornamental'!$AA$20=\"X\",AG19=\"X\"),1,0)","v":0},"X",{"$f":"IF(AND('Step 2 - Ornamental'!$AB$20=\"X\",AI19=\"X\"),1,0)","v":0},"X",{"$f":"IF(AND('Step 2 - Ornamental'!$AC$20=\"X\",AK19=\"X\"),1,0)","v":0},"X",{"$f":"IF(AND('Step 2 - Ornamental'!$AA$18=\"X\",AM19=\"X\"),1,0)","v":0},"X",{"$f":"IF(AND('Step 2 - Ornamental'!$AB$18=\"X\",AO19=\"X\"),1,0)","v":0},"X",{"$f":"IF(AND('Step 2 - Ornamental'!$AC$18=\"X\",AQ19=\"X\"),1,0)","v":0},"X",{"$f":"IF(AND('Step 2 - Ornamental'!$AD$18=\"X\",AS19=\"X\"),1,0)","v":0},null,{"$f":"IF(AND('Step 2 - Ornamental'!$AE$18=\"X\",AU19=\"X\"),1,0)","v":0},null,{"$f":"IF(AND('Step 2 - Ornamental'!$AA$17=\"X\",AW19=\"X\"),1,0)","v":0},"X",{"$f":"IF(AND('Step 2 - Ornamental'!$AB$17=\"X\",AY19=\"X\"),1,0)","v":0},"X",{"$f":"IF(AND('Step 2 - Ornamental'!$AC$17=\"X\",BA19=\"X\"),1,0)","v":0},null,{"$f":"IF(AND('Step 2 - Ornamental'!$AA$22=\"X\",BC19=\"X\"),1,0)","v":0},null,{"$f":"IF(AND('Step 2 - Ornamental'!$AB$22=\"X\",BE19=\"X\"),1,0)","v":0},null,{"$f":"IF(AND('Step 2 - Ornamental'!$AC$22=\"X\",BG19=\"X\"),1,0)","v":0},null,{"$f":"IF(AND('Step 2 - Ornamental'!$AD$22=\"X\",BI19=\"X\"),1,0)","v":0},"X","Flowers are Not Showy"]
[null,1,"AE CA","Aesculus x carnea 'Briotii'","Briotii Red Horsechestnut","NA","Showy red flowers, needs moist, fertile soils, smaller chestnut","X",null,null,null,null,null,0,null,{"$f":"IF(AND('Step 2 - Ornamental'!$AA$21=\"X\",Q20=\"X\"),1,0)","v":0},"X",{"$f":"IF(AND('Step 2 - Ornamental'!$AB$21=\"X\",S20=\"X\"),1,0)","v":0},"X",{"$f":"IF(AND('Step 2 - Ornamental'!$AC$21=\"X\",U20=\"X\"),1,0)","v":0},"X",{"$f":"IF(AND('Step 2 - Ornamental'!$AA$19=\"X\",W20=\"X\"),1,0)","v":0},"X",{"$f":"IF(AND('Step 2 - Ornamental'!$AA$19=\"X\",Y20=\"X\"),1,0)","v":0},null,{"$f":"IF(AND('Step 2 - Ornamental'!$AB$19=\"X\",AA20=\"X\"),1,0)","v":0},null,{"$f":"IF(AND('Step 2 - Ornamental'!$AC$19=\"X\",AC20=\"X\"),1,0)","v":0},null,{"$f":"IF(AND('Step 2 - Ornamental'!$AA$20=\"X\",AE20=\"X\"),1,0)","v":0},"X",{"$f":"IF(AND('Step 2 - Ornamental'!$AA$20=\"X\",AG20=\"X\"),1,0)","v":0},null,{"$f":"IF(AND('Step 2 - Ornamental'!$AB$20=\"X\",AI20=\"X\"),1,0)","v":0},null,{"$f":"IF(AND('Step 2 - Ornamental'!$AC$20=\"X\",AK20=\"X\"),1,0)","v":0},null,{"$f":"IF(AND('Step 2 - Ornamental'!$AA$18=\"X\",AM20=\"X\"),1,0)","v":0},null,{"$f":"IF(AND('Step 2 - Ornamental'!$AB$18=\"X\",AO20=\"X\"),1,0)","v":0},"X",{"$f":"IF(AND('Step 2 - Ornamental'!$AC$18=\"X\",AQ20=\"X\"),1,0)","v":0},"X",{"$f":"IF(AND('Step 2 - Ornamental'!$AD$18=\"X\",AS20=\"X\"),1,0)","v":0},null,{"$f":"IF(AND('Step 2 - Ornamental'!$AE$18=\"X\",AU20=\"X\"),1,0)","v":0},null,{"$f":"IF(AND('Step 2 - Ornamental'!$AA$17=\"X\",AW20=\"X\"),1,0)","v":0},"X",{"$f":"IF(AND('Step 2 - Ornamental'!$AB$17=\"X\",AY20=\"X\"),1,0)","v":0},"X",{"$f":"IF(AND('Step 2 - Ornamental'!$AC$17=\"X\",BA20=\"X\"),1,0)","v":0},null,{"$f":"IF(AND('Step 2 - Ornamental'!$AA$22=\"X\",BC20=\"X\"),1,0)","v":0},null,{"$f":"IF(AND('Step 2 - Ornamental'!$AB$22=\"X\",BE20=\"X\"),1,0)","v":0},null,{"$f":"IF(AND('Step 2 - Ornamental'!$AC$22=\"X\",BG20=\"X\"),1,0)","v":0},null,{"$f":"IF(AND('Step 2 - Ornamental'!$AD$22=\"X\",BI20=\"X\"),1,0)","v":0},"X",null,null,null,null,"Red / 25'-35'"]
[" ",1,"AE GL","Aesculus glabra","Ohio Buckeye","NA","Prefers moist, fertile soils, leaves scorch in dry conditions, taproot can make transplanting difficult"," ","X",null,null,"X",null,0,null,{"$f":"IF(AND('Step 2 - Ornamental'!$AA$21=\"X\",Q21=\"X\"),1,0)","v":0},"X",{"$f":"IF(AND('Step 2 - Ornamental'!$AB$21=\"X\",S21=\"X\"),1,0)","v":0},"X",{"$f":"IF(AND('Step 2 - Ornamental'!$AC$21=\"X\",U21=\"X\"),1,0)","v":0},null,{"$f":"IF(AND('Step 2 - Ornamental'!$AA$19=\"X\",W21=\"X\"),1,0)","v":0},"X",{"$f":"IF(AND('Step 2 - Ornamental'!$AA$19=\"X\",Y21=\"X\"),1,0)","v":0},null,{"$f":"IF(AND('Step 2 - Ornamental'!$AB$19=\"X\",AA21=\"X\"),1,0)","v":0},null,{"$f":"IF(AND('Step 2 - Ornamental'!$AC$19=\"X\",AC21=\"X\"),1,0)","v":0},null,{"$f":"IF(AND('Step 2 - Ornamental'!$AA$20=\"X\",AE21=\"X\"),1,0)","v":0},"X",{"$f":"IF(AND('Step 2 - Ornamental'!$AA$20=\"X\",AG21=\"X\"),1,0)","v":0},null,{"$f":"IF(AND('Step 2 - Ornamental'!$AB$20=\"X\",AI21=\"X\"),1,0)","v":0},null,{"$f":"IF(AND('Step 2 - Ornamental'!$AC$20=\"X\",AK21=\"X\"),1,0)","v":0},null,{"$f":"IF(AND('Step 2 - Ornamental'!$AA$18=\"X\",AM21=\"X\"),1,0)","v":0},null,{"$f":"IF(AND('Step 2 - Ornamental'!$AB$18=\"X\",AO21=\"X\"),1,0)","v":0},"X",{"$f":"IF(AND('Step 2 - Ornamental'!$AC$18=\"X\",AQ21=\"X\"),1,0)","v":0},"X",{"$f":"IF(AND('Step 2 - Ornamental'!$AD$18=\"X\",AS21=\"X\"),1,0)","v":0},null,{"$f":"IF(AND('Step 2 - Ornamental'!$AE$18=\"X\",AU21=\"X\"),1,0)","v":0},null,{"$f":"IF(AND('Step 2 - Ornamental'!$AA$17=\"X\",AW21=\"X\"),1,0)","v":0},"X",{"$f":"IF(AND('Step 2 - Ornamental'!$AB$17=\"X\",AY21=\"X\"),1,0)","v":0},"X",{"$f":"IF(AND('Step 2 - Ornamental'!$AC$17=\"X\",BA21=\"X\"),1,0)","v":0},null,{"$f":"IF(AND('Step 2 - Ornamental'!$AA$22=\"X\",BC21=\"X\"),1,0)","v":0},null,{"$f":"IF(AND('Step 2 - Ornamental'!$AB$22=\"X\",BE21=\"X\"),1,0)","v":0},null,{"$f":"IF(AND('Step 2 - Ornamental'!$AC$22=\"X\",BG21=\"X\"),1,0)","v":0},null,{"$f":"IF(AND('Step 2 - Ornamental'!$AD$22=\"X\",BI21=\"X\"),1,0)","v":0},"X",null,null,null,"Greenish Yellow / 20'-40'"]
[" ",1,"AE OC","Aesculus octandra (Aesculus flava)","Yellow Buckeye","NA","The prettiest buckeye, prefers moist, fertile soils, somewhat narrow upright canopy, leaves scorch in dry conditions, taproot can make transplanting difficult"," ","X",null,null,null,null,0,null,{"$f":"IF(AND('Step 2 - Ornamental'!$AA$21=\"X\",Q22=\"X\"),1,0)","v":0},"X",{"$f":"IF(AND('Step 2 - Ornamental'!$AB$21=\"X\",S22=\"X\"),1,0)","v":0},"X",{"$f":"IF(AND('Step 2 - Ornamental'!$AC$21=\"X\",U22=\"X\"),1,0)","v":0},null,{"$f":"IF(AND('Step 2 - Ornamental'!$AA$19=\"X\",W22=\"X\"),1,0)","v":0},"X",{"$f":"IF(AND('Step 2 - Ornamental'!$AA$19=\"X\",Y22=\"X\"),1,0)","v":0},null,{"$f":"IF(AND('Step 2 - Ornamental'!$AB$19=\"X\",AA22=\"X\"),1,0)","v":0},null,{"$f":"IF(AND('Step 2 - Ornamental'!$AC$19=\"X\",AC22=\"X\"),1,0)","v":0},null,{"$f":"IF(AND('Step 2 - Ornamental'!$AA$20=\"X\",AE22=\"X\"),1,0)","v":0},"X",{"$f":"IF(AND('Step 2 - Ornamental'!$AA$20=\"X\",AG22=\"X\"),1,0)","v":0},null,{"$f":"IF(AND('Step 2 - Ornamental'!$AB$20=\"X\",AI22=\"X\"),1,0)","v":0},null,{"$f":"IF(AND('Step 2 - Ornamental'!$AC$20=\"X\",AK22=\"X\"),1,0)","v":0},null,{"$f":"IF(AND('Step 2 - Ornamental'!$AA$18=\"X\",AM22=\"X\"),1,0)","v":0},null,{"$f":"IF(AND('Step 2 - Ornamental'!$AB$18=\"X\",AO22=\"X\"),1,0)","v":0},"X",{"$f":"IF(AND('Step 2 - Ornamental'!$AC$18=\"X\",AQ22=\"X\"),1,0)","v":0},"X",{"$f":"IF(AND('Step 2 - Ornamental'!$AD$18=\"X\",AS22=\"X\"),1,0)","v":0},null,{"$f":"IF(AND('Step 2 - Ornamental'!$AE$18=\"X\",AU22=\"X\"),1,0)","v":0},null,{"$f":"IF(AND('Step 2 - Ornamental'!$AA$17=\"X\",AW22=\"X\"),1,0)","v":0},"X",{"$f":"IF(AND('Step 2 - Ornamental'!$AB$17=\"X\",AY22=\"X\"),1,0)","v":0},"X",{"$f":"IF(AND('Step 2 - Ornamental'!$AC$17=\"X\",BA22=\"X\"),1,0)","v":0},null,{"$f":"IF(AND('Step 2 - Ornamental'!$AA$22=\"X\",BC22=\"X\"),1,0)","v":0},null,{"$f":"IF(AND('Step 2 - Ornamental'!$AB$22=\"X\",BE22=\"X\"),1,0)","v":0},null,{"$f":"IF(AND('Step 2 - Ornamental'!$AC$22=\"X\",BG22=\"X\"),1,0)","v":0},null,{"$f":"IF(AND('Step 2 - Ornamental'!$AD$22=\"X\",BI22=\"X\"),1,0)","v":0},"X",null,null,null,"Yellow / 50'-75'"]
[null,1,"BE NI","Betula nigra 'Cully' HERITAGE","Heritage River Birch","NA","Multi-stem for preferred, salmon-cream exfoliating bark, prefers moist acidic soils"," ","X","X","X",null,null,0,null,{"$f":"IF(AND('Step 2 - Ornamental'!$AA$21=\"X\",Q23=\"X\"),1,0)","v":0},"X",{"$f":"IF(AND('Step 2 - Ornamental'!$AB$21=\"X\",S23=\"X\"),1,0)","v":0},"X",{"$f":"IF(AND('Step 2 - Ornamental'!$AC$21=\"X\",U23=\"X\"),1,0)","v":0},null,{"$f":"IF(AND('Step 2 - Ornamental'!$AA$19=\"X\",W23=\"X\"),1,0)","v":0},"X",{"$f":"IF(AND('Step 2 - Ornamental'!$AA$19=\"X\",Y23=\"X\"),1,0)","v":0},null,{"$f":"IF(AND('Step 2 - Ornamental'!$AB$19=\"X\",AA23=\"X\"),1,0)","v":0},null,{"$f":"IF(AND('Step 2 - Ornamental'!$AC$19=\"X\",AC23=\"X\"),1,0)","v":0},null,{"$f":"IF(AND('Step 2 - Ornamental'!$AA$20=\"X\",AE23=\"X\"),1,0)","v":0},null,{"$f":"IF(AND('Step 2 - Ornamental'!$AA$20=\"X\",AG23=\"X\"),1,0)","v":0},"X",{"$f":"IF(AND('Step 2 - Ornamental'!$AB$20=\"X\",AI23=\"X\"),1,0)","v":0},"X",{"$f":"IF(AND('Step 2 - Ornamental'!$AC$20=\"X\",AK23=\"X\"),1,0)","v":0},"X",{"$f":"IF(AND('Step 2 - Ornamental'!$AA$18=\"X\",AM23=\"X\"),1,0)","v":0},null,{"$f":"IF(AND('Step 2 - Ornamental'!$AB$18=\"X\",AO23=\"X\"),1,0)","v":0},"X",{"$f":"IF(AND('Step 2 - Ornamental'!$AC$18=\"X\",AQ23=\"X\"),1,0)","v":0},"X",{"$f":"IF(AND('Step 2 - Ornamental'!$AD$18=\"X\",AS23=\"X\"),1,0)","v":0},null,{"$f":"IF(AND('Step 2 - Ornamental'!$AE$18=\"X\",AU23=\"X\"),1,0)","v":0},null,{"$f":"IF(AND('Step 2 - Ornamental'!$AA$17=\"X\",AW23=\"X\"),1,0)","v":0},"X",{"$f":"IF(AND('Step 2 - Ornamental'!$AB$17=\"X\",AY23=\"X\"),1,0)","v":0},"X",{"$f":"IF(AND('Step 2 - Ornamental'!$AC$17=\"X\",BA23=\"X\"),1,0)","v":0},null,{"$f":"IF(AND('Step 2 - Ornamental'!$AA$22=\"X\",BC23=\"X\"),1,0)","v":0},null,{"$f":"IF(AND('Step 2 - Ornamental'!$AB$22=\"X\",BE23=\"X\"),1,0)","v":0},null,{"$f":"IF(AND('Step 2 - Ornamental'!$AC$22=\"X\",BG23=\"X\"),1,0)","v":0},null,{"$f":"IF(AND('Step 2 - Ornamental'!$AD$22=\"X\",BI23=\"X\"),1,0)","v":0},"X","Flowers are Not Showy"]
[null,1,"BE PA","Betula papyrifera 'Renaissance Reflection'","Renaissance Reflection Paper Birch","NA","Multi-stem form preferred, prefers moist soils with afternoon shade"," ","X","X","X",null,null,0,null,{"$f":"IF(AND('Step 2 - Ornamental'!$AA$21=\"X\",Q24=\"X\"),1,0)","v":0},"X",{"$f":"IF(AND('Step 2 - Ornamental'!$AB$21=\"X\",S24=\"X\"),1,0)","v":0},"X",{"$f":"IF(AND('Step 2 - Ornamental'!$AC$21=\"X\",U24=\"X\"),1,0)","v":0},null,{"$f":"IF(AND('Step 2 - Ornamental'!$AA$19=\"X\",W24=\"X\"),1,0)","v":0},null,{"$f":"IF(AND('Step 2 - Ornamental'!$AA$19=\"X\",Y24=\"X\"),1,0)","v":0},"X",{"$f":"IF(AND('Step 2 - Ornamental'!$AB$19=\"X\",AA24=\"X\"),1,0)","v":0},"X",{"$f":"IF(AND('Step 2 - Ornamental'!$AC$19=\"X\",AC24=\"X\"),1,0)","v":0},null,{"$f":"IF(AND('Step 2 - Ornamental'!$AA$20=\"X\",AE24=\"X\"),1,0)","v":0},"X",{"$f":"IF(AND('Step 2 - Ornamental'!$AA$20=\"X\",AG24=\"X\"),1,0)","v":0},null,{"$f":"IF(AND('Step 2 - Ornamental'!$AB$20=\"X\",AI24=\"X\"),1,0)","v":0},null,{"$f":"IF(AND('Step 2 - Ornamental'!$AC$20=\"X\",AK24=\"X\"),1,0)","v":0},null,{"$f":"IF(AND('Step 2 - Ornamental'!$AA$18=\"X\",AM24=\"X\"),1,0)","v":0},null,{"$f":"IF(AND('Step 2 - Ornamental'!$AB$18=\"X\",AO24=\"X\"),1,0)","v":0},"X",{"$f":"IF(AND('Step 2 - Ornamental'!$AC$18=\"X\",AQ24=\"X\"),1,0)","v":0},null,{"$f":"IF(AND('Step 2 - Ornamental'!$AD$18=\"X\",AS24=\"X\"),1,0)","v":0},null,{"$f":"IF(AND('Step 2 - Ornamental'!$AE$18=\"X\",AU24=\"X\"),1,0)","v":0},null,{"$f":"IF(AND('Step 2 - Ornamental'!$AA$17=\"X\",AW24=\"X\"),1,0)","v":0},"X",{"$f":"IF(AND('Step 2 - Ornamental'!$AB$17=\"X\",AY24=\"X\"),1,0)","v":0},null,{"$f":"IF(AND('Step 2 - Ornamental'!$AC$17=\"X\",BA24=\"X\"),1,0)","v":0},null,{"$f":"IF(AND('Step 2 - Ornamental'!$AA$22=\"X\",BC24=\"X\"),1,0)","v":0},null,{"$f":"IF(AND('Step 2 - Ornamental'!$AB$22=\"X\",BE24=\"X\"),1,0)","v":0},null,{"$f":"IF(AND('Step 2 - Ornamental'!$AC$22=\"X\",BG24=\"X\"),1,0)","v":0},null,{"$f":"IF(AND('Step 2 - Ornamental'!$AD$22=\"X\",BI24=\"X\"),1,0)","v":0},"X","Flowers are Not Showy"]
[null,1,"CA CR","Carya cordiformis","Bitternut Hickory","NA","Spring dig only, difficult to transplant older trees, ",null,"X","X",null,null,null,1,"X",{"$f":"IF(AND('Step 2 - Ornamental'!$AA$21=\"X\",Q25=\"X\"),1,0)","v":0},null,{"$f":"IF(AND('Step 2 - Ornamental'!$AB$21=\"X\",S25=\"X\"),1,0)","v":0},null,{"$f":"IF(AND('Step 2 - Ornamental'!$AC$21=\"X\",U25=\"X\"),1,0)","v":0},null,{"$f":"IF(AND('Step 2 - Ornamental'!$AA$19=\"X\",W25=\"X\"),1,0)","v":0},"X",{"$f":"IF(AND('Step 2 - Ornamental'!$AA$19=\"X\",Y25=\"X\"),1,0)","v":0},null,{"$f":"IF(AND('Step 2 - Ornamental'!$AB$19=\"X\",AA25=\"X\"),1,0)","v":0},null,{"$f":"IF(AND('Step 2 - Ornamental'!$AC$19=\"X\",AC25=\"X\"),1,0)","v":0},null,{"$f":"IF(AND('Step 2 - Ornamental'!$AA$20=\"X\",AE25=\"X\"),1,0)","v":0},"X",{"$f":"IF(AND('Step 2 - Ornamental'!$AA$20=\"X\",AG25=\"X\"),1,0)","v":0},null,{"$f":"IF(AND('Step 2 - Ornamental'!$AB$20=\"X\",AI25=\"X\"),1,0)","v":0},null,{"$f":"IF(AND('Step 2 - Ornamental'!$AC$20=\"X\",AK25=\"X\"),1,0)","v":0},null,{"$f":"IF(AND('Step 2 - Ornamental'!$AA$18=\"X\",AM25=\"X\"),1,0)","v":0}," ",{"$f":"IF(AND('Step 2 - Ornamental'!$AB$18=\"X\",AO25=\"X\"),1,0)","v":0},"X",{"$f":"IF(AND('Step 2 - Ornamental'!$AC$18=\"X\",AQ25=\"X\"),1,0)","v":0},"X",{"$f":"IF(AND('Step 2 - Ornamental'!$AD$18=\"X\",AS25=\"X\"),1,0)","v":0},null,{"$f":"IF(AND('Step 2 - Ornamental'!$AE$18=\"X\",AU25=\"X\"),1,0)","v":0},null,{"$f":"IF(AND('Step 2 - Ornamental'!$AA$17=\"X\",AW25=\"X\"),1,0)","v":0},"X",{"$f":"IF(AND('Step 2 - Ornamental'!$AB$17=\"X\",AY25=\"X\"),1,0)","v":0},null,{"$f":"IF(AND('Step 2 - Ornamental'!$AC$17=\"X\",BA25=\"X\"),1,0)","v":0},null,{"$f":"IF(AND('Step 2 - Ornamental'!$AA$22=\"X\",BC25=\"X\"),1,0)","v":0},null,{"$f":"IF(AND('Step 2 - Ornamental'!$AB$22=\"X\",BE25=\"X\"),1,0)","v":0},null,{"$f":"IF(AND('Step 2 - Ornamental'!$AC$22=\"X\",BG25=\"X\"),1,0)","v":0},null,{"$f":"IF(AND('Step 2 - Ornamental'!$AD$22=\"X\",BI25=\"X\"),1,0)","v":0},"X","Flowers are Not Showy"]
[null,1,"CA GL","Carya glabra","Pignut Hickory","NA","Spring dig only, difficult to transplant older trees,  tall tree to 80', prefers moist soils in full sun"," ","X",null,null,null,null,0,null,{"$f":"IF(AND('Step 2 - Ornamental'!$AA$21=\"X\",Q26=\"X\"),1,0)","v":0},null,{"$f":"IF(AND('Step 2 - Ornamental'!$AB$21=\"X\",S26=\"X\"),1,0)","v":0},"X",{"$f":"IF(AND('Step 2 - Ornamental'!$AC$21=\"X\",U26=\"X\"),1,0)","v":0},null,{"$f":"IF(AND('Step 2 - Ornamental'!$AA$19=\"X\",W26=\"X\"),1,0)","v":0},"X",{"$f":"IF(AND('Step 2 - Ornamental'!$AA$19=\"X\",Y26=\"X\"),1,0)","v":0},null,{"$f":"IF(AND('Step 2 - Ornamental'!$AB$19=\"X\",AA26=\"X\"),1,0)","v":0},null,{"$f":"IF(AND('Step 2 - Ornamental'!$AC$19=\"X\",AC26=\"X\"),1,0)","v":0},null,{"$f":"IF(AND('Step 2 - Ornamental'!$AA$20=\"X\",AE26=\"X\"),1,0)","v":0},"X",{"$f":"IF(AND('Step 2 - Ornamental'!$AA$20=\"X\",AG26=\"X\"),1,0)","v":0},null,{"$f":"IF(AND('Step 2 - Ornamental'!$AB$20=\"X\",AI26=\"X\"),1,0)","v":0},null,{"$f":"IF(AND('Step 2 - Ornamental'!$AC$20=\"X\",AK26=\"X\"),1,0)","v":0},null,{"$f":"IF(AND('Step 2 - Ornamental'!$AA$18=\"X\",AM26=\"X\"),1,0)","v":0},"X",{"$f":"IF(AND('Step 2 - Ornamental'!$AB$18=\"X\",AO26=\"X\"),1,0)","v":0},"X",{"$f":"IF(AND('Step 2 - Ornamental'!$AC$18=\"X\",AQ26=\"X\"),1,0)","v":0}," ",{"$f":"IF(AND('Step 2 - Ornamental'!$AD$18=\"X\",AS26=\"X\"),1,0)","v":0},null,{"$f":"IF(AND('Step 2 - Ornamental'!$AE$18=\"X\",AU26=\"X\"),1,0)","v":0},null,{"$f":"IF(AND('Step 2 - Ornamental'!$AA$17=\"X\",AW26=\"X\"),1,0)","v":0},"X",{"$f":"IF(AND('Step 2 - Ornamental'!$AB$17=\"X\",AY26=\"X\"),1,0)","v":0},null,{"$f":"IF(AND('Step 2 - Ornamental'!$AC$17=\"X\",BA26=\"X\"),1,0)","v":0},null,{"$f":"IF(AND('Step 2 - Ornamental'!$AA$22=\"X\",BC26=\"X\"),1,0)","v":0},null,{"$f":"IF(AND('Step 2 - Ornamental'!$AB$22=\"X\",BE26=\"X\"),1,0)","v":0},null,{"$f":"IF(AND('Step 2 - Ornamental'!$AC$22=\"X\",BG26=\"X\"),1,0)","v":0},null,{"$f":"IF(AND('Step 2 - Ornamental'!$AD$22=\"X\",BI26=\"X\"),1,0)","v":0},"X","Flowers are Not Showy"]
[null,1,"CA OV","Carya ovata","Shagbark Hickory","NA","Spring dig only, difficult to transplant older trees,  tall tree to 90', tolerates some shade"," ","X","X",null,null,null,0,null,{"$f":"IF(AND('Step 2 - Ornamental'!$AA$21=\"X\",Q27=\"X\"),1,0)","v":0},"X",{"$f":"IF(AND('Step 2 - Ornamental'!$AB$21=\"X\",S27=\"X\"),1,0)","v":0},"X",{"$f":"IF(AND('Step 2 - Ornamental'!$AC$21=\"X\",U27=\"X\"),1,0)","v":0},null,{"$f":"IF(AND('Step 2 - Ornamental'!$AA$19=\"X\",W27=\"X\"),1,0)","v":0},"X",{"$f":"IF(AND('Step 2 - Ornamental'!$AA$19=\"X\",Y27=\"X\"),1,0)","v":0},null,{"$f":"IF(AND('Step 2 - Ornamental'!$AB$19=\"X\",AA27=\"X\"),1,0)","v":0},null,{"$f":"IF(AND('Step 2 - Ornamental'!$AC$19=\"X\",AC27=\"X\"),1,0)","v":0},null,{"$f":"IF(AND('Step 2 - Ornamental'!$AA$20=\"X\",AE27=\"X\"),1,0)","v":0},"X",{"$f":"IF(AND('Step 2 - Ornamental'!$AA$20=\"X\",AG27=\"X\"),1,0)","v":0},null,{"$f":"IF(AND('Step 2 - Ornamental'!$AB$20=\"X\",AI27=\"X\"),1,0)","v":0},null,{"$f":"IF(AND('Step 2 - Ornamental'!$AC$20=\"X\",AK27=\"X\"),1,0)","v":0},null,{"$f":"IF(AND('Step 2 - Ornamental'!$AA$18=\"X\",AM27=\"X\"),1,0)","v":0},"X",{"$f":"IF(AND('Step 2 - Ornamental'!$AB$18=\"X\",AO27=\"X\"),1,0)","v":0},"X",{"$f":"IF(AND('Step 2 - Ornamental'!$AC$18=\"X\",AQ27=\"X\"),1,0)","v":0},null,{"$f":"IF(AND('Step 2 - Ornamental'!$AD$18=\"X\",AS27=\"X\"),1,0)","v":0},null,{"$f":"IF(AND('Step 2 - Ornamental'!$AE$18=\"X\",AU27=\"X\"),1,0)","v":0},null,{"$f":"IF(AND('Step 2 - Ornamental'!$AA$17=\"X\",AW27=\"X\"),1,0)","v":0},"X",{"$f":"IF(AND('Step 2 - Ornamental'!$AB$17=\"X\",AY27=\"X\"),1,0)","v":0},null,{"$f":"IF(AND('Step 2 - Ornamental'!$AC$17=\"X\",BA27=\"X\"),1,0)","v":0},null,{"$f":"IF(AND('Step 2 - Ornamental'!$AA$22=\"X\",BC27=\"X\"),1,0)","v":0},null,{"$f":"IF(AND('Step 2 - Ornamental'!$AB$22=\"X\",BE27=\"X\"),1,0)","v":0},null,{"$f":"IF(AND('Step 2 - Ornamental'!$AC$22=\"X\",BG27=\"X\"),1,0)","v":0},null,{"$f":"IF(AND('Step 2 - Ornamental'!$AD$22=\"X\",BI27=\"X\"),1,0)","v":0},"X","Flowers are Not Showy"]
[null,1,"CA SP","Catalpa speciosa","Northern Catalpa","NA","Tolerates seasonal flooding and wide range of soil conditions",null,"X",null,"X",null,null,0,null,{"$f":"IF(AND('Step 2 - Ornamental'!$AA$21=\"X\",Q28=\"X\"),1,0)","v":0},"X",{"$f":"IF(AND('Step 2 - Ornamental'!$AB$21=\"X\",S28=\"X\"),1,0)","v":0},"X",{"$f":"IF(AND('Step 2 - Ornamental'!$AC$21=\"X\",U28=\"X\"),1,0)","v":0},"X",{"$f":"IF(AND('Step 2 - Ornamental'!$AA$19=\"X\",W28=\"X\"),1,0)","v":0},null,{"$f":"IF(AND('Step 2 - Ornamental'!$AA$19=\"X\",Y28=\"X\"),1,0)","v":0},"X",{"$f":"IF(AND('Step 2 - Ornamental'!$AB$19=\"X\",AA28=\"X\"),1,0)","v":0},"X",{"$f":"IF(AND('Step 2 - Ornamental'!$AC$19=\"X\",AC28=\"X\"),1,0)","v":0},null,{"$f":"IF(AND('Step 2 - Ornamental'!$AA$20=\"X\",AE28=\"X\"),1,0)","v":0},"X",{"$f":"IF(AND('Step 2 - Ornamental'!$AA$20=\"X\",AG28=\"X\"),1,0)","v":0},null,{"$f":"IF(AND('Step 2 - Ornamental'!$AB$20=\"X\",AI28=\"X\"),1,0)","v":0},null,{"$f":"IF(AND('Step 2 - Ornamental'!$AC$20=\"X\",AK28=\"X\"),1,0)","v":0},null,{"$f":"IF(AND('Step 2 - Ornamental'!$AA$18=\"X\",AM28=\"X\"),1,0)","v":0},"X",{"$f":"IF(AND('Step 2 - Ornamental'!$AB$18=\"X\",AO28=\"X\"),1,0)","v":0},"X",{"$f":"IF(AND('Step 2 - Ornamental'!$AC$18=\"X\",AQ28=\"X\"),1,0)","v":0},"X",{"$f":"IF(AND('Step 2 - Ornamental'!$AD$18=\"X\",AS28=\"X\"),1,0)","v":0},null,{"$f":"IF(AND('Step 2 - Ornamental'!$AE$18=\"X\",AU28=\"X\"),1,0)","v":0},null,{"$f":"IF(AND('Step 2 - Ornamental'!$AA$17=\"X\",AW28=\"X\"),1,0)","v":0},"X",{"$f":"IF(AND('Step 2 - Ornamental'!$AB$17=\"X\",AY28=\"X\"),1,0)","v":0},"X",{"$f":"IF(AND('Step 2 - Ornamental'!$AC$17=\"X\",BA28=\"X\"),1,0)","v":0},null,{"$f":"IF(AND('Step 2 - Ornamental'!$AA$22=\"X\",BC28=\"X\"),1,0)","v":0},null,{"$f":"IF(AND('Step 2 - Ornamental'!$AB$22=\"X\",BE28=\"X\"),1,0)","v":0},null,{"$f":"IF(AND('Step 2 - Ornamental'!$AC$22=\"X\",BG28=\"X\"),1,0)","v":0},null,{"$f":"IF(AND('Step 2 - Ornamental'!$AD$22=\"X\",BI28=\"X\"),1,0)","v":0},"X",null,null,null,null,"White / 40'-70'"]
[null,1,"CE OC","Celtis occidentalis 'Prairie Pride'","Prairie Pride Hackberry","NA","Tolerates urban conditions, dimpled bark, ",null,"X","X",null,null,null,0,null,{"$f":"IF(AND('Step 2 - Ornamental'!$AA$21=\"X\",Q29=\"X\"),1,0)","v":0},"X",{"$f":"IF(AND('Step 2 - Ornamental'!$AB$21=\"X\",S29=\"X\"),1,0)","v":0},"X",{"$f":"IF(AND('Step 2 - Ornamental'!$AC$21=\"X\",U29=\"X\"),1,0)","v":0},"X",{"$f":"IF(AND('Step 2 - Ornamental'!$AA$19=\"X\",W29=\"X\"),1,0)","v":0},null,{"$f":"IF(AND('Step 2 - Ornamental'!$AA$19=\"X\",Y29=\"X\"),1,0)","v":0},"X",{"$f":"IF(AND('Step 2 - Ornamental'!$AB$19=\"X\",AA29=\"X\"),1,0)","v":0},"X",{"$f":"IF(AND('Step 2 - Ornamental'!$AC$19=\"X\",AC29=\"X\"),1,0)","v":0},null,{"$f":"IF(AND('Step 2 - Ornamental'!$AA$20=\"X\",AE29=\"X\"),1,0)","v":0},null,{"$f":"IF(AND('Step 2 - Ornamental'!$AA$20=\"X\",AG29=\"X\"),1,0)","v":0},"X",{"$f":"IF(AND('Step 2 - Ornamental'!$AB$20=\"X\",AI29=\"X\"),1,0)","v":0},"X",{"$f":"IF(AND('Step 2 - Ornamental'!$AC$20=\"X\",AK29=\"X\"),1,0)","v":0},"X",{"$f":"IF(AND('Step 2 - Ornamental'!$AA$18=\"X\",AM29=\"X\"),1,0)","v":0},"X",{"$f":"IF(AND('Step 2 - Ornamental'!$AB$18=\"X\",AO29=\"X\"),1,0)","v":0},"X",{"$f":"IF(AND('Step 2 - Ornamental'!$AC$18=\"X\",AQ29=\"X\"),1,0)","v":0},"X",{"$f":"IF(AND('Step 2 - Ornamental'!$AD$18=\"X\",AS29=\"X\"),1,0)","v":0},null,{"$f":"IF(AND('Step 2 - Ornamental'!$AE$18=\"X\",AU29=\"X\"),1,0)","v":0},null,{"$f":"IF(AND('Step 2 - Ornamental'!$AA$17=\"X\",AW29=\"X\"),1,0)","v":0},"X",{"$f":"IF(AND('Step 2 - Ornamental'!$AB$17=\"X\",AY29=\"X\"),1,0)","v":0}," ",{"$f":"IF(AND('Step 2 - Ornamental'!$AC$17=\"X\",BA29=\"X\"),1,0)","v":0},null,{"$f":"IF(AND('Step 2 - Ornamental'!$AA$22=\"X\",BC29=\"X\"),1,0)","v":0},null,{"$f":"IF(AND('Step 2 - Ornamental'!$AB$22=\"X\",BE29=\"X\"),1,0)","v":0},null,{"$f":"IF(AND('Step 2 - Ornamental'!$AC$22=\"X\",BG29=\"X\"),1,0)","v":0},null,{"$f":"IF(AND('Step 2 - Ornamental'!$AD$22=\"X\",BI29=\"X\"),1,0)","v":0},"X","Flowers are Not Showy"]
[null,1,"CE JA","Cercidiphyllum japonicum","Katsura Tree","NA","Spring dig only, protect from strong winds and afternoon sun, ","X",null,null,null,null,null,0,null,{"$f":"IF(AND('Step 2 - Ornamental'!$AA$21=\"X\",Q30=\"X\"),1,0)","v":0},"X",{"$f":"IF(AND('Step 2 - Ornamental'!$AB$21=\"X\",S30=\"X\"),1,0)","v":0},"X",{"$f":"IF(AND('Step 2 - Ornamental'!$AC$21=\"X\",U30=\"X\"),1,0)","v":0},null,{"$f":"IF(AND('Step 2 - Ornamental'!$AA$19=\"X\",W30=\"X\"),1,0)","v":0},"X",{"$f":"IF(AND('Step 2 - Ornamental'!$AA$19=\"X\",Y30=\"X\"),1,0)","v":0},null,{"$f":"IF(AND('Step 2 - Ornamental'!$AB$19=\"X\",AA30=\"X\"),1,0)","v":0},null,{"$f":"IF(AND('Step 2 - Ornamental'!$AC$19=\"X\",AC30=\"X\"),1,0)","v":0},null,{"$f":"IF(AND('Step 2 - Ornamental'!$AA$20=\"X\",AE30=\"X\"),1,0)","v":0},"X",{"$f":"IF(AND('Step 2 - Ornamental'!$AA$20=\"X\",AG30=\"X\"),1,0)","v":0},null,{"$f":"IF(AND('Step 2 - Ornamental'!$AB$20=\"X\",AI30=\"X\"),1,0)","v":0},null,{"$f":"IF(AND('Step 2 - Ornamental'!$AC$20=\"X\",AK30=\"X\"),1,0)","v":0},null,{"$f":"IF(AND('Step 2 - Ornamental'!$AA$18=\"X\",AM30=\"X\"),1,0)","v":0},null,{"$f":"IF(AND('Step 2 - Ornamental'!$AB$18=\"X\",AO30=\"X\"),1,0)","v":0},"X",{"$f":"IF(AND('Step 2 - Ornamental'!$AC$18=\"X\",AQ30=\"X\"),1,0)","v":0},"X",{"$f":"IF(AND('Step 2 - Ornamental'!$AD$18=\"X\",AS30=\"X\"),1,0)","v":0},null,{"$f":"IF(AND('Step 2 - Ornamental'!$AE$18=\"X\",AU30=\"X\"),1,0)","v":0},null,{"$f":"IF(AND('Step 2 - Ornamental'!$AA$17=\"X\",AW30=\"X\"),1,0)","v":0},"X",{"$f":"IF(AND('Step 2 - Ornamental'!$AB$17=\"X\",AY30=\"X\"),1,0)","v":0},null,{"$f":"IF(AND('Step 2 - Ornamental'!$AC$17=\"X\",BA30=\"X\"),1,0)","v":0},null,{"$f":"IF(AND('Step 2 - Ornamental'!$AA$22=\"X\",BC30=\"X\"),1,0)","v":0},null,{"$f":"IF(AND('Step 2 - Ornamental'!$AB$22=\"X\",BE30=\"X\"),1,0)","v":0},null,{"$f":"IF(AND('Step 2 - Ornamental'!$AC$22=\"X\",BG30=\"X\"),1,0)","v":0},null,{"$f":"IF(AND('Step 2 - Ornamental'!$AD$22=\"X\",BI30=\"X\"),1,0)","v":0},"X","Flowers are Not Showy"]
[null,1,"CL KE","Cladrastis kentukea (Cladrastis lutea)","American Yellowood","NA","Attractive small specimen tree, grows to 50' tall, beautiful white pendulus flowers"," ","X",null,null,null,null,0,null,{"$f":"IF(AND('Step 2 - Ornamental'!$AA$21=\"X\",Q31=\"X\"),1,0)","v":0},"X",{"$f":"IF(AND('Step 2 - Ornamental'!$AB$21=\"X\",S31=\"X\"),1,0)","v":0},"X",{"$f":"IF(AND('Step 2 - Ornamental'!$AC$21=\"X\",U31=\"X\"),1,0)","v":0},"X",{"$f":"IF(AND('Step 2 - Ornamental'!$AA$19=\"X\",W31=\"X\"),1,0)","v":0},"X",{"$f":"IF(AND('Step 2 - Ornamental'!$AA$19=\"X\",Y31=\"X\"),1,0)","v":0},null,{"$f":"IF(AND('Step 2 - Ornamental'!$AB$19=\"X\",AA31=\"X\"),1,0)","v":0},null,{"$f":"IF(AND('Step 2 - Ornamental'!$AC$19=\"X\",AC31=\"X\"),1,0)","v":0},null,{"$f":"IF(AND('Step 2 - Ornamental'!$AA$20=\"X\",AE31=\"X\"),1,0)","v":0},"X",{"$f":"IF(AND('Step 2 - Ornamental'!$AA$20=\"X\",AG31=\"X\"),1,0)","v":0},null,{"$f":"IF(AND('Step 2 - Ornamental'!$AB$20=\"X\",AI31=\"X\"),1,0)","v":0},null,{"$f":"IF(AND('Step 2 - Ornamental'!$AC$20=\"X\",AK31=\"X\"),1,0)","v":0},null,{"$f":"IF(AND('Step 2 - Ornamental'!$AA$18=\"X\",AM31=\"X\"),1,0)","v":0},"X",{"$f":"IF(AND('Step 2 - Ornamental'!$AB$18=\"X\",AO31=\"X\"),1,0)","v":0},"X",{"$f":"IF(AND('Step 2 - Ornamental'!$AC$18=\"X\",AQ31=\"X\"),1,0)","v":0},null,{"$f":"IF(AND('Step 2 - Ornamental'!$AD$18=\"X\",AS31=\"X\"),1,0)","v":0},null,{"$f":"IF(AND('Step 2 - Ornamental'!$AE$18=\"X\",AU31=\"X\"),1,0)","v":0},null,{"$f":"IF(AND('Step 2 - Ornamental'!$AA$17=\"X\",AW31=\"X\"),1,0)","v":0},"X",{"$f":"IF(AND('Step 2 - Ornamental'!$AB$17=\"X\",AY31=\"X\"),1,0)","v":0},null,{"$f":"IF(AND('Step 2 - Ornamental'!$AC$17=\"X\",BA31=\"X\"),1,0)","v":0},null,{"$f":"IF(AND('Step 2 - Ornamental'!$AA$22=\"X\",BC31=\"X\"),1,0)","v":0},null,{"$f":"IF(AND('Step 2 - Ornamental'!$AB$22=\"X\",BE31=\"X\"),1,0)","v":0},null,{"$f":"IF(AND('Step 2 - Ornamental'!$AC$22=\"X\",BG31=\"X\"),1,0)","v":0},null,{"$f":"IF(AND('Step 2 - Ornamental'!$AD$22=\"X\",BI31=\"X\"),1,0)","v":0},"X",null,null,null,null,"White / 30'-50'"]
[null,1,"CO CO","Corylus colurna","Turkish Filbert","NA","Attractive specimen, produces edible nuts, ","X",null,null,null,null,null,0,null,{"$f":"IF(AND('Step 2 - Ornamental'!$AA$21=\"X\",Q32=\"X\"),1,0)","v":0},"X",{"$f":"IF(AND('Step 2 - Ornamental'!$AB$21=\"X\",S32=\"X\"),1,0)","v":0},"X",{"$f":"IF(AND('Step 2 - Ornamental'!$AC$21=\"X\",U32=\"X\"),1,0)","v":0},"X",{"$f":"IF(AND('Step 2 - Ornamental'!$AA$19=\"X\",W32=\"X\"),1,0)","v":0},null,{"$f":"IF(AND('Step 2 - Ornamental'!$AA$19=\"X\",Y32=\"X\"),1,0)","v":0},"X",{"$f":"IF(AND('Step 2 - Ornamental'!$AB$19=\"X\",AA32=\"X\"),1,0)","v":0},null,{"$f":"IF(AND('Step 2 - Ornamental'!$AC$19=\"X\",AC32=\"X\"),1,0)","v":0},null,{"$f":"IF(AND('Step 2 - Ornamental'!$AA$20=\"X\",AE32=\"X\"),1,0)","v":0},"X",{"$f":"IF(AND('Step 2 - Ornamental'!$AA$20=\"X\",AG32=\"X\"),1,0)","v":0},null,{"$f":"IF(AND('Step 2 - Ornamental'!$AB$20=\"X\",AI32=\"X\"),1,0)","v":0},null,{"$f":"IF(AND('Step 2 - Ornamental'!$AC$20=\"X\",AK32=\"X\"),1,0)","v":0},null,{"$f":"IF(AND('Step 2 - Ornamental'!$AA$18=\"X\",AM32=\"X\"),1,0)","v":0},null,{"$f":"IF(AND('Step 2 - Ornamental'!$AB$18=\"X\",AO32=\"X\"),1,0)","v":0},"X",{"$f":"IF(AND('Step 2 - Ornamental'!$AC$18=\"X\",AQ32=\"X\"),1,0)","v":0},null,{"$f":"IF(AND('Step 2 - Ornamental'!$AD$18=\"X\",AS32=\"X\"),1,0)","v":0},null,{"$f":"IF(AND('Step 2 - Ornamental'!$AE$18=\"X\",AU32=\"X\"),1,0)","v":0},null,{"$f":"IF(AND('Step 2 - Ornamental'!$AA$17=\"X\",AW32=\"X\"),1,0)","v":0},"X",{"$f":"IF(AND('Step 2 - Ornamental'!$AB$17=\"X\",AY32=\"X\"),1,0)","v":0}," ",{"$f":"IF(AND('Step 2 - Ornamental'!$AC$17=\"X\",BA32=\"X\"),1,0)","v":0},null,{"$f":"IF(AND('Step 2 - Ornamental'!$AA$22=\"X\",BC32=\"X\"),1,0)","v":0},null,{"$f":"IF(AND('Step 2 - Ornamental'!$AB$22=\"X\",BE32=\"X\"),1,0)","v":0},null,{"$f":"IF(AND('Step 2 - Ornamental'!$AC$22=\"X\",BG32=\"X\"),1,0)","v":0},null,{"$f":"IF(AND('Step 2 - Ornamental'!$AD$22=\"X\",BI32=\"X\"),1,0)","v":0},"X","Flowers are Not Showy"]
[null,1,"FA GR","Fagus grandifolia","American Beech","NA","Needs moist, well drained soil, intolerant of wet soil, difficult to transplant, beautiful bark"," ","X","X",null,null,null,0,null,{"$f":"IF(AND('Step 2 - Ornamental'!$AA$21=\"X\",Q33=\"X\"),1,0)","v":0},"X",{"$f":"IF(AND('Step 2 - Ornamental'!$AB$21=\"X\",S33=\"X\"),1,0)","v":0},null,{"$f":"IF(AND('Step 2 - Ornamental'!$AC$21=\"X\",U33=\"X\"),1,0)","v":0},null,{"$f":"IF(AND('Step 2 - Ornamental'!$AA$19=\"X\",W33=\"X\"),1,0)","v":0},null,{"$f":"IF(AND('Step 2 - Ornamental'!$AA$19=\"X\",Y33=\"X\"),1,0)","v":0},"X",{"$f":"IF(AND('Step 2 - Ornamental'!$AB$19=\"X\",AA33=\"X\"),1,0)","v":0},null,{"$f":"IF(AND('Step 2 - Ornamental'!$AC$19=\"X\",AC33=\"X\"),1,0)","v":0},null,{"$f":"IF(AND('Step 2 - Ornamental'!$AA$20=\"X\",AE33=\"X\"),1,0)","v":0},"X",{"$f":"IF(AND('Step 2 - Ornamental'!$AA$20=\"X\",AG33=\"X\"),1,0)","v":0},null,{"$f":"IF(AND('Step 2 - Ornamental'!$AB$20=\"X\",AI33=\"X\"),1,0)","v":0},null,{"$f":"IF(AND('Step 2 - Ornamental'!$AC$20=\"X\",AK33=\"X\"),1,0)","v":0},null,{"$f":"IF(AND('Step 2 - Ornamental'!$AA$18=\"X\",AM33=\"X\"),1,0)","v":0},null,{"$f":"IF(AND('Step 2 - Ornamental'!$AB$18=\"X\",AO33=\"X\"),1,0)","v":0},"X",{"$f":"IF(AND('Step 2 - Ornamental'!$AC$18=\"X\",AQ33=\"X\"),1,0)","v":0},null,{"$f":"IF(AND('Step 2 - Ornamental'!$AD$18=\"X\",AS33=\"X\"),1,0)","v":0},null,{"$f":"IF(AND('Step 2 - Ornamental'!$AE$18=\"X\",AU33=\"X\"),1,0)","v":0},null,{"$f":"IF(AND('Step 2 - Ornamental'!$AA$17=\"X\",AW33=\"X\"),1,0)","v":0},"X",{"$f":"IF(AND('Step 2 - Ornamental'!$AB$17=\"X\",AY33=\"X\"),1,0)","v":0},"X",{"$f":"IF(AND('Step 2 - Ornamental'!$AC$17=\"X\",BA33=\"X\"),1,0)","v":0},null,{"$f":"IF(AND('Step 2 - Ornamental'!$AA$22=\"X\",BC33=\"X\"),1,0)","v":0},null,{"$f":"IF(AND('Step 2 - Ornamental'!$AB$22=\"X\",BE33=\"X\"),1,0)","v":0},null,{"$f":"IF(AND('Step 2 - Ornamental'!$AC$22=\"X\",BG33=\"X\"),1,0)","v":0},null,{"$f":"IF(AND('Step 2 - Ornamental'!$AD$22=\"X\",BI33=\"X\"),1,0)","v":0},"X","Flowers are Not Showy"]
[null,1,"FA SY","Fagus sylvatica","European Beech","NA","Needs moist, well drained soil, intolerant of wet soil, difficult to transplant, beautiful bark","X",null,null,"X",null,null,0,null,{"$f":"IF(AND('Step 2 - Ornamental'!$AA$21=\"X\",Q34=\"X\"),1,0)","v":0},"X",{"$f":"IF(AND('Step 2 - Ornamental'!$AB$21=\"X\",S34=\"X\"),1,0)","v":0},"X",{"$f":"IF(AND('Step 2 - Ornamental'!$AC$21=\"X\",U34=\"X\"),1,0)","v":0},"X",{"$f":"IF(AND('Step 2 - Ornamental'!$AA$19=\"X\",W34=\"X\"),1,0)","v":0},null,{"$f":"IF(AND('Step 2 - Ornamental'!$AA$19=\"X\",Y34=\"X\"),1,0)","v":0},"X",{"$f":"IF(AND('Step 2 - Ornamental'!$AB$19=\"X\",AA34=\"X\"),1,0)","v":0},null,{"$f":"IF(AND('Step 2 - Ornamental'!$AC$19=\"X\",AC34=\"X\"),1,0)","v":0},null,{"$f":"IF(AND('Step 2 - Ornamental'!$AA$20=\"X\",AE34=\"X\"),1,0)","v":0},"X",{"$f":"IF(AND('Step 2 - Ornamental'!$AA$20=\"X\",AG34=\"X\"),1,0)","v":0},null,{"$f":"IF(AND('Step 2 - Ornamental'!$AB$20=\"X\",AI34=\"X\"),1,0)","v":0},null,{"$f":"IF(AND('Step 2 - Ornamental'!$AC$20=\"X\",AK34=\"X\"),1,0)","v":0},null,{"$f":"IF(AND('Step 2 - Ornamental'!$AA$18=\"X\",AM34=\"X\"),1,0)","v":0},null,{"$f":"IF(AND('Step 2 - Ornamental'!$AB$18=\"X\",AO34=\"X\"),1,0)","v":0},"X",{"$f":"IF(AND('Step 2 - Ornamental'!$AC$18=\"X\",AQ34=\"X\"),1,0)","v":0},null,{"$f":"IF(AND('Step 2 - Ornamental'!$AD$18=\"X\",AS34=\"X\"),1,0)","v":0},null,{"$f":"IF(AND('Step 2 - Ornamental'!$AE$18=\"X\",AU34=\"X\"),1,0)","v":0},null,{"$f":"IF(AND('Step 2 - Ornamental'!$AA$17=\"X\",AW34=\"X\"),1,0)","v":0},"X",{"$f":"IF(AND('Step 2 - Ornamental'!$AB$17=\"X\",AY34=\"X\"),1,0)","v":0},"X",{"$f":"IF(AND('Step 2 - Ornamental'!$AC$17=\"X\",BA34=\"X\"),1,0)","v":0},null,{"$f":"IF(AND('Step 2 - Ornamental'!$AA$22=\"X\",BC34=\"X\"),1,0)","v":0},null,{"$f":"IF(AND('Step 2 - Ornamental'!$AB$22=\"X\",BE34=\"X\"),1,0)","v":0},null,{"$f":"IF(AND('Step 2 - Ornamental'!$AC$22=\"X\",BG34=\"X\"),1,0)","v":0},null,{"$f":"IF(AND('Step 2 - Ornamental'!$AD$22=\"X\",BI34=\"X\"),1,0)","v":0},"X","Flowers are Not Showy"]
[null,1,"GI BI","Ginkgo biloba 'Autumn Gold'","Autumn Gold Ginkgo","NA","Male-clone, very adaptable to urban conditions, symmetrical broadly spreading habit","X",null,null,"X",null,null,0,null,{"$f":"IF(AND('Step 2 - Ornamental'!$AA$21=\"X\",Q35=\"X\"),1,0)","v":0},"X",{"$f":"IF(AND('Step 2 - Ornamental'!$AB$21=\"X\",S35=\"X\"),1,0)","v":0},"X",{"$f":"IF(AND('Step 2 - Ornamental'!$AC$21=\"X\",U35=\"X\"),1,0)","v":0},"X",{"$f":"IF(AND('Step 2 - Ornamental'!$AA$19=\"X\",W35=\"X\"),1,0)","v":0},null,{"$f":"IF(AND('Step 2 - Ornamental'!$AA$19=\"X\",Y35=\"X\"),1,0)","v":0},"X",{"$f":"IF(AND('Step 2 - Ornamental'!$AB$19=\"X\",AA35=\"X\"),1,0)","v":0},"X",{"$f":"IF(AND('Step 2 - Ornamental'!$AC$19=\"X\",AC35=\"X\"),1,0)","v":0},"X",{"$f":"IF(AND('Step 2 - Ornamental'!$AA$20=\"X\",AE35=\"X\"),1,0)","v":0},"X",{"$f":"IF(AND('Step 2 - Ornamental'!$AA$20=\"X\",AG35=\"X\"),1,0)","v":0},null,{"$f":"IF(AND('Step 2 - Ornamental'!$AB$20=\"X\",AI35=\"X\"),1,0)","v":0},null,{"$f":"IF(AND('Step 2 - Ornamental'!$AC$20=\"X\",AK35=\"X\"),1,0)","v":0},null,{"$f":"IF(AND('Step 2 - Ornamental'!$AA$18=\"X\",AM35=\"X\"),1,0)","v":0},"X",{"$f":"IF(AND('Step 2 - Ornamental'!$AB$18=\"X\",AO35=\"X\"),1,0)","v":0},"X",{"$f":"IF(AND('Step 2 - Ornamental'!$AC$18=\"X\",AQ35=\"X\"),1,0)","v":0},"X",{"$f":"IF(AND('Step 2 - Ornamental'!$AD$18=\"X\",AS35=\"X\"),1,0)","v":0},null,{"$f":"IF(AND('Step 2 - Ornamental'!$AE$18=\"X\",AU35=\"X\"),1,0)","v":0},null,{"$f":"IF(AND('Step 2 - Ornamental'!$AA$17=\"X\",AW35=\"X\"),1,0)","v":0},"X",{"$f":"IF(AND('Step 2 - Ornamental'!$AB$17=\"X\",AY35=\"X\"),1,0)","v":0},null,{"$f":"IF(AND('Step 2 - Ornamental'!$AC$17=\"X\",BA35=\"X\"),1,0)","v":0},null,{"$f":"IF(AND('Step 2 - Ornamental'!$AA$22=\"X\",BC35=\"X\"),1,0)","v":0},null,{"$f":"IF(AND('Step 2 - Ornamental'!$AB$22=\"X\",BE35=\"X\"),1,0)","v":0},null,{"$f":"IF(AND('Step 2 - Ornamental'!$AC$22=\"X\",BG35=\"X\"),1,0)","v":0},null,{"$f":"IF(AND('Step 2 - Ornamental'!$AD$22=\"X\",BI35=\"X\"),1,0)","v":0},"X","Flowers are Not Showy"]
[null,1,"GI PS","Ginkgo biloba 'Princeton Sentry'","Princeton Sentry Ginkgo","NA","Male-clone, very adaptable to urban conditions, upright narrow  conical habit ","X",null,null,"X",null,null,0,null,{"$f":"IF(AND('Step 2 - Ornamental'!$AA$21=\"X\",Q36=\"X\"),1,0)","v":0},"X",{"$f":"IF(AND('Step 2 - Ornamental'!$AB$21=\"X\",S36=\"X\"),1,0)","v":0},"X",{"$f":"IF(AND('Step 2 - Ornamental'!$AC$21=\"X\",U36=\"X\"),1,0)","v":0},"X",{"$f":"IF(AND('Step 2 - Ornamental'!$AA$19=\"X\",W36=\"X\"),1,0)","v":0},null,{"$f":"IF(AND('Step 2 - Ornamental'!$AA$19=\"X\",Y36=\"X\"),1,0)","v":0},"X",{"$f":"IF(AND('Step 2 - Ornamental'!$AB$19=\"X\",AA36=\"X\"),1,0)","v":0},"X",{"$f":"IF(AND('Step 2 - Ornamental'!$AC$19=\"X\",AC36=\"X\"),1,0)","v":0},"X",{"$f":"IF(AND('Step 2 - Ornamental'!$AA$20=\"X\",AE36=\"X\"),1,0)","v":0},"X",{"$f":"IF(AND('Step 2 - Ornamental'!$AA$20=\"X\",AG36=\"X\"),1,0)","v":0},null,{"$f":"IF(AND('Step 2 - Ornamental'!$AB$20=\"X\",AI36=\"X\"),1,0)","v":0},null,{"$f":"IF(AND('Step 2 - Ornamental'!$AC$20=\"X\",AK36=\"X\"),1,0)","v":0},null,{"$f":"IF(AND('Step 2 - Ornamental'!$AA$18=\"X\",AM36=\"X\"),1,0)","v":0},"X",{"$f":"IF(AND('Step 2 - Ornamental'!$AB$18=\"X\",AO36=\"X\"),1,0)","v":0},"X",{"$f":"IF(AND('Step 2 - Ornamental'!$AC$18=\"X\",AQ36=\"X\"),1,0)","v":0},"X",{"$f":"IF(AND('Step 2 - Ornamental'!$AD$18=\"X\",AS36=\"X\"),1,0)","v":0},null,{"$f":"IF(AND('Step 2 - Ornamental'!$AE$18=\"X\",AU36=\"X\"),1,0)","v":0},null,{"$f":"IF(AND('Step 2 - Ornamental'!$AA$17=\"X\",AW36=\"X\"),1,0)","v":0},"X",{"$f":"IF(AND('Step 2 - Ornamental'!$AB$17=\"X\",AY36=\"X\"),1,0)","v":0},null,{"$f":"IF(AND('Step 2 - Ornamental'!$AC$17=\"X\",BA36=\"X\"),1,0)","v":0},null,{"$f":"IF(AND('Step 2 - Ornamental'!$AA$22=\"X\",BC36=\"X\"),1,0)","v":0},null,{"$f":"IF(AND('Step 2 - Ornamental'!$AB$22=\"X\",BE36=\"X\"),1,0)","v":0},null,{"$f":"IF(AND('Step 2 - Ornamental'!$AC$22=\"X\",BG36=\"X\"),1,0)","v":0},null,{"$f":"IF(AND('Step 2 - Ornamental'!$AD$22=\"X\",BI36=\"X\"),1,0)","v":0},"X","Flowers are Not Showy"]
[null,1,"GL TR","Gleditsia triacanthos f. inermis 'Skycole' SKYLINE","Skyline Honeylocust","NA","Very tolerant of a variety of urban conditions, good dappled shade",null,"X","X","X",null,null,0,null,{"$f":"IF(AND('Step 2 - Ornamental'!$AA$21=\"X\",Q37=\"X\"),1,0)","v":0},"X",{"$f":"IF(AND('Step 2 - Ornamental'!$AB$21=\"X\",S37=\"X\"),1,0)","v":0},"X",{"$f":"IF(AND('Step 2 - Ornamental'!$AC$21=\"X\",U37=\"X\"),1,0)","v":0},"X",{"$f":"IF(AND('Step 2 - Ornamental'!$AA$19=\"X\",W37=\"X\"),1,0)","v":0},null,{"$f":"IF(AND('Step 2 - Ornamental'!$AA$19=\"X\",Y37=\"X\"),1,0)","v":0},"X",{"$f":"IF(AND('Step 2 - Ornamental'!$AB$19=\"X\",AA37=\"X\"),1,0)","v":0},"X",{"$f":"IF(AND('Step 2 - Ornamental'!$AC$19=\"X\",AC37=\"X\"),1,0)","v":0},"X",{"$f":"IF(AND('Step 2 - Ornamental'!$AA$20=\"X\",AE37=\"X\"),1,0)","v":0},"X",{"$f":"IF(AND('Step 2 - Ornamental'!$AA$20=\"X\",AG37=\"X\"),1,0)","v":0},null,{"$f":"IF(AND('Step 2 - Ornamental'!$AB$20=\"X\",AI37=\"X\"),1,0)","v":0},null,{"$f":"IF(AND('Step 2 - Ornamental'!$AC$20=\"X\",AK37=\"X\"),1,0)","v":0},null,{"$f":"IF(AND('Step 2 - Ornamental'!$AA$18=\"X\",AM37=\"X\"),1,0)","v":0},"X",{"$f":"IF(AND('Step 2 - Ornamental'!$AB$18=\"X\",AO37=\"X\"),1,0)","v":0},"X",{"$f":"IF(AND('Step 2 - Ornamental'!$AC$18=\"X\",AQ37=\"X\"),1,0)","v":0},"X",{"$f":"IF(AND('Step 2 - Ornamental'!$AD$18=\"X\",AS37=\"X\"),1,0)","v":0},null,{"$f":"IF(AND('Step 2 - Ornamental'!$AE$18=\"X\",AU37=\"X\"),1,0)","v":0},null,{"$f":"IF(AND('Step 2 - Ornamental'!$AA$17=\"X\",AW37=\"X\"),1,0)","v":0},"X",{"$f":"IF(AND('Step 2 - Ornamental'!$AB$17=\"X\",AY37=\"X\"),1,0)","v":0},null,{"$f":"IF(AND('Step 2 - Ornamental'!$AC$17=\"X\",BA37=\"X\"),1,0)","v":0},null,{"$f":"IF(AND('Step 2 - Ornamental'!$AA$22=\"X\",BC37=\"X\"),1,0)","v":0},null,{"$f":"IF(AND('Step 2 - Ornamental'!$AB$22=\"X\",BE37=\"X\"),1,0)","v":0},null,{"$f":"IF(AND('Step 2 - Ornamental'!$AC$22=\"X\",BG37=\"X\"),1,0)","v":0},null,{"$f":"IF(AND('Step 2 - Ornamental'!$AD$22=\"X\",BI37=\"X\"),1,0)","v":0},"X","Flowers are Not Showy"]
[null,1,"GY DI","Gymnocladus dioica","Kentucky Coffee Tree","NA","Adaptable to urban conditions, ",null,"X","X",null,null,null,0,null,{"$f":"IF(AND('Step 2 - Ornamental'!$AA$21=\"X\",Q38=\"X\"),1,0)","v":0},"X",{"$f":"IF(AND('Step 2 - Ornamental'!$AB$21=\"X\",S38=\"X\"),1,0)","v":0},"X",{"$f":"IF(AND('Step 2 - Ornamental'!$AC$21=\"X\",U38=\"X\"),1,0)","v":0},"X",{"$f":"IF(AND('Step 2 - Ornamental'!$AA$19=\"X\",W38=\"X\"),1,0)","v":0},null,{"$f":"IF(AND('Step 2 - Ornamental'!$AA$19=\"X\",Y38=\"X\"),1,0)","v":0},"X",{"$f":"IF(AND('Step 2 - Ornamental'!$AB$19=\"X\",AA38=\"X\"),1,0)","v":0},"X",{"$f":"IF(AND('Step 2 - Ornamental'!$AC$19=\"X\",AC38=\"X\"),1,0)","v":0},null,{"$f":"IF(AND('Step 2 - Ornamental'!$AA$20=\"X\",AE38=\"X\"),1,0)","v":0},"X",{"$f":"IF(AND('Step 2 - Ornamental'!$AA$20=\"X\",AG38=\"X\"),1,0)","v":0},null,{"$f":"IF(AND('Step 2 - Ornamental'!$AB$20=\"X\",AI38=\"X\"),1,0)","v":0},null,{"$f":"IF(AND('Step 2 - Ornamental'!$AC$20=\"X\",AK38=\"X\"),1,0)","v":0},null,{"$f":"IF(AND('Step 2 - Ornamental'!$AA$18=\"X\",AM38=\"X\"),1,0)","v":0}," ",{"$f":"IF(AND('Step 2 - Ornamental'!$AB$18=\"X\",AO38=\"X\"),1,0)","v":0},"X",{"$f":"IF(AND('Step 2 - Ornamental'!$AC$18=\"X\",AQ38=\"X\"),1,0)","v":0},"X",{"$f":"IF(AND('Step 2 - Ornamental'!$AD$18=\"X\",AS38=\"X\"),1,0)","v":0},null,{"$f":"IF(AND('Step 2 - Ornamental'!$AE$18=\"X\",AU38=\"X\"),1,0)","v":0},null,{"$f":"IF(AND('Step 2 - Ornamental'!$AA$17=\"X\",AW38=\"X\"),1,0)","v":0},"X",{"$f":"IF(AND('Step 2 - Ornamental'!$AB$17=\"X\",AY38=\"X\"),1,0)","v":0},null,{"$f":"IF(AND('Step 2 - Ornamental'!$AC$17=\"X\",BA38=\"X\"),1,0)","v":0},null,{"$f":"IF(AND('Step 2 - Ornamental'!$AA$22=\"X\",BC38=\"X\"),1,0)","v":0},null,{"$f":"IF(AND('Step 2 - Ornamental'!$AB$22=\"X\",BE38=\"X\"),1,0)","v":0},null,{"$f":"IF(AND('Step 2 - Ornamental'!$AC$22=\"X\",BG38=\"X\"),1,0)","v":0},null,{"$f":"IF(AND('Step 2 - Ornamental'!$AD$22=\"X\",BI38=\"X\"),1,0)","v":0},"X","Flowers are Not Showy"]
[null,1,"JU NI","Juglans nigra","Black Walnut ","NA","Spring dig only, intolerant of shade, difficult to transplant because of tap root"," ","X","X",null,"X",null,0,null,{"$f":"IF(AND('Step 2 - Ornamental'!$AA$21=\"X\",Q39=\"X\"),1,0)","v":0},"X",{"$f":"IF(AND('Step 2 - Ornamental'!$AB$21=\"X\",S39=\"X\"),1,0)","v":0},null,{"$f":"IF(AND('Step 2 - Ornamental'!$AC$21=\"X\",U39=\"X\"),1,0)","v":0},null,{"$f":"IF(AND('Step 2 - Ornamental'!$AA$19=\"X\",W39=\"X\"),1,0)","v":0},null,{"$f":"IF(AND('Step 2 - Ornamental'!$AA$19=\"X\",Y39=\"X\"),1,0)","v":0},"X",{"$f":"IF(AND('Step 2 - Ornamental'!$AB$19=\"X\",AA39=\"X\"),1,0)","v":0},"X",{"$f":"IF(AND('Step 2 - Ornamental'!$AC$19=\"X\",AC39=\"X\"),1,0)","v":0},null,{"$f":"IF(AND('Step 2 - Ornamental'!$AA$20=\"X\",AE39=\"X\"),1,0)","v":0},"X",{"$f":"IF(AND('Step 2 - Ornamental'!$AA$20=\"X\",AG39=\"X\"),1,0)","v":0},null,{"$f":"IF(AND('Step 2 - Ornamental'!$AB$20=\"X\",AI39=\"X\"),1,0)","v":0},null,{"$f":"IF(AND('Step 2 - Ornamental'!$AC$20=\"X\",AK39=\"X\"),1,0)","v":0},null,{"$f":"IF(AND('Step 2 - Ornamental'!$AA$18=\"X\",AM39=\"X\"),1,0)","v":0},null,{"$f":"IF(AND('Step 2 - Ornamental'!$AB$18=\"X\",AO39=\"X\"),1,0)","v":0},"X",{"$f":"IF(AND('Step 2 - Ornamental'!$AC$18=\"X\",AQ39=\"X\"),1,0)","v":0},"X",{"$f":"IF(AND('Step 2 - Ornamental'!$AD$18=\"X\",AS39=\"X\"),1,0)","v":0},null,{"$f":"IF(AND('Step 2 - Ornamental'!$AE$18=\"X\",AU39=\"X\"),1,0)","v":0},null,{"$f":"IF(AND('Step 2 - Ornamental'!$AA$17=\"X\",AW39=\"X\"),1,0)","v":0},"X",{"$f":"IF(AND('Step 2 - Ornamental'!$AB$17=\"X\",AY39=\"X\"),1,0)","v":0},null,{"$f":"IF(AND('Step 2 - Ornamental'!$AC$17=\"X\",BA39=\"X\"),1,0)","v":0},null,{"$f":"IF(AND('Step 2 - Ornamental'!$AA$22=\"X\",BC39=\"X\"),1,0)","v":0},null,{"$f":"IF(AND('Step 2 - Ornamental'!$AB$22=\"X\",BE39=\"X\"),1,0)","v":0},null,{"$f":"IF(AND('Step 2 - Ornamental'!$AC$22=\"X\",BG39=\"X\"),1,0)","v":0},null,{"$f":"IF(AND('Step 2 - Ornamental'!$AD$22=\"X\",BI39=\"X\"),1,0)","v":0},"X","Flowers are Not Showy"]
[null,1,"LI ST","Liquidambar styraciflua 'Moraine'","Moraine Sweetgum","NA","Intolerant of shade, prefers deep, moist, fertile soils, avoid aklaline soils, fascinating leaf shape and spike-balled seed capsules"," ","X",null,"X","X",null,0,null,{"$f":"IF(AND('Step 2 - Ornamental'!$AA$21=\"X\",Q40=\"X\"),1,0)","v":0},"X",{"$f":"IF(AND('Step 2 - Ornamental'!$AB$21=\"X\",S40=\"X\"),1,0)","v":0},"X",{"$f":"IF(AND('Step 2 - Ornamental'!$AC$21=\"X\",U40=\"X\"),1,0)","v":0},null,{"$f":"IF(AND('Step 2 - Ornamental'!$AA$19=\"X\",W40=\"X\"),1,0)","v":0},null,{"$f":"IF(AND('Step 2 - Ornamental'!$AA$19=\"X\",Y40=\"X\"),1,0)","v":0},"X",{"$f":"IF(AND('Step 2 - Ornamental'!$AB$19=\"X\",AA40=\"X\"),1,0)","v":0},"X",{"$f":"IF(AND('Step 2 - Ornamental'!$AC$19=\"X\",AC40=\"X\"),1,0)","v":0},null,{"$f":"IF(AND('Step 2 - Ornamental'!$AA$20=\"X\",AE40=\"X\"),1,0)","v":0},"X",{"$f":"IF(AND('Step 2 - Ornamental'!$AA$20=\"X\",AG40=\"X\"),1,0)","v":0},null,{"$f":"IF(AND('Step 2 - Ornamental'!$AB$20=\"X\",AI40=\"X\"),1,0)","v":0},null,{"$f":"IF(AND('Step 2 - Ornamental'!$AC$20=\"X\",AK40=\"X\"),1,0)","v":0},null,{"$f":"IF(AND('Step 2 - Ornamental'!$AA$18=\"X\",AM40=\"X\"),1,0)","v":0},null,{"$f":"IF(AND('Step 2 - Ornamental'!$AB$18=\"X\",AO40=\"X\"),1,0)","v":0},"X",{"$f":"IF(AND('Step 2 - Ornamental'!$AC$18=\"X\",AQ40=\"X\"),1,0)","v":0},"X",{"$f":"IF(AND('Step 2 - Ornamental'!$AD$18=\"X\",AS40=\"X\"),1,0)","v":0},null,{"$f":"IF(AND('Step 2 - Ornamental'!$AE$18=\"X\",AU40=\"X\"),1,0)","v":0},null,{"$f":"IF(AND('Step 2 - Ornamental'!$AA$17=\"X\",AW40=\"X\"),1,0)","v":0},"X",{"$f":"IF(AND('Step 2 - Ornamental'!$AB$17=\"X\",AY40=\"X\"),1,0)","v":0},null,{"$f":"IF(AND('Step 2 - Ornamental'!$AC$17=\"X\",BA40=\"X\"),1,0)","v":0},null,{"$f":"IF(AND('Step 2 - Ornamental'!$AA$22=\"X\",BC40=\"X\"),1,0)","v":0},null,{"$f":"IF(AND('Step 2 - Ornamental'!$AB$22=\"X\",BE40=\"X\"),1,0)","v":0},null,{"$f":"IF(AND('Step 2 - Ornamental'!$AC$22=\"X\",BG40=\"X\"),1,0)","v":0},null,{"$f":"IF(AND('Step 2 - Ornamental'!$AD$22=\"X\",BI40=\"X\"),1,0)","v":0},"X","Flowers are Not Showy"]
[null,1,"LI TU","Liriodendron tulipifera","Tulip Tree","NA","Interesting leaf shape, fast growing, very large tree",null,"X",null,null,null,null,0,null,{"$f":"IF(AND('Step 2 - Ornamental'!$AA$21=\"X\",Q41=\"X\"),1,0)","v":0},"X",{"$f":"IF(AND('Step 2 - Ornamental'!$AB$21=\"X\",S41=\"X\"),1,0)","v":0},"X",{"$f":"IF(AND('Step 2 - Ornamental'!$AC$21=\"X\",U41=\"X\"),1,0)","v":0},"X",{"$f":"IF(AND('Step 2 - Ornamental'!$AA$19=\"X\",W41=\"X\"),1,0)","v":0},null,{"$f":"IF(AND('Step 2 - Ornamental'!$AA$19=\"X\",Y41=\"X\"),1,0)","v":0},"X",{"$f":"IF(AND('Step 2 - Ornamental'!$AB$19=\"X\",AA41=\"X\"),1,0)","v":0},"X",{"$f":"IF(AND('Step 2 - Ornamental'!$AC$19=\"X\",AC41=\"X\"),1,0)","v":0},null,{"$f":"IF(AND('Step 2 - Ornamental'!$AA$20=\"X\",AE41=\"X\"),1,0)","v":0},"X",{"$f":"IF(AND('Step 2 - Ornamental'!$AA$20=\"X\",AG41=\"X\"),1,0)","v":0},null,{"$f":"IF(AND('Step 2 - Ornamental'!$AB$20=\"X\",AI41=\"X\"),1,0)","v":0},null,{"$f":"IF(AND('Step 2 - Ornamental'!$AC$20=\"X\",AK41=\"X\"),1,0)","v":0},null,{"$f":"IF(AND('Step 2 - Ornamental'!$AA$18=\"X\",AM41=\"X\"),1,0)","v":0},null,{"$f":"IF(AND('Step 2 - Ornamental'!$AB$18=\"X\",AO41=\"X\"),1,0)","v":0},"X",{"$f":"IF(AND('Step 2 - Ornamental'!$AC$18=\"X\",AQ41=\"X\"),1,0)","v":0},null,{"$f":"IF(AND('Step 2 - Ornamental'!$AD$18=\"X\",AS41=\"X\"),1,0)","v":0},null,{"$f":"IF(AND('Step 2 - Ornamental'!$AE$18=\"X\",AU41=\"X\"),1,0)","v":0},null,{"$f":"IF(AND('Step 2 - Ornamental'!$AA$17=\"X\",AW41=\"X\"),1,0)","v":0},"X",{"$f":"IF(AND('Step 2 - Ornamental'!$AB$17=\"X\",AY41=\"X\"),1,0)","v":0},null,{"$f":"IF(AND('Step 2 - Ornamental'!$AC$17=\"X\",BA41=\"X\"),1,0)","v":0},null,{"$f":"IF(AND('Step 2 - Ornamental'!$AA$22=\"X\",BC41=\"X\"),1,0)","v":0},null,{"$f":"IF(AND('Step 2 - Ornamental'!$AB$22=\"X\",BE41=\"X\"),1,0)","v":0},null,{"$f":"IF(AND('Step 2 - Ornamental'!$AC$22=\"X\",BG41=\"X\"),1,0)","v":0},null,{"$f":"IF(AND('Step 2 - Ornamental'!$AD$22=\"X\",BI41=\"X\"),1,0)","v":0},"X",null,null,null,null,"White and Yellow / 60'-90'"]
[null,1,"LI FA","Liriodendron tulipifera 'Fastigiatum'","Fastigate Tulip Tree","NA","Interesting leaf shape, fast growing, very large tree, columnar form",null,"X",null,"X","X",null,0,null,{"$f":"IF(AND('Step 2 - Ornamental'!$AA$21=\"X\",Q42=\"X\"),1,0)","v":0},"X",{"$f":"IF(AND('Step 2 - Ornamental'!$AB$21=\"X\",S42=\"X\"),1,0)","v":0},"X",{"$f":"IF(AND('Step 2 - Ornamental'!$AC$21=\"X\",U42=\"X\"),1,0)","v":0},"X",{"$f":"IF(AND('Step 2 - Ornamental'!$AA$19=\"X\",W42=\"X\"),1,0)","v":0},null,{"$f":"IF(AND('Step 2 - Ornamental'!$AA$19=\"X\",Y42=\"X\"),1,0)","v":0},"X",{"$f":"IF(AND('Step 2 - Ornamental'!$AB$19=\"X\",AA42=\"X\"),1,0)","v":0},"X",{"$f":"IF(AND('Step 2 - Ornamental'!$AC$19=\"X\",AC42=\"X\"),1,0)","v":0},null,{"$f":"IF(AND('Step 2 - Ornamental'!$AA$20=\"X\",AE42=\"X\"),1,0)","v":0},"X",{"$f":"IF(AND('Step 2 - Ornamental'!$AA$20=\"X\",AG42=\"X\"),1,0)","v":0},null,{"$f":"IF(AND('Step 2 - Ornamental'!$AB$20=\"X\",AI42=\"X\"),1,0)","v":0},null,{"$f":"IF(AND('Step 2 - Ornamental'!$AC$20=\"X\",AK42=\"X\"),1,0)","v":0},null,{"$f":"IF(AND('Step 2 - Ornamental'!$AA$18=\"X\",AM42=\"X\"),1,0)","v":0},null,{"$f":"IF(AND('Step 2 - Ornamental'!$AB$18=\"X\",AO42=\"X\"),1,0)","v":0},"X",{"$f":"IF(AND('Step 2 - Ornamental'!$AC$18=\"X\",AQ42=\"X\"),1,0)","v":0},null,{"$f":"IF(AND('Step 2 - Ornamental'!$AD$18=\"X\",AS42=\"X\"),1,0)","v":0},null,{"$f":"IF(AND('Step 2 - Ornamental'!$AE$18=\"X\",AU42=\"X\"),1,0)","v":0},null,{"$f":"IF(AND('Step 2 - Ornamental'!$AA$17=\"X\",AW42=\"X\"),1,0)","v":0},"X",{"$f":"IF(AND('Step 2 - Ornamental'!$AB$17=\"X\",AY42=\"X\"),1,0)","v":0},null,{"$f":"IF(AND('Step 2 - Ornamental'!$AC$17=\"X\",BA42=\"X\"),1,0)","v":0},null,{"$f":"IF(AND('Step 2 - Ornamental'!$AA$22=\"X\",BC42=\"X\"),1,0)","v":0},null,{"$f":"IF(AND('Step 2 - Ornamental'!$AB$22=\"X\",BE42=\"X\"),1,0)","v":0},null,{"$f":"IF(AND('Step 2 - Ornamental'!$AC$22=\"X\",BG42=\"X\"),1,0)","v":0},null,{"$f":"IF(AND('Step 2 - Ornamental'!$AD$22=\"X\",BI42=\"X\"),1,0)","v":0},"X",null,null,null,null,"White and Yellow / 50'-60'"]
[null,1,"MA AC","Magnolia acuminata","Cucumbertree Magnolia","NA","Spring dig only, Can be difficult to transplant larger plant",null,"X",null,null,null,null,0,null,{"$f":"IF(AND('Step 2 - Ornamental'!$AA$21=\"X\",Q43=\"X\"),1,0)","v":0},"X",{"$f":"IF(AND('Step 2 - Ornamental'!$AB$21=\"X\",S43=\"X\"),1,0)","v":0},"X",{"$f":"IF(AND('Step 2 - Ornamental'!$AC$21=\"X\",U43=\"X\"),1,0)","v":0},"X",{"$f":"IF(AND('Step 2 - Ornamental'!$AA$19=\"X\",W43=\"X\"),1,0)","v":0},"X",{"$f":"IF(AND('Step 2 - Ornamental'!$AA$19=\"X\",Y43=\"X\"),1,0)","v":0},null,{"$f":"IF(AND('Step 2 - Ornamental'!$AB$19=\"X\",AA43=\"X\"),1,0)","v":0},null,{"$f":"IF(AND('Step 2 - Ornamental'!$AC$19=\"X\",AC43=\"X\"),1,0)","v":0},null,{"$f":"IF(AND('Step 2 - Ornamental'!$AA$20=\"X\",AE43=\"X\"),1,0)","v":0},"X",{"$f":"IF(AND('Step 2 - Ornamental'!$AA$20=\"X\",AG43=\"X\"),1,0)","v":0},null,{"$f":"IF(AND('Step 2 - Ornamental'!$AB$20=\"X\",AI43=\"X\"),1,0)","v":0},null,{"$f":"IF(AND('Step 2 - Ornamental'!$AC$20=\"X\",AK43=\"X\"),1,0)","v":0},null,{"$f":"IF(AND('Step 2 - Ornamental'!$AA$18=\"X\",AM43=\"X\"),1,0)","v":0},null,{"$f":"IF(AND('Step 2 - Ornamental'!$AB$18=\"X\",AO43=\"X\"),1,0)","v":0},"X",{"$f":"IF(AND('Step 2 - Ornamental'!$AC$18=\"X\",AQ43=\"X\"),1,0)","v":0},"X",{"$f":"IF(AND('Step 2 - Ornamental'!$AD$18=\"X\",AS43=\"X\"),1,0)","v":0},null,{"$f":"IF(AND('Step 2 - Ornamental'!$AE$18=\"X\",AU43=\"X\"),1,0)","v":0},null,{"$f":"IF(AND('Step 2 - Ornamental'!$AA$17=\"X\",AW43=\"X\"),1,0)","v":0},"X",{"$f":"IF(AND('Step 2 - Ornamental'!$AB$17=\"X\",AY43=\"X\"),1,0)","v":0},"X",{"$f":"IF(AND('Step 2 - Ornamental'!$AC$17=\"X\",BA43=\"X\"),1,0)","v":0},null,{"$f":"IF(AND('Step 2 - Ornamental'!$AA$22=\"X\",BC43=\"X\"),1,0)","v":0},null,{"$f":"IF(AND('Step 2 - Ornamental'!$AB$22=\"X\",BE43=\"X\"),1,0)","v":0},null,{"$f":"IF(AND('Step 2 - Ornamental'!$AC$22=\"X\",BG43=\"X\"),1,0)","v":0},null,{"$f":"IF(AND('Step 2 - Ornamental'!$AD$22=\"X\",BI43=\"X\"),1,0)","v":0},"X",null,null,null,"Greenish Yellow / 40'-70'"]
[null,1,"NY SY","Nyssa sylvatica","Black Gum","NA","Spring dig only, tolerates wet soils, prefers acidic soils",null,"X","X",null,null,null,0,null,{"$f":"IF(AND('Step 2 - Ornamental'!$AA$21=\"X\",Q44=\"X\"),1,0)","v":0},"X",{"$f":"IF(AND('Step 2 - Ornamental'!$AB$21=\"X\",S44=\"X\"),1,0)","v":0},"X",{"$f":"IF(AND('Step 2 - Ornamental'!$AC$21=\"X\",U44=\"X\"),1,0)","v":0},null,{"$f":"IF(AND('Step 2 - Ornamental'!$AA$19=\"X\",W44=\"X\"),1,0)","v":0},null,{"$f":"IF(AND('Step 2 - Ornamental'!$AA$19=\"X\",Y44=\"X\"),1,0)","v":0},"X",{"$f":"IF(AND('Step 2 - Ornamental'!$AB$19=\"X\",AA44=\"X\"),1,0)","v":0},"X",{"$f":"IF(AND('Step 2 - Ornamental'!$AC$19=\"X\",AC44=\"X\"),1,0)","v":0},null,{"$f":"IF(AND('Step 2 - Ornamental'!$AA$20=\"X\",AE44=\"X\"),1,0)","v":0},"X",{"$f":"IF(AND('Step 2 - Ornamental'!$AA$20=\"X\",AG44=\"X\"),1,0)","v":0},null,{"$f":"IF(AND('Step 2 - Ornamental'!$AB$20=\"X\",AI44=\"X\"),1,0)","v":0},null,{"$f":"IF(AND('Step 2 - Ornamental'!$AC$20=\"X\",AK44=\"X\"),1,0)","v":0},null,{"$f":"IF(AND('Step 2 - Ornamental'!$AA$18=\"X\",AM44=\"X\"),1,0)","v":0},null,{"$f":"IF(AND('Step 2 - Ornamental'!$AB$18=\"X\",AO44=\"X\"),1,0)","v":0},"X",{"$f":"IF(AND('Step 2 - Ornamental'!$AC$18=\"X\",AQ44=\"X\"),1,0)","v":0},"X",{"$f":"IF(AND('Step 2 - Ornamental'!$AD$18=\"X\",AS44=\"X\"),1,0)","v":0},null,{"$f":"IF(AND('Step 2 - Ornamental'!$AE$18=\"X\",AU44=\"X\"),1,0)","v":0},null,{"$f":"IF(AND('Step 2 - Ornamental'!$AA$17=\"X\",AW44=\"X\"),1,0)","v":0},"X",{"$f":"IF(AND('Step 2 - Ornamental'!$AB$17=\"X\",AY44=\"X\"),1,0)","v":0},"X",{"$f":"IF(AND('Step 2 - Ornamental'!$AC$17=\"X\",BA44=\"X\"),1,0)","v":0},null,{"$f":"IF(AND('Step 2 - Ornamental'!$AA$22=\"X\",BC44=\"X\"),1,0)","v":0},null,{"$f":"IF(AND('Step 2 - Ornamental'!$AB$22=\"X\",BE44=\"X\"),1,0)","v":0},null,{"$f":"IF(AND('Step 2 - Ornamental'!$AC$22=\"X\",BG44=\"X\"),1,0)","v":0},null,{"$f":"IF(AND('Step 2 - Ornamental'!$AD$22=\"X\",BI44=\"X\"),1,0)","v":0},"X","Flowers are Not Showy"]
[null,1,"OS VI","Ostrya virginiana","Hop-hornbeam","NA","Spring dig only, small tree for urban conditions",null,"X","X","X",null,null,0,null,{"$f":"IF(AND('Step 2 - Ornamental'!$AA$21=\"X\",Q45=\"X\"),1,0)","v":0},"X",{"$f":"IF(AND('Step 2 - Ornamental'!$AB$21=\"X\",S45=\"X\"),1,0)","v":0},"X",{"$f":"IF(AND('Step 2 - Ornamental'!$AC$21=\"X\",U45=\"X\"),1,0)","v":0},null,{"$f":"IF(AND('Step 2 - Ornamental'!$AA$19=\"X\",W45=\"X\"),1,0)","v":0},"X",{"$f":"IF(AND('Step 2 - Ornamental'!$AA$19=\"X\",Y45=\"X\"),1,0)","v":0},null,{"$f":"IF(AND('Step 2 - Ornamental'!$AB$19=\"X\",AA45=\"X\"),1,0)","v":0},null,{"$f":"IF(AND('Step 2 - Ornamental'!$AC$19=\"X\",AC45=\"X\"),1,0)","v":0},null,{"$f":"IF(AND('Step 2 - Ornamental'!$AA$20=\"X\",AE45=\"X\"),1,0)","v":0},null,{"$f":"IF(AND('Step 2 - Ornamental'!$AA$20=\"X\",AG45=\"X\"),1,0)","v":0},"X",{"$f":"IF(AND('Step 2 - Ornamental'!$AB$20=\"X\",AI45=\"X\"),1,0)","v":0},"X",{"$f":"IF(AND('Step 2 - Ornamental'!$AC$20=\"X\",AK45=\"X\"),1,0)","v":0},null,{"$f":"IF(AND('Step 2 - Ornamental'!$AA$18=\"X\",AM45=\"X\"),1,0)","v":0},"X",{"$f":"IF(AND('Step 2 - Ornamental'!$AB$18=\"X\",AO45=\"X\"),1,0)","v":0},"X",{"$f":"IF(AND('Step 2 - Ornamental'!$AC$18=\"X\",AQ45=\"X\"),1,0)","v":0},null,{"$f":"IF(AND('Step 2 - Ornamental'!$AD$18=\"X\",AS45=\"X\"),1,0)","v":0},null,{"$f":"IF(AND('Step 2 - Ornamental'!$AE$18=\"X\",AU45=\"X\"),1,0)","v":0},null,{"$f":"IF(AND('Step 2 - Ornamental'!$AA$17=\"X\",AW45=\"X\"),1,0)","v":0},"X",{"$f":"IF(AND('Step 2 - Ornamental'!$AB$17=\"X\",AY45=\"X\"),1,0)","v":0},"X",{"$f":"IF(AND('Step 2 - Ornamental'!$AC$17=\"X\",BA45=\"X\"),1,0)","v":0},null,{"$f":"IF(AND('Step 2 - Ornamental'!$AA$22=\"X\",BC45=\"X\"),1,0)","v":0},null,{"$f":"IF(AND('Step 2 - Ornamental'!$AB$22=\"X\",BE45=\"X\"),1,0)","v":0},null,{"$f":"IF(AND('Step 2 - Ornamental'!$AC$22=\"X\",BG45=\"X\"),1,0)","v":0},null,{"$f":"IF(AND('Step 2 - Ornamental'!$AD$22=\"X\",BI45=\"X\"),1,0)","v":0},"X","Flowers are Not Showy"]
[null,1,"PL AC","Platanus x acerifolia 'Bloodgood'","Bloodgood Londonplane Tree","NA","Beautiful white exfoliating bark, Tolerant of urban conditions, likely more resistant to anthracnose than occidentalis","X",null,null,"X",null,null,0,null,{"$f":"IF(AND('Step 2 - Ornamental'!$AA$21=\"X\",Q46=\"X\"),1,0)","v":0},"X",{"$f":"IF(AND('Step 2 - Ornamental'!$AB$21=\"X\",S46=\"X\"),1,0)","v":0},"X",{"$f":"IF(AND('Step 2 - Ornamental'!$AC$21=\"X\",U46=\"X\"),1,0)","v":0},"X",{"$f":"IF(AND('Step 2 - Ornamental'!$AA$19=\"X\",W46=\"X\"),1,0)","v":0},null,{"$f":"IF(AND('Step 2 - Ornamental'!$AA$19=\"X\",Y46=\"X\"),1,0)","v":0},"X",{"$f":"IF(AND('Step 2 - Ornamental'!$AB$19=\"X\",AA46=\"X\"),1,0)","v":0},"X",{"$f":"IF(AND('Step 2 - Ornamental'!$AC$19=\"X\",AC46=\"X\"),1,0)","v":0},null,{"$f":"IF(AND('Step 2 - Ornamental'!$AA$20=\"X\",AE46=\"X\"),1,0)","v":0},"X",{"$f":"IF(AND('Step 2 - Ornamental'!$AA$20=\"X\",AG46=\"X\"),1,0)","v":0},null,{"$f":"IF(AND('Step 2 - Ornamental'!$AB$20=\"X\",AI46=\"X\"),1,0)","v":0},null,{"$f":"IF(AND('Step 2 - Ornamental'!$AC$20=\"X\",AK46=\"X\"),1,0)","v":0},null,{"$f":"IF(AND('Step 2 - Ornamental'!$AA$18=\"X\",AM46=\"X\"),1,0)","v":0},"X",{"$f":"IF(AND('Step 2 - Ornamental'!$AB$18=\"X\",AO46=\"X\"),1,0)","v":0},"X",{"$f":"IF(AND('Step 2 - Ornamental'!$AC$18=\"X\",AQ46=\"X\"),1,0)","v":0},"X",{"$f":"IF(AND('Step 2 - Ornamental'!$AD$18=\"X\",AS46=\"X\"),1,0)","v":0},null,{"$f":"IF(AND('Step 2 - Ornamental'!$AE$18=\"X\",AU46=\"X\"),1,0)","v":0},null,{"$f":"IF(AND('Step 2 - Ornamental'!$AA$17=\"X\",AW46=\"X\"),1,0)","v":0},"X",{"$f":"IF(AND('Step 2 - Ornamental'!$AB$17=\"X\",AY46=\"X\"),1,0)","v":0},"X",{"$f":"IF(AND('Step 2 - Ornamental'!$AC$17=\"X\",BA46=\"X\"),1,0)","v":0},null,{"$f":"IF(AND('Step 2 - Ornamental'!$AA$22=\"X\",BC46=\"X\"),1,0)","v":0},null,{"$f":"IF(AND('Step 2 - Ornamental'!$AB$22=\"X\",BE46=\"X\"),1,0)","v":0},null,{"$f":"IF(AND('Step 2 - Ornamental'!$AC$22=\"X\",BG46=\"X\"),1,0)","v":0},null,{"$f":"IF(AND('Step 2 - Ornamental'!$AD$22=\"X\",BI46=\"X\"),1,0)","v":0},"X","Flowers are Not Showy"]
[null,1,"PO TR","Populus tremuloides","Quaking Aspen","NA","Multi-stem form preferred, Short-lived, but will sucker clones, full sun with shaded roots needed"," ","X","X",null,null,null,0,null,{"$f":"IF(AND('Step 2 - Ornamental'!$AA$21=\"X\",Q47=\"X\"),1,0)","v":0},"X",{"$f":"IF(AND('Step 2 - Ornamental'!$AB$21=\"X\",S47=\"X\"),1,0)","v":0},"X",{"$f":"IF(AND('Step 2 - Ornamental'!$AC$21=\"X\",U47=\"X\"),1,0)","v":0},"X",{"$f":"IF(AND('Step 2 - Ornamental'!$AA$19=\"X\",W47=\"X\"),1,0)","v":0},null,{"$f":"IF(AND('Step 2 - Ornamental'!$AA$19=\"X\",Y47=\"X\"),1,0)","v":0},"X",{"$f":"IF(AND('Step 2 - Ornamental'!$AB$19=\"X\",AA47=\"X\"),1,0)","v":0},"X",{"$f":"IF(AND('Step 2 - Ornamental'!$AC$19=\"X\",AC47=\"X\"),1,0)","v":0},"X",{"$f":"IF(AND('Step 2 - Ornamental'!$AA$20=\"X\",AE47=\"X\"),1,0)","v":0},null,{"$f":"IF(AND('Step 2 - Ornamental'!$AA$20=\"X\",AG47=\"X\"),1,0)","v":0},"X",{"$f":"IF(AND('Step 2 - Ornamental'!$AB$20=\"X\",AI47=\"X\"),1,0)","v":0},"X",{"$f":"IF(AND('Step 2 - Ornamental'!$AC$20=\"X\",AK47=\"X\"),1,0)","v":0},null,{"$f":"IF(AND('Step 2 - Ornamental'!$AA$18=\"X\",AM47=\"X\"),1,0)","v":0},"X",{"$f":"IF(AND('Step 2 - Ornamental'!$AB$18=\"X\",AO47=\"X\"),1,0)","v":0},"X",{"$f":"IF(AND('Step 2 - Ornamental'!$AC$18=\"X\",AQ47=\"X\"),1,0)","v":0},null,{"$f":"IF(AND('Step 2 - Ornamental'!$AD$18=\"X\",AS47=\"X\"),1,0)","v":0},null,{"$f":"IF(AND('Step 2 - Ornamental'!$AE$18=\"X\",AU47=\"X\"),1,0)","v":0},null,{"$f":"IF(AND('Step 2 - Ornamental'!$AA$17=\"X\",AW47=\"X\"),1,0)","v":0},"X",{"$f":"IF(AND('Step 2 - Ornamental'!$AB$17=\"X\",AY47=\"X\"),1,0)","v":0},null,{"$f":"IF(AND('Step 2 - Ornamental'!$AC$17=\"X\",BA47=\"X\"),1,0)","v":0},null,{"$f":"IF(AND('Step 2 - Ornamental'!$AA$22=\"X\",BC47=\"X\"),1,0)","v":0},null,{"$f":"IF(AND('Step 2 - Ornamental'!$AB$22=\"X\",BE47=\"X\"),1,0)","v":0},null,{"$f":"IF(AND('Step 2 - Ornamental'!$AC$22=\"X\",BG47=\"X\"),1,0)","v":0},"X",{"$f":"IF(AND('Step 2 - Ornamental'!$AD$22=\"X\",BI47=\"X\"),1,0)","v":0},"X","Flowers are Not Showy"]
[null,1,"PR SE","Prunus serotina","Black Cherry","NA","Has tap root - transplant young",null,"X","X",null,null,null,0,null,{"$f":"IF(AND('Step 2 - Ornamental'!$AA$21=\"X\",Q48=\"X\"),1,0)","v":0},"X",{"$f":"IF(AND('Step 2 - Ornamental'!$AB$21=\"X\",S48=\"X\"),1,0)","v":0},"X",{"$f":"IF(AND('Step 2 - Ornamental'!$AC$21=\"X\",U48=\"X\"),1,0)","v":0},null,{"$f":"IF(AND('Step 2 - Ornamental'!$AA$19=\"X\",W48=\"X\"),1,0)","v":0},null,{"$f":"IF(AND('Step 2 - Ornamental'!$AA$19=\"X\",Y48=\"X\"),1,0)","v":0},"X",{"$f":"IF(AND('Step 2 - Ornamental'!$AB$19=\"X\",AA48=\"X\"),1,0)","v":0},"X",{"$f":"IF(AND('Step 2 - Ornamental'!$AC$19=\"X\",AC48=\"X\"),1,0)","v":0},"X",{"$f":"IF(AND('Step 2 - Ornamental'!$AA$20=\"X\",AE48=\"X\"),1,0)","v":0},null,{"$f":"IF(AND('Step 2 - Ornamental'!$AA$20=\"X\",AG48=\"X\"),1,0)","v":0},"X",{"$f":"IF(AND('Step 2 - Ornamental'!$AB$20=\"X\",AI48=\"X\"),1,0)","v":0},"X",{"$f":"IF(AND('Step 2 - Ornamental'!$AC$20=\"X\",AK48=\"X\"),1,0)","v":0},null,{"$f":"IF(AND('Step 2 - Ornamental'!$AA$18=\"X\",AM48=\"X\"),1,0)","v":0},"X",{"$f":"IF(AND('Step 2 - Ornamental'!$AB$18=\"X\",AO48=\"X\"),1,0)","v":0},"X",{"$f":"IF(AND('Step 2 - Ornamental'!$AC$18=\"X\",AQ48=\"X\"),1,0)","v":0},"X",{"$f":"IF(AND('Step 2 - Ornamental'!$AD$18=\"X\",AS48=\"X\"),1,0)","v":0},null,{"$f":"IF(AND('Step 2 - Ornamental'!$AE$18=\"X\",AU48=\"X\"),1,0)","v":0},null,{"$f":"IF(AND('Step 2 - Ornamental'!$AA$17=\"X\",AW48=\"X\"),1,0)","v":0},"X",{"$f":"IF(AND('Step 2 - Ornamental'!$AB$17=\"X\",AY48=\"X\"),1,0)","v":0},"X",{"$f":"IF(AND('Step 2 - Ornamental'!$AC$17=\"X\",BA48=\"X\"),1,0)","v":0}," ",{"$f":"IF(AND('Step 2 - Ornamental'!$AA$22=\"X\",BC48=\"X\"),1,0)","v":0},null,{"$f":"IF(AND('Step 2 - Ornamental'!$AB$22=\"X\",BE48=\"X\"),1,0)","v":0},null,{"$f":"IF(AND('Step 2 - Ornamental'!$AC$22=\"X\",BG48=\"X\"),1,0)","v":0},null,{"$f":"IF(AND('Step 2 - Ornamental'!$AD$22=\"X\",BI48=\"X\"),1,0)","v":0},"X",null,null,null,"White / 50'-80'"]
[null,1,"QU AL","Quercus alba","White Oak","NA","Spring dig only, beautiful oak - state tree of Illinois, Can be difficult to transplant larger plant"," ","X","X",null,null,null,0,null,{"$f":"IF(AND('Step 2 - Ornamental'!$AA$21=\"X\",Q49=\"X\"),1,0)","v":0},"X",{"$f":"IF(AND('Step 2 - Ornamental'!$AB$21=\"X\",S49=\"X\"),1,0)","v":0},"X",{"$f":"IF(AND('Step 2 - Ornamental'!$AC$21=\"X\",U49=\"X\"),1,0)","v":0},null,{"$f":"IF(AND('Step 2 - Ornamental'!$AA$19=\"X\",W49=\"X\"),1,0)","v":0},null,{"$f":"IF(AND('Step 2 - Ornamental'!$AA$19=\"X\",Y49=\"X\"),1,0)","v":0},"X",{"$f":"IF(AND('Step 2 - Ornamental'!$AB$19=\"X\",AA49=\"X\"),1,0)","v":0},"X",{"$f":"IF(AND('Step 2 - Ornamental'!$AC$19=\"X\",AC49=\"X\"),1,0)","v":0},"X",{"$f":"IF(AND('Step 2 - Ornamental'!$AA$20=\"X\",AE49=\"X\"),1,0)","v":0},null,{"$f":"IF(AND('Step 2 - Ornamental'!$AA$20=\"X\",AG49=\"X\"),1,0)","v":0},"X",{"$f":"IF(AND('Step 2 - Ornamental'!$AB$20=\"X\",AI49=\"X\"),1,0)","v":0},"X",{"$f":"IF(AND('Step 2 - Ornamental'!$AC$20=\"X\",AK49=\"X\"),1,0)","v":0},null,{"$f":"IF(AND('Step 2 - Ornamental'!$AA$18=\"X\",AM49=\"X\"),1,0)","v":0},null,{"$f":"IF(AND('Step 2 - Ornamental'!$AB$18=\"X\",AO49=\"X\"),1,0)","v":0},"X",{"$f":"IF(AND('Step 2 - Ornamental'!$AC$18=\"X\",AQ49=\"X\"),1,0)","v":0},null,{"$f":"IF(AND('Step 2 - Ornamental'!$AD$18=\"X\",AS49=\"X\"),1,0)","v":0},null,{"$f":"IF(AND('Step 2 - Ornamental'!$AE$18=\"X\",AU49=\"X\"),1,0)","v":0},null,{"$f":"IF(AND('Step 2 - Ornamental'!$AA$17=\"X\",AW49=\"X\"),1,0)","v":0},"X",{"$f":"IF(AND('Step 2 - Ornamental'!$AB$17=\"X\",AY49=\"X\"),1,0)","v":0},null,{"$f":"IF(AND('Step 2 - Ornamental'!$AC$17=\"X\",BA49=\"X\"),1,0)","v":0},null,{"$f":"IF(AND('Step 2 - Ornamental'!$AA$22=\"X\",BC49=\"X\"),1,0)","v":0},null,{"$f":"IF(AND('Step 2 - Ornamental'!$AB$22=\"X\",BE49=\"X\"),1,0)","v":0},null,{"$f":"IF(AND('Step 2 - Ornamental'!$AC$22=\"X\",BG49=\"X\"),1,0)","v":0},null,{"$f":"IF(AND('Step 2 - Ornamental'!$AD$22=\"X\",BI49=\"X\"),1,0)","v":0},"X","Flowers are Not Showy"]
[null,1,"QU BI","Quercus bicolor","Swamp White Oak","NA","Spring dig only, tolerates wet soils, can be difficult to transplant",null,"X","X",null,null,null,0,null,{"$f":"IF(AND('Step 2 - Ornamental'!$AA$21=\"X\",Q50=\"X\"),1,0)","v":0},"X",{"$f":"IF(AND('Step 2 - Ornamental'!$AB$21=\"X\",S50=\"X\"),1,0)","v":0},"X",{"$f":"IF(AND('Step 2 - Ornamental'!$AC$21=\"X\",U50=\"X\"),1,0)","v":0},null,{"$f":"IF(AND('Step 2 - Ornamental'!$AA$19=\"X\",W50=\"X\"),1,0)","v":0},null,{"$f":"IF(AND('Step 2 - Ornamental'!$AA$19=\"X\",Y50=\"X\"),1,0)","v":0},"X",{"$f":"IF(AND('Step 2 - Ornamental'!$AB$19=\"X\",AA50=\"X\"),1,0)","v":0},"X",{"$f":"IF(AND('Step 2 - Ornamental'!$AC$19=\"X\",AC50=\"X\"),1,0)","v":0},"X",{"$f":"IF(AND('Step 2 - Ornamental'!$AA$20=\"X\",AE50=\"X\"),1,0)","v":0},null,{"$f":"IF(AND('Step 2 - Ornamental'!$AA$20=\"X\",AG50=\"X\"),1,0)","v":0},"X",{"$f":"IF(AND('Step 2 - Ornamental'!$AB$20=\"X\",AI50=\"X\"),1,0)","v":0},"X",{"$f":"IF(AND('Step 2 - Ornamental'!$AC$20=\"X\",AK50=\"X\"),1,0)","v":0},"X",{"$f":"IF(AND('Step 2 - Ornamental'!$AA$18=\"X\",AM50=\"X\"),1,0)","v":0},null,{"$f":"IF(AND('Step 2 - Ornamental'!$AB$18=\"X\",AO50=\"X\"),1,0)","v":0},"X",{"$f":"IF(AND('Step 2 - Ornamental'!$AC$18=\"X\",AQ50=\"X\"),1,0)","v":0},"X",{"$f":"IF(AND('Step 2 - Ornamental'!$AD$18=\"X\",AS50=\"X\"),1,0)","v":0},null,{"$f":"IF(AND('Step 2 - Ornamental'!$AE$18=\"X\",AU50=\"X\"),1,0)","v":0},null,{"$f":"IF(AND('Step 2 - Ornamental'!$AA$17=\"X\",AW50=\"X\"),1,0)","v":0},"X",{"$f":"IF(AND('Step 2 - Ornamental'!$AB$17=\"X\",AY50=\"X\"),1,0)","v":0},null,{"$f":"IF(AND('Step 2 - Ornamental'!$AC$17=\"X\",BA50=\"X\"),1,0)","v":0},null,{"$f":"IF(AND('Step 2 - Ornamental'!$AA$22=\"X\",BC50=\"X\"),1,0)","v":0},null,{"$f":"IF(AND('Step 2 - Ornamental'!$AB$22=\"X\",BE50=\"X\"),1,0)","v":0},null,{"$f":"IF(AND('Step 2 - Ornamental'!$AC$22=\"X\",BG50=\"X\"),1,0)","v":0},null,{"$f":"IF(AND('Step 2 - Ornamental'!$AD$22=\"X\",BI50=\"X\"),1,0)","v":0},"X","Flowers are Not Showy"]
[null,1,"QU CO","Quercus coccinea","Scarlet Oak","NA","Spring dig only, tolerates dry soils, prefers acidic soils, beautiful scarlet leaf color in fall"," ","X","X",null,null,null,0,null,{"$f":"IF(AND('Step 2 - Ornamental'!$AA$21=\"X\",Q51=\"X\"),1,0)","v":0},"X",{"$f":"IF(AND('Step 2 - Ornamental'!$AB$21=\"X\",S51=\"X\"),1,0)","v":0},"X",{"$f":"IF(AND('Step 2 - Ornamental'!$AC$21=\"X\",U51=\"X\"),1,0)","v":0},null,{"$f":"IF(AND('Step 2 - Ornamental'!$AA$19=\"X\",W51=\"X\"),1,0)","v":0},null,{"$f":"IF(AND('Step 2 - Ornamental'!$AA$19=\"X\",Y51=\"X\"),1,0)","v":0},"X",{"$f":"IF(AND('Step 2 - Ornamental'!$AB$19=\"X\",AA51=\"X\"),1,0)","v":0},"X",{"$f":"IF(AND('Step 2 - Ornamental'!$AC$19=\"X\",AC51=\"X\"),1,0)","v":0},"X",{"$f":"IF(AND('Step 2 - Ornamental'!$AA$20=\"X\",AE51=\"X\"),1,0)","v":0},"X",{"$f":"IF(AND('Step 2 - Ornamental'!$AA$20=\"X\",AG51=\"X\"),1,0)","v":0},null,{"$f":"IF(AND('Step 2 - Ornamental'!$AB$20=\"X\",AI51=\"X\"),1,0)","v":0},null,{"$f":"IF(AND('Step 2 - Ornamental'!$AC$20=\"X\",AK51=\"X\"),1,0)","v":0},null,{"$f":"IF(AND('Step 2 - Ornamental'!$AA$18=\"X\",AM51=\"X\"),1,0)","v":0},"X",{"$f":"IF(AND('Step 2 - Ornamental'!$AB$18=\"X\",AO51=\"X\"),1,0)","v":0},"X",{"$f":"IF(AND('Step 2 - Ornamental'!$AC$18=\"X\",AQ51=\"X\"),1,0)","v":0},null,{"$f":"IF(AND('Step 2 - Ornamental'!$AD$18=\"X\",AS51=\"X\"),1,0)","v":0},null,{"$f":"IF(AND('Step 2 - Ornamental'!$AE$18=\"X\",AU51=\"X\"),1,0)","v":0},null,{"$f":"IF(AND('Step 2 - Ornamental'!$AA$17=\"X\",AW51=\"X\"),1,0)","v":0},"X",{"$f":"IF(AND('Step 2 - Ornamental'!$AB$17=\"X\",AY51=\"X\"),1,0)","v":0},null,{"$f":"IF(AND('Step 2 - Ornamental'!$AC$17=\"X\",BA51=\"X\"),1,0)","v":0},null,{"$f":"IF(AND('Step 2 - Ornamental'!$AA$22=\"X\",BC51=\"X\"),1,0)","v":0},null,{"$f":"IF(AND('Step 2 - Ornamental'!$AB$22=\"X\",BE51=\"X\"),1,0)","v":0},null,{"$f":"IF(AND('Step 2 - Ornamental'!$AC$22=\"X\",BG51=\"X\"),1,0)","v":0},null,{"$f":"IF(AND('Step 2 - Ornamental'!$AD$22=\"X\",BI51=\"X\"),1,0)","v":0},"X","Flowers are Not Showy"]
[null,1,"QU EL","Quercus ellipsoidalis","Northern Pin Oak","NA","Spring dig only, tolerates dry soils, prefers acidic soils, similar in appearance to pin oak"," ","X","X",null,null,null,0,null,{"$f":"IF(AND('Step 2 - Ornamental'!$AA$21=\"X\",Q52=\"X\"),1,0)","v":0},"X",{"$f":"IF(AND('Step 2 - Ornamental'!$AB$21=\"X\",S52=\"X\"),1,0)","v":0},"X",{"$f":"IF(AND('Step 2 - Ornamental'!$AC$21=\"X\",U52=\"X\"),1,0)","v":0},null,{"$f":"IF(AND('Step 2 - Ornamental'!$AA$19=\"X\",W52=\"X\"),1,0)","v":0},"X",{"$f":"IF(AND('Step 2 - Ornamental'!$AA$19=\"X\",Y52=\"X\"),1,0)","v":0},null,{"$f":"IF(AND('Step 2 - Ornamental'!$AB$19=\"X\",AA52=\"X\"),1,0)","v":0},null,{"$f":"IF(AND('Step 2 - Ornamental'!$AC$19=\"X\",AC52=\"X\"),1,0)","v":0},null,{"$f":"IF(AND('Step 2 - Ornamental'!$AA$20=\"X\",AE52=\"X\"),1,0)","v":0},"X",{"$f":"IF(AND('Step 2 - Ornamental'!$AA$20=\"X\",AG52=\"X\"),1,0)","v":0},null,{"$f":"IF(AND('Step 2 - Ornamental'!$AB$20=\"X\",AI52=\"X\"),1,0)","v":0},null,{"$f":"IF(AND('Step 2 - Ornamental'!$AC$20=\"X\",AK52=\"X\"),1,0)","v":0},null,{"$f":"IF(AND('Step 2 - Ornamental'!$AA$18=\"X\",AM52=\"X\"),1,0)","v":0},"X",{"$f":"IF(AND('Step 2 - Ornamental'!$AB$18=\"X\",AO52=\"X\"),1,0)","v":0},"X",{"$f":"IF(AND('Step 2 - Ornamental'!$AC$18=\"X\",AQ52=\"X\"),1,0)","v":0},null,{"$f":"IF(AND('Step 2 - Ornamental'!$AD$18=\"X\",AS52=\"X\"),1,0)","v":0},null,{"$f":"IF(AND('Step 2 - Ornamental'!$AE$18=\"X\",AU52=\"X\"),1,0)","v":0},null,{"$f":"IF(AND('Step 2 - Ornamental'!$AA$17=\"X\",AW52=\"X\"),1,0)","v":0},"X",{"$f":"IF(AND('Step 2 - Ornamental'!$AB$17=\"X\",AY52=\"X\"),1,0)","v":0},null,{"$f":"IF(AND('Step 2 - Ornamental'!$AC$17=\"X\",BA52=\"X\"),1,0)","v":0},null,{"$f":"IF(AND('Step 2 - Ornamental'!$AA$22=\"X\",BC52=\"X\"),1,0)","v":0},null,{"$f":"IF(AND('Step 2 - Ornamental'!$AB$22=\"X\",BE52=\"X\"),1,0)","v":0},null,{"$f":"IF(AND('Step 2 - Ornamental'!$AC$22=\"X\",BG52=\"X\"),1,0)","v":0},null,{"$f":"IF(AND('Step 2 - Ornamental'!$AD$22=\"X\",BI52=\"X\"),1,0)","v":0},"X","Flowers are Not Showy"]
[null,1,"QU IM","Quercus imbricaria","Shingle Oak","NA","Spring dig only,  transplants easier than most oaks, non-lobed leaves, "," ","X",null,null,null,null,0,null,{"$f":"IF(AND('Step 2 - Ornamental'!$AA$21=\"X\",Q53=\"X\"),1,0)","v":0},"X",{"$f":"IF(AND('Step 2 - Ornamental'!$AB$21=\"X\",S53=\"X\"),1,0)","v":0},"X",{"$f":"IF(AND('Step 2 - Ornamental'!$AC$21=\"X\",U53=\"X\"),1,0)","v":0},null,{"$f":"IF(AND('Step 2 - Ornamental'!$AA$19=\"X\",W53=\"X\"),1,0)","v":0},"X",{"$f":"IF(AND('Step 2 - Ornamental'!$AA$19=\"X\",Y53=\"X\"),1,0)","v":0},null,{"$f":"IF(AND('Step 2 - Ornamental'!$AB$19=\"X\",AA53=\"X\"),1,0)","v":0},null,{"$f":"IF(AND('Step 2 - Ornamental'!$AC$19=\"X\",AC53=\"X\"),1,0)","v":0},null,{"$f":"IF(AND('Step 2 - Ornamental'!$AA$20=\"X\",AE53=\"X\"),1,0)","v":0},"X",{"$f":"IF(AND('Step 2 - Ornamental'!$AA$20=\"X\",AG53=\"X\"),1,0)","v":0},null,{"$f":"IF(AND('Step 2 - Ornamental'!$AB$20=\"X\",AI53=\"X\"),1,0)","v":0},null,{"$f":"IF(AND('Step 2 - Ornamental'!$AC$20=\"X\",AK53=\"X\"),1,0)","v":0},null,{"$f":"IF(AND('Step 2 - Ornamental'!$AA$18=\"X\",AM53=\"X\"),1,0)","v":0},"X",{"$f":"IF(AND('Step 2 - Ornamental'!$AB$18=\"X\",AO53=\"X\"),1,0)","v":0},"X",{"$f":"IF(AND('Step 2 - Ornamental'!$AC$18=\"X\",AQ53=\"X\"),1,0)","v":0},null,{"$f":"IF(AND('Step 2 - Ornamental'!$AD$18=\"X\",AS53=\"X\"),1,0)","v":0},null,{"$f":"IF(AND('Step 2 - Ornamental'!$AE$18=\"X\",AU53=\"X\"),1,0)","v":0},null,{"$f":"IF(AND('Step 2 - Ornamental'!$AA$17=\"X\",AW53=\"X\"),1,0)","v":0},"X",{"$f":"IF(AND('Step 2 - Ornamental'!$AB$17=\"X\",AY53=\"X\"),1,0)","v":0},null,{"$f":"IF(AND('Step 2 - Ornamental'!$AC$17=\"X\",BA53=\"X\"),1,0)","v":0},null,{"$f":"IF(AND('Step 2 - Ornamental'!$AA$22=\"X\",BC53=\"X\"),1,0)","v":0},null,{"$f":"IF(AND('Step 2 - Ornamental'!$AB$22=\"X\",BE53=\"X\"),1,0)","v":0},null,{"$f":"IF(AND('Step 2 - Ornamental'!$AC$22=\"X\",BG53=\"X\"),1,0)","v":0},null,{"$f":"IF(AND('Step 2 - Ornamental'!$AD$22=\"X\",BI53=\"X\"),1,0)","v":0},"X","Flowers are Not Showy"]
[null,1,"QU MA","Quercus macrocarpa","Bur Oak","NA","Spring dig only, Can be difficult to transplant larger plant, very large/wide tree, tolerates broad range of soil types, fire resistant"," ","X","X",null,null,null,0,null,{"$f":"IF(AND('Step 2 - Ornamental'!$AA$21=\"X\",Q54=\"X\"),1,0)","v":0},null,{"$f":"IF(AND('Step 2 - Ornamental'!$AB$21=\"X\",S54=\"X\"),1,0)","v":0},"X",{"$f":"IF(AND('Step 2 - Ornamental'!$AC$21=\"X\",U54=\"X\"),1,0)","v":0},"X",{"$f":"IF(AND('Step 2 - Ornamental'!$AA$19=\"X\",W54=\"X\"),1,0)","v":0},null,{"$f":"IF(AND('Step 2 - Ornamental'!$AA$19=\"X\",Y54=\"X\"),1,0)","v":0},"X",{"$f":"IF(AND('Step 2 - Ornamental'!$AB$19=\"X\",AA54=\"X\"),1,0)","v":0},"X",{"$f":"IF(AND('Step 2 - Ornamental'!$AC$19=\"X\",AC54=\"X\"),1,0)","v":0},null,{"$f":"IF(AND('Step 2 - Ornamental'!$AA$20=\"X\",AE54=\"X\"),1,0)","v":0},null,{"$f":"IF(AND('Step 2 - Ornamental'!$AA$20=\"X\",AG54=\"X\"),1,0)","v":0},"X",{"$f":"IF(AND('Step 2 - Ornamental'!$AB$20=\"X\",AI54=\"X\"),1,0)","v":0},"X",{"$f":"IF(AND('Step 2 - Ornamental'!$AC$20=\"X\",AK54=\"X\"),1,0)","v":0},"X",{"$f":"IF(AND('Step 2 - Ornamental'!$AA$18=\"X\",AM54=\"X\"),1,0)","v":0},"X",{"$f":"IF(AND('Step 2 - Ornamental'!$AB$18=\"X\",AO54=\"X\"),1,0)","v":0},"X",{"$f":"IF(AND('Step 2 - Ornamental'!$AC$18=\"X\",AQ54=\"X\"),1,0)","v":0},"X",{"$f":"IF(AND('Step 2 - Ornamental'!$AD$18=\"X\",AS54=\"X\"),1,0)","v":0},null,{"$f":"IF(AND('Step 2 - Ornamental'!$AE$18=\"X\",AU54=\"X\"),1,0)","v":0},null,{"$f":"IF(AND('Step 2 - Ornamental'!$AA$17=\"X\",AW54=\"X\"),1,0)","v":0},"X",{"$f":"IF(AND('Step 2 - Ornamental'!$AB$17=\"X\",AY54=\"X\"),1,0)","v":0},null,{"$f":"IF(AND('Step 2 - Ornamental'!$AC$17=\"X\",BA54=\"X\"),1,0)","v":0},null,{"$f":"IF(AND('Step 2 - Ornamental'!$AA$22=\"X\",BC54=\"X\"),1,0)","v":0},null,{"$f":"IF(AND('Step 2 - Ornamental'!$AB$22=\"X\",BE54=\"X\"),1,0)","v":0},null,{"$f":"IF(AND('Step 2 - Ornamental'!$AC$22=\"X\",BG54=\"X\"),1,0)","v":0},null,{"$f":"IF(AND('Step 2 - Ornamental'!$AD$22=\"X\",BI54=\"X\"),1,0)","v":0},"X","Flowers are Not Showy"]
[null,1,"QU MU","Quercus muehlenbergii","Chinkapin Oak","NA","Spring dig only, Can be difficult to transplant larger plant, interesting chestnut-like leaves"," ","X","X",null,null,null,0,null,{"$f":"IF(AND('Step 2 - Ornamental'!$AA$21=\"X\",Q55=\"X\"),1,0)","v":0},null,{"$f":"IF(AND('Step 2 - Ornamental'!$AB$21=\"X\",S55=\"X\"),1,0)","v":0},"X",{"$f":"IF(AND('Step 2 - Ornamental'!$AC$21=\"X\",U55=\"X\"),1,0)","v":0},"X",{"$f":"IF(AND('Step 2 - Ornamental'!$AA$19=\"X\",W55=\"X\"),1,0)","v":0},null,{"$f":"IF(AND('Step 2 - Ornamental'!$AA$19=\"X\",Y55=\"X\"),1,0)","v":0},"X",{"$f":"IF(AND('Step 2 - Ornamental'!$AB$19=\"X\",AA55=\"X\"),1,0)","v":0},null,{"$f":"IF(AND('Step 2 - Ornamental'!$AC$19=\"X\",AC55=\"X\"),1,0)","v":0},null,{"$f":"IF(AND('Step 2 - Ornamental'!$AA$20=\"X\",AE55=\"X\"),1,0)","v":0},"X",{"$f":"IF(AND('Step 2 - Ornamental'!$AA$20=\"X\",AG55=\"X\"),1,0)","v":0},null,{"$f":"IF(AND('Step 2 - Ornamental'!$AB$20=\"X\",AI55=\"X\"),1,0)","v":0},null,{"$f":"IF(AND('Step 2 - Ornamental'!$AC$20=\"X\",AK55=\"X\"),1,0)","v":0},null,{"$f":"IF(AND('Step 2 - Ornamental'!$AA$18=\"X\",AM55=\"X\"),1,0)","v":0},null,{"$f":"IF(AND('Step 2 - Ornamental'!$AB$18=\"X\",AO55=\"X\"),1,0)","v":0},"X",{"$f":"IF(AND('Step 2 - Ornamental'!$AC$18=\"X\",AQ55=\"X\"),1,0)","v":0},"X",{"$f":"IF(AND('Step 2 - Ornamental'!$AD$18=\"X\",AS55=\"X\"),1,0)","v":0},null,{"$f":"IF(AND('Step 2 - Ornamental'!$AE$18=\"X\",AU55=\"X\"),1,0)","v":0},null,{"$f":"IF(AND('Step 2 - Ornamental'!$AA$17=\"X\",AW55=\"X\"),1,0)","v":0},"X",{"$f":"IF(AND('Step 2 - Ornamental'!$AB$17=\"X\",AY55=\"X\"),1,0)","v":0},null,{"$f":"IF(AND('Step 2 - Ornamental'!$AC$17=\"X\",BA55=\"X\"),1,0)","v":0},null,{"$f":"IF(AND('Step 2 - Ornamental'!$AA$22=\"X\",BC55=\"X\"),1,0)","v":0},null,{"$f":"IF(AND('Step 2 - Ornamental'!$AB$22=\"X\",BE55=\"X\"),1,0)","v":0},null,{"$f":"IF(AND('Step 2 - Ornamental'!$AC$22=\"X\",BG55=\"X\"),1,0)","v":0},null,{"$f":"IF(AND('Step 2 - Ornamental'!$AD$22=\"X\",BI55=\"X\"),1,0)","v":0},"X","Flowers are Not Showy"]
[null,1,"QU RF","Quercus robur 'Fastigiata'","Columnar English Oak","NA","Spring dig only, Columnar form 20'Wx55' tall","X",null,null,null,null,null,0,null,{"$f":"IF(AND('Step 2 - Ornamental'!$AA$21=\"X\",Q56=\"X\"),1,0)","v":0},"X",{"$f":"IF(AND('Step 2 - Ornamental'!$AB$21=\"X\",S56=\"X\"),1,0)","v":0},"X",{"$f":"IF(AND('Step 2 - Ornamental'!$AC$21=\"X\",U56=\"X\"),1,0)","v":0},"X",{"$f":"IF(AND('Step 2 - Ornamental'!$AA$19=\"X\",W56=\"X\"),1,0)","v":0},null,{"$f":"IF(AND('Step 2 - Ornamental'!$AA$19=\"X\",Y56=\"X\"),1,0)","v":0},"X",{"$f":"IF(AND('Step 2 - Ornamental'!$AB$19=\"X\",AA56=\"X\"),1,0)","v":0},"X",{"$f":"IF(AND('Step 2 - Ornamental'!$AC$19=\"X\",AC56=\"X\"),1,0)","v":0},null,{"$f":"IF(AND('Step 2 - Ornamental'!$AA$20=\"X\",AE56=\"X\"),1,0)","v":0},"X",{"$f":"IF(AND('Step 2 - Ornamental'!$AA$20=\"X\",AG56=\"X\"),1,0)","v":0},null,{"$f":"IF(AND('Step 2 - Ornamental'!$AB$20=\"X\",AI56=\"X\"),1,0)","v":0},null,{"$f":"IF(AND('Step 2 - Ornamental'!$AC$20=\"X\",AK56=\"X\"),1,0)","v":0},null,{"$f":"IF(AND('Step 2 - Ornamental'!$AA$18=\"X\",AM56=\"X\"),1,0)","v":0},"X",{"$f":"IF(AND('Step 2 - Ornamental'!$AB$18=\"X\",AO56=\"X\"),1,0)","v":0},"X",{"$f":"IF(AND('Step 2 - Ornamental'!$AC$18=\"X\",AQ56=\"X\"),1,0)","v":0},null,{"$f":"IF(AND('Step 2 - Ornamental'!$AD$18=\"X\",AS56=\"X\"),1,0)","v":0},null,{"$f":"IF(AND('Step 2 - Ornamental'!$AE$18=\"X\",AU56=\"X\"),1,0)","v":0},null,{"$f":"IF(AND('Step 2 - Ornamental'!$AA$17=\"X\",AW56=\"X\"),1,0)","v":0},"X",{"$f":"IF(AND('Step 2 - Ornamental'!$AB$17=\"X\",AY56=\"X\"),1,0)","v":0},null,{"$f":"IF(AND('Step 2 - Ornamental'!$AC$17=\"X\",BA56=\"X\"),1,0)","v":0},null,{"$f":"IF(AND('Step 2 - Ornamental'!$AA$22=\"X\",BC56=\"X\"),1,0)","v":0},null,{"$f":"IF(AND('Step 2 - Ornamental'!$AB$22=\"X\",BE56=\"X\"),1,0)","v":0},null,{"$f":"IF(AND('Step 2 - Ornamental'!$AC$22=\"X\",BG56=\"X\"),1,0)","v":0},null,{"$f":"IF(AND('Step 2 - Ornamental'!$AD$22=\"X\",BI56=\"X\"),1,0)","v":0},"X","Flowers are Not Showy"]
[null,1,"QU RR","Quercus x warei 'Long' REGAL PRINCE","Regal Prince Hybrid English Oak","NA","Spring dig only, cross with bicolor, Columnar form 25'Wx50' tall, some variability in form","X",null,null,null,null,null,0,null,{"$f":"IF(AND('Step 2 - Ornamental'!$AA$21=\"X\",Q57=\"X\"),1,0)","v":0},"X",{"$f":"IF(AND('Step 2 - Ornamental'!$AB$21=\"X\",S57=\"X\"),1,0)","v":0},"X",{"$f":"IF(AND('Step 2 - Ornamental'!$AC$21=\"X\",U57=\"X\"),1,0)","v":0},"X",{"$f":"IF(AND('Step 2 - Ornamental'!$AA$19=\"X\",W57=\"X\"),1,0)","v":0},null,{"$f":"IF(AND('Step 2 - Ornamental'!$AA$19=\"X\",Y57=\"X\"),1,0)","v":0},"X",{"$f":"IF(AND('Step 2 - Ornamental'!$AB$19=\"X\",AA57=\"X\"),1,0)","v":0},"X",{"$f":"IF(AND('Step 2 - Ornamental'!$AC$19=\"X\",AC57=\"X\"),1,0)","v":0},null,{"$f":"IF(AND('Step 2 - Ornamental'!$AA$20=\"X\",AE57=\"X\"),1,0)","v":0},"X",{"$f":"IF(AND('Step 2 - Ornamental'!$AA$20=\"X\",AG57=\"X\"),1,0)","v":0},null,{"$f":"IF(AND('Step 2 - Ornamental'!$AB$20=\"X\",AI57=\"X\"),1,0)","v":0},null,{"$f":"IF(AND('Step 2 - Ornamental'!$AC$20=\"X\",AK57=\"X\"),1,0)","v":0},null,{"$f":"IF(AND('Step 2 - Ornamental'!$AA$18=\"X\",AM57=\"X\"),1,0)","v":0},"X",{"$f":"IF(AND('Step 2 - Ornamental'!$AB$18=\"X\",AO57=\"X\"),1,0)","v":0},"X",{"$f":"IF(AND('Step 2 - Ornamental'!$AC$18=\"X\",AQ57=\"X\"),1,0)","v":0},null,{"$f":"IF(AND('Step 2 - Ornamental'!$AD$18=\"X\",AS57=\"X\"),1,0)","v":0},null,{"$f":"IF(AND('Step 2 - Ornamental'!$AE$18=\"X\",AU57=\"X\"),1,0)","v":0},null,{"$f":"IF(AND('Step 2 - Ornamental'!$AA$17=\"X\",AW57=\"X\"),1,0)","v":0},"X",{"$f":"IF(AND('Step 2 - Ornamental'!$AB$17=\"X\",AY57=\"X\"),1,0)","v":0},null,{"$f":"IF(AND('Step 2 - Ornamental'!$AC$17=\"X\",BA57=\"X\"),1,0)","v":0},null,{"$f":"IF(AND('Step 2 - Ornamental'!$AA$22=\"X\",BC57=\"X\"),1,0)","v":0},null,{"$f":"IF(AND('Step 2 - Ornamental'!$AB$22=\"X\",BE57=\"X\"),1,0)","v":0},null,{"$f":"IF(AND('Step 2 - Ornamental'!$AC$22=\"X\",BG57=\"X\"),1,0)","v":0},null,{"$f":"IF(AND('Step 2 - Ornamental'!$AD$22=\"X\",BI57=\"X\"),1,0)","v":0},"X","Flowers are Not Showy"]
[null,1,"QU RU","Quercus rubra","Red Oak","NA","Spring dig only, transplants easier than most oaks",null,"X","X",null,null,null,0,null,{"$f":"IF(AND('Step 2 - Ornamental'!$AA$21=\"X\",Q58=\"X\"),1,0)","v":0},"X",{"$f":"IF(AND('Step 2 - Ornamental'!$AB$21=\"X\",S58=\"X\"),1,0)","v":0},"X",{"$f":"IF(AND('Step 2 - Ornamental'!$AC$21=\"X\",U58=\"X\"),1,0)","v":0},null,{"$f":"IF(AND('Step 2 - Ornamental'!$AA$19=\"X\",W58=\"X\"),1,0)","v":0},null,{"$f":"IF(AND('Step 2 - Ornamental'!$AA$19=\"X\",Y58=\"X\"),1,0)","v":0},"X",{"$f":"IF(AND('Step 2 - Ornamental'!$AB$19=\"X\",AA58=\"X\"),1,0)","v":0},"X",{"$f":"IF(AND('Step 2 - Ornamental'!$AC$19=\"X\",AC58=\"X\"),1,0)","v":0},"X",{"$f":"IF(AND('Step 2 - Ornamental'!$AA$20=\"X\",AE58=\"X\"),1,0)","v":0},null,{"$f":"IF(AND('Step 2 - Ornamental'!$AA$20=\"X\",AG58=\"X\"),1,0)","v":0},"X",{"$f":"IF(AND('Step 2 - Ornamental'!$AB$20=\"X\",AI58=\"X\"),1,0)","v":0},"X",{"$f":"IF(AND('Step 2 - Ornamental'!$AC$20=\"X\",AK58=\"X\"),1,0)","v":0},null,{"$f":"IF(AND('Step 2 - Ornamental'!$AA$18=\"X\",AM58=\"X\"),1,0)","v":0},"X",{"$f":"IF(AND('Step 2 - Ornamental'!$AB$18=\"X\",AO58=\"X\"),1,0)","v":0},"X",{"$f":"IF(AND('Step 2 - Ornamental'!$AC$18=\"X\",AQ58=\"X\"),1,0)","v":0},null,{"$f":"IF(AND('Step 2 - Ornamental'!$AD$18=\"X\",AS58=\"X\"),1,0)","v":0},null,{"$f":"IF(AND('Step 2 - Ornamental'!$AE$18=\"X\",AU58=\"X\"),1,0)","v":0},null,{"$f":"IF(AND('Step 2 - Ornamental'!$AA$17=\"X\",AW58=\"X\"),1,0)","v":0},"X",{"$f":"IF(AND('Step 2 - Ornamental'!$AB$17=\"X\",AY58=\"X\"),1,0)","v":0},null,{"$f":"IF(AND('Step 2 - Ornamental'!$AC$17=\"X\",BA58=\"X\"),1,0)","v":0},null,{"$f":"IF(AND('Step 2 - Ornamental'!$AA$22=\"X\",BC58=\"X\"),1,0)","v":0},null,{"$f":"IF(AND('Step 2 - Ornamental'!$AB$22=\"X\",BE58=\"X\"),1,0)","v":0},null,{"$f":"IF(AND('Step 2 - Ornamental'!$AC$22=\"X\",BG58=\"X\"),1,0)","v":0},null,{"$f":"IF(AND('Step 2 - Ornamental'!$AD$22=\"X\",BI58=\"X\"),1,0)","v":0},"X","Flowers are Not Showy"]
[null,1,"TI AM","Tilia americana 'Redmond'","American Basswood","NA","Pyramidal variety, ",null,"X","X",null,null,null,0,null,{"$f":"IF(AND('Step 2 - Ornamental'!$AA$21=\"X\",Q59=\"X\"),1,0)","v":0},"X",{"$f":"IF(AND('Step 2 - Ornamental'!$AB$21=\"X\",S59=\"X\"),1,0)","v":0},"X",{"$f":"IF(AND('Step 2 - Ornamental'!$AC$21=\"X\",U59=\"X\"),1,0)","v":0},"X",{"$f":"IF(AND('Step 2 - Ornamental'!$AA$19=\"X\",W59=\"X\"),1,0)","v":0},null,{"$f":"IF(AND('Step 2 - Ornamental'!$AA$19=\"X\",Y59=\"X\"),1,0)","v":0},"X",{"$f":"IF(AND('Step 2 - Ornamental'!$AB$19=\"X\",AA59=\"X\"),1,0)","v":0},null,{"$f":"IF(AND('Step 2 - Ornamental'!$AC$19=\"X\",AC59=\"X\"),1,0)","v":0},null,{"$f":"IF(AND('Step 2 - Ornamental'!$AA$20=\"X\",AE59=\"X\"),1,0)","v":0},null,{"$f":"IF(AND('Step 2 - Ornamental'!$AA$20=\"X\",AG59=\"X\"),1,0)","v":0},"X",{"$f":"IF(AND('Step 2 - Ornamental'!$AB$20=\"X\",AI59=\"X\"),1,0)","v":0},"X",{"$f":"IF(AND('Step 2 - Ornamental'!$AC$20=\"X\",AK59=\"X\"),1,0)","v":0},null,{"$f":"IF(AND('Step 2 - Ornamental'!$AA$18=\"X\",AM59=\"X\"),1,0)","v":0},"X",{"$f":"IF(AND('Step 2 - Ornamental'!$AB$18=\"X\",AO59=\"X\"),1,0)","v":0},"X",{"$f":"IF(AND('Step 2 - Ornamental'!$AC$18=\"X\",AQ59=\"X\"),1,0)","v":0},"X",{"$f":"IF(AND('Step 2 - Ornamental'!$AD$18=\"X\",AS59=\"X\"),1,0)","v":0},null,{"$f":"IF(AND('Step 2 - Ornamental'!$AE$18=\"X\",AU59=\"X\"),1,0)","v":0},null,{"$f":"IF(AND('Step 2 - Ornamental'!$AA$17=\"X\",AW59=\"X\"),1,0)","v":0},"X",{"$f":"IF(AND('Step 2 - Ornamental'!$AB$17=\"X\",AY59=\"X\"),1,0)","v":0},"X",{"$f":"IF(AND('Step 2 - Ornamental'!$AC$17=\"X\",BA59=\"X\"),1,0)","v":0}," ",{"$f":"IF(AND('Step 2 - Ornamental'!$AA$22=\"X\",BC59=\"X\"),1,0)","v":0},null,{"$f":"IF(AND('Step 2 - Ornamental'!$AB$22=\"X\",BE59=\"X\"),1,0)","v":0},null,{"$f":"IF(AND('Step 2 - Ornamental'!$AC$22=\"X\",BG59=\"X\"),1,0)","v":0},null,{"$f":"IF(AND('Step 2 - Ornamental'!$AD$22=\"X\",BI59=\"X\"),1,0)","v":0},"X","Flowers are Not Showy"]
[null,1,"TI CO","Tilia cordata 'Glenleven'","Glenleven Littleleaf Linden","NA","More open than 'Greenspire', flowers attract bees","X",null,null,null,null,null,0,null,{"$f":"IF(AND('Step 2 - Ornamental'!$AA$21=\"X\",Q60=\"X\"),1,0)","v":0},"X",{"$f":"IF(AND('Step 2 - Ornamental'!$AB$21=\"X\",S60=\"X\"),1,0)","v":0},"X",{"$f":"IF(AND('Step 2 - Ornamental'!$AC$21=\"X\",U60=\"X\"),1,0)","v":0},"X",{"$f":"IF(AND('Step 2 - Ornamental'!$AA$19=\"X\",W60=\"X\"),1,0)","v":0},null,{"$f":"IF(AND('Step 2 - Ornamental'!$AA$19=\"X\",Y60=\"X\"),1,0)","v":0},"X",{"$f":"IF(AND('Step 2 - Ornamental'!$AB$19=\"X\",AA60=\"X\"),1,0)","v":0},null,{"$f":"IF(AND('Step 2 - Ornamental'!$AC$19=\"X\",AC60=\"X\"),1,0)","v":0},null,{"$f":"IF(AND('Step 2 - Ornamental'!$AA$20=\"X\",AE60=\"X\"),1,0)","v":0},"X",{"$f":"IF(AND('Step 2 - Ornamental'!$AA$20=\"X\",AG60=\"X\"),1,0)","v":0},null,{"$f":"IF(AND('Step 2 - Ornamental'!$AB$20=\"X\",AI60=\"X\"),1,0)","v":0},null,{"$f":"IF(AND('Step 2 - Ornamental'!$AC$20=\"X\",AK60=\"X\"),1,0)","v":0},null,{"$f":"IF(AND('Step 2 - Ornamental'!$AA$18=\"X\",AM60=\"X\"),1,0)","v":0}," ",{"$f":"IF(AND('Step 2 - Ornamental'!$AB$18=\"X\",AO60=\"X\"),1,0)","v":0},"X",{"$f":"IF(AND('Step 2 - Ornamental'!$AC$18=\"X\",AQ60=\"X\"),1,0)","v":0},"X",{"$f":"IF(AND('Step 2 - Ornamental'!$AD$18=\"X\",AS60=\"X\"),1,0)","v":0},null,{"$f":"IF(AND('Step 2 - Ornamental'!$AE$18=\"X\",AU60=\"X\"),1,0)","v":0},null,{"$f":"IF(AND('Step 2 - Ornamental'!$AA$17=\"X\",AW60=\"X\"),1,0)","v":0},"X",{"$f":"IF(AND('Step 2 - Ornamental'!$AB$17=\"X\",AY60=\"X\"),1,0)","v":0}," ",{"$f":"IF(AND('Step 2 - Ornamental'!$AC$17=\"X\",BA60=\"X\"),1,0)","v":0}," ",{"$f":"IF(AND('Step 2 - Ornamental'!$AA$22=\"X\",BC60=\"X\"),1,0)","v":0},null,{"$f":"IF(AND('Step 2 - Ornamental'!$AB$22=\"X\",BE60=\"X\"),1,0)","v":0},null,{"$f":"IF(AND('Step 2 - Ornamental'!$AC$22=\"X\",BG60=\"X\"),1,0)","v":0},null,{"$f":"IF(AND('Step 2 - Ornamental'!$AD$22=\"X\",BI60=\"X\"),1,0)","v":0},"X","Flowers are Not Showy"]
[null,1,"TI TO","Tilia tomentosa 'Sterling Silver'","Sterling Silver Linden","NA","Prefers moist, fertile soils, known for attractive foliage","X",null,null,null,null,null,0,null,{"$f":"IF(AND('Step 2 - Ornamental'!$AA$21=\"X\",Q61=\"X\"),1,0)","v":0},"X",{"$f":"IF(AND('Step 2 - Ornamental'!$AB$21=\"X\",S61=\"X\"),1,0)","v":0},"X",{"$f":"IF(AND('Step 2 - Ornamental'!$AC$21=\"X\",U61=\"X\"),1,0)","v":0},"X",{"$f":"IF(AND('Step 2 - Ornamental'!$AA$19=\"X\",W61=\"X\"),1,0)","v":0},"X",{"$f":"IF(AND('Step 2 - Ornamental'!$AA$19=\"X\",Y61=\"X\"),1,0)","v":0},null,{"$f":"IF(AND('Step 2 - Ornamental'!$AB$19=\"X\",AA61=\"X\"),1,0)","v":0},null,{"$f":"IF(AND('Step 2 - Ornamental'!$AC$19=\"X\",AC61=\"X\"),1,0)","v":0},null,{"$f":"IF(AND('Step 2 - Ornamental'!$AA$20=\"X\",AE61=\"X\"),1,0)","v":0},"X",{"$f":"IF(AND('Step 2 - Ornamental'!$AA$20=\"X\",AG61=\"X\"),1,0)","v":0},null,{"$f":"IF(AND('Step 2 - Ornamental'!$AB$20=\"X\",AI61=\"X\"),1,0)","v":0},null,{"$f":"IF(AND('Step 2 - Ornamental'!$AC$20=\"X\",AK61=\"X\"),1,0)","v":0},null,{"$f":"IF(AND('Step 2 - Ornamental'!$AA$18=\"X\",AM61=\"X\"),1,0)","v":0}," ",{"$f":"IF(AND('Step 2 - Ornamental'!$AB$18=\"X\",AO61=\"X\"),1,0)","v":0},"X",{"$f":"IF(AND('Step 2 - Ornamental'!$AC$18=\"X\",AQ61=\"X\"),1,0)","v":0},"X",{"$f":"IF(AND('Step 2 - Ornamental'!$AD$18=\"X\",AS61=\"X\"),1,0)","v":0},null,{"$f":"IF(AND('Step 2 - Ornamental'!$AE$18=\"X\",AU61=\"X\"),1,0)","v":0},null,{"$f":"IF(AND('Step 2 - Ornamental'!$AA$17=\"X\",AW61=\"X\"),1,0)","v":0},"X",{"$f":"IF(AND('Step 2 - Ornamental'!$AB$17=\"X\",AY61=\"X\"),1,0)","v":0},null,{"$f":"IF(AND('Step 2 - Ornamental'!$AC$17=\"X\",BA61=\"X\"),1,0)","v":0},null,{"$f":"IF(AND('Step 2 - Ornamental'!$AA$22=\"X\",BC61=\"X\"),1,0)","v":0},null,{"$f":"IF(AND('Step 2 - Ornamental'!$AB$22=\"X\",BE61=\"X\"),1,0)","v":0},null,{"$f":"IF(AND('Step 2 - Ornamental'!$AC$22=\"X\",BG61=\"X\"),1,0)","v":0},null,{"$f":"IF(AND('Step 2 - Ornamental'!$AD$22=\"X\",BI61=\"X\"),1,0)","v":0},"X","Flowers are Not Showy"]
[" ",1,"ULAM","Ulmus americana x 'Princeton' & 'Valley Forge'","Hybrid American Elm","NA","Excellent resistance to dutch elm disease and elm leaf beatle, but susceptible to phloem necrosis"," ","X","X",null,null,null,0,null,{"$f":"IF(AND('Step 2 - Ornamental'!$AA$21=\"X\",Q62=\"X\"),1,0)","v":0},"X",{"$f":"IF(AND('Step 2 - Ornamental'!$AB$21=\"X\",S62=\"X\"),1,0)","v":0},"X",{"$f":"IF(AND('Step 2 - Ornamental'!$AC$21=\"X\",U62=\"X\"),1,0)","v":0},"X",{"$f":"IF(AND('Step 2 - Ornamental'!$AA$19=\"X\",W62=\"X\"),1,0)","v":0},null,{"$f":"IF(AND('Step 2 - Ornamental'!$AA$19=\"X\",Y62=\"X\"),1,0)","v":0},"X",{"$f":"IF(AND('Step 2 - Ornamental'!$AB$19=\"X\",AA62=\"X\"),1,0)","v":0},"X",{"$f":"IF(AND('Step 2 - Ornamental'!$AC$19=\"X\",AC62=\"X\"),1,0)","v":0},"X",{"$f":"IF(AND('Step 2 - Ornamental'!$AA$20=\"X\",AE62=\"X\"),1,0)","v":0},null,{"$f":"IF(AND('Step 2 - Ornamental'!$AA$20=\"X\",AG62=\"X\"),1,0)","v":0},"X",{"$f":"IF(AND('Step 2 - Ornamental'!$AB$20=\"X\",AI62=\"X\"),1,0)","v":0},"X",{"$f":"IF(AND('Step 2 - Ornamental'!$AC$20=\"X\",AK62=\"X\"),1,0)","v":0},"X",{"$f":"IF(AND('Step 2 - Ornamental'!$AA$18=\"X\",AM62=\"X\"),1,0)","v":0},null,{"$f":"IF(AND('Step 2 - Ornamental'!$AB$18=\"X\",AO62=\"X\"),1,0)","v":0},"X",{"$f":"IF(AND('Step 2 - Ornamental'!$AC$18=\"X\",AQ62=\"X\"),1,0)","v":0},"X",{"$f":"IF(AND('Step 2 - Ornamental'!$AD$18=\"X\",AS62=\"X\"),1,0)","v":0},null,{"$f":"IF(AND('Step 2 - Ornamental'!$AE$18=\"X\",AU62=\"X\"),1,0)","v":0},null,{"$f":"IF(AND('Step 2 - Ornamental'!$AA$17=\"X\",AW62=\"X\"),1,0)","v":0},"X",{"$f":"IF(AND('Step 2 - Ornamental'!$AB$17=\"X\",AY62=\"X\"),1,0)","v":0},"X",{"$f":"IF(AND('Step 2 - Ornamental'!$AC$17=\"X\",BA62=\"X\"),1,0)","v":0}," ",{"$f":"IF(AND('Step 2 - Ornamental'!$AA$22=\"X\",BC62=\"X\"),1,0)","v":0},null,{"$f":"IF(AND('Step 2 - Ornamental'!$AB$22=\"X\",BE62=\"X\"),1,0)","v":0},null,{"$f":"IF(AND('Step 2 - Ornamental'!$AC$22=\"X\",BG62=\"X\"),1,0)","v":0},null,{"$f":"IF(AND('Step 2 - Ornamental'!$AD$22=\"X\",BI62=\"X\"),1,0)","v":0},"X","Flowers are Not Showy"]
[" ",1,"UL PA","Ulmus parvifolia 'Emer II' ALLEE","Allee Lacebarck Elm","NA","Tolerant of urban conditions, excellent resistance to dutch elm and elm leaf beatle, vase shaped","X",null,null,null,null,null,0,null,{"$f":"IF(AND('Step 2 - Ornamental'!$AA$21=\"X\",Q63=\"X\"),1,0)","v":0},"X",{"$f":"IF(AND('Step 2 - Ornamental'!$AB$21=\"X\",S63=\"X\"),1,0)","v":0},"X",{"$f":"IF(AND('Step 2 - Ornamental'!$AC$21=\"X\",U63=\"X\"),1,0)","v":0},"X",{"$f":"IF(AND('Step 2 - Ornamental'!$AA$19=\"X\",W63=\"X\"),1,0)","v":0},"X",{"$f":"IF(AND('Step 2 - Ornamental'!$AA$19=\"X\",Y63=\"X\"),1,0)","v":0},null,{"$f":"IF(AND('Step 2 - Ornamental'!$AB$19=\"X\",AA63=\"X\"),1,0)","v":0},null,{"$f":"IF(AND('Step 2 - Ornamental'!$AC$19=\"X\",AC63=\"X\"),1,0)","v":0},null,{"$f":"IF(AND('Step 2 - Ornamental'!$AA$20=\"X\",AE63=\"X\"),1,0)","v":0},"X",{"$f":"IF(AND('Step 2 - Ornamental'!$AA$20=\"X\",AG63=\"X\"),1,0)","v":0},null,{"$f":"IF(AND('Step 2 - Ornamental'!$AB$20=\"X\",AI63=\"X\"),1,0)","v":0},null,{"$f":"IF(AND('Step 2 - Ornamental'!$AC$20=\"X\",AK63=\"X\"),1,0)","v":0},null,{"$f":"IF(AND('Step 2 - Ornamental'!$AA$18=\"X\",AM63=\"X\"),1,0)","v":0},null,{"$f":"IF(AND('Step 2 - Ornamental'!$AB$18=\"X\",AO63=\"X\"),1,0)","v":0},"X",{"$f":"IF(AND('Step 2 - Ornamental'!$AC$18=\"X\",AQ63=\"X\"),1,0)","v":0},"X",{"$f":"IF(AND('Step 2 - Ornamental'!$AD$18=\"X\",AS63=\"X\"),1,0)","v":0},null,{"$f":"IF(AND('Step 2 - Ornamental'!$AE$18=\"X\",AU63=\"X\"),1,0)","v":0},null,{"$f":"IF(AND('Step 2 - Ornamental'!$AA$17=\"X\",AW63=\"X\"),1,0)","v":0},"X",{"$f":"IF(AND('Step 2 - Ornamental'!$AB$17=\"X\",AY63=\"X\"),1,0)","v":0},"X",{"$f":"IF(AND('Step 2 - Ornamental'!$AC$17=\"X\",BA63=\"X\"),1,0)","v":0},null,{"$f":"IF(AND('Step 2 - Ornamental'!$AA$22=\"X\",BC63=\"X\"),1,0)","v":0},null,{"$f":"IF(AND('Step 2 - Ornamental'!$AB$22=\"X\",BE63=\"X\"),1,0)","v":0},null,{"$f":"IF(AND('Step 2 - Ornamental'!$AC$22=\"X\",BG63=\"X\"),1,0)","v":0},null,{"$f":"IF(AND('Step 2 - Ornamental'!$AD$22=\"X\",BI63=\"X\"),1,0)","v":0},"X","Flowers are Not Showy"]
[]
["Conifer Trees",2]
[null,{"$f":"SUM((N66+P66+R66+T66)*(V66+X66+Z66+AB66)*(AD66+AF66+AH66+AJ66)*(AL66+AN66+AP66+AR66+AT66)*(AV66+AX66+AZ66)*(BB66+BD66+BF66+BH66))+1","v":1},"AB CO","Abies concolor","White Fir","NA","Avoid clay soils, tolerant of other conditions, ","X",null,null,null,null,null,{"$f":"IF(O66=\"X\",1,0)","v":0},null,{"$f":"IF(AND('Step 2 - Ornamental'!$AA$21=\"X\",Q66=\"X\"),1,0)","v":0},"X",{"$f":"IF(AND('Step 2 - Ornamental'!$AB$21=\"X\",S66=\"X\"),1,0)","v":0},"X",{"$f":"IF(AND('Step 2 - Ornamental'!$AC$21=\"X\",U66=\"X\"),1,0)","v":0},"X",{"$f":"IF(AND('Step 2 - Ornamental'!$AA$19=\"X\",W66=\"X\"),1,0)","v":0},null,{"$f":"IF(AND('Step 2 - Ornamental'!$AA$19=\"X\",Y66=\"X\"),1,0)","v":0},"X",{"$f":"IF(AND('Step 2 - Ornamental'!$AB$19=\"X\",AA66=\"X\"),1,0)","v":0},"X",{"$f":"IF(AND('Step 2 - Ornamental'!$AC$19=\"X\",AC66=\"X\"),1,0)","v":0},null,{"$f":"IF(AND('Step 2 - Ornamental'!$AA$20=\"X\",AE66=\"X\"),1,0)","v":0},"X",{"$f":"IF(AND('Step 2 - Ornamental'!$AA$20=\"X\",AG66=\"X\"),1,0)","v":0},null,{"$f":"IF(AND('Step 2 - Ornamental'!$AB$20=\"X\",AI66=\"X\"),1,0)","v":0},null,{"$f":"IF(AND('Step 2 - Ornamental'!$AC$20=\"X\",AK66=\"X\"),1,0)","v":0},null,{"$f":"IF(AND('Step 2 - Ornamental'!$AA$18=\"X\",AM66=\"X\"),1,0)","v":0},"X",{"$f":"IF(AND('Step 2 - Ornamental'!$AB$18=\"X\",AO66=\"X\"),1,0)","v":0},"X",{"$f":"IF(AND('Step 2 - Ornamental'!$AC$18=\"X\",AQ66=\"X\"),1,0)","v":0},null,{"$f":"IF(AND('Step 2 - Ornamental'!$AD$18=\"X\",AS66=\"X\"),1,0)","v":0},null,{"$f":"IF(AND('Step 2 - Ornamental'!$AE$18=\"X\",AU66=\"X\"),1,0)","v":0},null,{"$f":"IF(AND('Step 2 - Ornamental'!$AA$17=\"X\",AW66=\"X\"),1,0)","v":0},"X",{"$f":"IF(AND('Step 2 - Ornamental'!$AB$17=\"X\",AY66=\"X\"),1,0)","v":0},"X",{"$f":"IF(AND('Step 2 - Ornamental'!$AC$17=\"X\",BA66=\"X\"),1,0)","v":0},null,{"$f":"IF(AND('Step 2 - Ornamental'!$AA$22=\"X\",BC66=\"X\"),1,0)","v":0},null,{"$f":"IF(AND('Step 2 - Ornamental'!$AB$22=\"X\",BE66=\"X\"),1,0)","v":0},null,{"$f":"IF(AND('Step 2 - Ornamental'!$AC$22=\"X\",BG66=\"X\"),1,0)","v":0},null,{"$f":"IF(AND('Step 2 - Ornamental'!$AD$22=\"X\",BI66=\"X\"),1,0)","v":0},"X","Non-flowering"]
[null,1,"CA NO","Chamaecyparis nootkatensis 'Pendula' (Xanthocyparis nootkatensis)","Weeping Alaskan Cedar","NA","Reaches 20-35' tall, needs afternoon shade and moist soils, specimen","X",null,null,null,null,null,0,null,{"$f":"IF(AND('Step 2 - Ornamental'!$AA$21=\"X\",Q67=\"X\"),1,0)","v":0},"X",{"$f":"IF(AND('Step 2 - Ornamental'!$AB$21=\"X\",S67=\"X\"),1,0)","v":0},"X",{"$f":"IF(AND('Step 2 - Ornamental'!$AC$21=\"X\",U67=\"X\"),1,0)","v":0}," ",{"$f":"IF(AND('Step 2 - Ornamental'!$AA$19=\"X\",W67=\"X\"),1,0)","v":0},"X",{"$f":"IF(AND('Step 2 - Ornamental'!$AA$19=\"X\",Y67=\"X\"),1,0)","v":0},null,{"$f":"IF(AND('Step 2 - Ornamental'!$AB$19=\"X\",AA67=\"X\"),1,0)","v":0},null,{"$f":"IF(AND('Step 2 - Ornamental'!$AC$19=\"X\",AC67=\"X\"),1,0)","v":0},null,{"$f":"IF(AND('Step 2 - Ornamental'!$AA$20=\"X\",AE67=\"X\"),1,0)","v":0},"X",{"$f":"IF(AND('Step 2 - Ornamental'!$AA$20=\"X\",AG67=\"X\"),1,0)","v":0},null,{"$f":"IF(AND('Step 2 - Ornamental'!$AB$20=\"X\",AI67=\"X\"),1,0)","v":0},null,{"$f":"IF(AND('Step 2 - Ornamental'!$AC$20=\"X\",AK67=\"X\"),1,0)","v":0},null,{"$f":"IF(AND('Step 2 - Ornamental'!$AA$18=\"X\",AM67=\"X\"),1,0)","v":0},null,{"$f":"IF(AND('Step 2 - Ornamental'!$AB$18=\"X\",AO67=\"X\"),1,0)","v":0},"X",{"$f":"IF(AND('Step 2 - Ornamental'!$AC$18=\"X\",AQ67=\"X\"),1,0)","v":0},"X",{"$f":"IF(AND('Step 2 - Ornamental'!$AD$18=\"X\",AS67=\"X\"),1,0)","v":0},null,{"$f":"IF(AND('Step 2 - Ornamental'!$AE$18=\"X\",AU67=\"X\"),1,0)","v":0},null,{"$f":"IF(AND('Step 2 - Ornamental'!$AA$17=\"X\",AW67=\"X\"),1,0)","v":0},"X",{"$f":"IF(AND('Step 2 - Ornamental'!$AB$17=\"X\",AY67=\"X\"),1,0)","v":0},null,{"$f":"IF(AND('Step 2 - Ornamental'!$AC$17=\"X\",BA67=\"X\"),1,0)","v":0},null,{"$f":"IF(AND('Step 2 - Ornamental'!$AA$22=\"X\",BC67=\"X\"),1,0)","v":0},null,{"$f":"IF(AND('Step 2 - Ornamental'!$AB$22=\"X\",BE67=\"X\"),1,0)","v":0},null,{"$f":"IF(AND('Step 2 - Ornamental'!$AC$22=\"X\",BG67=\"X\"),1,0)","v":0},null,{"$f":"IF(AND('Step 2 - Ornamental'!$AD$22=\"X\",BI67=\"X\"),1,0)","v":0},"X","Non-flowering"]
[null,1,"CA PB","Chamaecyparis pisifera 'Boulevard'","Boulevard Japanese False Cypess","NA","Slow growing dwarf evergreen reaching 5-6' tall after 10 years, tops out at 12-15' tall","X",null,null,null,null,null,0,null,{"$f":"IF(AND('Step 2 - Ornamental'!$AA$21=\"X\",Q68=\"X\"),1,0)","v":0},"X",{"$f":"IF(AND('Step 2 - Ornamental'!$AB$21=\"X\",S68=\"X\"),1,0)","v":0},"X",{"$f":"IF(AND('Step 2 - Ornamental'!$AC$21=\"X\",U68=\"X\"),1,0)","v":0}," ",{"$f":"IF(AND('Step 2 - Ornamental'!$AA$19=\"X\",W68=\"X\"),1,0)","v":0},null,{"$f":"IF(AND('Step 2 - Ornamental'!$AA$19=\"X\",Y68=\"X\"),1,0)","v":0},"X",{"$f":"IF(AND('Step 2 - Ornamental'!$AB$19=\"X\",AA68=\"X\"),1,0)","v":0},null,{"$f":"IF(AND('Step 2 - Ornamental'!$AC$19=\"X\",AC68=\"X\"),1,0)","v":0},null,{"$f":"IF(AND('Step 2 - Ornamental'!$AA$20=\"X\",AE68=\"X\"),1,0)","v":0},"X",{"$f":"IF(AND('Step 2 - Ornamental'!$AA$20=\"X\",AG68=\"X\"),1,0)","v":0},null,{"$f":"IF(AND('Step 2 - Ornamental'!$AB$20=\"X\",AI68=\"X\"),1,0)","v":0},null,{"$f":"IF(AND('Step 2 - Ornamental'!$AC$20=\"X\",AK68=\"X\"),1,0)","v":0},null,{"$f":"IF(AND('Step 2 - Ornamental'!$AA$18=\"X\",AM68=\"X\"),1,0)","v":0},null,{"$f":"IF(AND('Step 2 - Ornamental'!$AB$18=\"X\",AO68=\"X\"),1,0)","v":0},"X",{"$f":"IF(AND('Step 2 - Ornamental'!$AC$18=\"X\",AQ68=\"X\"),1,0)","v":0},"X",{"$f":"IF(AND('Step 2 - Ornamental'!$AD$18=\"X\",AS68=\"X\"),1,0)","v":0},null,{"$f":"IF(AND('Step 2 - Ornamental'!$AE$18=\"X\",AU68=\"X\"),1,0)","v":0},null,{"$f":"IF(AND('Step 2 - Ornamental'!$AA$17=\"X\",AW68=\"X\"),1,0)","v":0},"X",{"$f":"IF(AND('Step 2 - Ornamental'!$AB$17=\"X\",AY68=\"X\"),1,0)","v":0},null,{"$f":"IF(AND('Step 2 - Ornamental'!$AC$17=\"X\",BA68=\"X\"),1,0)","v":0},null,{"$f":"IF(AND('Step 2 - Ornamental'!$AA$22=\"X\",BC68=\"X\"),1,0)","v":0},null,{"$f":"IF(AND('Step 2 - Ornamental'!$AB$22=\"X\",BE68=\"X\"),1,0)","v":0},null,{"$f":"IF(AND('Step 2 - Ornamental'!$AC$22=\"X\",BG68=\"X\"),1,0)","v":0},null,{"$f":"IF(AND('Step 2 - Ornamental'!$AD$22=\"X\",BI68=\"X\"),1,0)","v":0},"X","Non-flowering"]
[null,1,"JU VI","Juniperus virginiana 'Canaertii'","Canaertii Eastern Redcedar","NA","Ornamental blue berries and attractive, open and irregular branching habit"," ","X","X","X",null,null,0,null,{"$f":"IF(AND('Step 2 - Ornamental'!$AA$21=\"X\",Q69=\"X\"),1,0)","v":0},"X",{"$f":"IF(AND('Step 2 - Ornamental'!$AB$21=\"X\",S69=\"X\"),1,0)","v":0},"X",{"$f":"IF(AND('Step 2 - Ornamental'!$AC$21=\"X\",U69=\"X\"),1,0)","v":0},"X",{"$f":"IF(AND('Step 2 - Ornamental'!$AA$19=\"X\",W69=\"X\"),1,0)","v":0},null,{"$f":"IF(AND('Step 2 - Ornamental'!$AA$19=\"X\",Y69=\"X\"),1,0)","v":0},"X",{"$f":"IF(AND('Step 2 - Ornamental'!$AB$19=\"X\",AA69=\"X\"),1,0)","v":0},"X",{"$f":"IF(AND('Step 2 - Ornamental'!$AC$19=\"X\",AC69=\"X\"),1,0)","v":0},"X",{"$f":"IF(AND('Step 2 - Ornamental'!$AA$20=\"X\",AE69=\"X\"),1,0)","v":0},"X",{"$f":"IF(AND('Step 2 - Ornamental'!$AA$20=\"X\",AG69=\"X\"),1,0)","v":0},null,{"$f":"IF(AND('Step 2 - Ornamental'!$AB$20=\"X\",AI69=\"X\"),1,0)","v":0},null,{"$f":"IF(AND('Step 2 - Ornamental'!$AC$20=\"X\",AK69=\"X\"),1,0)","v":0},null,{"$f":"IF(AND('Step 2 - Ornamental'!$AA$18=\"X\",AM69=\"X\"),1,0)","v":0},"X",{"$f":"IF(AND('Step 2 - Ornamental'!$AB$18=\"X\",AO69=\"X\"),1,0)","v":0},"X",{"$f":"IF(AND('Step 2 - Ornamental'!$AC$18=\"X\",AQ69=\"X\"),1,0)","v":0},null,{"$f":"IF(AND('Step 2 - Ornamental'!$AD$18=\"X\",AS69=\"X\"),1,0)","v":0},null,{"$f":"IF(AND('Step 2 - Ornamental'!$AE$18=\"X\",AU69=\"X\"),1,0)","v":0},null,{"$f":"IF(AND('Step 2 - Ornamental'!$AA$17=\"X\",AW69=\"X\"),1,0)","v":0},"X",{"$f":"IF(AND('Step 2 - Ornamental'!$AB$17=\"X\",AY69=\"X\"),1,0)","v":0},null,{"$f":"IF(AND('Step 2 - Ornamental'!$AC$17=\"X\",BA69=\"X\"),1,0)","v":0},null,{"$f":"IF(AND('Step 2 - Ornamental'!$AA$22=\"X\",BC69=\"X\"),1,0)","v":0},null,{"$f":"IF(AND('Step 2 - Ornamental'!$AB$22=\"X\",BE69=\"X\"),1,0)","v":0},null,{"$f":"IF(AND('Step 2 - Ornamental'!$AC$22=\"X\",BG69=\"X\"),1,0)","v":0},"X",{"$f":"IF(AND('Step 2 - Ornamental'!$AD$22=\"X\",BI69=\"X\"),1,0)","v":0},"X",null,null,null,null,null,null,null,null,null,"Profuse whitish blue cones / 30'-65'"]
[null,1,"JU VH","Juniperus virginiana 'Hillspire'","Hillspire Eastern Redcedar","NA","Has year-round green foliage",null,"X","X","X",null,null,0,null,{"$f":"IF(AND('Step 2 - Ornamental'!$AA$21=\"X\",Q70=\"X\"),1,0)","v":0},"X",{"$f":"IF(AND('Step 2 - Ornamental'!$AB$21=\"X\",S70=\"X\"),1,0)","v":0},"X",{"$f":"IF(AND('Step 2 - Ornamental'!$AC$21=\"X\",U70=\"X\"),1,0)","v":0},"X",{"$f":"IF(AND('Step 2 - Ornamental'!$AA$19=\"X\",W70=\"X\"),1,0)","v":0},null,{"$f":"IF(AND('Step 2 - Ornamental'!$AA$19=\"X\",Y70=\"X\"),1,0)","v":0},"X",{"$f":"IF(AND('Step 2 - Ornamental'!$AB$19=\"X\",AA70=\"X\"),1,0)","v":0},"X",{"$f":"IF(AND('Step 2 - Ornamental'!$AC$19=\"X\",AC70=\"X\"),1,0)","v":0},"X",{"$f":"IF(AND('Step 2 - Ornamental'!$AA$20=\"X\",AE70=\"X\"),1,0)","v":0},"X",{"$f":"IF(AND('Step 2 - Ornamental'!$AA$20=\"X\",AG70=\"X\"),1,0)","v":0},null,{"$f":"IF(AND('Step 2 - Ornamental'!$AB$20=\"X\",AI70=\"X\"),1,0)","v":0},null,{"$f":"IF(AND('Step 2 - Ornamental'!$AC$20=\"X\",AK70=\"X\"),1,0)","v":0},null,{"$f":"IF(AND('Step 2 - Ornamental'!$AA$18=\"X\",AM70=\"X\"),1,0)","v":0},"X",{"$f":"IF(AND('Step 2 - Ornamental'!$AB$18=\"X\",AO70=\"X\"),1,0)","v":0},"X",{"$f":"IF(AND('Step 2 - Ornamental'!$AC$18=\"X\",AQ70=\"X\"),1,0)","v":0},null,{"$f":"IF(AND('Step 2 - Ornamental'!$AD$18=\"X\",AS70=\"X\"),1,0)","v":0},null,{"$f":"IF(AND('Step 2 - Ornamental'!$AE$18=\"X\",AU70=\"X\"),1,0)","v":0},null,{"$f":"IF(AND('Step 2 - Ornamental'!$AA$17=\"X\",AW70=\"X\"),1,0)","v":0},"X",{"$f":"IF(AND('Step 2 - Ornamental'!$AB$17=\"X\",AY70=\"X\"),1,0)","v":0},null,{"$f":"IF(AND('Step 2 - Ornamental'!$AC$17=\"X\",BA70=\"X\"),1,0)","v":0},null,{"$f":"IF(AND('Step 2 - Ornamental'!$AA$22=\"X\",BC70=\"X\"),1,0)","v":0},null,{"$f":"IF(AND('Step 2 - Ornamental'!$AB$22=\"X\",BE70=\"X\"),1,0)","v":0},null,{"$f":"IF(AND('Step 2 - Ornamental'!$AC$22=\"X\",BG70=\"X\"),1,0)","v":0},"X",{"$f":"IF(AND('Step 2 - Ornamental'!$AD$22=\"X\",BI70=\"X\"),1,0)","v":0},"X","Non-flowering"]
[null,1,"ME GL","Metasequoia glyptostroboides","Dawn Redwood","NA","Needs moist to wet soils, deciduous conifer, very large tree","X",null,null,"X",null,null,0,null,{"$f":"IF(AND('Step 2 - Ornamental'!$AA$21=\"X\",Q71=\"X\"),1,0)","v":0},"X",{"$f":"IF(AND('Step 2 - Ornamental'!$AB$21=\"X\",S71=\"X\"),1,0)","v":0},"X",{"$f":"IF(AND('Step 2 - Ornamental'!$AC$21=\"X\",U71=\"X\"),1,0)","v":0}," ",{"$f":"IF(AND('Step 2 - Ornamental'!$AA$19=\"X\",W71=\"X\"),1,0)","v":0},null,{"$f":"IF(AND('Step 2 - Ornamental'!$AA$19=\"X\",Y71=\"X\"),1,0)","v":0},"X",{"$f":"IF(AND('Step 2 - Ornamental'!$AB$19=\"X\",AA71=\"X\"),1,0)","v":0},null,{"$f":"IF(AND('Step 2 - Ornamental'!$AC$19=\"X\",AC71=\"X\"),1,0)","v":0},null,{"$f":"IF(AND('Step 2 - Ornamental'!$AA$20=\"X\",AE71=\"X\"),1,0)","v":0},null,{"$f":"IF(AND('Step 2 - Ornamental'!$AA$20=\"X\",AG71=\"X\"),1,0)","v":0},"X",{"$f":"IF(AND('Step 2 - Ornamental'!$AB$20=\"X\",AI71=\"X\"),1,0)","v":0},"X",{"$f":"IF(AND('Step 2 - Ornamental'!$AC$20=\"X\",AK71=\"X\"),1,0)","v":0},"X",{"$f":"IF(AND('Step 2 - Ornamental'!$AA$18=\"X\",AM71=\"X\"),1,0)","v":0},null,{"$f":"IF(AND('Step 2 - Ornamental'!$AB$18=\"X\",AO71=\"X\"),1,0)","v":0},"X",{"$f":"IF(AND('Step 2 - Ornamental'!$AC$18=\"X\",AQ71=\"X\"),1,0)","v":0},null,{"$f":"IF(AND('Step 2 - Ornamental'!$AD$18=\"X\",AS71=\"X\"),1,0)","v":0},null,{"$f":"IF(AND('Step 2 - Ornamental'!$AE$18=\"X\",AU71=\"X\"),1,0)","v":0},null,{"$f":"IF(AND('Step 2 - Ornamental'!$AA$17=\"X\",AW71=\"X\"),1,0)","v":0},"X",{"$f":"IF(AND('Step 2 - Ornamental'!$AB$17=\"X\",AY71=\"X\"),1,0)","v":0},null,{"$f":"IF(AND('Step 2 - Ornamental'!$AC$17=\"X\",BA71=\"X\"),1,0)","v":0},null,{"$f":"IF(AND('Step 2 - Ornamental'!$AA$22=\"X\",BC71=\"X\"),1,0)","v":0},null,{"$f":"IF(AND('Step 2 - Ornamental'!$AB$22=\"X\",BE71=\"X\"),1,0)","v":0},null,{"$f":"IF(AND('Step 2 - Ornamental'!$AC$22=\"X\",BG71=\"X\"),1,0)","v":0},null,{"$f":"IF(AND('Step 2 - Ornamental'!$AD$22=\"X\",BI71=\"X\"),1,0)","v":0},"X","Non-flowering"]
[null,1,"PI AB","Picea abies","Norway Spruce","NA","Has pendulus branches like omorika, but larger and more open","X",null,null,"X"," ",null,0,null,{"$f":"IF(AND('Step 2 - Ornamental'!$AA$21=\"X\",Q72=\"X\"),1,0)","v":0},"X",{"$f":"IF(AND('Step 2 - Ornamental'!$AB$21=\"X\",S72=\"X\"),1,0)","v":0},"X",{"$f":"IF(AND('Step 2 - Ornamental'!$AC$21=\"X\",U72=\"X\"),1,0)","v":0},null,{"$f":"IF(AND('Step 2 - Ornamental'!$AA$19=\"X\",W72=\"X\"),1,0)","v":0},null,{"$f":"IF(AND('Step 2 - Ornamental'!$AA$19=\"X\",Y72=\"X\"),1,0)","v":0},"X",{"$f":"IF(AND('Step 2 - Ornamental'!$AB$19=\"X\",AA72=\"X\"),1,0)","v":0},"X",{"$f":"IF(AND('Step 2 - Ornamental'!$AC$19=\"X\",AC72=\"X\"),1,0)","v":0},null,{"$f":"IF(AND('Step 2 - Ornamental'!$AA$20=\"X\",AE72=\"X\"),1,0)","v":0},"X",{"$f":"IF(AND('Step 2 - Ornamental'!$AA$20=\"X\",AG72=\"X\"),1,0)","v":0},null,{"$f":"IF(AND('Step 2 - Ornamental'!$AB$20=\"X\",AI72=\"X\"),1,0)","v":0},null,{"$f":"IF(AND('Step 2 - Ornamental'!$AC$20=\"X\",AK72=\"X\"),1,0)","v":0},null,{"$f":"IF(AND('Step 2 - Ornamental'!$AA$18=\"X\",AM72=\"X\"),1,0)","v":0},null,{"$f":"IF(AND('Step 2 - Ornamental'!$AB$18=\"X\",AO72=\"X\"),1,0)","v":0},"X",{"$f":"IF(AND('Step 2 - Ornamental'!$AC$18=\"X\",AQ72=\"X\"),1,0)","v":0},null,{"$f":"IF(AND('Step 2 - Ornamental'!$AD$18=\"X\",AS72=\"X\"),1,0)","v":0},null,{"$f":"IF(AND('Step 2 - Ornamental'!$AE$18=\"X\",AU72=\"X\"),1,0)","v":0},null,{"$f":"IF(AND('Step 2 - Ornamental'!$AA$17=\"X\",AW72=\"X\"),1,0)","v":0},"X",{"$f":"IF(AND('Step 2 - Ornamental'!$AB$17=\"X\",AY72=\"X\"),1,0)","v":0},null,{"$f":"IF(AND('Step 2 - Ornamental'!$AC$17=\"X\",BA72=\"X\"),1,0)","v":0},null,{"$f":"IF(AND('Step 2 - Ornamental'!$AA$22=\"X\",BC72=\"X\"),1,0)","v":0},null,{"$f":"IF(AND('Step 2 - Ornamental'!$AB$22=\"X\",BE72=\"X\"),1,0)","v":0},null,{"$f":"IF(AND('Step 2 - Ornamental'!$AC$22=\"X\",BG72=\"X\"),1,0)","v":0},null,{"$f":"IF(AND('Step 2 - Ornamental'!$AD$22=\"X\",BI72=\"X\"),1,0)","v":0},"X","Non-flowering"]
[null,1,"PI GL","Picea glauca","White Spruce","NA","Needs good air circulation and moist soils, ",null,"X","X","X",null,null,0,null,{"$f":"IF(AND('Step 2 - Ornamental'!$AA$21=\"X\",Q73=\"X\"),1,0)","v":0},"X",{"$f":"IF(AND('Step 2 - Ornamental'!$AB$21=\"X\",S73=\"X\"),1,0)","v":0},"X",{"$f":"IF(AND('Step 2 - Ornamental'!$AC$21=\"X\",U73=\"X\"),1,0)","v":0},null,{"$f":"IF(AND('Step 2 - Ornamental'!$AA$19=\"X\",W73=\"X\"),1,0)","v":0},null,{"$f":"IF(AND('Step 2 - Ornamental'!$AA$19=\"X\",Y73=\"X\"),1,0)","v":0},"X",{"$f":"IF(AND('Step 2 - Ornamental'!$AB$19=\"X\",AA73=\"X\"),1,0)","v":0},"X",{"$f":"IF(AND('Step 2 - Ornamental'!$AC$19=\"X\",AC73=\"X\"),1,0)","v":0},null,{"$f":"IF(AND('Step 2 - Ornamental'!$AA$20=\"X\",AE73=\"X\"),1,0)","v":0},"X",{"$f":"IF(AND('Step 2 - Ornamental'!$AA$20=\"X\",AG73=\"X\"),1,0)","v":0},null,{"$f":"IF(AND('Step 2 - Ornamental'!$AB$20=\"X\",AI73=\"X\"),1,0)","v":0},null,{"$f":"IF(AND('Step 2 - Ornamental'!$AC$20=\"X\",AK73=\"X\"),1,0)","v":0},null,{"$f":"IF(AND('Step 2 - Ornamental'!$AA$18=\"X\",AM73=\"X\"),1,0)","v":0},null,{"$f":"IF(AND('Step 2 - Ornamental'!$AB$18=\"X\",AO73=\"X\"),1,0)","v":0},"X",{"$f":"IF(AND('Step 2 - Ornamental'!$AC$18=\"X\",AQ73=\"X\"),1,0)","v":0},null,{"$f":"IF(AND('Step 2 - Ornamental'!$AD$18=\"X\",AS73=\"X\"),1,0)","v":0},null,{"$f":"IF(AND('Step 2 - Ornamental'!$AE$18=\"X\",AU73=\"X\"),1,0)","v":0},null,{"$f":"IF(AND('Step 2 - Ornamental'!$AA$17=\"X\",AW73=\"X\"),1,0)","v":0},"X",{"$f":"IF(AND('Step 2 - Ornamental'!$AB$17=\"X\",AY73=\"X\"),1,0)","v":0},"X",{"$f":"IF(AND('Step 2 - Ornamental'!$AC$17=\"X\",BA73=\"X\"),1,0)","v":0},null,{"$f":"IF(AND('Step 2 - Ornamental'!$AA$22=\"X\",BC73=\"X\"),1,0)","v":0},null,{"$f":"IF(AND('Step 2 - Ornamental'!$AB$22=\"X\",BE73=\"X\"),1,0)","v":0},null,{"$f":"IF(AND('Step 2 - Ornamental'!$AC$22=\"X\",BG73=\"X\"),1,0)","v":0},null,{"$f":"IF(AND('Step 2 - Ornamental'!$AD$22=\"X\",BI73=\"X\"),1,0)","v":0},"X","Non-flowering"]
[null,1,"PI OM","Picea omorika","Serbian Spruce","NA","Beautiful spruce with pendulus branches","X",null,null,"X",null,null,0,null,{"$f":"IF(AND('Step 2 - Ornamental'!$AA$21=\"X\",Q74=\"X\"),1,0)","v":0},"X",{"$f":"IF(AND('Step 2 - Ornamental'!$AB$21=\"X\",S74=\"X\"),1,0)","v":0},"X",{"$f":"IF(AND('Step 2 - Ornamental'!$AC$21=\"X\",U74=\"X\"),1,0)","v":0},"X",{"$f":"IF(AND('Step 2 - Ornamental'!$AA$19=\"X\",W74=\"X\"),1,0)","v":0},null,{"$f":"IF(AND('Step 2 - Ornamental'!$AA$19=\"X\",Y74=\"X\"),1,0)","v":0},"X",{"$f":"IF(AND('Step 2 - Ornamental'!$AB$19=\"X\",AA74=\"X\"),1,0)","v":0},"X",{"$f":"IF(AND('Step 2 - Ornamental'!$AC$19=\"X\",AC74=\"X\"),1,0)","v":0},null,{"$f":"IF(AND('Step 2 - Ornamental'!$AA$20=\"X\",AE74=\"X\"),1,0)","v":0},"X",{"$f":"IF(AND('Step 2 - Ornamental'!$AA$20=\"X\",AG74=\"X\"),1,0)","v":0},null,{"$f":"IF(AND('Step 2 - Ornamental'!$AB$20=\"X\",AI74=\"X\"),1,0)","v":0},null,{"$f":"IF(AND('Step 2 - Ornamental'!$AC$20=\"X\",AK74=\"X\"),1,0)","v":0},null,{"$f":"IF(AND('Step 2 - Ornamental'!$AA$18=\"X\",AM74=\"X\"),1,0)","v":0},null,{"$f":"IF(AND('Step 2 - Ornamental'!$AB$18=\"X\",AO74=\"X\"),1,0)","v":0},"X",{"$f":"IF(AND('Step 2 - Ornamental'!$AC$18=\"X\",AQ74=\"X\"),1,0)","v":0},null,{"$f":"IF(AND('Step 2 - Ornamental'!$AD$18=\"X\",AS74=\"X\"),1,0)","v":0},null,{"$f":"IF(AND('Step 2 - Ornamental'!$AE$18=\"X\",AU74=\"X\"),1,0)","v":0},null,{"$f":"IF(AND('Step 2 - Ornamental'!$AA$17=\"X\",AW74=\"X\"),1,0)","v":0},null,{"$f":"IF(AND('Step 2 - Ornamental'!$AB$17=\"X\",AY74=\"X\"),1,0)","v":0},"X",{"$f":"IF(AND('Step 2 - Ornamental'!$AC$17=\"X\",BA74=\"X\"),1,0)","v":0},null,{"$f":"IF(AND('Step 2 - Ornamental'!$AA$22=\"X\",BC74=\"X\"),1,0)","v":0},null,{"$f":"IF(AND('Step 2 - Ornamental'!$AB$22=\"X\",BE74=\"X\"),1,0)","v":0},null,{"$f":"IF(AND('Step 2 - Ornamental'!$AC$22=\"X\",BG74=\"X\"),1,0)","v":0},null,{"$f":"IF(AND('Step 2 - Ornamental'!$AD$22=\"X\",BI74=\"X\"),1,0)","v":0},"X","Non-flowering"]
[null,1,"PI OR","Picea orientalis","Oriental Spruce","NA","Specimen quality spruce, ","X",null,null,null,null,null,0,null,{"$f":"IF(AND('Step 2 - Ornamental'!$AA$21=\"X\",Q75=\"X\"),1,0)","v":0},"X",{"$f":"IF(AND('Step 2 - Ornamental'!$AB$21=\"X\",S75=\"X\"),1,0)","v":0},"X",{"$f":"IF(AND('Step 2 - Ornamental'!$AC$21=\"X\",U75=\"X\"),1,0)","v":0},null,{"$f":"IF(AND('Step 2 - Ornamental'!$AA$19=\"X\",W75=\"X\"),1,0)","v":0},"X",{"$f":"IF(AND('Step 2 - Ornamental'!$AA$19=\"X\",Y75=\"X\"),1,0)","v":0},null,{"$f":"IF(AND('Step 2 - Ornamental'!$AB$19=\"X\",AA75=\"X\"),1,0)","v":0},null,{"$f":"IF(AND('Step 2 - Ornamental'!$AC$19=\"X\",AC75=\"X\"),1,0)","v":0},null,{"$f":"IF(AND('Step 2 - Ornamental'!$AA$20=\"X\",AE75=\"X\"),1,0)","v":0},"X",{"$f":"IF(AND('Step 2 - Ornamental'!$AA$20=\"X\",AG75=\"X\"),1,0)","v":0},null,{"$f":"IF(AND('Step 2 - Ornamental'!$AB$20=\"X\",AI75=\"X\"),1,0)","v":0},null,{"$f":"IF(AND('Step 2 - Ornamental'!$AC$20=\"X\",AK75=\"X\"),1,0)","v":0},null,{"$f":"IF(AND('Step 2 - Ornamental'!$AA$18=\"X\",AM75=\"X\"),1,0)","v":0},"X",{"$f":"IF(AND('Step 2 - Ornamental'!$AB$18=\"X\",AO75=\"X\"),1,0)","v":0},"X",{"$f":"IF(AND('Step 2 - Ornamental'!$AC$18=\"X\",AQ75=\"X\"),1,0)","v":0},null,{"$f":"IF(AND('Step 2 - Ornamental'!$AD$18=\"X\",AS75=\"X\"),1,0)","v":0},null,{"$f":"IF(AND('Step 2 - Ornamental'!$AE$18=\"X\",AU75=\"X\"),1,0)","v":0},null,{"$f":"IF(AND('Step 2 - Ornamental'!$AA$17=\"X\",AW75=\"X\"),1,0)","v":0},"X",{"$f":"IF(AND('Step 2 - Ornamental'!$AB$17=\"X\",AY75=\"X\"),1,0)","v":0},"X",{"$f":"IF(AND('Step 2 - Ornamental'!$AC$17=\"X\",BA75=\"X\"),1,0)","v":0},null,{"$f":"IF(AND('Step 2 - Ornamental'!$AA$22=\"X\",BC75=\"X\"),1,0)","v":0},null,{"$f":"IF(AND('Step 2 - Ornamental'!$AB$22=\"X\",BE75=\"X\"),1,0)","v":0},null,{"$f":"IF(AND('Step 2 - Ornamental'!$AC$22=\"X\",BG75=\"X\"),1,0)","v":0},null,{"$f":"IF(AND('Step 2 - Ornamental'!$AD$22=\"X\",BI75=\"X\"),1,0)","v":0},"X","Non-flowering"]
[null,1,"PI PU","Picea pungens","Colorado Spruce","NA","Like most spruces it needs large footprint for future growth",null,"X",null,"X","X",null,0,null,{"$f":"IF(AND('Step 2 - Ornamental'!$AA$21=\"X\",Q76=\"X\"),1,0)","v":0},"X",{"$f":"IF(AND('Step 2 - Ornamental'!$AB$21=\"X\",S76=\"X\"),1,0)","v":0},"X",{"$f":"IF(AND('Step 2 - Ornamental'!$AC$21=\"X\",U76=\"X\"),1,0)","v":0},null,{"$f":"IF(AND('Step 2 - Ornamental'!$AA$19=\"X\",W76=\"X\"),1,0)","v":0},null,{"$f":"IF(AND('Step 2 - Ornamental'!$AA$19=\"X\",Y76=\"X\"),1,0)","v":0},"X",{"$f":"IF(AND('Step 2 - Ornamental'!$AB$19=\"X\",AA76=\"X\"),1,0)","v":0},"X",{"$f":"IF(AND('Step 2 - Ornamental'!$AC$19=\"X\",AC76=\"X\"),1,0)","v":0},"X",{"$f":"IF(AND('Step 2 - Ornamental'!$AA$20=\"X\",AE76=\"X\"),1,0)","v":0},"X",{"$f":"IF(AND('Step 2 - Ornamental'!$AA$20=\"X\",AG76=\"X\"),1,0)","v":0},null,{"$f":"IF(AND('Step 2 - Ornamental'!$AB$20=\"X\",AI76=\"X\"),1,0)","v":0},null,{"$f":"IF(AND('Step 2 - Ornamental'!$AC$20=\"X\",AK76=\"X\"),1,0)","v":0},null,{"$f":"IF(AND('Step 2 - Ornamental'!$AA$18=\"X\",AM76=\"X\"),1,0)","v":0},"X",{"$f":"IF(AND('Step 2 - Ornamental'!$AB$18=\"X\",AO76=\"X\"),1,0)","v":0},"X",{"$f":"IF(AND('Step 2 - Ornamental'!$AC$18=\"X\",AQ76=\"X\"),1,0)","v":0},null,{"$f":"IF(AND('Step 2 - Ornamental'!$AD$18=\"X\",AS76=\"X\"),1,0)","v":0},null,{"$f":"IF(AND('Step 2 - Ornamental'!$AE$18=\"X\",AU76=\"X\"),1,0)","v":0},null,{"$f":"IF(AND('Step 2 - Ornamental'!$AA$17=\"X\",AW76=\"X\"),1,0)","v":0},"X",{"$f":"IF(AND('Step 2 - Ornamental'!$AB$17=\"X\",AY76=\"X\"),1,0)","v":0},"X",{"$f":"IF(AND('Step 2 - Ornamental'!$AC$17=\"X\",BA76=\"X\"),1,0)","v":0},null,{"$f":"IF(AND('Step 2 - Ornamental'!$AA$22=\"X\",BC76=\"X\"),1,0)","v":0},null,{"$f":"IF(AND('Step 2 - Ornamental'!$AB$22=\"X\",BE76=\"X\"),1,0)","v":0},null,{"$f":"IF(AND('Step 2 - Ornamental'!$AC$22=\"X\",BG76=\"X\"),1,0)","v":0},null,{"$f":"IF(AND('Step 2 - Ornamental'!$AD$22=\"X\",BI76=\"X\"),1,0)","v":0},"X","Non-flowering"]
[null,1,"PI AR","Pinus aristata","Bristlecone Pine","NA","Grows in poor, dry, rocky soils, dwarf form, long lived","X",null,null,null,null,null,0,null,{"$f":"IF(AND('Step 2 - Ornamental'!$AA$21=\"X\",Q77=\"X\"),1,0)","v":0},"X",{"$f":"IF(AND('Step 2 - Ornamental'!$AB$21=\"X\",S77=\"X\"),1,0)","v":0},"X",{"$f":"IF(AND('Step 2 - Ornamental'!$AC$21=\"X\",U77=\"X\"),1,0)","v":0},"X",{"$f":"IF(AND('Step 2 - Ornamental'!$AA$19=\"X\",W77=\"X\"),1,0)","v":0},"X",{"$f":"IF(AND('Step 2 - Ornamental'!$AA$19=\"X\",Y77=\"X\"),1,0)","v":0},null,{"$f":"IF(AND('Step 2 - Ornamental'!$AB$19=\"X\",AA77=\"X\"),1,0)","v":0},null,{"$f":"IF(AND('Step 2 - Ornamental'!$AC$19=\"X\",AC77=\"X\"),1,0)","v":0},null,{"$f":"IF(AND('Step 2 - Ornamental'!$AA$20=\"X\",AE77=\"X\"),1,0)","v":0},"X",{"$f":"IF(AND('Step 2 - Ornamental'!$AA$20=\"X\",AG77=\"X\"),1,0)","v":0},null,{"$f":"IF(AND('Step 2 - Ornamental'!$AB$20=\"X\",AI77=\"X\"),1,0)","v":0},null,{"$f":"IF(AND('Step 2 - Ornamental'!$AC$20=\"X\",AK77=\"X\"),1,0)","v":0},null,{"$f":"IF(AND('Step 2 - Ornamental'!$AA$18=\"X\",AM77=\"X\"),1,0)","v":0},"X",{"$f":"IF(AND('Step 2 - Ornamental'!$AB$18=\"X\",AO77=\"X\"),1,0)","v":0},"X",{"$f":"IF(AND('Step 2 - Ornamental'!$AC$18=\"X\",AQ77=\"X\"),1,0)","v":0},null,{"$f":"IF(AND('Step 2 - Ornamental'!$AD$18=\"X\",AS77=\"X\"),1,0)","v":0},null,{"$f":"IF(AND('Step 2 - Ornamental'!$AE$18=\"X\",AU77=\"X\"),1,0)","v":0},null,{"$f":"IF(AND('Step 2 - Ornamental'!$AA$17=\"X\",AW77=\"X\"),1,0)","v":0},"X",{"$f":"IF(AND('Step 2 - Ornamental'!$AB$17=\"X\",AY77=\"X\"),1,0)","v":0},null,{"$f":"IF(AND('Step 2 - Ornamental'!$AC$17=\"X\",BA77=\"X\"),1,0)","v":0},null,{"$f":"IF(AND('Step 2 - Ornamental'!$AA$22=\"X\",BC77=\"X\"),1,0)","v":0},null,{"$f":"IF(AND('Step 2 - Ornamental'!$AB$22=\"X\",BE77=\"X\"),1,0)","v":0},null,{"$f":"IF(AND('Step 2 - Ornamental'!$AC$22=\"X\",BG77=\"X\"),1,0)","v":0},null,{"$f":"IF(AND('Step 2 - Ornamental'!$AD$22=\"X\",BI77=\"X\"),1,0)","v":0},"X","Non-flowering"]
[null,1,"PI BU","Pinus bungeana","Lacebark Pine","NA","Specimen pine with white bark, ","X",null,null,"X",null,null,0,null,{"$f":"IF(AND('Step 2 - Ornamental'!$AA$21=\"X\",Q78=\"X\"),1,0)","v":0},"X",{"$f":"IF(AND('Step 2 - Ornamental'!$AB$21=\"X\",S78=\"X\"),1,0)","v":0},"X",{"$f":"IF(AND('Step 2 - Ornamental'!$AC$21=\"X\",U78=\"X\"),1,0)","v":0},"X",{"$f":"IF(AND('Step 2 - Ornamental'!$AA$19=\"X\",W78=\"X\"),1,0)","v":0},"X",{"$f":"IF(AND('Step 2 - Ornamental'!$AA$19=\"X\",Y78=\"X\"),1,0)","v":0},null,{"$f":"IF(AND('Step 2 - Ornamental'!$AB$19=\"X\",AA78=\"X\"),1,0)","v":0},null,{"$f":"IF(AND('Step 2 - Ornamental'!$AC$19=\"X\",AC78=\"X\"),1,0)","v":0},null,{"$f":"IF(AND('Step 2 - Ornamental'!$AA$20=\"X\",AE78=\"X\"),1,0)","v":0},"X",{"$f":"IF(AND('Step 2 - Ornamental'!$AA$20=\"X\",AG78=\"X\"),1,0)","v":0},null,{"$f":"IF(AND('Step 2 - Ornamental'!$AB$20=\"X\",AI78=\"X\"),1,0)","v":0},null,{"$f":"IF(AND('Step 2 - Ornamental'!$AC$20=\"X\",AK78=\"X\"),1,0)","v":0},null,{"$f":"IF(AND('Step 2 - Ornamental'!$AA$18=\"X\",AM78=\"X\"),1,0)","v":0},"X",{"$f":"IF(AND('Step 2 - Ornamental'!$AB$18=\"X\",AO78=\"X\"),1,0)","v":0},"X",{"$f":"IF(AND('Step 2 - Ornamental'!$AC$18=\"X\",AQ78=\"X\"),1,0)","v":0},null,{"$f":"IF(AND('Step 2 - Ornamental'!$AD$18=\"X\",AS78=\"X\"),1,0)","v":0},null,{"$f":"IF(AND('Step 2 - Ornamental'!$AE$18=\"X\",AU78=\"X\"),1,0)","v":0},null,{"$f":"IF(AND('Step 2 - Ornamental'!$AA$17=\"X\",AW78=\"X\"),1,0)","v":0},"X",{"$f":"IF(AND('Step 2 - Ornamental'!$AB$17=\"X\",AY78=\"X\"),1,0)","v":0},null,{"$f":"IF(AND('Step 2 - Ornamental'!$AC$17=\"X\",BA78=\"X\"),1,0)","v":0},null,{"$f":"IF(AND('Step 2 - Ornamental'!$AA$22=\"X\",BC78=\"X\"),1,0)","v":0},null,{"$f":"IF(AND('Step 2 - Ornamental'!$AB$22=\"X\",BE78=\"X\"),1,0)","v":0},null,{"$f":"IF(AND('Step 2 - Ornamental'!$AC$22=\"X\",BG78=\"X\"),1,0)","v":0},null,{"$f":"IF(AND('Step 2 - Ornamental'!$AD$22=\"X\",BI78=\"X\"),1,0)","v":0},"X","Non-flowering"]
[null,1,"PI CE","Pinus cembra","Swiss Stone Pine","NA","Pine for smaller landscapes","X",null,null,"X"," ",null,0,null,{"$f":"IF(AND('Step 2 - Ornamental'!$AA$21=\"X\",Q79=\"X\"),1,0)","v":0},"X",{"$f":"IF(AND('Step 2 - Ornamental'!$AB$21=\"X\",S79=\"X\"),1,0)","v":0},"X",{"$f":"IF(AND('Step 2 - Ornamental'!$AC$21=\"X\",U79=\"X\"),1,0)","v":0}," ",{"$f":"IF(AND('Step 2 - Ornamental'!$AA$19=\"X\",W79=\"X\"),1,0)","v":0},null,{"$f":"IF(AND('Step 2 - Ornamental'!$AA$19=\"X\",Y79=\"X\"),1,0)","v":0},"X",{"$f":"IF(AND('Step 2 - Ornamental'!$AB$19=\"X\",AA79=\"X\"),1,0)","v":0},"X",{"$f":"IF(AND('Step 2 - Ornamental'!$AC$19=\"X\",AC79=\"X\"),1,0)","v":0},null,{"$f":"IF(AND('Step 2 - Ornamental'!$AA$20=\"X\",AE79=\"X\"),1,0)","v":0},"X",{"$f":"IF(AND('Step 2 - Ornamental'!$AA$20=\"X\",AG79=\"X\"),1,0)","v":0},null,{"$f":"IF(AND('Step 2 - Ornamental'!$AB$20=\"X\",AI79=\"X\"),1,0)","v":0},null,{"$f":"IF(AND('Step 2 - Ornamental'!$AC$20=\"X\",AK79=\"X\"),1,0)","v":0},null,{"$f":"IF(AND('Step 2 - Ornamental'!$AA$18=\"X\",AM79=\"X\"),1,0)","v":0},null,{"$f":"IF(AND('Step 2 - Ornamental'!$AB$18=\"X\",AO79=\"X\"),1,0)","v":0},"X",{"$f":"IF(AND('Step 2 - Ornamental'!$AC$18=\"X\",AQ79=\"X\"),1,0)","v":0},null,{"$f":"IF(AND('Step 2 - Ornamental'!$AD$18=\"X\",AS79=\"X\"),1,0)","v":0},null,{"$f":"IF(AND('Step 2 - Ornamental'!$AE$18=\"X\",AU79=\"X\"),1,0)","v":0},null,{"$f":"IF(AND('Step 2 - Ornamental'!$AA$17=\"X\",AW79=\"X\"),1,0)","v":0},"X",{"$f":"IF(AND('Step 2 - Ornamental'!$AB$17=\"X\",AY79=\"X\"),1,0)","v":0},null,{"$f":"IF(AND('Step 2 - Ornamental'!$AC$17=\"X\",BA79=\"X\"),1,0)","v":0},null,{"$f":"IF(AND('Step 2 - Ornamental'!$AA$22=\"X\",BC79=\"X\"),1,0)","v":0},null,{"$f":"IF(AND('Step 2 - Ornamental'!$AB$22=\"X\",BE79=\"X\"),1,0)","v":0},null,{"$f":"IF(AND('Step 2 - Ornamental'!$AC$22=\"X\",BG79=\"X\"),1,0)","v":0},null,{"$f":"IF(AND('Step 2 - Ornamental'!$AD$22=\"X\",BI79=\"X\"),1,0)","v":0},"X","Non-flowering"]
[null,1,"PI ST","Pinus strobus","Eastern White Pine","NA","Fast growing, regal pine, but needs room for growth, ",null,"X","X","X","X",null,0,null,{"$f":"IF(AND('Step 2 - Ornamental'!$AA$21=\"X\",Q80=\"X\"),1,0)","v":0},"X",{"$f":"IF(AND('Step 2 - Ornamental'!$AB$21=\"X\",S80=\"X\"),1,0)","v":0},"X",{"$f":"IF(AND('Step 2 - Ornamental'!$AC$21=\"X\",U80=\"X\"),1,0)","v":0}," ",{"$f":"IF(AND('Step 2 - Ornamental'!$AA$19=\"X\",W80=\"X\"),1,0)","v":0},null,{"$f":"IF(AND('Step 2 - Ornamental'!$AA$19=\"X\",Y80=\"X\"),1,0)","v":0},"X",{"$f":"IF(AND('Step 2 - Ornamental'!$AB$19=\"X\",AA80=\"X\"),1,0)","v":0},null,{"$f":"IF(AND('Step 2 - Ornamental'!$AC$19=\"X\",AC80=\"X\"),1,0)","v":0},null,{"$f":"IF(AND('Step 2 - Ornamental'!$AA$20=\"X\",AE80=\"X\"),1,0)","v":0},"X",{"$f":"IF(AND('Step 2 - Ornamental'!$AA$20=\"X\",AG80=\"X\"),1,0)","v":0},null,{"$f":"IF(AND('Step 2 - Ornamental'!$AB$20=\"X\",AI80=\"X\"),1,0)","v":0},null,{"$f":"IF(AND('Step 2 - Ornamental'!$AC$20=\"X\",AK80=\"X\"),1,0)","v":0},null,{"$f":"IF(AND('Step 2 - Ornamental'!$AA$18=\"X\",AM80=\"X\"),1,0)","v":0},"X",{"$f":"IF(AND('Step 2 - Ornamental'!$AB$18=\"X\",AO80=\"X\"),1,0)","v":0},"X",{"$f":"IF(AND('Step 2 - Ornamental'!$AC$18=\"X\",AQ80=\"X\"),1,0)","v":0},"X",{"$f":"IF(AND('Step 2 - Ornamental'!$AD$18=\"X\",AS80=\"X\"),1,0)","v":0},null,{"$f":"IF(AND('Step 2 - Ornamental'!$AE$18=\"X\",AU80=\"X\"),1,0)","v":0},null,{"$f":"IF(AND('Step 2 - Ornamental'!$AA$17=\"X\",AW80=\"X\"),1,0)","v":0},"X",{"$f":"IF(AND('Step 2 - Ornamental'!$AB$17=\"X\",AY80=\"X\"),1,0)","v":0},"X",{"$f":"IF(AND('Step 2 - Ornamental'!$AC$17=\"X\",BA80=\"X\"),1,0)","v":0},null,{"$f":"IF(AND('Step 2 - Ornamental'!$AA$22=\"X\",BC80=\"X\"),1,0)","v":0},null,{"$f":"IF(AND('Step 2 - Ornamental'!$AB$22=\"X\",BE80=\"X\"),1,0)","v":0},null,{"$f":"IF(AND('Step 2 - Ornamental'!$AC$22=\"X\",BG80=\"X\"),1,0)","v":0},null,{"$f":"IF(AND('Step 2 - Ornamental'!$AD$22=\"X\",BI80=\"X\"),1,0)","v":0},"X","Non-flowering"]
[null,1,"PI SY","Pinus sylvestris","Scotch Pine","NA","Tolerant of wide range of soil conditions so long as drainage is good","X",null,null,"X",null,null,0,null,{"$f":"IF(AND('Step 2 - Ornamental'!$AA$21=\"X\",Q81=\"X\"),1,0)","v":0},"X",{"$f":"IF(AND('Step 2 - Ornamental'!$AB$21=\"X\",S81=\"X\"),1,0)","v":0},"X",{"$f":"IF(AND('Step 2 - Ornamental'!$AC$21=\"X\",U81=\"X\"),1,0)","v":0}," ",{"$f":"IF(AND('Step 2 - Ornamental'!$AA$19=\"X\",W81=\"X\"),1,0)","v":0},"X",{"$f":"IF(AND('Step 2 - Ornamental'!$AA$19=\"X\",Y81=\"X\"),1,0)","v":0},null,{"$f":"IF(AND('Step 2 - Ornamental'!$AB$19=\"X\",AA81=\"X\"),1,0)","v":0},null,{"$f":"IF(AND('Step 2 - Ornamental'!$AC$19=\"X\",AC81=\"X\"),1,0)","v":0},null,{"$f":"IF(AND('Step 2 - Ornamental'!$AA$20=\"X\",AE81=\"X\"),1,0)","v":0},"X",{"$f":"IF(AND('Step 2 - Ornamental'!$AA$20=\"X\",AG81=\"X\"),1,0)","v":0},null,{"$f":"IF(AND('Step 2 - Ornamental'!$AB$20=\"X\",AI81=\"X\"),1,0)","v":0},null,{"$f":"IF(AND('Step 2 - Ornamental'!$AC$20=\"X\",AK81=\"X\"),1,0)","v":0},null,{"$f":"IF(AND('Step 2 - Ornamental'!$AA$18=\"X\",AM81=\"X\"),1,0)","v":0},"X",{"$f":"IF(AND('Step 2 - Ornamental'!$AB$18=\"X\",AO81=\"X\"),1,0)","v":0},"X",{"$f":"IF(AND('Step 2 - Ornamental'!$AC$18=\"X\",AQ81=\"X\"),1,0)","v":0},null,{"$f":"IF(AND('Step 2 - Ornamental'!$AD$18=\"X\",AS81=\"X\"),1,0)","v":0},null,{"$f":"IF(AND('Step 2 - Ornamental'!$AE$18=\"X\",AU81=\"X\"),1,0)","v":0},null,{"$f":"IF(AND('Step 2 - Ornamental'!$AA$17=\"X\",AW81=\"X\"),1,0)","v":0},"X",{"$f":"IF(AND('Step 2 - Ornamental'!$AB$17=\"X\",AY81=\"X\"),1,0)","v":0},null,{"$f":"IF(AND('Step 2 - Ornamental'!$AC$17=\"X\",BA81=\"X\"),1,0)","v":0},null,{"$f":"IF(AND('Step 2 - Ornamental'!$AA$22=\"X\",BC81=\"X\"),1,0)","v":0},null,{"$f":"IF(AND('Step 2 - Ornamental'!$AB$22=\"X\",BE81=\"X\"),1,0)","v":0},null,{"$f":"IF(AND('Step 2 - Ornamental'!$AC$22=\"X\",BG81=\"X\"),1,0)","v":0},null,{"$f":"IF(AND('Step 2 - Ornamental'!$AD$22=\"X\",BI81=\"X\"),1,0)","v":0},"X","Non-flowering"]
[null,1,"PS ME","Pseudotsuga menziesii","Douglas Fir","NA","Very tall at maturity, prefers medium to wet, well drained soils",null,"X",null,null,null,null,0,null,{"$f":"IF(AND('Step 2 - Ornamental'!$AA$21=\"X\",Q82=\"X\"),1,0)","v":0},"X",{"$f":"IF(AND('Step 2 - Ornamental'!$AB$21=\"X\",S82=\"X\"),1,0)","v":0},"X",{"$f":"IF(AND('Step 2 - Ornamental'!$AC$21=\"X\",U82=\"X\"),1,0)","v":0}," ",{"$f":"IF(AND('Step 2 - Ornamental'!$AA$19=\"X\",W82=\"X\"),1,0)","v":0},null,{"$f":"IF(AND('Step 2 - Ornamental'!$AA$19=\"X\",Y82=\"X\"),1,0)","v":0},"X",{"$f":"IF(AND('Step 2 - Ornamental'!$AB$19=\"X\",AA82=\"X\"),1,0)","v":0},"X",{"$f":"IF(AND('Step 2 - Ornamental'!$AC$19=\"X\",AC82=\"X\"),1,0)","v":0},null,{"$f":"IF(AND('Step 2 - Ornamental'!$AA$20=\"X\",AE82=\"X\"),1,0)","v":0},"X",{"$f":"IF(AND('Step 2 - Ornamental'!$AA$20=\"X\",AG82=\"X\"),1,0)","v":0},null,{"$f":"IF(AND('Step 2 - Ornamental'!$AB$20=\"X\",AI82=\"X\"),1,0)","v":0},null,{"$f":"IF(AND('Step 2 - Ornamental'!$AC$20=\"X\",AK82=\"X\"),1,0)","v":0},null,{"$f":"IF(AND('Step 2 - Ornamental'!$AA$18=\"X\",AM82=\"X\"),1,0)","v":0},null,{"$f":"IF(AND('Step 2 - Ornamental'!$AB$18=\"X\",AO82=\"X\"),1,0)","v":0},"X",{"$f":"IF(AND('Step 2 - Ornamental'!$AC$18=\"X\",AQ82=\"X\"),1,0)","v":0},"X",{"$f":"IF(AND('Step 2 - Ornamental'!$AD$18=\"X\",AS82=\"X\"),1,0)","v":0},null,{"$f":"IF(AND('Step 2 - Ornamental'!$AE$18=\"X\",AU82=\"X\"),1,0)","v":0},null,{"$f":"IF(AND('Step 2 - Ornamental'!$AA$17=\"X\",AW82=\"X\"),1,0)","v":0},"X",{"$f":"IF(AND('Step 2 - Ornamental'!$AB$17=\"X\",AY82=\"X\"),1,0)","v":0},null,{"$f":"IF(AND('Step 2 - Ornamental'!$AC$17=\"X\",BA82=\"X\"),1,0)","v":0},null,{"$f":"IF(AND('Step 2 - Ornamental'!$AA$22=\"X\",BC82=\"X\"),1,0)","v":0},null,{"$f":"IF(AND('Step 2 - Ornamental'!$AB$22=\"X\",BE82=\"X\"),1,0)","v":0},null,{"$f":"IF(AND('Step 2 - Ornamental'!$AC$22=\"X\",BG82=\"X\"),1,0)","v":0},null,{"$f":"IF(AND('Step 2 - Ornamental'!$AD$22=\"X\",BI82=\"X\"),1,0)","v":0},"X","Non-flowering"]
[null,1,"TA DI","Taxodium distichum","Common Bald cypress","NA","Prefers moist, acidic, sandy soil",null,"X",null,"X",null,null,0,null,{"$f":"IF(AND('Step 2 - Ornamental'!$AA$21=\"X\",Q83=\"X\"),1,0)","v":0},"X",{"$f":"IF(AND('Step 2 - Ornamental'!$AB$21=\"X\",S83=\"X\"),1,0)","v":0},"X",{"$f":"IF(AND('Step 2 - Ornamental'!$AC$21=\"X\",U83=\"X\"),1,0)","v":0}," ",{"$f":"IF(AND('Step 2 - Ornamental'!$AA$19=\"X\",W83=\"X\"),1,0)","v":0},null,{"$f":"IF(AND('Step 2 - Ornamental'!$AA$19=\"X\",Y83=\"X\"),1,0)","v":0},"X",{"$f":"IF(AND('Step 2 - Ornamental'!$AB$19=\"X\",AA83=\"X\"),1,0)","v":0},"X",{"$f":"IF(AND('Step 2 - Ornamental'!$AC$19=\"X\",AC83=\"X\"),1,0)","v":0},null,{"$f":"IF(AND('Step 2 - Ornamental'!$AA$20=\"X\",AE83=\"X\"),1,0)","v":0},null,{"$f":"IF(AND('Step 2 - Ornamental'!$AA$20=\"X\",AG83=\"X\"),1,0)","v":0},"X",{"$f":"IF(AND('Step 2 - Ornamental'!$AB$20=\"X\",AI83=\"X\"),1,0)","v":0},"X",{"$f":"IF(AND('Step 2 - Ornamental'!$AC$20=\"X\",AK83=\"X\"),1,0)","v":0},"X",{"$f":"IF(AND('Step 2 - Ornamental'!$AA$18=\"X\",AM83=\"X\"),1,0)","v":0},null,{"$f":"IF(AND('Step 2 - Ornamental'!$AB$18=\"X\",AO83=\"X\"),1,0)","v":0},"X",{"$f":"IF(AND('Step 2 - Ornamental'!$AC$18=\"X\",AQ83=\"X\"),1,0)","v":0},"X",{"$f":"IF(AND('Step 2 - Ornamental'!$AD$18=\"X\",AS83=\"X\"),1,0)","v":0},"X",{"$f":"IF(AND('Step 2 - Ornamental'!$AE$18=\"X\",AU83=\"X\"),1,0)","v":0},null,{"$f":"IF(AND('Step 2 - Ornamental'!$AA$17=\"X\",AW83=\"X\"),1,0)","v":0},"X",{"$f":"IF(AND('Step 2 - Ornamental'!$AB$17=\"X\",AY83=\"X\"),1,0)","v":0},null,{"$f":"IF(AND('Step 2 - Ornamental'!$AC$17=\"X\",BA83=\"X\"),1,0)","v":0},null,{"$f":"IF(AND('Step 2 - Ornamental'!$AA$22=\"X\",BC83=\"X\"),1,0)","v":0},null,{"$f":"IF(AND('Step 2 - Ornamental'!$AB$22=\"X\",BE83=\"X\"),1,0)","v":0},null,{"$f":"IF(AND('Step 2 - Ornamental'!$AC$22=\"X\",BG83=\"X\"),1,0)","v":0},null,{"$f":"IF(AND('Step 2 - Ornamental'!$AD$22=\"X\",BI83=\"X\"),1,0)","v":0},"X","Non-flowering"]
[null,1,"TH ON","Thuja occidentalis 'Nigra'","Nigra Arborvitae","NA","Conical form, (5'wx25'h), good dark green color year-round",null,"X","X",null,null,null,0,null,{"$f":"IF(AND('Step 2 - Ornamental'!$AA$21=\"X\",Q84=\"X\"),1,0)","v":0},"X",{"$f":"IF(AND('Step 2 - Ornamental'!$AB$21=\"X\",S84=\"X\"),1,0)","v":0},"X",{"$f":"IF(AND('Step 2 - Ornamental'!$AC$21=\"X\",U84=\"X\"),1,0)","v":0},"X",{"$f":"IF(AND('Step 2 - Ornamental'!$AA$19=\"X\",W84=\"X\"),1,0)","v":0},null,{"$f":"IF(AND('Step 2 - Ornamental'!$AA$19=\"X\",Y84=\"X\"),1,0)","v":0},"X",{"$f":"IF(AND('Step 2 - Ornamental'!$AB$19=\"X\",AA84=\"X\"),1,0)","v":0},"X",{"$f":"IF(AND('Step 2 - Ornamental'!$AC$19=\"X\",AC84=\"X\"),1,0)","v":0},null,{"$f":"IF(AND('Step 2 - Ornamental'!$AA$20=\"X\",AE84=\"X\"),1,0)","v":0},null,{"$f":"IF(AND('Step 2 - Ornamental'!$AA$20=\"X\",AG84=\"X\"),1,0)","v":0},"X",{"$f":"IF(AND('Step 2 - Ornamental'!$AB$20=\"X\",AI84=\"X\"),1,0)","v":0},"X",{"$f":"IF(AND('Step 2 - Ornamental'!$AC$20=\"X\",AK84=\"X\"),1,0)","v":0},null,{"$f":"IF(AND('Step 2 - Ornamental'!$AA$18=\"X\",AM84=\"X\"),1,0)","v":0},null,{"$f":"IF(AND('Step 2 - Ornamental'!$AB$18=\"X\",AO84=\"X\"),1,0)","v":0},"X",{"$f":"IF(AND('Step 2 - Ornamental'!$AC$18=\"X\",AQ84=\"X\"),1,0)","v":0},"X",{"$f":"IF(AND('Step 2 - Ornamental'!$AD$18=\"X\",AS84=\"X\"),1,0)","v":0},null,{"$f":"IF(AND('Step 2 - Ornamental'!$AE$18=\"X\",AU84=\"X\"),1,0)","v":0},null,{"$f":"IF(AND('Step 2 - Ornamental'!$AA$17=\"X\",AW84=\"X\"),1,0)","v":0},"X",{"$f":"IF(AND('Step 2 - Ornamental'!$AB$17=\"X\",AY84=\"X\"),1,0)","v":0},null,{"$f":"IF(AND('Step 2 - Ornamental'!$AC$17=\"X\",BA84=\"X\"),1,0)","v":0},null,{"$f":"IF(AND('Step 2 - Ornamental'!$AA$22=\"X\",BC84=\"X\"),1,0)","v":0},null,{"$f":"IF(AND('Step 2 - Ornamental'!$AB$22=\"X\",BE84=\"X\"),1,0)","v":0},null,{"$f":"IF(AND('Step 2 - Ornamental'!$AC$22=\"X\",BG84=\"X\"),1,0)","v":0},null,{"$f":"IF(AND('Step 2 - Ornamental'!$AD$22=\"X\",BI84=\"X\"),1,0)","v":0},"X","Non-flowering"]
[null,1,"TH OC","Thuja occidentalis 'Techny'","Techny Arborvitae","NA","Intolerant of dry conditions, avoid exposed sites, (8'wx18'h)",null,"X","X",null,null,null,0,null,{"$f":"IF(AND('Step 2 - Ornamental'!$AA$21=\"X\",Q85=\"X\"),1,0)","v":0},"X",{"$f":"IF(AND('Step 2 - Ornamental'!$AB$21=\"X\",S85=\"X\"),1,0)","v":0},"X",{"$f":"IF(AND('Step 2 - Ornamental'!$AC$21=\"X\",U85=\"X\"),1,0)","v":0},"X",{"$f":"IF(AND('Step 2 - Ornamental'!$AA$19=\"X\",W85=\"X\"),1,0)","v":0},null,{"$f":"IF(AND('Step 2 - Ornamental'!$AA$19=\"X\",Y85=\"X\"),1,0)","v":0},"X",{"$f":"IF(AND('Step 2 - Ornamental'!$AB$19=\"X\",AA85=\"X\"),1,0)","v":0},"X",{"$f":"IF(AND('Step 2 - Ornamental'!$AC$19=\"X\",AC85=\"X\"),1,0)","v":0},null,{"$f":"IF(AND('Step 2 - Ornamental'!$AA$20=\"X\",AE85=\"X\"),1,0)","v":0},null,{"$f":"IF(AND('Step 2 - Ornamental'!$AA$20=\"X\",AG85=\"X\"),1,0)","v":0},"X",{"$f":"IF(AND('Step 2 - Ornamental'!$AB$20=\"X\",AI85=\"X\"),1,0)","v":0},"X",{"$f":"IF(AND('Step 2 - Ornamental'!$AC$20=\"X\",AK85=\"X\"),1,0)","v":0},null,{"$f":"IF(AND('Step 2 - Ornamental'!$AA$18=\"X\",AM85=\"X\"),1,0)","v":0},null,{"$f":"IF(AND('Step 2 - Ornamental'!$AB$18=\"X\",AO85=\"X\"),1,0)","v":0},"X",{"$f":"IF(AND('Step 2 - Ornamental'!$AC$18=\"X\",AQ85=\"X\"),1,0)","v":0},"X",{"$f":"IF(AND('Step 2 - Ornamental'!$AD$18=\"X\",AS85=\"X\"),1,0)","v":0},null,{"$f":"IF(AND('Step 2 - Ornamental'!$AE$18=\"X\",AU85=\"X\"),1,0)","v":0},null,{"$f":"IF(AND('Step 2 - Ornamental'!$AA$17=\"X\",AW85=\"X\"),1,0)","v":0},"X",{"$f":"IF(AND('Step 2 - Ornamental'!$AB$17=\"X\",AY85=\"X\"),1,0)","v":0},null,{"$f":"IF(AND('Step 2 - Ornamental'!$AC$17=\"X\",BA85=\"X\"),1,0)","v":0},null,{"$f":"IF(AND('Step 2 - Ornamental'!$AA$22=\"X\",BC85=\"X\"),1,0)","v":0},null,{"$f":"IF(AND('Step 2 - Ornamental'!$AB$22=\"X\",BE85=\"X\"),1,0)","v":0},null,{"$f":"IF(AND('Step 2 - Ornamental'!$AC$22=\"X\",BG85=\"X\"),1,0)","v":0},null,{"$f":"IF(AND('Step 2 - Ornamental'!$AD$22=\"X\",BI85=\"X\"),1,0)","v":0},"X","Non-flowering"]
[null,1,"TH PL","Thuja plicata 'Green Giant'","Green Giant Arborvitae","NA","Prefers moist soil, big (15'wx40'h)","X",null,null,null,null,null,0,null,{"$f":"IF(AND('Step 2 - Ornamental'!$AA$21=\"X\",Q86=\"X\"),1,0)","v":0},"X",{"$f":"IF(AND('Step 2 - Ornamental'!$AB$21=\"X\",S86=\"X\"),1,0)","v":0},"X",{"$f":"IF(AND('Step 2 - Ornamental'!$AC$21=\"X\",U86=\"X\"),1,0)","v":0},"X",{"$f":"IF(AND('Step 2 - Ornamental'!$AA$19=\"X\",W86=\"X\"),1,0)","v":0},"X",{"$f":"IF(AND('Step 2 - Ornamental'!$AA$19=\"X\",Y86=\"X\"),1,0)","v":0},null,{"$f":"IF(AND('Step 2 - Ornamental'!$AB$19=\"X\",AA86=\"X\"),1,0)","v":0},null,{"$f":"IF(AND('Step 2 - Ornamental'!$AC$19=\"X\",AC86=\"X\"),1,0)","v":0},null,{"$f":"IF(AND('Step 2 - Ornamental'!$AA$20=\"X\",AE86=\"X\"),1,0)","v":0},"X",{"$f":"IF(AND('Step 2 - Ornamental'!$AA$20=\"X\",AG86=\"X\"),1,0)","v":0},null,{"$f":"IF(AND('Step 2 - Ornamental'!$AB$20=\"X\",AI86=\"X\"),1,0)","v":0},null,{"$f":"IF(AND('Step 2 - Ornamental'!$AC$20=\"X\",AK86=\"X\"),1,0)","v":0},null,{"$f":"IF(AND('Step 2 - Ornamental'!$AA$18=\"X\",AM86=\"X\"),1,0)","v":0},null,{"$f":"IF(AND('Step 2 - Ornamental'!$AB$18=\"X\",AO86=\"X\"),1,0)","v":0},"X",{"$f":"IF(AND('Step 2 - Ornamental'!$AC$18=\"X\",AQ86=\"X\"),1,0)","v":0},"X",{"$f":"IF(AND('Step 2 - Ornamental'!$AD$18=\"X\",AS86=\"X\"),1,0)","v":0},null,{"$f":"IF(AND('Step 2 - Ornamental'!$AE$18=\"X\",AU86=\"X\"),1,0)","v":0},null,{"$f":"IF(AND('Step 2 - Ornamental'!$AA$17=\"X\",AW86=\"X\"),1,0)","v":0},"X",{"$f":"IF(AND('Step 2 - Ornamental'!$AB$17=\"X\",AY86=\"X\"),1,0)","v":0},"X",{"$f":"IF(AND('Step 2 - Ornamental'!$AC$17=\"X\",BA86=\"X\"),1,0)","v":0},null,{"$f":"IF(AND('Step 2 - Ornamental'!$AA$22=\"X\",BC86=\"X\"),1,0)","v":0},null,{"$f":"IF(AND('Step 2 - Ornamental'!$AB$22=\"X\",BE86=\"X\"),1,0)","v":0},null,{"$f":"IF(AND('Step 2 - Ornamental'!$AC$22=\"X\",BG86=\"X\"),1,0)","v":0},null,{"$f":"IF(AND('Step 2 - Ornamental'!$AD$22=\"X\",BI86=\"X\"),1,0)","v":0},"X","Non-flowering"]
[]
["Ornamental Trees",2]
[null,{"$f":"SUM((N89+P89+R89+T89)*(V89+X89+Z89+AB89)*(AD89+AF89+AH89+AJ89)*(AL89+AN89+AP89+AR89+AT89)*(AV89+AX89+AZ89)*(BB89+BD89+BF89+BH89))+1","v":1},"AC JP","Acer japonicum ","Full Moon Maple","NA","Multi-stem form preferred,  grows 20'-30' tall, ","X",null,null,null,null,null,{"$f":"IF(O89=\"X\",1,0)","v":0},null,{"$f":"IF(AND('Step 2 - Ornamental'!$AA$21=\"X\",Q89=\"X\"),1,0)","v":0},"X",{"$f":"IF(AND('Step 2 - Ornamental'!$AB$21=\"X\",S89=\"X\"),1,0)","v":0},"X",{"$f":"IF(AND('Step 2 - Ornamental'!$AC$21=\"X\",U89=\"X\"),1,0)","v":0},null,{"$f":"IF(AND('Step 2 - Ornamental'!$AA$19=\"X\",W89=\"X\"),1,0)","v":0},"X",{"$f":"IF(AND('Step 2 - Ornamental'!$AA$19=\"X\",Y89=\"X\"),1,0)","v":0},null,{"$f":"IF(AND('Step 2 - Ornamental'!$AB$19=\"X\",AA89=\"X\"),1,0)","v":0},null,{"$f":"IF(AND('Step 2 - Ornamental'!$AC$19=\"X\",AC89=\"X\"),1,0)","v":0},null,{"$f":"IF(AND('Step 2 - Ornamental'!$AA$20=\"X\",AE89=\"X\"),1,0)","v":0},"X",{"$f":"IF(AND('Step 2 - Ornamental'!$AA$20=\"X\",AG89=\"X\"),1,0)","v":0},null,{"$f":"IF(AND('Step 2 - Ornamental'!$AB$20=\"X\",AI89=\"X\"),1,0)","v":0},null,{"$f":"IF(AND('Step 2 - Ornamental'!$AC$20=\"X\",AK89=\"X\"),1,0)","v":0},null,{"$f":"IF(AND('Step 2 - Ornamental'!$AA$18=\"X\",AM89=\"X\"),1,0)","v":0},null,{"$f":"IF(AND('Step 2 - Ornamental'!$AB$18=\"X\",AO89=\"X\"),1,0)","v":0},"X",{"$f":"IF(AND('Step 2 - Ornamental'!$AC$18=\"X\",AQ89=\"X\"),1,0)","v":0},null,{"$f":"IF(AND('Step 2 - Ornamental'!$AD$18=\"X\",AS89=\"X\"),1,0)","v":0},null,{"$f":"IF(AND('Step 2 - Ornamental'!$AE$18=\"X\",AU89=\"X\"),1,0)","v":0},null,{"$f":"IF(AND('Step 2 - Ornamental'!$AA$17=\"X\",AW89=\"X\"),1,0)","v":0},null,{"$f":"IF(AND('Step 2 - Ornamental'!$AB$17=\"X\",AY89=\"X\"),1,0)","v":0},"X",{"$f":"IF(AND('Step 2 - Ornamental'!$AC$17=\"X\",BA89=\"X\"),1,0)","v":0},null,{"$f":"IF(AND('Step 2 - Ornamental'!$AA$22=\"X\",BC89=\"X\"),1,0)","v":0},null,{"$f":"IF(AND('Step 2 - Ornamental'!$AB$22=\"X\",BE89=\"X\"),1,0)","v":0},null,{"$f":"IF(AND('Step 2 - Ornamental'!$AC$22=\"X\",BG89=\"X\"),1,0)","v":0},null,{"$f":"IF(AND('Step 2 - Ornamental'!$AD$22=\"X\",BI89=\"X\"),1,0)","v":0},"X","Flowers are Not Showy"]
[null,1,"AM LA","Amelanchier laevis","Allegheny Serviceberry","NA","Multi-stem form preferred, Tolerant of wide range of soils, edible fruit, "," ","X","X",null,null,null,0,null,{"$f":"IF(AND('Step 2 - Ornamental'!$AA$21=\"X\",Q90=\"X\"),1,0)","v":0},"X",{"$f":"IF(AND('Step 2 - Ornamental'!$AB$21=\"X\",S90=\"X\"),1,0)","v":0},"X",{"$f":"IF(AND('Step 2 - Ornamental'!$AC$21=\"X\",U90=\"X\"),1,0)","v":0}," ",{"$f":"IF(AND('Step 2 - Ornamental'!$AA$19=\"X\",W90=\"X\"),1,0)","v":0},null,{"$f":"IF(AND('Step 2 - Ornamental'!$AA$19=\"X\",Y90=\"X\"),1,0)","v":0},"X",{"$f":"IF(AND('Step 2 - Ornamental'!$AB$19=\"X\",AA90=\"X\"),1,0)","v":0},null,{"$f":"IF(AND('Step 2 - Ornamental'!$AC$19=\"X\",AC90=\"X\"),1,0)","v":0},null,{"$f":"IF(AND('Step 2 - Ornamental'!$AA$20=\"X\",AE90=\"X\"),1,0)","v":0},null,{"$f":"IF(AND('Step 2 - Ornamental'!$AA$20=\"X\",AG90=\"X\"),1,0)","v":0},"X",{"$f":"IF(AND('Step 2 - Ornamental'!$AB$20=\"X\",AI90=\"X\"),1,0)","v":0},"X",{"$f":"IF(AND('Step 2 - Ornamental'!$AC$20=\"X\",AK90=\"X\"),1,0)","v":0},null,{"$f":"IF(AND('Step 2 - Ornamental'!$AA$18=\"X\",AM90=\"X\"),1,0)","v":0},"X",{"$f":"IF(AND('Step 2 - Ornamental'!$AB$18=\"X\",AO90=\"X\"),1,0)","v":0},"X",{"$f":"IF(AND('Step 2 - Ornamental'!$AC$18=\"X\",AQ90=\"X\"),1,0)","v":0},null,{"$f":"IF(AND('Step 2 - Ornamental'!$AD$18=\"X\",AS90=\"X\"),1,0)","v":0},null,{"$f":"IF(AND('Step 2 - Ornamental'!$AE$18=\"X\",AU90=\"X\"),1,0)","v":0},null,{"$f":"IF(AND('Step 2 - Ornamental'!$AA$17=\"X\",AW90=\"X\"),1,0)","v":0},"X",{"$f":"IF(AND('Step 2 - Ornamental'!$AB$17=\"X\",AY90=\"X\"),1,0)","v":0},"X",{"$f":"IF(AND('Step 2 - Ornamental'!$AC$17=\"X\",BA90=\"X\"),1,0)","v":0},null,{"$f":"IF(AND('Step 2 - Ornamental'!$AA$22=\"X\",BC90=\"X\"),1,0)","v":0},null,{"$f":"IF(AND('Step 2 - Ornamental'!$AB$22=\"X\",BE90=\"X\"),1,0)","v":0},null,{"$f":"IF(AND('Step 2 - Ornamental'!$AC$22=\"X\",BG90=\"X\"),1,0)","v":0},null,{"$f":"IF(AND('Step 2 - Ornamental'!$AD$22=\"X\",BI90=\"X\"),1,0)","v":0},"X",null,null,null,"White / 15'-40'"]
[null,1,"AM GR","Amelanchier x grandifolia 'Autumn Brilliance'","Apple Serviceberry","NA","Multi-stem form preferred, Tolerant of wide range of soils, edible fruit, "," ","X",null,null,null,null,0,null,{"$f":"IF(AND('Step 2 - Ornamental'!$AA$21=\"X\",Q91=\"X\"),1,0)","v":0},"X",{"$f":"IF(AND('Step 2 - Ornamental'!$AB$21=\"X\",S91=\"X\"),1,0)","v":0},"X",{"$f":"IF(AND('Step 2 - Ornamental'!$AC$21=\"X\",U91=\"X\"),1,0)","v":0}," ",{"$f":"IF(AND('Step 2 - Ornamental'!$AA$19=\"X\",W91=\"X\"),1,0)","v":0},null,{"$f":"IF(AND('Step 2 - Ornamental'!$AA$19=\"X\",Y91=\"X\"),1,0)","v":0},"X",{"$f":"IF(AND('Step 2 - Ornamental'!$AB$19=\"X\",AA91=\"X\"),1,0)","v":0},null,{"$f":"IF(AND('Step 2 - Ornamental'!$AC$19=\"X\",AC91=\"X\"),1,0)","v":0},null,{"$f":"IF(AND('Step 2 - Ornamental'!$AA$20=\"X\",AE91=\"X\"),1,0)","v":0},"X",{"$f":"IF(AND('Step 2 - Ornamental'!$AA$20=\"X\",AG91=\"X\"),1,0)","v":0},null,{"$f":"IF(AND('Step 2 - Ornamental'!$AB$20=\"X\",AI91=\"X\"),1,0)","v":0},null,{"$f":"IF(AND('Step 2 - Ornamental'!$AC$20=\"X\",AK91=\"X\"),1,0)","v":0},null,{"$f":"IF(AND('Step 2 - Ornamental'!$AA$18=\"X\",AM91=\"X\"),1,0)","v":0},"X",{"$f":"IF(AND('Step 2 - Ornamental'!$AB$18=\"X\",AO91=\"X\"),1,0)","v":0},"X",{"$f":"IF(AND('Step 2 - Ornamental'!$AC$18=\"X\",AQ91=\"X\"),1,0)","v":0},null,{"$f":"IF(AND('Step 2 - Ornamental'!$AD$18=\"X\",AS91=\"X\"),1,0)","v":0},null,{"$f":"IF(AND('Step 2 - Ornamental'!$AE$18=\"X\",AU91=\"X\"),1,0)","v":0},null,{"$f":"IF(AND('Step 2 - Ornamental'!$AA$17=\"X\",AW91=\"X\"),1,0)","v":0},"X",{"$f":"IF(AND('Step 2 - Ornamental'!$AB$17=\"X\",AY91=\"X\"),1,0)","v":0},"X",{"$f":"IF(AND('Step 2 - Ornamental'!$AC$17=\"X\",BA91=\"X\"),1,0)","v":0},null,{"$f":"IF(AND('Step 2 - Ornamental'!$AA$22=\"X\",BC91=\"X\"),1,0)","v":0},null,{"$f":"IF(AND('Step 2 - Ornamental'!$AB$22=\"X\",BE91=\"X\"),1,0)","v":0},null,{"$f":"IF(AND('Step 2 - Ornamental'!$AC$22=\"X\",BG91=\"X\"),1,0)","v":0},null,{"$f":"IF(AND('Step 2 - Ornamental'!$AD$22=\"X\",BI91=\"X\"),1,0)","v":0},"X",null,null,null,"White / 15'-25'"]
[" ",1,"BE PL","Betula platyphylla var. japonica 'Whitespire'","Whitespire Birch","NA","Multi-stem form preferred, Spring install only, root zone needs to stay cool and moist, ","X",null,null,"X",null,null,0,null,{"$f":"IF(AND('Step 2 - Ornamental'!$AA$21=\"X\",Q92=\"X\"),1,0)","v":0},"X",{"$f":"IF(AND('Step 2 - Ornamental'!$AB$21=\"X\",S92=\"X\"),1,0)","v":0},"X",{"$f":"IF(AND('Step 2 - Ornamental'!$AC$21=\"X\",U92=\"X\"),1,0)","v":0},"X",{"$f":"IF(AND('Step 2 - Ornamental'!$AA$19=\"X\",W92=\"X\"),1,0)","v":0},"X",{"$f":"IF(AND('Step 2 - Ornamental'!$AA$19=\"X\",Y92=\"X\"),1,0)","v":0},null,{"$f":"IF(AND('Step 2 - Ornamental'!$AB$19=\"X\",AA92=\"X\"),1,0)","v":0},null,{"$f":"IF(AND('Step 2 - Ornamental'!$AC$19=\"X\",AC92=\"X\"),1,0)","v":0},null,{"$f":"IF(AND('Step 2 - Ornamental'!$AA$20=\"X\",AE92=\"X\"),1,0)","v":0},"X",{"$f":"IF(AND('Step 2 - Ornamental'!$AA$20=\"X\",AG92=\"X\"),1,0)","v":0},null,{"$f":"IF(AND('Step 2 - Ornamental'!$AB$20=\"X\",AI92=\"X\"),1,0)","v":0},null,{"$f":"IF(AND('Step 2 - Ornamental'!$AC$20=\"X\",AK92=\"X\"),1,0)","v":0},null,{"$f":"IF(AND('Step 2 - Ornamental'!$AA$18=\"X\",AM92=\"X\"),1,0)","v":0},"X",{"$f":"IF(AND('Step 2 - Ornamental'!$AB$18=\"X\",AO92=\"X\"),1,0)","v":0},"X",{"$f":"IF(AND('Step 2 - Ornamental'!$AC$18=\"X\",AQ92=\"X\"),1,0)","v":0},"X",{"$f":"IF(AND('Step 2 - Ornamental'!$AD$18=\"X\",AS92=\"X\"),1,0)","v":0},null,{"$f":"IF(AND('Step 2 - Ornamental'!$AE$18=\"X\",AU92=\"X\"),1,0)","v":0},null,{"$f":"IF(AND('Step 2 - Ornamental'!$AA$17=\"X\",AW92=\"X\"),1,0)","v":0},"X",{"$f":"IF(AND('Step 2 - Ornamental'!$AB$17=\"X\",AY92=\"X\"),1,0)","v":0},null,{"$f":"IF(AND('Step 2 - Ornamental'!$AC$17=\"X\",BA92=\"X\"),1,0)","v":0},null,{"$f":"IF(AND('Step 2 - Ornamental'!$AA$22=\"X\",BC92=\"X\"),1,0)","v":0},null,{"$f":"IF(AND('Step 2 - Ornamental'!$AB$22=\"X\",BE92=\"X\"),1,0)","v":0},null,{"$f":"IF(AND('Step 2 - Ornamental'!$AC$22=\"X\",BG92=\"X\"),1,0)","v":0},null,{"$f":"IF(AND('Step 2 - Ornamental'!$AD$22=\"X\",BI92=\"X\"),1,0)","v":0},"X","Flowers are Not Showy"]
[null,1,"CA BE","Carpinus betulus 'Fastigiata'","Fastigate European Hornbeam","NA","Can be pruned for hedge shape","X",null,null,null,null,null,0,null,{"$f":"IF(AND('Step 2 - Ornamental'!$AA$21=\"X\",Q93=\"X\"),1,0)","v":0},"X",{"$f":"IF(AND('Step 2 - Ornamental'!$AB$21=\"X\",S93=\"X\"),1,0)","v":0},"X",{"$f":"IF(AND('Step 2 - Ornamental'!$AC$21=\"X\",U93=\"X\"),1,0)","v":0},"X",{"$f":"IF(AND('Step 2 - Ornamental'!$AA$19=\"X\",W93=\"X\"),1,0)","v":0},null,{"$f":"IF(AND('Step 2 - Ornamental'!$AA$19=\"X\",Y93=\"X\"),1,0)","v":0},"X",{"$f":"IF(AND('Step 2 - Ornamental'!$AB$19=\"X\",AA93=\"X\"),1,0)","v":0},null,{"$f":"IF(AND('Step 2 - Ornamental'!$AC$19=\"X\",AC93=\"X\"),1,0)","v":0},null,{"$f":"IF(AND('Step 2 - Ornamental'!$AA$20=\"X\",AE93=\"X\"),1,0)","v":0},"X",{"$f":"IF(AND('Step 2 - Ornamental'!$AA$20=\"X\",AG93=\"X\"),1,0)","v":0},null,{"$f":"IF(AND('Step 2 - Ornamental'!$AB$20=\"X\",AI93=\"X\"),1,0)","v":0},null,{"$f":"IF(AND('Step 2 - Ornamental'!$AC$20=\"X\",AK93=\"X\"),1,0)","v":0},null,{"$f":"IF(AND('Step 2 - Ornamental'!$AA$18=\"X\",AM93=\"X\"),1,0)","v":0},"X",{"$f":"IF(AND('Step 2 - Ornamental'!$AB$18=\"X\",AO93=\"X\"),1,0)","v":0},"X",{"$f":"IF(AND('Step 2 - Ornamental'!$AC$18=\"X\",AQ93=\"X\"),1,0)","v":0},null,{"$f":"IF(AND('Step 2 - Ornamental'!$AD$18=\"X\",AS93=\"X\"),1,0)","v":0},null,{"$f":"IF(AND('Step 2 - Ornamental'!$AE$18=\"X\",AU93=\"X\"),1,0)","v":0},null,{"$f":"IF(AND('Step 2 - Ornamental'!$AA$17=\"X\",AW93=\"X\"),1,0)","v":0},"X",{"$f":"IF(AND('Step 2 - Ornamental'!$AB$17=\"X\",AY93=\"X\"),1,0)","v":0},"X",{"$f":"IF(AND('Step 2 - Ornamental'!$AC$17=\"X\",BA93=\"X\"),1,0)","v":0},null,{"$f":"IF(AND('Step 2 - Ornamental'!$AA$22=\"X\",BC93=\"X\"),1,0)","v":0},null,{"$f":"IF(AND('Step 2 - Ornamental'!$AB$22=\"X\",BE93=\"X\"),1,0)","v":0},null,{"$f":"IF(AND('Step 2 - Ornamental'!$AC$22=\"X\",BG93=\"X\"),1,0)","v":0},null,{"$f":"IF(AND('Step 2 - Ornamental'!$AD$22=\"X\",BI93=\"X\"),1,0)","v":0},"X","Flowers are Not Showy"]
[null,1,"CA CA","Carpinus caroliniana","Blue Beech","NA","Slow growing, but attractive native tree for shady understory,",null,"X","X",null,null,null,0,null,{"$f":"IF(AND('Step 2 - Ornamental'!$AA$21=\"X\",Q94=\"X\"),1,0)","v":0},"X",{"$f":"IF(AND('Step 2 - Ornamental'!$AB$21=\"X\",S94=\"X\"),1,0)","v":0},null,{"$f":"IF(AND('Step 2 - Ornamental'!$AC$21=\"X\",U94=\"X\"),1,0)","v":0},null,{"$f":"IF(AND('Step 2 - Ornamental'!$AA$19=\"X\",W94=\"X\"),1,0)","v":0},null,{"$f":"IF(AND('Step 2 - Ornamental'!$AA$19=\"X\",Y94=\"X\"),1,0)","v":0},"X",{"$f":"IF(AND('Step 2 - Ornamental'!$AB$19=\"X\",AA94=\"X\"),1,0)","v":0},null,{"$f":"IF(AND('Step 2 - Ornamental'!$AC$19=\"X\",AC94=\"X\"),1,0)","v":0},null,{"$f":"IF(AND('Step 2 - Ornamental'!$AA$20=\"X\",AE94=\"X\"),1,0)","v":0},"X",{"$f":"IF(AND('Step 2 - Ornamental'!$AA$20=\"X\",AG94=\"X\"),1,0)","v":0},null,{"$f":"IF(AND('Step 2 - Ornamental'!$AB$20=\"X\",AI94=\"X\"),1,0)","v":0},null,{"$f":"IF(AND('Step 2 - Ornamental'!$AC$20=\"X\",AK94=\"X\"),1,0)","v":0},null,{"$f":"IF(AND('Step 2 - Ornamental'!$AA$18=\"X\",AM94=\"X\"),1,0)","v":0},"X",{"$f":"IF(AND('Step 2 - Ornamental'!$AB$18=\"X\",AO94=\"X\"),1,0)","v":0},"X",{"$f":"IF(AND('Step 2 - Ornamental'!$AC$18=\"X\",AQ94=\"X\"),1,0)","v":0},null,{"$f":"IF(AND('Step 2 - Ornamental'!$AD$18=\"X\",AS94=\"X\"),1,0)","v":0},null,{"$f":"IF(AND('Step 2 - Ornamental'!$AE$18=\"X\",AU94=\"X\"),1,0)","v":0},null,{"$f":"IF(AND('Step 2 - Ornamental'!$AA$17=\"X\",AW94=\"X\"),1,0)","v":0},null,{"$f":"IF(AND('Step 2 - Ornamental'!$AB$17=\"X\",AY94=\"X\"),1,0)","v":0},"X",{"$f":"IF(AND('Step 2 - Ornamental'!$AC$17=\"X\",BA94=\"X\"),1,0)","v":0},"X",{"$f":"IF(AND('Step 2 - Ornamental'!$AA$22=\"X\",BC94=\"X\"),1,0)","v":0},null,{"$f":"IF(AND('Step 2 - Ornamental'!$AB$22=\"X\",BE94=\"X\"),1,0)","v":0},null,{"$f":"IF(AND('Step 2 - Ornamental'!$AC$22=\"X\",BG94=\"X\"),1,0)","v":0},null,{"$f":"IF(AND('Step 2 - Ornamental'!$AD$22=\"X\",BI94=\"X\"),1,0)","v":0},"X","Flowers are Not Showy"]
[null,1,"CE CA","Cercis canadensis","Redbud","NA","Multi-stem form preferred, Transplant young plants only, part shade is best in hot climates, "," ","X",null,"X",null,null,0,null,{"$f":"IF(AND('Step 2 - Ornamental'!$AA$21=\"X\",Q95=\"X\"),1,0)","v":0},"X",{"$f":"IF(AND('Step 2 - Ornamental'!$AB$21=\"X\",S95=\"X\"),1,0)","v":0},"X",{"$f":"IF(AND('Step 2 - Ornamental'!$AC$21=\"X\",U95=\"X\"),1,0)","v":0},"X",{"$f":"IF(AND('Step 2 - Ornamental'!$AA$19=\"X\",W95=\"X\"),1,0)","v":0},null,{"$f":"IF(AND('Step 2 - Ornamental'!$AA$19=\"X\",Y95=\"X\"),1,0)","v":0},"X",{"$f":"IF(AND('Step 2 - Ornamental'!$AB$19=\"X\",AA95=\"X\"),1,0)","v":0},null,{"$f":"IF(AND('Step 2 - Ornamental'!$AC$19=\"X\",AC95=\"X\"),1,0)","v":0},null,{"$f":"IF(AND('Step 2 - Ornamental'!$AA$20=\"X\",AE95=\"X\"),1,0)","v":0},"X",{"$f":"IF(AND('Step 2 - Ornamental'!$AA$20=\"X\",AG95=\"X\"),1,0)","v":0},null,{"$f":"IF(AND('Step 2 - Ornamental'!$AB$20=\"X\",AI95=\"X\"),1,0)","v":0},null,{"$f":"IF(AND('Step 2 - Ornamental'!$AC$20=\"X\",AK95=\"X\"),1,0)","v":0},null,{"$f":"IF(AND('Step 2 - Ornamental'!$AA$18=\"X\",AM95=\"X\"),1,0)","v":0},"X",{"$f":"IF(AND('Step 2 - Ornamental'!$AB$18=\"X\",AO95=\"X\"),1,0)","v":0},"X",{"$f":"IF(AND('Step 2 - Ornamental'!$AC$18=\"X\",AQ95=\"X\"),1,0)","v":0},null,{"$f":"IF(AND('Step 2 - Ornamental'!$AD$18=\"X\",AS95=\"X\"),1,0)","v":0},null,{"$f":"IF(AND('Step 2 - Ornamental'!$AE$18=\"X\",AU95=\"X\"),1,0)","v":0},null,{"$f":"IF(AND('Step 2 - Ornamental'!$AA$17=\"X\",AW95=\"X\"),1,0)","v":0},"X",{"$f":"IF(AND('Step 2 - Ornamental'!$AB$17=\"X\",AY95=\"X\"),1,0)","v":0},"X",{"$f":"IF(AND('Step 2 - Ornamental'!$AC$17=\"X\",BA95=\"X\"),1,0)","v":0},null,{"$f":"IF(AND('Step 2 - Ornamental'!$AA$22=\"X\",BC95=\"X\"),1,0)","v":0},null,{"$f":"IF(AND('Step 2 - Ornamental'!$AB$22=\"X\",BE95=\"X\"),1,0)","v":0},null,{"$f":"IF(AND('Step 2 - Ornamental'!$AC$22=\"X\",BG95=\"X\"),1,0)","v":0},null,{"$f":"IF(AND('Step 2 - Ornamental'!$AD$22=\"X\",BI95=\"X\"),1,0)","v":0},"X",null,null,null,"Pink / 20'-30'"]
[null,1,"CH VI","Chionanthus virginicus","White Fringetree","NA","Multi-stem form preferred, Spring install only, habit is variable ",null,"X",null,null,null,null,0,null,{"$f":"IF(AND('Step 2 - Ornamental'!$AA$21=\"X\",Q96=\"X\"),1,0)","v":0},"X",{"$f":"IF(AND('Step 2 - Ornamental'!$AB$21=\"X\",S96=\"X\"),1,0)","v":0},"X",{"$f":"IF(AND('Step 2 - Ornamental'!$AC$21=\"X\",U96=\"X\"),1,0)","v":0}," ",{"$f":"IF(AND('Step 2 - Ornamental'!$AA$19=\"X\",W96=\"X\"),1,0)","v":0},"X",{"$f":"IF(AND('Step 2 - Ornamental'!$AA$19=\"X\",Y96=\"X\"),1,0)","v":0},null,{"$f":"IF(AND('Step 2 - Ornamental'!$AB$19=\"X\",AA96=\"X\"),1,0)","v":0},null,{"$f":"IF(AND('Step 2 - Ornamental'!$AC$19=\"X\",AC96=\"X\"),1,0)","v":0},null,{"$f":"IF(AND('Step 2 - Ornamental'!$AA$20=\"X\",AE96=\"X\"),1,0)","v":0},"X",{"$f":"IF(AND('Step 2 - Ornamental'!$AA$20=\"X\",AG96=\"X\"),1,0)","v":0},null,{"$f":"IF(AND('Step 2 - Ornamental'!$AB$20=\"X\",AI96=\"X\"),1,0)","v":0},null,{"$f":"IF(AND('Step 2 - Ornamental'!$AC$20=\"X\",AK96=\"X\"),1,0)","v":0},null,{"$f":"IF(AND('Step 2 - Ornamental'!$AA$18=\"X\",AM96=\"X\"),1,0)","v":0},null,{"$f":"IF(AND('Step 2 - Ornamental'!$AB$18=\"X\",AO96=\"X\"),1,0)","v":0},"X",{"$f":"IF(AND('Step 2 - Ornamental'!$AC$18=\"X\",AQ96=\"X\"),1,0)","v":0},"X",{"$f":"IF(AND('Step 2 - Ornamental'!$AD$18=\"X\",AS96=\"X\"),1,0)","v":0},null,{"$f":"IF(AND('Step 2 - Ornamental'!$AE$18=\"X\",AU96=\"X\"),1,0)","v":0},null,{"$f":"IF(AND('Step 2 - Ornamental'!$AA$17=\"X\",AW96=\"X\"),1,0)","v":0},"X",{"$f":"IF(AND('Step 2 - Ornamental'!$AB$17=\"X\",AY96=\"X\"),1,0)","v":0},null,{"$f":"IF(AND('Step 2 - Ornamental'!$AC$17=\"X\",BA96=\"X\"),1,0)","v":0},null,{"$f":"IF(AND('Step 2 - Ornamental'!$AA$22=\"X\",BC96=\"X\"),1,0)","v":0},null,{"$f":"IF(AND('Step 2 - Ornamental'!$AB$22=\"X\",BE96=\"X\"),1,0)","v":0},null,{"$f":"IF(AND('Step 2 - Ornamental'!$AC$22=\"X\",BG96=\"X\"),1,0)","v":0},null,{"$f":"IF(AND('Step 2 - Ornamental'!$AD$22=\"X\",BI96=\"X\"),1,0)","v":0},"X",null,null,null,null,"Creamy white / 12'-20'"]
[null,1,"CO FL","Cornus florida","Flowering Dogwood","NA","Multi-stem form preferred, Likes acidic soils, keep root zone cool in summer, "," ","X",null,"X",null,null,0,null,{"$f":"IF(AND('Step 2 - Ornamental'!$AA$21=\"X\",Q97=\"X\"),1,0)","v":0},"X",{"$f":"IF(AND('Step 2 - Ornamental'!$AB$21=\"X\",S97=\"X\"),1,0)","v":0},"X",{"$f":"IF(AND('Step 2 - Ornamental'!$AC$21=\"X\",U97=\"X\"),1,0)","v":0}," ",{"$f":"IF(AND('Step 2 - Ornamental'!$AA$19=\"X\",W97=\"X\"),1,0)","v":0},"X",{"$f":"IF(AND('Step 2 - Ornamental'!$AA$19=\"X\",Y97=\"X\"),1,0)","v":0},null,{"$f":"IF(AND('Step 2 - Ornamental'!$AB$19=\"X\",AA97=\"X\"),1,0)","v":0},null,{"$f":"IF(AND('Step 2 - Ornamental'!$AC$19=\"X\",AC97=\"X\"),1,0)","v":0},null,{"$f":"IF(AND('Step 2 - Ornamental'!$AA$20=\"X\",AE97=\"X\"),1,0)","v":0},"X",{"$f":"IF(AND('Step 2 - Ornamental'!$AA$20=\"X\",AG97=\"X\"),1,0)","v":0},null,{"$f":"IF(AND('Step 2 - Ornamental'!$AB$20=\"X\",AI97=\"X\"),1,0)","v":0},null,{"$f":"IF(AND('Step 2 - Ornamental'!$AC$20=\"X\",AK97=\"X\"),1,0)","v":0},null,{"$f":"IF(AND('Step 2 - Ornamental'!$AA$18=\"X\",AM97=\"X\"),1,0)","v":0},"X",{"$f":"IF(AND('Step 2 - Ornamental'!$AB$18=\"X\",AO97=\"X\"),1,0)","v":0},"X",{"$f":"IF(AND('Step 2 - Ornamental'!$AC$18=\"X\",AQ97=\"X\"),1,0)","v":0},null,{"$f":"IF(AND('Step 2 - Ornamental'!$AD$18=\"X\",AS97=\"X\"),1,0)","v":0},null,{"$f":"IF(AND('Step 2 - Ornamental'!$AE$18=\"X\",AU97=\"X\"),1,0)","v":0},null,{"$f":"IF(AND('Step 2 - Ornamental'!$AA$17=\"X\",AW97=\"X\"),1,0)","v":0}," ",{"$f":"IF(AND('Step 2 - Ornamental'!$AB$17=\"X\",AY97=\"X\"),1,0)","v":0},"X",{"$f":"IF(AND('Step 2 - Ornamental'!$AC$17=\"X\",BA97=\"X\"),1,0)","v":0},null,{"$f":"IF(AND('Step 2 - Ornamental'!$AA$22=\"X\",BC97=\"X\"),1,0)","v":0},null,{"$f":"IF(AND('Step 2 - Ornamental'!$AB$22=\"X\",BE97=\"X\"),1,0)","v":0},null,{"$f":"IF(AND('Step 2 - Ornamental'!$AC$22=\"X\",BG97=\"X\"),1,0)","v":0},null,{"$f":"IF(AND('Step 2 - Ornamental'!$AD$22=\"X\",BI97=\"X\"),1,0)","v":0},"X",null,null,null,"White / 15'-30'"]
[null,1,"CO KO","Cornus kousa","Kousa Dogwood","NA","Multi-stem form preferred, Likes routine moisture in hot summers, does well in sandy loams","X",null,null,"X",null,null,0,null,{"$f":"IF(AND('Step 2 - Ornamental'!$AA$21=\"X\",Q98=\"X\"),1,0)","v":0},"X",{"$f":"IF(AND('Step 2 - Ornamental'!$AB$21=\"X\",S98=\"X\"),1,0)","v":0},"X",{"$f":"IF(AND('Step 2 - Ornamental'!$AC$21=\"X\",U98=\"X\"),1,0)","v":0}," ",{"$f":"IF(AND('Step 2 - Ornamental'!$AA$19=\"X\",W98=\"X\"),1,0)","v":0},"X",{"$f":"IF(AND('Step 2 - Ornamental'!$AA$19=\"X\",Y98=\"X\"),1,0)","v":0},null,{"$f":"IF(AND('Step 2 - Ornamental'!$AB$19=\"X\",AA98=\"X\"),1,0)","v":0},null,{"$f":"IF(AND('Step 2 - Ornamental'!$AC$19=\"X\",AC98=\"X\"),1,0)","v":0},null,{"$f":"IF(AND('Step 2 - Ornamental'!$AA$20=\"X\",AE98=\"X\"),1,0)","v":0},"X",{"$f":"IF(AND('Step 2 - Ornamental'!$AA$20=\"X\",AG98=\"X\"),1,0)","v":0},null,{"$f":"IF(AND('Step 2 - Ornamental'!$AB$20=\"X\",AI98=\"X\"),1,0)","v":0},null,{"$f":"IF(AND('Step 2 - Ornamental'!$AC$20=\"X\",AK98=\"X\"),1,0)","v":0},null,{"$f":"IF(AND('Step 2 - Ornamental'!$AA$18=\"X\",AM98=\"X\"),1,0)","v":0},"X",{"$f":"IF(AND('Step 2 - Ornamental'!$AB$18=\"X\",AO98=\"X\"),1,0)","v":0},"X",{"$f":"IF(AND('Step 2 - Ornamental'!$AC$18=\"X\",AQ98=\"X\"),1,0)","v":0},null,{"$f":"IF(AND('Step 2 - Ornamental'!$AD$18=\"X\",AS98=\"X\"),1,0)","v":0},null,{"$f":"IF(AND('Step 2 - Ornamental'!$AE$18=\"X\",AU98=\"X\"),1,0)","v":0},null,{"$f":"IF(AND('Step 2 - Ornamental'!$AA$17=\"X\",AW98=\"X\"),1,0)","v":0},"X",{"$f":"IF(AND('Step 2 - Ornamental'!$AB$17=\"X\",AY98=\"X\"),1,0)","v":0},null,{"$f":"IF(AND('Step 2 - Ornamental'!$AC$17=\"X\",BA98=\"X\"),1,0)","v":0},null,{"$f":"IF(AND('Step 2 - Ornamental'!$AA$22=\"X\",BC98=\"X\"),1,0)","v":0},null,{"$f":"IF(AND('Step 2 - Ornamental'!$AB$22=\"X\",BE98=\"X\"),1,0)","v":0},null,{"$f":"IF(AND('Step 2 - Ornamental'!$AC$22=\"X\",BG98=\"X\"),1,0)","v":0},null,{"$f":"IF(AND('Step 2 - Ornamental'!$AD$22=\"X\",BI98=\"X\"),1,0)","v":0},"X",null,null,null,null,"White to pinkish / 15'-30'"]
[null,1,"CO MA","Cornus mas","Cornelian Cherry","NA","Multi-stem form preferred, Can spread by suckering, good screening shrub, ","X",null,null,"X",null,null,0,null,{"$f":"IF(AND('Step 2 - Ornamental'!$AA$21=\"X\",Q99=\"X\"),1,0)","v":0},"X",{"$f":"IF(AND('Step 2 - Ornamental'!$AB$21=\"X\",S99=\"X\"),1,0)","v":0},"X",{"$f":"IF(AND('Step 2 - Ornamental'!$AC$21=\"X\",U99=\"X\"),1,0)","v":0},"X",{"$f":"IF(AND('Step 2 - Ornamental'!$AA$19=\"X\",W99=\"X\"),1,0)","v":0},"X",{"$f":"IF(AND('Step 2 - Ornamental'!$AA$19=\"X\",Y99=\"X\"),1,0)","v":0},null,{"$f":"IF(AND('Step 2 - Ornamental'!$AB$19=\"X\",AA99=\"X\"),1,0)","v":0},null,{"$f":"IF(AND('Step 2 - Ornamental'!$AC$19=\"X\",AC99=\"X\"),1,0)","v":0},null,{"$f":"IF(AND('Step 2 - Ornamental'!$AA$20=\"X\",AE99=\"X\"),1,0)","v":0},"X",{"$f":"IF(AND('Step 2 - Ornamental'!$AA$20=\"X\",AG99=\"X\"),1,0)","v":0},null,{"$f":"IF(AND('Step 2 - Ornamental'!$AB$20=\"X\",AI99=\"X\"),1,0)","v":0},null,{"$f":"IF(AND('Step 2 - Ornamental'!$AC$20=\"X\",AK99=\"X\"),1,0)","v":0},null,{"$f":"IF(AND('Step 2 - Ornamental'!$AA$18=\"X\",AM99=\"X\"),1,0)","v":0},"X",{"$f":"IF(AND('Step 2 - Ornamental'!$AB$18=\"X\",AO99=\"X\"),1,0)","v":0},"X",{"$f":"IF(AND('Step 2 - Ornamental'!$AC$18=\"X\",AQ99=\"X\"),1,0)","v":0},null,{"$f":"IF(AND('Step 2 - Ornamental'!$AD$18=\"X\",AS99=\"X\"),1,0)","v":0},null,{"$f":"IF(AND('Step 2 - Ornamental'!$AE$18=\"X\",AU99=\"X\"),1,0)","v":0},null,{"$f":"IF(AND('Step 2 - Ornamental'!$AA$17=\"X\",AW99=\"X\"),1,0)","v":0},"X",{"$f":"IF(AND('Step 2 - Ornamental'!$AB$17=\"X\",AY99=\"X\"),1,0)","v":0},"X",{"$f":"IF(AND('Step 2 - Ornamental'!$AC$17=\"X\",BA99=\"X\"),1,0)","v":0},null,{"$f":"IF(AND('Step 2 - Ornamental'!$AA$22=\"X\",BC99=\"X\"),1,0)","v":0},null,{"$f":"IF(AND('Step 2 - Ornamental'!$AB$22=\"X\",BE99=\"X\"),1,0)","v":0},null,{"$f":"IF(AND('Step 2 - Ornamental'!$AC$22=\"X\",BG99=\"X\"),1,0)","v":0},null,{"$f":"IF(AND('Step 2 - Ornamental'!$AD$22=\"X\",BI99=\"X\"),1,0)","v":0},"X",null,null,"Yellow/15'-25'"]
[null,1,"CO OB","Cotinus obovatus","American Smoketree","NA","Multi-stem form preferred, Interesting smoke-like inflorescences, prefers well-drained infertile loams"," ","X",null,"X",null,null,0,null,{"$f":"IF(AND('Step 2 - Ornamental'!$AA$21=\"X\",Q100=\"X\"),1,0)","v":0},null,{"$f":"IF(AND('Step 2 - Ornamental'!$AB$21=\"X\",S100=\"X\"),1,0)","v":0},"X",{"$f":"IF(AND('Step 2 - Ornamental'!$AC$21=\"X\",U100=\"X\"),1,0)","v":0},"X",{"$f":"IF(AND('Step 2 - Ornamental'!$AA$19=\"X\",W100=\"X\"),1,0)","v":0},"X",{"$f":"IF(AND('Step 2 - Ornamental'!$AA$19=\"X\",Y100=\"X\"),1,0)","v":0},null,{"$f":"IF(AND('Step 2 - Ornamental'!$AB$19=\"X\",AA100=\"X\"),1,0)","v":0},null,{"$f":"IF(AND('Step 2 - Ornamental'!$AC$19=\"X\",AC100=\"X\"),1,0)","v":0},null,{"$f":"IF(AND('Step 2 - Ornamental'!$AA$20=\"X\",AE100=\"X\"),1,0)","v":0},"X",{"$f":"IF(AND('Step 2 - Ornamental'!$AA$20=\"X\",AG100=\"X\"),1,0)","v":0},null,{"$f":"IF(AND('Step 2 - Ornamental'!$AB$20=\"X\",AI100=\"X\"),1,0)","v":0},null,{"$f":"IF(AND('Step 2 - Ornamental'!$AC$20=\"X\",AK100=\"X\"),1,0)","v":0},null,{"$f":"IF(AND('Step 2 - Ornamental'!$AA$18=\"X\",AM100=\"X\"),1,0)","v":0},"X",{"$f":"IF(AND('Step 2 - Ornamental'!$AB$18=\"X\",AO100=\"X\"),1,0)","v":0},"X",{"$f":"IF(AND('Step 2 - Ornamental'!$AC$18=\"X\",AQ100=\"X\"),1,0)","v":0},null,{"$f":"IF(AND('Step 2 - Ornamental'!$AD$18=\"X\",AS100=\"X\"),1,0)","v":0},null,{"$f":"IF(AND('Step 2 - Ornamental'!$AE$18=\"X\",AU100=\"X\"),1,0)","v":0},null,{"$f":"IF(AND('Step 2 - Ornamental'!$AA$17=\"X\",AW100=\"X\"),1,0)","v":0},"X",{"$f":"IF(AND('Step 2 - Ornamental'!$AB$17=\"X\",AY100=\"X\"),1,0)","v":0},null,{"$f":"IF(AND('Step 2 - Ornamental'!$AC$17=\"X\",BA100=\"X\"),1,0)","v":0},null,{"$f":"IF(AND('Step 2 - Ornamental'!$AA$22=\"X\",BC100=\"X\"),1,0)","v":0},null,{"$f":"IF(AND('Step 2 - Ornamental'!$AB$22=\"X\",BE100=\"X\"),1,0)","v":0},null,{"$f":"IF(AND('Step 2 - Ornamental'!$AC$22=\"X\",BG100=\"X\"),1,0)","v":0},null,{"$f":"IF(AND('Step 2 - Ornamental'!$AD$22=\"X\",BI100=\"X\"),1,0)","v":0},"X",null,null,null,null,null,"purplish pink flower structures / 20'-30'"]
[null,1,"CR CR","Crataegus crus-galli var inermis","Cockspur Hawthorn","NA","Horizontal branching form, tolerant of drought, urban conditions and clay soils"," ","X","X",null,null,null,0,null,{"$f":"IF(AND('Step 2 - Ornamental'!$AA$21=\"X\",Q101=\"X\"),1,0)","v":0},"X",{"$f":"IF(AND('Step 2 - Ornamental'!$AB$21=\"X\",S101=\"X\"),1,0)","v":0},"X",{"$f":"IF(AND('Step 2 - Ornamental'!$AC$21=\"X\",U101=\"X\"),1,0)","v":0},"X",{"$f":"IF(AND('Step 2 - Ornamental'!$AA$19=\"X\",W101=\"X\"),1,0)","v":0},null,{"$f":"IF(AND('Step 2 - Ornamental'!$AA$19=\"X\",Y101=\"X\"),1,0)","v":0},"X",{"$f":"IF(AND('Step 2 - Ornamental'!$AB$19=\"X\",AA101=\"X\"),1,0)","v":0},"X",{"$f":"IF(AND('Step 2 - Ornamental'!$AC$19=\"X\",AC101=\"X\"),1,0)","v":0},null,{"$f":"IF(AND('Step 2 - Ornamental'!$AA$20=\"X\",AE101=\"X\"),1,0)","v":0},"X",{"$f":"IF(AND('Step 2 - Ornamental'!$AA$20=\"X\",AG101=\"X\"),1,0)","v":0},null,{"$f":"IF(AND('Step 2 - Ornamental'!$AB$20=\"X\",AI101=\"X\"),1,0)","v":0},null,{"$f":"IF(AND('Step 2 - Ornamental'!$AC$20=\"X\",AK101=\"X\"),1,0)","v":0},null,{"$f":"IF(AND('Step 2 - Ornamental'!$AA$18=\"X\",AM101=\"X\"),1,0)","v":0},"X",{"$f":"IF(AND('Step 2 - Ornamental'!$AB$18=\"X\",AO101=\"X\"),1,0)","v":0},"X",{"$f":"IF(AND('Step 2 - Ornamental'!$AC$18=\"X\",AQ101=\"X\"),1,0)","v":0},null,{"$f":"IF(AND('Step 2 - Ornamental'!$AD$18=\"X\",AS101=\"X\"),1,0)","v":0},null,{"$f":"IF(AND('Step 2 - Ornamental'!$AE$18=\"X\",AU101=\"X\"),1,0)","v":0},null,{"$f":"IF(AND('Step 2 - Ornamental'!$AA$17=\"X\",AW101=\"X\"),1,0)","v":0},"X",{"$f":"IF(AND('Step 2 - Ornamental'!$AB$17=\"X\",AY101=\"X\"),1,0)","v":0},null,{"$f":"IF(AND('Step 2 - Ornamental'!$AC$17=\"X\",BA101=\"X\"),1,0)","v":0},null,{"$f":"IF(AND('Step 2 - Ornamental'!$AA$22=\"X\",BC101=\"X\"),1,0)","v":0},null,{"$f":"IF(AND('Step 2 - Ornamental'!$AB$22=\"X\",BE101=\"X\"),1,0)","v":0},null,{"$f":"IF(AND('Step 2 - Ornamental'!$AC$22=\"X\",BG101=\"X\"),1,0)","v":0},null,{"$f":"IF(AND('Step 2 - Ornamental'!$AD$22=\"X\",BI101=\"X\"),1,0)","v":0},"X",null,null,null,null,"White/20'-30'",null,null,null,"Deep Red fruit / 20'-30'"]
[null,1,"CR PH","Crataegus phaenopyrum","Washington Hawthorn","NA","Thorned branches, useful as small flowering tree or large hedge",null,"X",null,null,null,null,0,null,{"$f":"IF(AND('Step 2 - Ornamental'!$AA$21=\"X\",Q102=\"X\"),1,0)","v":0},"X",{"$f":"IF(AND('Step 2 - Ornamental'!$AB$21=\"X\",S102=\"X\"),1,0)","v":0},"X",{"$f":"IF(AND('Step 2 - Ornamental'!$AC$21=\"X\",U102=\"X\"),1,0)","v":0},"X",{"$f":"IF(AND('Step 2 - Ornamental'!$AA$19=\"X\",W102=\"X\"),1,0)","v":0},null,{"$f":"IF(AND('Step 2 - Ornamental'!$AA$19=\"X\",Y102=\"X\"),1,0)","v":0},"X",{"$f":"IF(AND('Step 2 - Ornamental'!$AB$19=\"X\",AA102=\"X\"),1,0)","v":0},"X",{"$f":"IF(AND('Step 2 - Ornamental'!$AC$19=\"X\",AC102=\"X\"),1,0)","v":0},null,{"$f":"IF(AND('Step 2 - Ornamental'!$AA$20=\"X\",AE102=\"X\"),1,0)","v":0},"X",{"$f":"IF(AND('Step 2 - Ornamental'!$AA$20=\"X\",AG102=\"X\"),1,0)","v":0},null,{"$f":"IF(AND('Step 2 - Ornamental'!$AB$20=\"X\",AI102=\"X\"),1,0)","v":0},null,{"$f":"IF(AND('Step 2 - Ornamental'!$AC$20=\"X\",AK102=\"X\"),1,0)","v":0},null,{"$f":"IF(AND('Step 2 - Ornamental'!$AA$18=\"X\",AM102=\"X\"),1,0)","v":0},"X",{"$f":"IF(AND('Step 2 - Ornamental'!$AB$18=\"X\",AO102=\"X\"),1,0)","v":0},"X",{"$f":"IF(AND('Step 2 - Ornamental'!$AC$18=\"X\",AQ102=\"X\"),1,0)","v":0},null,{"$f":"IF(AND('Step 2 - Ornamental'!$AD$18=\"X\",AS102=\"X\"),1,0)","v":0},null,{"$f":"IF(AND('Step 2 - Ornamental'!$AE$18=\"X\",AU102=\"X\"),1,0)","v":0},null,{"$f":"IF(AND('Step 2 - Ornamental'!$AA$17=\"X\",AW102=\"X\"),1,0)","v":0},"X",{"$f":"IF(AND('Step 2 - Ornamental'!$AB$17=\"X\",AY102=\"X\"),1,0)","v":0},null,{"$f":"IF(AND('Step 2 - Ornamental'!$AC$17=\"X\",BA102=\"X\"),1,0)","v":0},null,{"$f":"IF(AND('Step 2 - Ornamental'!$AA$22=\"X\",BC102=\"X\"),1,0)","v":0},null,{"$f":"IF(AND('Step 2 - Ornamental'!$AB$22=\"X\",BE102=\"X\"),1,0)","v":0},null,{"$f":"IF(AND('Step 2 - Ornamental'!$AC$22=\"X\",BG102=\"X\"),1,0)","v":0},null,{"$f":"IF(AND('Step 2 - Ornamental'!$AD$22=\"X\",BI102=\"X\"),1,0)","v":0},"X",null,null,null,null,null,"White/25'-30'",null,null,"Red Fruits / 25'-30'"]
[null,1,"CR VI","Crataegus viridis 'Winter King'","Winter King Hawthorn","NA","Excellent disease resistance, and beautiful flower and fruit display. Good fall color"," ","X",null,null,null,null,0,null,{"$f":"IF(AND('Step 2 - Ornamental'!$AA$21=\"X\",Q103=\"X\"),1,0)","v":0},"X",{"$f":"IF(AND('Step 2 - Ornamental'!$AB$21=\"X\",S103=\"X\"),1,0)","v":0},"X",{"$f":"IF(AND('Step 2 - Ornamental'!$AC$21=\"X\",U103=\"X\"),1,0)","v":0},"X",{"$f":"IF(AND('Step 2 - Ornamental'!$AA$19=\"X\",W103=\"X\"),1,0)","v":0},null,{"$f":"IF(AND('Step 2 - Ornamental'!$AA$19=\"X\",Y103=\"X\"),1,0)","v":0},"X",{"$f":"IF(AND('Step 2 - Ornamental'!$AB$19=\"X\",AA103=\"X\"),1,0)","v":0},"X",{"$f":"IF(AND('Step 2 - Ornamental'!$AC$19=\"X\",AC103=\"X\"),1,0)","v":0},null,{"$f":"IF(AND('Step 2 - Ornamental'!$AA$20=\"X\",AE103=\"X\"),1,0)","v":0},"X",{"$f":"IF(AND('Step 2 - Ornamental'!$AA$20=\"X\",AG103=\"X\"),1,0)","v":0},null,{"$f":"IF(AND('Step 2 - Ornamental'!$AB$20=\"X\",AI103=\"X\"),1,0)","v":0},null,{"$f":"IF(AND('Step 2 - Ornamental'!$AC$20=\"X\",AK103=\"X\"),1,0)","v":0},null,{"$f":"IF(AND('Step 2 - Ornamental'!$AA$18=\"X\",AM103=\"X\"),1,0)","v":0},"X",{"$f":"IF(AND('Step 2 - Ornamental'!$AB$18=\"X\",AO103=\"X\"),1,0)","v":0},"X",{"$f":"IF(AND('Step 2 - Ornamental'!$AC$18=\"X\",AQ103=\"X\"),1,0)","v":0},null,{"$f":"IF(AND('Step 2 - Ornamental'!$AD$18=\"X\",AS103=\"X\"),1,0)","v":0},null,{"$f":"IF(AND('Step 2 - Ornamental'!$AE$18=\"X\",AU103=\"X\"),1,0)","v":0},null,{"$f":"IF(AND('Step 2 - Ornamental'!$AA$17=\"X\",AW103=\"X\"),1,0)","v":0},"X",{"$f":"IF(AND('Step 2 - Ornamental'!$AB$17=\"X\",AY103=\"X\"),1,0)","v":0},null,{"$f":"IF(AND('Step 2 - Ornamental'!$AC$17=\"X\",BA103=\"X\"),1,0)","v":0},null,{"$f":"IF(AND('Step 2 - Ornamental'!$AA$22=\"X\",BC103=\"X\"),1,0)","v":0},null,{"$f":"IF(AND('Step 2 - Ornamental'!$AB$22=\"X\",BE103=\"X\"),1,0)","v":0},null,{"$f":"IF(AND('Step 2 - Ornamental'!$AC$22=\"X\",BG103=\"X\"),1,0)","v":0},null,{"$f":"IF(AND('Step 2 - Ornamental'!$AD$22=\"X\",BI103=\"X\"),1,0)","v":0},"X",null,null,null,null,"White/25'-35'",null,null,null,"Red Fruits / 25'-35'"]
[null,1,"HA XI","Hamamelis x intermedia 'Arnold's Promise\"","Arnold's Promise Hybrid Witchhazel","NA","Multi-stem form preferred, Upright, vase-shaped cultivar to 12-15' tall, attractive yellow fall color, with March blooming flowers","X",null,null,"X",null,null,0,null,{"$f":"IF(AND('Step 2 - Ornamental'!$AA$21=\"X\",Q104=\"X\"),1,0)","v":0},"X",{"$f":"IF(AND('Step 2 - Ornamental'!$AB$21=\"X\",S104=\"X\"),1,0)","v":0},null,{"$f":"IF(AND('Step 2 - Ornamental'!$AC$21=\"X\",U104=\"X\"),1,0)","v":0},null,{"$f":"IF(AND('Step 2 - Ornamental'!$AA$19=\"X\",W104=\"X\"),1,0)","v":0},"X",{"$f":"IF(AND('Step 2 - Ornamental'!$AA$19=\"X\",Y104=\"X\"),1,0)","v":0},null,{"$f":"IF(AND('Step 2 - Ornamental'!$AB$19=\"X\",AA104=\"X\"),1,0)","v":0},null,{"$f":"IF(AND('Step 2 - Ornamental'!$AC$19=\"X\",AC104=\"X\"),1,0)","v":0},null,{"$f":"IF(AND('Step 2 - Ornamental'!$AA$20=\"X\",AE104=\"X\"),1,0)","v":0},"X",{"$f":"IF(AND('Step 2 - Ornamental'!$AA$20=\"X\",AG104=\"X\"),1,0)","v":0},null,{"$f":"IF(AND('Step 2 - Ornamental'!$AB$20=\"X\",AI104=\"X\"),1,0)","v":0},null,{"$f":"IF(AND('Step 2 - Ornamental'!$AC$20=\"X\",AK104=\"X\"),1,0)","v":0},null,{"$f":"IF(AND('Step 2 - Ornamental'!$AA$18=\"X\",AM104=\"X\"),1,0)","v":0},null,{"$f":"IF(AND('Step 2 - Ornamental'!$AB$18=\"X\",AO104=\"X\"),1,0)","v":0},"X",{"$f":"IF(AND('Step 2 - Ornamental'!$AC$18=\"X\",AQ104=\"X\"),1,0)","v":0},"X",{"$f":"IF(AND('Step 2 - Ornamental'!$AD$18=\"X\",AS104=\"X\"),1,0)","v":0},null,{"$f":"IF(AND('Step 2 - Ornamental'!$AE$18=\"X\",AU104=\"X\"),1,0)","v":0},null,{"$f":"IF(AND('Step 2 - Ornamental'!$AA$17=\"X\",AW104=\"X\"),1,0)","v":0},"X",{"$f":"IF(AND('Step 2 - Ornamental'!$AB$17=\"X\",AY104=\"X\"),1,0)","v":0},"X",{"$f":"IF(AND('Step 2 - Ornamental'!$AC$17=\"X\",BA104=\"X\"),1,0)","v":0},"X",{"$f":"IF(AND('Step 2 - Ornamental'!$AA$22=\"X\",BC104=\"X\"),1,0)","v":0},null,{"$f":"IF(AND('Step 2 - Ornamental'!$AB$22=\"X\",BE104=\"X\"),1,0)","v":0},null,{"$f":"IF(AND('Step 2 - Ornamental'!$AC$22=\"X\",BG104=\"X\"),1,0)","v":0},null,{"$f":"IF(AND('Step 2 - Ornamental'!$AD$22=\"X\",BI104=\"X\"),1,0)","v":0},"X",null,"Yellow / 12'-15'"]
[null,1,"HA VI","Hamamelis virginiana","Common Witch Hazel","NA","Multi-stem form preferred, Fall blooming (Oct-Dec), large shrub for part shade"," ","X","X","X",null,null,0,null,{"$f":"IF(AND('Step 2 - Ornamental'!$AA$21=\"X\",Q105=\"X\"),1,0)","v":0},"X",{"$f":"IF(AND('Step 2 - Ornamental'!$AB$21=\"X\",S105=\"X\"),1,0)","v":0},"X",{"$f":"IF(AND('Step 2 - Ornamental'!$AC$21=\"X\",U105=\"X\"),1,0)","v":0},null,{"$f":"IF(AND('Step 2 - Ornamental'!$AA$19=\"X\",W105=\"X\"),1,0)","v":0},"X",{"$f":"IF(AND('Step 2 - Ornamental'!$AA$19=\"X\",Y105=\"X\"),1,0)","v":0},null,{"$f":"IF(AND('Step 2 - Ornamental'!$AB$19=\"X\",AA105=\"X\"),1,0)","v":0},null,{"$f":"IF(AND('Step 2 - Ornamental'!$AC$19=\"X\",AC105=\"X\"),1,0)","v":0},null,{"$f":"IF(AND('Step 2 - Ornamental'!$AA$20=\"X\",AE105=\"X\"),1,0)","v":0},"X",{"$f":"IF(AND('Step 2 - Ornamental'!$AA$20=\"X\",AG105=\"X\"),1,0)","v":0},null,{"$f":"IF(AND('Step 2 - Ornamental'!$AB$20=\"X\",AI105=\"X\"),1,0)","v":0},null,{"$f":"IF(AND('Step 2 - Ornamental'!$AC$20=\"X\",AK105=\"X\"),1,0)","v":0},null,{"$f":"IF(AND('Step 2 - Ornamental'!$AA$18=\"X\",AM105=\"X\"),1,0)","v":0},null,{"$f":"IF(AND('Step 2 - Ornamental'!$AB$18=\"X\",AO105=\"X\"),1,0)","v":0},"X",{"$f":"IF(AND('Step 2 - Ornamental'!$AC$18=\"X\",AQ105=\"X\"),1,0)","v":0},"X",{"$f":"IF(AND('Step 2 - Ornamental'!$AD$18=\"X\",AS105=\"X\"),1,0)","v":0},null,{"$f":"IF(AND('Step 2 - Ornamental'!$AE$18=\"X\",AU105=\"X\"),1,0)","v":0},null,{"$f":"IF(AND('Step 2 - Ornamental'!$AA$17=\"X\",AW105=\"X\"),1,0)","v":0},"X",{"$f":"IF(AND('Step 2 - Ornamental'!$AB$17=\"X\",AY105=\"X\"),1,0)","v":0},"X",{"$f":"IF(AND('Step 2 - Ornamental'!$AC$17=\"X\",BA105=\"X\"),1,0)","v":0},"X",{"$f":"IF(AND('Step 2 - Ornamental'!$AA$22=\"X\",BC105=\"X\"),1,0)","v":0},null,{"$f":"IF(AND('Step 2 - Ornamental'!$AB$22=\"X\",BE105=\"X\"),1,0)","v":0},null,{"$f":"IF(AND('Step 2 - Ornamental'!$AC$22=\"X\",BG105=\"X\"),1,0)","v":0},null,{"$f":"IF(AND('Step 2 - Ornamental'!$AD$22=\"X\",BI105=\"X\"),1,0)","v":0},"X",null,null,null,null,null,null,null,null,null,"Yellow-red / 15'-20'"]
[null,1,"MA LO","Magnolia x loebneri 'Leonard Messel'","Leonard Messel Loebner Magnolia","NA","Multi-stem form preferred, Plant in protected area, compact cultivar with frost hardy flowers","X",null,null,null,null,null,0,null,{"$f":"IF(AND('Step 2 - Ornamental'!$AA$21=\"X\",Q106=\"X\"),1,0)","v":0},"X",{"$f":"IF(AND('Step 2 - Ornamental'!$AB$21=\"X\",S106=\"X\"),1,0)","v":0},"X",{"$f":"IF(AND('Step 2 - Ornamental'!$AC$21=\"X\",U106=\"X\"),1,0)","v":0}," ",{"$f":"IF(AND('Step 2 - Ornamental'!$AA$19=\"X\",W106=\"X\"),1,0)","v":0},"X",{"$f":"IF(AND('Step 2 - Ornamental'!$AA$19=\"X\",Y106=\"X\"),1,0)","v":0},null,{"$f":"IF(AND('Step 2 - Ornamental'!$AB$19=\"X\",AA106=\"X\"),1,0)","v":0},null,{"$f":"IF(AND('Step 2 - Ornamental'!$AC$19=\"X\",AC106=\"X\"),1,0)","v":0},null,{"$f":"IF(AND('Step 2 - Ornamental'!$AA$20=\"X\",AE106=\"X\"),1,0)","v":0},"X",{"$f":"IF(AND('Step 2 - Ornamental'!$AA$20=\"X\",AG106=\"X\"),1,0)","v":0},null,{"$f":"IF(AND('Step 2 - Ornamental'!$AB$20=\"X\",AI106=\"X\"),1,0)","v":0},null,{"$f":"IF(AND('Step 2 - Ornamental'!$AC$20=\"X\",AK106=\"X\"),1,0)","v":0},null,{"$f":"IF(AND('Step 2 - Ornamental'!$AA$18=\"X\",AM106=\"X\"),1,0)","v":0},null,{"$f":"IF(AND('Step 2 - Ornamental'!$AB$18=\"X\",AO106=\"X\"),1,0)","v":0},"X",{"$f":"IF(AND('Step 2 - Ornamental'!$AC$18=\"X\",AQ106=\"X\"),1,0)","v":0},null,{"$f":"IF(AND('Step 2 - Ornamental'!$AD$18=\"X\",AS106=\"X\"),1,0)","v":0},null,{"$f":"IF(AND('Step 2 - Ornamental'!$AE$18=\"X\",AU106=\"X\"),1,0)","v":0},null,{"$f":"IF(AND('Step 2 - Ornamental'!$AA$17=\"X\",AW106=\"X\"),1,0)","v":0},"X",{"$f":"IF(AND('Step 2 - Ornamental'!$AB$17=\"X\",AY106=\"X\"),1,0)","v":0}," ",{"$f":"IF(AND('Step 2 - Ornamental'!$AC$17=\"X\",BA106=\"X\"),1,0)","v":0},null,{"$f":"IF(AND('Step 2 - Ornamental'!$AA$22=\"X\",BC106=\"X\"),1,0)","v":0},null,{"$f":"IF(AND('Step 2 - Ornamental'!$AB$22=\"X\",BE106=\"X\"),1,0)","v":0},null,{"$f":"IF(AND('Step 2 - Ornamental'!$AC$22=\"X\",BG106=\"X\"),1,0)","v":0},null,{"$f":"IF(AND('Step 2 - Ornamental'!$AD$22=\"X\",BI106=\"X\"),1,0)","v":0},"X",null,null,"White to purplish pink / 10'-20'"]
[null,1,"MA XS","Magnolia x soulangiana 'Alexandrina'","Alexandrina Saucer Magnolia","NA","Multi-stem form preferred, Purple-pink blooms, to 25' tall","X",null,null,null,null,null,0,null,{"$f":"IF(AND('Step 2 - Ornamental'!$AA$21=\"X\",Q107=\"X\"),1,0)","v":0},"X",{"$f":"IF(AND('Step 2 - Ornamental'!$AB$21=\"X\",S107=\"X\"),1,0)","v":0},"X",{"$f":"IF(AND('Step 2 - Ornamental'!$AC$21=\"X\",U107=\"X\"),1,0)","v":0}," ",{"$f":"IF(AND('Step 2 - Ornamental'!$AA$19=\"X\",W107=\"X\"),1,0)","v":0},"X",{"$f":"IF(AND('Step 2 - Ornamental'!$AA$19=\"X\",Y107=\"X\"),1,0)","v":0},null,{"$f":"IF(AND('Step 2 - Ornamental'!$AB$19=\"X\",AA107=\"X\"),1,0)","v":0},null,{"$f":"IF(AND('Step 2 - Ornamental'!$AC$19=\"X\",AC107=\"X\"),1,0)","v":0},null,{"$f":"IF(AND('Step 2 - Ornamental'!$AA$20=\"X\",AE107=\"X\"),1,0)","v":0},"X",{"$f":"IF(AND('Step 2 - Ornamental'!$AA$20=\"X\",AG107=\"X\"),1,0)","v":0},null,{"$f":"IF(AND('Step 2 - Ornamental'!$AB$20=\"X\",AI107=\"X\"),1,0)","v":0},null,{"$f":"IF(AND('Step 2 - Ornamental'!$AC$20=\"X\",AK107=\"X\"),1,0)","v":0},null,{"$f":"IF(AND('Step 2 - Ornamental'!$AA$18=\"X\",AM107=\"X\"),1,0)","v":0},null,{"$f":"IF(AND('Step 2 - Ornamental'!$AB$18=\"X\",AO107=\"X\"),1,0)","v":0},"X",{"$f":"IF(AND('Step 2 - Ornamental'!$AC$18=\"X\",AQ107=\"X\"),1,0)","v":0},null,{"$f":"IF(AND('Step 2 - Ornamental'!$AD$18=\"X\",AS107=\"X\"),1,0)","v":0},null,{"$f":"IF(AND('Step 2 - Ornamental'!$AE$18=\"X\",AU107=\"X\"),1,0)","v":0},null,{"$f":"IF(AND('Step 2 - Ornamental'!$AA$17=\"X\",AW107=\"X\"),1,0)","v":0},"X",{"$f":"IF(AND('Step 2 - Ornamental'!$AB$17=\"X\",AY107=\"X\"),1,0)","v":0}," ",{"$f":"IF(AND('Step 2 - Ornamental'!$AC$17=\"X\",BA107=\"X\"),1,0)","v":0},null,{"$f":"IF(AND('Step 2 - Ornamental'!$AA$22=\"X\",BC107=\"X\"),1,0)","v":0},null,{"$f":"IF(AND('Step 2 - Ornamental'!$AB$22=\"X\",BE107=\"X\"),1,0)","v":0},null,{"$f":"IF(AND('Step 2 - Ornamental'!$AC$22=\"X\",BG107=\"X\"),1,0)","v":0},null,{"$f":"IF(AND('Step 2 - Ornamental'!$AD$22=\"X\",BI107=\"X\"),1,0)","v":0},"X",null,null,"Purple-pink to white /  20'-30'"]
[null,1,"MA ST","Magnolia stellata","Star Magnolia","NA","Multi-stem form preferred, pretty white flowering tree, avoid southern exposure ","X",null,null,null,null,null,0,null,{"$f":"IF(AND('Step 2 - Ornamental'!$AA$21=\"X\",Q108=\"X\"),1,0)","v":0},"X",{"$f":"IF(AND('Step 2 - Ornamental'!$AB$21=\"X\",S108=\"X\"),1,0)","v":0},"X",{"$f":"IF(AND('Step 2 - Ornamental'!$AC$21=\"X\",U108=\"X\"),1,0)","v":0}," ",{"$f":"IF(AND('Step 2 - Ornamental'!$AA$19=\"X\",W108=\"X\"),1,0)","v":0},"X",{"$f":"IF(AND('Step 2 - Ornamental'!$AA$19=\"X\",Y108=\"X\"),1,0)","v":0},null,{"$f":"IF(AND('Step 2 - Ornamental'!$AB$19=\"X\",AA108=\"X\"),1,0)","v":0},null,{"$f":"IF(AND('Step 2 - Ornamental'!$AC$19=\"X\",AC108=\"X\"),1,0)","v":0},null,{"$f":"IF(AND('Step 2 - Ornamental'!$AA$20=\"X\",AE108=\"X\"),1,0)","v":0},"X",{"$f":"IF(AND('Step 2 - Ornamental'!$AA$20=\"X\",AG108=\"X\"),1,0)","v":0},null,{"$f":"IF(AND('Step 2 - Ornamental'!$AB$20=\"X\",AI108=\"X\"),1,0)","v":0},null,{"$f":"IF(AND('Step 2 - Ornamental'!$AC$20=\"X\",AK108=\"X\"),1,0)","v":0},null,{"$f":"IF(AND('Step 2 - Ornamental'!$AA$18=\"X\",AM108=\"X\"),1,0)","v":0},null,{"$f":"IF(AND('Step 2 - Ornamental'!$AB$18=\"X\",AO108=\"X\"),1,0)","v":0},"X",{"$f":"IF(AND('Step 2 - Ornamental'!$AC$18=\"X\",AQ108=\"X\"),1,0)","v":0},null,{"$f":"IF(AND('Step 2 - Ornamental'!$AD$18=\"X\",AS108=\"X\"),1,0)","v":0},null,{"$f":"IF(AND('Step 2 - Ornamental'!$AE$18=\"X\",AU108=\"X\"),1,0)","v":0},null,{"$f":"IF(AND('Step 2 - Ornamental'!$AA$17=\"X\",AW108=\"X\"),1,0)","v":0},"X",{"$f":"IF(AND('Step 2 - Ornamental'!$AB$17=\"X\",AY108=\"X\"),1,0)","v":0}," ",{"$f":"IF(AND('Step 2 - Ornamental'!$AC$17=\"X\",BA108=\"X\"),1,0)","v":0},null,{"$f":"IF(AND('Step 2 - Ornamental'!$AA$22=\"X\",BC108=\"X\"),1,0)","v":0},null,{"$f":"IF(AND('Step 2 - Ornamental'!$AB$22=\"X\",BE108=\"X\"),1,0)","v":0},null,{"$f":"IF(AND('Step 2 - Ornamental'!$AC$22=\"X\",BG108=\"X\"),1,0)","v":0},null,{"$f":"IF(AND('Step 2 - Ornamental'!$AD$22=\"X\",BI108=\"X\"),1,0)","v":0},"X",null,null,"White / 15'-20'"]
[null,1,"MA DW","Malus 'Donald Wyman'","Donald Wyman Crabapple","NA","Large crabapple to 20' tall, fragrant, white, single flowers in April, with good disease resistance, ","X",null,null,null,null,null,0,null,{"$f":"IF(AND('Step 2 - Ornamental'!$AA$21=\"X\",Q109=\"X\"),1,0)","v":0},"X",{"$f":"IF(AND('Step 2 - Ornamental'!$AB$21=\"X\",S109=\"X\"),1,0)","v":0},"X",{"$f":"IF(AND('Step 2 - Ornamental'!$AC$21=\"X\",U109=\"X\"),1,0)","v":0}," ",{"$f":"IF(AND('Step 2 - Ornamental'!$AA$19=\"X\",W109=\"X\"),1,0)","v":0},null,{"$f":"IF(AND('Step 2 - Ornamental'!$AA$19=\"X\",Y109=\"X\"),1,0)","v":0},"X",{"$f":"IF(AND('Step 2 - Ornamental'!$AB$19=\"X\",AA109=\"X\"),1,0)","v":0},"X",{"$f":"IF(AND('Step 2 - Ornamental'!$AC$19=\"X\",AC109=\"X\"),1,0)","v":0},null,{"$f":"IF(AND('Step 2 - Ornamental'!$AA$20=\"X\",AE109=\"X\"),1,0)","v":0},"X",{"$f":"IF(AND('Step 2 - Ornamental'!$AA$20=\"X\",AG109=\"X\"),1,0)","v":0},null,{"$f":"IF(AND('Step 2 - Ornamental'!$AB$20=\"X\",AI109=\"X\"),1,0)","v":0},null,{"$f":"IF(AND('Step 2 - Ornamental'!$AC$20=\"X\",AK109=\"X\"),1,0)","v":0},null,{"$f":"IF(AND('Step 2 - Ornamental'!$AA$18=\"X\",AM109=\"X\"),1,0)","v":0},null,{"$f":"IF(AND('Step 2 - Ornamental'!$AB$18=\"X\",AO109=\"X\"),1,0)","v":0},"X",{"$f":"IF(AND('Step 2 - Ornamental'!$AC$18=\"X\",AQ109=\"X\"),1,0)","v":0},null,{"$f":"IF(AND('Step 2 - Ornamental'!$AD$18=\"X\",AS109=\"X\"),1,0)","v":0},null,{"$f":"IF(AND('Step 2 - Ornamental'!$AE$18=\"X\",AU109=\"X\"),1,0)","v":0},null,{"$f":"IF(AND('Step 2 - Ornamental'!$AA$17=\"X\",AW109=\"X\"),1,0)","v":0},"X",{"$f":"IF(AND('Step 2 - Ornamental'!$AB$17=\"X\",AY109=\"X\"),1,0)","v":0}," ",{"$f":"IF(AND('Step 2 - Ornamental'!$AC$17=\"X\",BA109=\"X\"),1,0)","v":0},null,{"$f":"IF(AND('Step 2 - Ornamental'!$AA$22=\"X\",BC109=\"X\"),1,0)","v":0},null,{"$f":"IF(AND('Step 2 - Ornamental'!$AB$22=\"X\",BE109=\"X\"),1,0)","v":0},null,{"$f":"IF(AND('Step 2 - Ornamental'!$AC$22=\"X\",BG109=\"X\"),1,0)","v":0},null,{"$f":"IF(AND('Step 2 - Ornamental'!$AD$22=\"X\",BI109=\"X\"),1,0)","v":0},"X",null,null,null,"White / 15'-20'",null,null,null,null,"Bright Red fruits / 15'-20'"]
[null,1,"MA FL","Malus floribunda","Japanese Crabapple","NA","One of the best flower displays with pale pink to white flowers in April, 20' tall x 30' wide","X",null,null,null,null,null,0,null,{"$f":"IF(AND('Step 2 - Ornamental'!$AA$21=\"X\",Q110=\"X\"),1,0)","v":0},"X",{"$f":"IF(AND('Step 2 - Ornamental'!$AB$21=\"X\",S110=\"X\"),1,0)","v":0},"X",{"$f":"IF(AND('Step 2 - Ornamental'!$AC$21=\"X\",U110=\"X\"),1,0)","v":0}," ",{"$f":"IF(AND('Step 2 - Ornamental'!$AA$19=\"X\",W110=\"X\"),1,0)","v":0},null,{"$f":"IF(AND('Step 2 - Ornamental'!$AA$19=\"X\",Y110=\"X\"),1,0)","v":0},"X",{"$f":"IF(AND('Step 2 - Ornamental'!$AB$19=\"X\",AA110=\"X\"),1,0)","v":0},"X",{"$f":"IF(AND('Step 2 - Ornamental'!$AC$19=\"X\",AC110=\"X\"),1,0)","v":0},null,{"$f":"IF(AND('Step 2 - Ornamental'!$AA$20=\"X\",AE110=\"X\"),1,0)","v":0},"X",{"$f":"IF(AND('Step 2 - Ornamental'!$AA$20=\"X\",AG110=\"X\"),1,0)","v":0},null,{"$f":"IF(AND('Step 2 - Ornamental'!$AB$20=\"X\",AI110=\"X\"),1,0)","v":0},null,{"$f":"IF(AND('Step 2 - Ornamental'!$AC$20=\"X\",AK110=\"X\"),1,0)","v":0},null,{"$f":"IF(AND('Step 2 - Ornamental'!$AA$18=\"X\",AM110=\"X\"),1,0)","v":0},null,{"$f":"IF(AND('Step 2 - Ornamental'!$AB$18=\"X\",AO110=\"X\"),1,0)","v":0},"X",{"$f":"IF(AND('Step 2 - Ornamental'!$AC$18=\"X\",AQ110=\"X\"),1,0)","v":0},null,{"$f":"IF(AND('Step 2 - Ornamental'!$AD$18=\"X\",AS110=\"X\"),1,0)","v":0},null,{"$f":"IF(AND('Step 2 - Ornamental'!$AE$18=\"X\",AU110=\"X\"),1,0)","v":0},null,{"$f":"IF(AND('Step 2 - Ornamental'!$AA$17=\"X\",AW110=\"X\"),1,0)","v":0},"X",{"$f":"IF(AND('Step 2 - Ornamental'!$AB$17=\"X\",AY110=\"X\"),1,0)","v":0}," ",{"$f":"IF(AND('Step 2 - Ornamental'!$AC$17=\"X\",BA110=\"X\"),1,0)","v":0},null,{"$f":"IF(AND('Step 2 - Ornamental'!$AA$22=\"X\",BC110=\"X\"),1,0)","v":0},null,{"$f":"IF(AND('Step 2 - Ornamental'!$AB$22=\"X\",BE110=\"X\"),1,0)","v":0},null,{"$f":"IF(AND('Step 2 - Ornamental'!$AC$22=\"X\",BG110=\"X\"),1,0)","v":0},null,{"$f":"IF(AND('Step 2 - Ornamental'!$AD$22=\"X\",BI110=\"X\"),1,0)","v":0},"X",null,null,null,"Red to Pink to white / 15'-20'"]
[null,1,"MA SA","Malus sargentii","Sargent Crabapple","NA","Dwarf, Dense, spreading crabapple, 8' tall x 15' wide, with fragrant, white flowers in alternate years","X",null,null,null,null,null,0,null,{"$f":"IF(AND('Step 2 - Ornamental'!$AA$21=\"X\",Q111=\"X\"),1,0)","v":0},"X",{"$f":"IF(AND('Step 2 - Ornamental'!$AB$21=\"X\",S111=\"X\"),1,0)","v":0},"X",{"$f":"IF(AND('Step 2 - Ornamental'!$AC$21=\"X\",U111=\"X\"),1,0)","v":0}," ",{"$f":"IF(AND('Step 2 - Ornamental'!$AA$19=\"X\",W111=\"X\"),1,0)","v":0},null,{"$f":"IF(AND('Step 2 - Ornamental'!$AA$19=\"X\",Y111=\"X\"),1,0)","v":0},"X",{"$f":"IF(AND('Step 2 - Ornamental'!$AB$19=\"X\",AA111=\"X\"),1,0)","v":0},"X",{"$f":"IF(AND('Step 2 - Ornamental'!$AC$19=\"X\",AC111=\"X\"),1,0)","v":0},null,{"$f":"IF(AND('Step 2 - Ornamental'!$AA$20=\"X\",AE111=\"X\"),1,0)","v":0},"X",{"$f":"IF(AND('Step 2 - Ornamental'!$AA$20=\"X\",AG111=\"X\"),1,0)","v":0},null,{"$f":"IF(AND('Step 2 - Ornamental'!$AB$20=\"X\",AI111=\"X\"),1,0)","v":0},null,{"$f":"IF(AND('Step 2 - Ornamental'!$AC$20=\"X\",AK111=\"X\"),1,0)","v":0},null,{"$f":"IF(AND('Step 2 - Ornamental'!$AA$18=\"X\",AM111=\"X\"),1,0)","v":0},null,{"$f":"IF(AND('Step 2 - Ornamental'!$AB$18=\"X\",AO111=\"X\"),1,0)","v":0},"X",{"$f":"IF(AND('Step 2 - Ornamental'!$AC$18=\"X\",AQ111=\"X\"),1,0)","v":0},null,{"$f":"IF(AND('Step 2 - Ornamental'!$AD$18=\"X\",AS111=\"X\"),1,0)","v":0},null,{"$f":"IF(AND('Step 2 - Ornamental'!$AE$18=\"X\",AU111=\"X\"),1,0)","v":0},null,{"$f":"IF(AND('Step 2 - Ornamental'!$AA$17=\"X\",AW111=\"X\"),1,0)","v":0},"X",{"$f":"IF(AND('Step 2 - Ornamental'!$AB$17=\"X\",AY111=\"X\"),1,0)","v":0}," ",{"$f":"IF(AND('Step 2 - Ornamental'!$AC$17=\"X\",BA111=\"X\"),1,0)","v":0},null,{"$f":"IF(AND('Step 2 - Ornamental'!$AA$22=\"X\",BC111=\"X\"),1,0)","v":0},null,{"$f":"IF(AND('Step 2 - Ornamental'!$AB$22=\"X\",BE111=\"X\"),1,0)","v":0},null,{"$f":"IF(AND('Step 2 - Ornamental'!$AC$22=\"X\",BG111=\"X\"),1,0)","v":0},null,{"$f":"IF(AND('Step 2 - Ornamental'!$AD$22=\"X\",BI111=\"X\"),1,0)","v":0},"X",null,null,null,"White and Pink / 6'-8'",null,null,null,null,"Red Fruits / 6'-8'"]
[null,1,"MA SN","Malus 'snowdrift'","Snowdrift Crabapple","NA","Rounded crabapple to 20' tall,  white flowers in May, orange-red persistent fruits","X",null,null,null,null,null,0,null,{"$f":"IF(AND('Step 2 - Ornamental'!$AA$21=\"X\",Q112=\"X\"),1,0)","v":0},"X",{"$f":"IF(AND('Step 2 - Ornamental'!$AB$21=\"X\",S112=\"X\"),1,0)","v":0},"X",{"$f":"IF(AND('Step 2 - Ornamental'!$AC$21=\"X\",U112=\"X\"),1,0)","v":0}," ",{"$f":"IF(AND('Step 2 - Ornamental'!$AA$19=\"X\",W112=\"X\"),1,0)","v":0},null,{"$f":"IF(AND('Step 2 - Ornamental'!$AA$19=\"X\",Y112=\"X\"),1,0)","v":0},"X",{"$f":"IF(AND('Step 2 - Ornamental'!$AB$19=\"X\",AA112=\"X\"),1,0)","v":0},"X",{"$f":"IF(AND('Step 2 - Ornamental'!$AC$19=\"X\",AC112=\"X\"),1,0)","v":0},null,{"$f":"IF(AND('Step 2 - Ornamental'!$AA$20=\"X\",AE112=\"X\"),1,0)","v":0},"X",{"$f":"IF(AND('Step 2 - Ornamental'!$AA$20=\"X\",AG112=\"X\"),1,0)","v":0},null,{"$f":"IF(AND('Step 2 - Ornamental'!$AB$20=\"X\",AI112=\"X\"),1,0)","v":0},null,{"$f":"IF(AND('Step 2 - Ornamental'!$AC$20=\"X\",AK112=\"X\"),1,0)","v":0},null,{"$f":"IF(AND('Step 2 - Ornamental'!$AA$18=\"X\",AM112=\"X\"),1,0)","v":0},null,{"$f":"IF(AND('Step 2 - Ornamental'!$AB$18=\"X\",AO112=\"X\"),1,0)","v":0},"X",{"$f":"IF(AND('Step 2 - Ornamental'!$AC$18=\"X\",AQ112=\"X\"),1,0)","v":0},null,{"$f":"IF(AND('Step 2 - Ornamental'!$AD$18=\"X\",AS112=\"X\"),1,0)","v":0},null,{"$f":"IF(AND('Step 2 - Ornamental'!$AE$18=\"X\",AU112=\"X\"),1,0)","v":0},null,{"$f":"IF(AND('Step 2 - Ornamental'!$AA$17=\"X\",AW112=\"X\"),1,0)","v":0},"X",{"$f":"IF(AND('Step 2 - Ornamental'!$AB$17=\"X\",AY112=\"X\"),1,0)","v":0}," ",{"$f":"IF(AND('Step 2 - Ornamental'!$AC$17=\"X\",BA112=\"X\"),1,0)","v":0},null,{"$f":"IF(AND('Step 2 - Ornamental'!$AA$22=\"X\",BC112=\"X\"),1,0)","v":0},null,{"$f":"IF(AND('Step 2 - Ornamental'!$AB$22=\"X\",BE112=\"X\"),1,0)","v":0},null,{"$f":"IF(AND('Step 2 - Ornamental'!$AC$22=\"X\",BG112=\"X\"),1,0)","v":0},null,{"$f":"IF(AND('Step 2 - Ornamental'!$AD$22=\"X\",BI112=\"X\"),1,0)","v":0},"X",null,null,null,"White / 15'-20'",null,null,null,null,"Orange/red fruits / 15'-20'"]
[null,1,"MA PF","Malus 'prairie fire'","Prairie Fire Crabpple","NA","Dense, rounded crabapple to 20' tall with pinkish-red flowers in May, high disease resistance, ","X",null,null,null,null,null,0,null,{"$f":"IF(AND('Step 2 - Ornamental'!$AA$21=\"X\",Q113=\"X\"),1,0)","v":0},"X",{"$f":"IF(AND('Step 2 - Ornamental'!$AB$21=\"X\",S113=\"X\"),1,0)","v":0},"X",{"$f":"IF(AND('Step 2 - Ornamental'!$AC$21=\"X\",U113=\"X\"),1,0)","v":0}," ",{"$f":"IF(AND('Step 2 - Ornamental'!$AA$19=\"X\",W113=\"X\"),1,0)","v":0},null,{"$f":"IF(AND('Step 2 - Ornamental'!$AA$19=\"X\",Y113=\"X\"),1,0)","v":0},"X",{"$f":"IF(AND('Step 2 - Ornamental'!$AB$19=\"X\",AA113=\"X\"),1,0)","v":0},"X",{"$f":"IF(AND('Step 2 - Ornamental'!$AC$19=\"X\",AC113=\"X\"),1,0)","v":0},null,{"$f":"IF(AND('Step 2 - Ornamental'!$AA$20=\"X\",AE113=\"X\"),1,0)","v":0},"X",{"$f":"IF(AND('Step 2 - Ornamental'!$AA$20=\"X\",AG113=\"X\"),1,0)","v":0},null,{"$f":"IF(AND('Step 2 - Ornamental'!$AB$20=\"X\",AI113=\"X\"),1,0)","v":0},null,{"$f":"IF(AND('Step 2 - Ornamental'!$AC$20=\"X\",AK113=\"X\"),1,0)","v":0},null,{"$f":"IF(AND('Step 2 - Ornamental'!$AA$18=\"X\",AM113=\"X\"),1,0)","v":0},null,{"$f":"IF(AND('Step 2 - Ornamental'!$AB$18=\"X\",AO113=\"X\"),1,0)","v":0},"X",{"$f":"IF(AND('Step 2 - Ornamental'!$AC$18=\"X\",AQ113=\"X\"),1,0)","v":0},null,{"$f":"IF(AND('Step 2 - Ornamental'!$AD$18=\"X\",AS113=\"X\"),1,0)","v":0},null,{"$f":"IF(AND('Step 2 - Ornamental'!$AE$18=\"X\",AU113=\"X\"),1,0)","v":0},null,{"$f":"IF(AND('Step 2 - Ornamental'!$AA$17=\"X\",AW113=\"X\"),1,0)","v":0},"X",{"$f":"IF(AND('Step 2 - Ornamental'!$AB$17=\"X\",AY113=\"X\"),1,0)","v":0}," ",{"$f":"IF(AND('Step 2 - Ornamental'!$AC$17=\"X\",BA113=\"X\"),1,0)","v":0},null,{"$f":"IF(AND('Step 2 - Ornamental'!$AA$22=\"X\",BC113=\"X\"),1,0)","v":0},null,{"$f":"IF(AND('Step 2 - Ornamental'!$AB$22=\"X\",BE113=\"X\"),1,0)","v":0},null,{"$f":"IF(AND('Step 2 - Ornamental'!$AC$22=\"X\",BG113=\"X\"),1,0)","v":0},null,{"$f":"IF(AND('Step 2 - Ornamental'!$AD$22=\"X\",BI113=\"X\"),1,0)","v":0},"X",null,null,null,"Pinkish Red / 15'-20'",null,null,null,null,"Purplish red fruit/ 15'-20'"]
[null,1,"PA PE","Parrotia persica","Persian Parrotia","NA","Multi-stem form preferred, Spring dig only, interesting exfoliating bark, beautiful fall color, ","X",null,null,null,null,null,0,null,{"$f":"IF(AND('Step 2 - Ornamental'!$AA$21=\"X\",Q114=\"X\"),1,0)","v":0},"X",{"$f":"IF(AND('Step 2 - Ornamental'!$AB$21=\"X\",S114=\"X\"),1,0)","v":0},null,{"$f":"IF(AND('Step 2 - Ornamental'!$AC$21=\"X\",U114=\"X\"),1,0)","v":0},null,{"$f":"IF(AND('Step 2 - Ornamental'!$AA$19=\"X\",W114=\"X\"),1,0)","v":0},"X",{"$f":"IF(AND('Step 2 - Ornamental'!$AA$19=\"X\",Y114=\"X\"),1,0)","v":0},null,{"$f":"IF(AND('Step 2 - Ornamental'!$AB$19=\"X\",AA114=\"X\"),1,0)","v":0},null,{"$f":"IF(AND('Step 2 - Ornamental'!$AC$19=\"X\",AC114=\"X\"),1,0)","v":0},null,{"$f":"IF(AND('Step 2 - Ornamental'!$AA$20=\"X\",AE114=\"X\"),1,0)","v":0},"X",{"$f":"IF(AND('Step 2 - Ornamental'!$AA$20=\"X\",AG114=\"X\"),1,0)","v":0},null,{"$f":"IF(AND('Step 2 - Ornamental'!$AB$20=\"X\",AI114=\"X\"),1,0)","v":0},null,{"$f":"IF(AND('Step 2 - Ornamental'!$AC$20=\"X\",AK114=\"X\"),1,0)","v":0},null,{"$f":"IF(AND('Step 2 - Ornamental'!$AA$18=\"X\",AM114=\"X\"),1,0)","v":0},"X",{"$f":"IF(AND('Step 2 - Ornamental'!$AB$18=\"X\",AO114=\"X\"),1,0)","v":0},"X",{"$f":"IF(AND('Step 2 - Ornamental'!$AC$18=\"X\",AQ114=\"X\"),1,0)","v":0},null,{"$f":"IF(AND('Step 2 - Ornamental'!$AD$18=\"X\",AS114=\"X\"),1,0)","v":0},null,{"$f":"IF(AND('Step 2 - Ornamental'!$AE$18=\"X\",AU114=\"X\"),1,0)","v":0},null,{"$f":"IF(AND('Step 2 - Ornamental'!$AA$17=\"X\",AW114=\"X\"),1,0)","v":0},"X",{"$f":"IF(AND('Step 2 - Ornamental'!$AB$17=\"X\",AY114=\"X\"),1,0)","v":0},"X",{"$f":"IF(AND('Step 2 - Ornamental'!$AC$17=\"X\",BA114=\"X\"),1,0)","v":0},null,{"$f":"IF(AND('Step 2 - Ornamental'!$AA$22=\"X\",BC114=\"X\"),1,0)","v":0},null,{"$f":"IF(AND('Step 2 - Ornamental'!$AB$22=\"X\",BE114=\"X\"),1,0)","v":0},null,{"$f":"IF(AND('Step 2 - Ornamental'!$AC$22=\"X\",BG114=\"X\"),1,0)","v":0},null,{"$f":"IF(AND('Step 2 - Ornamental'!$AD$22=\"X\",BI114=\"X\"),1,0)","v":0},"X","Flowers are Not Showy"]
[null,1,"PR SA","Prunus sargentii","Sargent Cherry","NA","Ornamental cherry to 30' tall, pink flowers in April, attractive fall color, ","X",null,null,null,null,null,0,null,{"$f":"IF(AND('Step 2 - Ornamental'!$AA$21=\"X\",Q115=\"X\"),1,0)","v":0},"X",{"$f":"IF(AND('Step 2 - Ornamental'!$AB$21=\"X\",S115=\"X\"),1,0)","v":0},"X",{"$f":"IF(AND('Step 2 - Ornamental'!$AC$21=\"X\",U115=\"X\"),1,0)","v":0},"X",{"$f":"IF(AND('Step 2 - Ornamental'!$AA$19=\"X\",W115=\"X\"),1,0)","v":0},"X",{"$f":"IF(AND('Step 2 - Ornamental'!$AA$19=\"X\",Y115=\"X\"),1,0)","v":0},null,{"$f":"IF(AND('Step 2 - Ornamental'!$AB$19=\"X\",AA115=\"X\"),1,0)","v":0},null,{"$f":"IF(AND('Step 2 - Ornamental'!$AC$19=\"X\",AC115=\"X\"),1,0)","v":0},null,{"$f":"IF(AND('Step 2 - Ornamental'!$AA$20=\"X\",AE115=\"X\"),1,0)","v":0},"X",{"$f":"IF(AND('Step 2 - Ornamental'!$AA$20=\"X\",AG115=\"X\"),1,0)","v":0},null,{"$f":"IF(AND('Step 2 - Ornamental'!$AB$20=\"X\",AI115=\"X\"),1,0)","v":0},null,{"$f":"IF(AND('Step 2 - Ornamental'!$AC$20=\"X\",AK115=\"X\"),1,0)","v":0},null,{"$f":"IF(AND('Step 2 - Ornamental'!$AA$18=\"X\",AM115=\"X\"),1,0)","v":0},null,{"$f":"IF(AND('Step 2 - Ornamental'!$AB$18=\"X\",AO115=\"X\"),1,0)","v":0},"X",{"$f":"IF(AND('Step 2 - Ornamental'!$AC$18=\"X\",AQ115=\"X\"),1,0)","v":0},null,{"$f":"IF(AND('Step 2 - Ornamental'!$AD$18=\"X\",AS115=\"X\"),1,0)","v":0},null,{"$f":"IF(AND('Step 2 - Ornamental'!$AE$18=\"X\",AU115=\"X\"),1,0)","v":0},null,{"$f":"IF(AND('Step 2 - Ornamental'!$AA$17=\"X\",AW115=\"X\"),1,0)","v":0},"X",{"$f":"IF(AND('Step 2 - Ornamental'!$AB$17=\"X\",AY115=\"X\"),1,0)","v":0},null,{"$f":"IF(AND('Step 2 - Ornamental'!$AC$17=\"X\",BA115=\"X\"),1,0)","v":0},null,{"$f":"IF(AND('Step 2 - Ornamental'!$AA$22=\"X\",BC115=\"X\"),1,0)","v":0},null,{"$f":"IF(AND('Step 2 - Ornamental'!$AB$22=\"X\",BE115=\"X\"),1,0)","v":0},null,{"$f":"IF(AND('Step 2 - Ornamental'!$AC$22=\"X\",BG115=\"X\"),1,0)","v":0},null,{"$f":"IF(AND('Step 2 - Ornamental'!$AD$22=\"X\",BI115=\"X\"),1,0)","v":0},"X",null,null,null,"Pink / 20'-30'"]
[null,1,"PR SU","Prunus subhirtella 'Autumnalis'","Autumnal Higan Cherry","NA","Ornamental cherry to 35' tall, rounded form with heavy bloom with double flowering","X",null,null,null,null,null,0,null,{"$f":"IF(AND('Step 2 - Ornamental'!$AA$21=\"X\",Q116=\"X\"),1,0)","v":0},null,{"$f":"IF(AND('Step 2 - Ornamental'!$AB$21=\"X\",S116=\"X\"),1,0)","v":0},"X",{"$f":"IF(AND('Step 2 - Ornamental'!$AC$21=\"X\",U116=\"X\"),1,0)","v":0},null,{"$f":"IF(AND('Step 2 - Ornamental'!$AA$19=\"X\",W116=\"X\"),1,0)","v":0},"X",{"$f":"IF(AND('Step 2 - Ornamental'!$AA$19=\"X\",Y116=\"X\"),1,0)","v":0},null,{"$f":"IF(AND('Step 2 - Ornamental'!$AB$19=\"X\",AA116=\"X\"),1,0)","v":0},null,{"$f":"IF(AND('Step 2 - Ornamental'!$AC$19=\"X\",AC116=\"X\"),1,0)","v":0},null,{"$f":"IF(AND('Step 2 - Ornamental'!$AA$20=\"X\",AE116=\"X\"),1,0)","v":0},"X",{"$f":"IF(AND('Step 2 - Ornamental'!$AA$20=\"X\",AG116=\"X\"),1,0)","v":0},null,{"$f":"IF(AND('Step 2 - Ornamental'!$AB$20=\"X\",AI116=\"X\"),1,0)","v":0},null,{"$f":"IF(AND('Step 2 - Ornamental'!$AC$20=\"X\",AK116=\"X\"),1,0)","v":0},null,{"$f":"IF(AND('Step 2 - Ornamental'!$AA$18=\"X\",AM116=\"X\"),1,0)","v":0},null,{"$f":"IF(AND('Step 2 - Ornamental'!$AB$18=\"X\",AO116=\"X\"),1,0)","v":0},"X",{"$f":"IF(AND('Step 2 - Ornamental'!$AC$18=\"X\",AQ116=\"X\"),1,0)","v":0},null,{"$f":"IF(AND('Step 2 - Ornamental'!$AD$18=\"X\",AS116=\"X\"),1,0)","v":0},null,{"$f":"IF(AND('Step 2 - Ornamental'!$AE$18=\"X\",AU116=\"X\"),1,0)","v":0},null,{"$f":"IF(AND('Step 2 - Ornamental'!$AA$17=\"X\",AW116=\"X\"),1,0)","v":0},"X",{"$f":"IF(AND('Step 2 - Ornamental'!$AB$17=\"X\",AY116=\"X\"),1,0)","v":0},null,{"$f":"IF(AND('Step 2 - Ornamental'!$AC$17=\"X\",BA116=\"X\"),1,0)","v":0},null,{"$f":"IF(AND('Step 2 - Ornamental'!$AA$22=\"X\",BC116=\"X\"),1,0)","v":0},null,{"$f":"IF(AND('Step 2 - Ornamental'!$AB$22=\"X\",BE116=\"X\"),1,0)","v":0},null,{"$f":"IF(AND('Step 2 - Ornamental'!$AC$22=\"X\",BG116=\"X\"),1,0)","v":0},null,{"$f":"IF(AND('Step 2 - Ornamental'!$AD$22=\"X\",BI116=\"X\"),1,0)","v":0},"X",null,null,null,"Pink / 20'-35'"]
[null,1,"ST PS","Stewartia pseudocamellia","Japanese Stewartia","NA","Multi-stem form preferred, Spring dig only, provide afternoon shade, exfoliating bark, white flowers in June","X",null,null,null,null,null,0,null,{"$f":"IF(AND('Step 2 - Ornamental'!$AA$21=\"X\",Q117=\"X\"),1,0)","v":0},"X",{"$f":"IF(AND('Step 2 - Ornamental'!$AB$21=\"X\",S117=\"X\"),1,0)","v":0},"X",{"$f":"IF(AND('Step 2 - Ornamental'!$AC$21=\"X\",U117=\"X\"),1,0)","v":0}," ",{"$f":"IF(AND('Step 2 - Ornamental'!$AA$19=\"X\",W117=\"X\"),1,0)","v":0},"X",{"$f":"IF(AND('Step 2 - Ornamental'!$AA$19=\"X\",Y117=\"X\"),1,0)","v":0},null,{"$f":"IF(AND('Step 2 - Ornamental'!$AB$19=\"X\",AA117=\"X\"),1,0)","v":0},null,{"$f":"IF(AND('Step 2 - Ornamental'!$AC$19=\"X\",AC117=\"X\"),1,0)","v":0},null,{"$f":"IF(AND('Step 2 - Ornamental'!$AA$20=\"X\",AE117=\"X\"),1,0)","v":0},"X",{"$f":"IF(AND('Step 2 - Ornamental'!$AA$20=\"X\",AG117=\"X\"),1,0)","v":0},null,{"$f":"IF(AND('Step 2 - Ornamental'!$AB$20=\"X\",AI117=\"X\"),1,0)","v":0},null,{"$f":"IF(AND('Step 2 - Ornamental'!$AC$20=\"X\",AK117=\"X\"),1,0)","v":0},null,{"$f":"IF(AND('Step 2 - Ornamental'!$AA$18=\"X\",AM117=\"X\"),1,0)","v":0},null,{"$f":"IF(AND('Step 2 - Ornamental'!$AB$18=\"X\",AO117=\"X\"),1,0)","v":0},"X",{"$f":"IF(AND('Step 2 - Ornamental'!$AC$18=\"X\",AQ117=\"X\"),1,0)","v":0},null,{"$f":"IF(AND('Step 2 - Ornamental'!$AD$18=\"X\",AS117=\"X\"),1,0)","v":0},null,{"$f":"IF(AND('Step 2 - Ornamental'!$AE$18=\"X\",AU117=\"X\"),1,0)","v":0},null,{"$f":"IF(AND('Step 2 - Ornamental'!$AA$17=\"X\",AW117=\"X\"),1,0)","v":0},null,{"$f":"IF(AND('Step 2 - Ornamental'!$AB$17=\"X\",AY117=\"X\"),1,0)","v":0},"X",{"$f":"IF(AND('Step 2 - Ornamental'!$AC$17=\"X\",BA117=\"X\"),1,0)","v":0},null,{"$f":"IF(AND('Step 2 - Ornamental'!$AA$22=\"X\",BC117=\"X\"),1,0)","v":0},null,{"$f":"IF(AND('Step 2 - Ornamental'!$AB$22=\"X\",BE117=\"X\"),1,0)","v":0},null,{"$f":"IF(AND('Step 2 - Ornamental'!$AC$22=\"X\",BG117=\"X\"),1,0)","v":0},null,{"$f":"IF(AND('Step 2 - Ornamental'!$AD$22=\"X\",BI117=\"X\"),1,0)","v":0},"X",null,null,null,null,null,"White / 12'-40'"]
[null,1,"SY RE","Syringa reticulata 'Ivory Silk'","Ivory Silk Japanese Tree Lilac","NA","Small tree, tolerant of urban conditions, with heavy, fragrant blooms in June","X",null,null,"X",null,null,0,null,{"$f":"IF(AND('Step 2 - Ornamental'!$AA$21=\"X\",Q118=\"X\"),1,0)","v":0},"X",{"$f":"IF(AND('Step 2 - Ornamental'!$AB$21=\"X\",S118=\"X\"),1,0)","v":0},"X",{"$f":"IF(AND('Step 2 - Ornamental'!$AC$21=\"X\",U118=\"X\"),1,0)","v":0},"X",{"$f":"IF(AND('Step 2 - Ornamental'!$AA$19=\"X\",W118=\"X\"),1,0)","v":0},null,{"$f":"IF(AND('Step 2 - Ornamental'!$AA$19=\"X\",Y118=\"X\"),1,0)","v":0},"X",{"$f":"IF(AND('Step 2 - Ornamental'!$AB$19=\"X\",AA118=\"X\"),1,0)","v":0},"X",{"$f":"IF(AND('Step 2 - Ornamental'!$AC$19=\"X\",AC118=\"X\"),1,0)","v":0},null,{"$f":"IF(AND('Step 2 - Ornamental'!$AA$20=\"X\",AE118=\"X\"),1,0)","v":0},"X",{"$f":"IF(AND('Step 2 - Ornamental'!$AA$20=\"X\",AG118=\"X\"),1,0)","v":0},null,{"$f":"IF(AND('Step 2 - Ornamental'!$AB$20=\"X\",AI118=\"X\"),1,0)","v":0},null,{"$f":"IF(AND('Step 2 - Ornamental'!$AC$20=\"X\",AK118=\"X\"),1,0)","v":0},null,{"$f":"IF(AND('Step 2 - Ornamental'!$AA$18=\"X\",AM118=\"X\"),1,0)","v":0},null,{"$f":"IF(AND('Step 2 - Ornamental'!$AB$18=\"X\",AO118=\"X\"),1,0)","v":0},"X",{"$f":"IF(AND('Step 2 - Ornamental'!$AC$18=\"X\",AQ118=\"X\"),1,0)","v":0},null,{"$f":"IF(AND('Step 2 - Ornamental'!$AD$18=\"X\",AS118=\"X\"),1,0)","v":0},null,{"$f":"IF(AND('Step 2 - Ornamental'!$AE$18=\"X\",AU118=\"X\"),1,0)","v":0},null,{"$f":"IF(AND('Step 2 - Ornamental'!$AA$17=\"X\",AW118=\"X\"),1,0)","v":0},"X",{"$f":"IF(AND('Step 2 - Ornamental'!$AB$17=\"X\",AY118=\"X\"),1,0)","v":0},null,{"$f":"IF(AND('Step 2 - Ornamental'!$AC$17=\"X\",BA118=\"X\"),1,0)","v":0},null,{"$f":"IF(AND('Step 2 - Ornamental'!$AA$22=\"X\",BC118=\"X\"),1,0)","v":0},null,{"$f":"IF(AND('Step 2 - Ornamental'!$AB$22=\"X\",BE118=\"X\"),1,0)","v":0},null,{"$f":"IF(AND('Step 2 - Ornamental'!$AC$22=\"X\",BG118=\"X\"),1,0)","v":0},null,{"$f":"IF(AND('Step 2 - Ornamental'!$AD$22=\"X\",BI118=\"X\"),1,0)","v":0},"X",null,null,null,"Creamy white / 20'-25'"]
[null,1,"VI PR","Viburnum prunifolium","Blackhaw Viburnum","NA","Multi-stem form preferred, to 15' tall, hardy",null,"X","X",null,null,null,0,null,{"$f":"IF(AND('Step 2 - Ornamental'!$AA$21=\"X\",Q119=\"X\"),1,0)","v":0},"X",{"$f":"IF(AND('Step 2 - Ornamental'!$AB$21=\"X\",S119=\"X\"),1,0)","v":0},"X",{"$f":"IF(AND('Step 2 - Ornamental'!$AC$21=\"X\",U119=\"X\"),1,0)","v":0},"X",{"$f":"IF(AND('Step 2 - Ornamental'!$AA$19=\"X\",W119=\"X\"),1,0)","v":0},"X",{"$f":"IF(AND('Step 2 - Ornamental'!$AA$19=\"X\",Y119=\"X\"),1,0)","v":0},null,{"$f":"IF(AND('Step 2 - Ornamental'!$AB$19=\"X\",AA119=\"X\"),1,0)","v":0},null,{"$f":"IF(AND('Step 2 - Ornamental'!$AC$19=\"X\",AC119=\"X\"),1,0)","v":0},null,{"$f":"IF(AND('Step 2 - Ornamental'!$AA$20=\"X\",AE119=\"X\"),1,0)","v":0},"X",{"$f":"IF(AND('Step 2 - Ornamental'!$AA$20=\"X\",AG119=\"X\"),1,0)","v":0},null,{"$f":"IF(AND('Step 2 - Ornamental'!$AB$20=\"X\",AI119=\"X\"),1,0)","v":0},null,{"$f":"IF(AND('Step 2 - Ornamental'!$AC$20=\"X\",AK119=\"X\"),1,0)","v":0},null,{"$f":"IF(AND('Step 2 - Ornamental'!$AA$18=\"X\",AM119=\"X\"),1,0)","v":0},"X",{"$f":"IF(AND('Step 2 - Ornamental'!$AB$18=\"X\",AO119=\"X\"),1,0)","v":0},"X",{"$f":"IF(AND('Step 2 - Ornamental'!$AC$18=\"X\",AQ119=\"X\"),1,0)","v":0},null,{"$f":"IF(AND('Step 2 - Ornamental'!$AD$18=\"X\",AS119=\"X\"),1,0)","v":0},null,{"$f":"IF(AND('Step 2 - Ornamental'!$AE$18=\"X\",AU119=\"X\"),1,0)","v":0},null,{"$f":"IF(AND('Step 2 - Ornamental'!$AA$17=\"X\",AW119=\"X\"),1,0)","v":0},"X",{"$f":"IF(AND('Step 2 - Ornamental'!$AB$17=\"X\",AY119=\"X\"),1,0)","v":0},"X",{"$f":"IF(AND('Step 2 - Ornamental'!$AC$17=\"X\",BA119=\"X\"),1,0)","v":0},"X",{"$f":"IF(AND('Step 2 - Ornamental'!$AA$22=\"X\",BC119=\"X\"),1,0)","v":0},null,{"$f":"IF(AND('Step 2 - Ornamental'!$AB$22=\"X\",BE119=\"X\"),1,0)","v":0},null,{"$f":"IF(AND('Step 2 - Ornamental'!$AC$22=\"X\",BG119=\"X\"),1,0)","v":0},null,{"$f":"IF(AND('Step 2 - Ornamental'!$AD$22=\"X\",BI119=\"X\"),1,0)","v":0},"X",null,null,null,null,"White / 12'-15'"]
[]
["Deciduous Shrubs",2]
[null,{"$f":"SUM((N122+P122+R122+T122)*(V122+X122+Z122+AB122)*(AD122+AF122+AH122+AJ122)*(AL122+AN122+AP122+AR122+AT122)*(AV122+AX122+AZ122)*(BB122+BD122+BF122+BH122))+1","v":1},"AC JA","Acer japonicum 'Aconitifolium'","Dwarf Full Moon Maple","10' O.C.","Multi-stem form preferred,  deeply dissected leaves, dwarf variety to 10' tall","X",null,null,null,null,null,{"$f":"IF(O122=\"X\",1,0)","v":0},null,{"$f":"IF(AND('Step 2 - Ornamental'!$AA$21=\"X\",Q122=\"X\"),1,0)","v":0},"X",{"$f":"IF(AND('Step 2 - Ornamental'!$AB$21=\"X\",S122=\"X\"),1,0)","v":0},"X",{"$f":"IF(AND('Step 2 - Ornamental'!$AC$21=\"X\",U122=\"X\"),1,0)","v":0},null,{"$f":"IF(AND('Step 2 - Ornamental'!$AA$19=\"X\",W122=\"X\"),1,0)","v":0},"X",{"$f":"IF(AND('Step 2 - Ornamental'!$AA$19=\"X\",Y122=\"X\"),1,0)","v":0},null,{"$f":"IF(AND('Step 2 - Ornamental'!$AB$19=\"X\",AA122=\"X\"),1,0)","v":0},null,{"$f":"IF(AND('Step 2 - Ornamental'!$AC$19=\"X\",AC122=\"X\"),1,0)","v":0},null,{"$f":"IF(AND('Step 2 - Ornamental'!$AA$20=\"X\",AE122=\"X\"),1,0)","v":0},"X",{"$f":"IF(AND('Step 2 - Ornamental'!$AA$20=\"X\",AG122=\"X\"),1,0)","v":0},null,{"$f":"IF(AND('Step 2 - Ornamental'!$AB$20=\"X\",AI122=\"X\"),1,0)","v":0},null,{"$f":"IF(AND('Step 2 - Ornamental'!$AC$20=\"X\",AK122=\"X\"),1,0)","v":0},null,{"$f":"IF(AND('Step 2 - Ornamental'!$AA$18=\"X\",AM122=\"X\"),1,0)","v":0},null,{"$f":"IF(AND('Step 2 - Ornamental'!$AB$18=\"X\",AO122=\"X\"),1,0)","v":0},"X",{"$f":"IF(AND('Step 2 - Ornamental'!$AC$18=\"X\",AQ122=\"X\"),1,0)","v":0},null,{"$f":"IF(AND('Step 2 - Ornamental'!$AD$18=\"X\",AS122=\"X\"),1,0)","v":0},null,{"$f":"IF(AND('Step 2 - Ornamental'!$AE$18=\"X\",AU122=\"X\"),1,0)","v":0},null,{"$f":"IF(AND('Step 2 - Ornamental'!$AA$17=\"X\",AW122=\"X\"),1,0)","v":0},null,{"$f":"IF(AND('Step 2 - Ornamental'!$AB$17=\"X\",AY122=\"X\"),1,0)","v":0},"X",{"$f":"IF(AND('Step 2 - Ornamental'!$AC$17=\"X\",BA122=\"X\"),1,0)","v":0},null,{"$f":"IF(AND('Step 2 - Ornamental'!$AA$22=\"X\",BC122=\"X\"),1,0)","v":0},null,{"$f":"IF(AND('Step 2 - Ornamental'!$AB$22=\"X\",BE122=\"X\"),1,0)","v":0},null,{"$f":"IF(AND('Step 2 - Ornamental'!$AC$22=\"X\",BG122=\"X\"),1,0)","v":0},null,{"$f":"IF(AND('Step 2 - Ornamental'!$AD$22=\"X\",BI122=\"X\"),1,0)","v":0},"X","Flowers are Not Showy"]
[null,1,"AE PA","Aesculus parviflora","Bottlebrush Buckeye","4' O.C.","One of the best summer flowering shrubs for shade, large white flowers in June to July, up to 12' tall, suckers","X",null,null,"X","X",null,0,null,{"$f":"IF(AND('Step 2 - Ornamental'!$AA$21=\"X\",Q123=\"X\"),1,0)","v":0},"X",{"$f":"IF(AND('Step 2 - Ornamental'!$AB$21=\"X\",S123=\"X\"),1,0)","v":0},"X",{"$f":"IF(AND('Step 2 - Ornamental'!$AC$21=\"X\",U123=\"X\"),1,0)","v":0},null,{"$f":"IF(AND('Step 2 - Ornamental'!$AA$19=\"X\",W123=\"X\"),1,0)","v":0},"X",{"$f":"IF(AND('Step 2 - Ornamental'!$AA$19=\"X\",Y123=\"X\"),1,0)","v":0},null,{"$f":"IF(AND('Step 2 - Ornamental'!$AB$19=\"X\",AA123=\"X\"),1,0)","v":0},null,{"$f":"IF(AND('Step 2 - Ornamental'!$AC$19=\"X\",AC123=\"X\"),1,0)","v":0},null,{"$f":"IF(AND('Step 2 - Ornamental'!$AA$20=\"X\",AE123=\"X\"),1,0)","v":0},"X",{"$f":"IF(AND('Step 2 - Ornamental'!$AA$20=\"X\",AG123=\"X\"),1,0)","v":0},null,{"$f":"IF(AND('Step 2 - Ornamental'!$AB$20=\"X\",AI123=\"X\"),1,0)","v":0},null,{"$f":"IF(AND('Step 2 - Ornamental'!$AC$20=\"X\",AK123=\"X\"),1,0)","v":0},null,{"$f":"IF(AND('Step 2 - Ornamental'!$AA$18=\"X\",AM123=\"X\"),1,0)","v":0},"X",{"$f":"IF(AND('Step 2 - Ornamental'!$AB$18=\"X\",AO123=\"X\"),1,0)","v":0},"X",{"$f":"IF(AND('Step 2 - Ornamental'!$AC$18=\"X\",AQ123=\"X\"),1,0)","v":0},null,{"$f":"IF(AND('Step 2 - Ornamental'!$AD$18=\"X\",AS123=\"X\"),1,0)","v":0},null,{"$f":"IF(AND('Step 2 - Ornamental'!$AE$18=\"X\",AU123=\"X\"),1,0)","v":0},null,{"$f":"IF(AND('Step 2 - Ornamental'!$AA$17=\"X\",AW123=\"X\"),1,0)","v":0},"X",{"$f":"IF(AND('Step 2 - Ornamental'!$AB$17=\"X\",AY123=\"X\"),1,0)","v":0},"X",{"$f":"IF(AND('Step 2 - Ornamental'!$AC$17=\"X\",BA123=\"X\"),1,0)","v":0},"X",{"$f":"IF(AND('Step 2 - Ornamental'!$AA$22=\"X\",BC123=\"X\"),1,0)","v":0},null,{"$f":"IF(AND('Step 2 - Ornamental'!$AB$22=\"X\",BE123=\"X\"),1,0)","v":0},null,{"$f":"IF(AND('Step 2 - Ornamental'!$AC$22=\"X\",BG123=\"X\"),1,0)","v":0},null,{"$f":"IF(AND('Step 2 - Ornamental'!$AD$22=\"X\",BI123=\"X\"),1,0)","v":0},"X",null,null,null,null,null,"White / 8'-12'"]
[null,1,"AM AL","Amelanchier alnifolia 'Regent'","Regent Saskatoon Serviceberry","4' O.C.","Small Amelanchier to 6', edible berries,",null,"X",null,null,null,null,0,null,{"$f":"IF(AND('Step 2 - Ornamental'!$AA$21=\"X\",Q124=\"X\"),1,0)","v":0},"X",{"$f":"IF(AND('Step 2 - Ornamental'!$AB$21=\"X\",S124=\"X\"),1,0)","v":0},"X",{"$f":"IF(AND('Step 2 - Ornamental'!$AC$21=\"X\",U124=\"X\"),1,0)","v":0},null,{"$f":"IF(AND('Step 2 - Ornamental'!$AA$19=\"X\",W124=\"X\"),1,0)","v":0},"X",{"$f":"IF(AND('Step 2 - Ornamental'!$AA$19=\"X\",Y124=\"X\"),1,0)","v":0},null,{"$f":"IF(AND('Step 2 - Ornamental'!$AB$19=\"X\",AA124=\"X\"),1,0)","v":0},null,{"$f":"IF(AND('Step 2 - Ornamental'!$AC$19=\"X\",AC124=\"X\"),1,0)","v":0},null,{"$f":"IF(AND('Step 2 - Ornamental'!$AA$20=\"X\",AE124=\"X\"),1,0)","v":0},"X",{"$f":"IF(AND('Step 2 - Ornamental'!$AA$20=\"X\",AG124=\"X\"),1,0)","v":0},null,{"$f":"IF(AND('Step 2 - Ornamental'!$AB$20=\"X\",AI124=\"X\"),1,0)","v":0},null,{"$f":"IF(AND('Step 2 - Ornamental'!$AC$20=\"X\",AK124=\"X\"),1,0)","v":0},null,{"$f":"IF(AND('Step 2 - Ornamental'!$AA$18=\"X\",AM124=\"X\"),1,0)","v":0},"X",{"$f":"IF(AND('Step 2 - Ornamental'!$AB$18=\"X\",AO124=\"X\"),1,0)","v":0},"X",{"$f":"IF(AND('Step 2 - Ornamental'!$AC$18=\"X\",AQ124=\"X\"),1,0)","v":0},null,{"$f":"IF(AND('Step 2 - Ornamental'!$AD$18=\"X\",AS124=\"X\"),1,0)","v":0},null,{"$f":"IF(AND('Step 2 - Ornamental'!$AE$18=\"X\",AU124=\"X\"),1,0)","v":0},null,{"$f":"IF(AND('Step 2 - Ornamental'!$AA$17=\"X\",AW124=\"X\"),1,0)","v":0},"X",{"$f":"IF(AND('Step 2 - Ornamental'!$AB$17=\"X\",AY124=\"X\"),1,0)","v":0},"X",{"$f":"IF(AND('Step 2 - Ornamental'!$AC$17=\"X\",BA124=\"X\"),1,0)","v":0},null,{"$f":"IF(AND('Step 2 - Ornamental'!$AA$22=\"X\",BC124=\"X\"),1,0)","v":0},null,{"$f":"IF(AND('Step 2 - Ornamental'!$AB$22=\"X\",BE124=\"X\"),1,0)","v":0},null,{"$f":"IF(AND('Step 2 - Ornamental'!$AC$22=\"X\",BG124=\"X\"),1,0)","v":0},null,{"$f":"IF(AND('Step 2 - Ornamental'!$AD$22=\"X\",BI124=\"X\"),1,0)","v":0},"X",null,null,null,"White / 4'-6'"]
[null,1,"AR AR","Aronia arbutifolia 'Brilliantissima'","Red Chokeberry","4' O.C.","Brilliantissima noted for its red, glossy berries, and red fall color, more compact than species to 6-8' tall","X",null,null,null,null,null,0,null,{"$f":"IF(AND('Step 2 - Ornamental'!$AA$21=\"X\",Q125=\"X\"),1,0)","v":0},"X",{"$f":"IF(AND('Step 2 - Ornamental'!$AB$21=\"X\",S125=\"X\"),1,0)","v":0},"X",{"$f":"IF(AND('Step 2 - Ornamental'!$AC$21=\"X\",U125=\"X\"),1,0)","v":0},"X",{"$f":"IF(AND('Step 2 - Ornamental'!$AA$19=\"X\",W125=\"X\"),1,0)","v":0},"X",{"$f":"IF(AND('Step 2 - Ornamental'!$AA$19=\"X\",Y125=\"X\"),1,0)","v":0},null,{"$f":"IF(AND('Step 2 - Ornamental'!$AB$19=\"X\",AA125=\"X\"),1,0)","v":0},null,{"$f":"IF(AND('Step 2 - Ornamental'!$AC$19=\"X\",AC125=\"X\"),1,0)","v":0},null,{"$f":"IF(AND('Step 2 - Ornamental'!$AA$20=\"X\",AE125=\"X\"),1,0)","v":0},"X",{"$f":"IF(AND('Step 2 - Ornamental'!$AA$20=\"X\",AG125=\"X\"),1,0)","v":0},null,{"$f":"IF(AND('Step 2 - Ornamental'!$AB$20=\"X\",AI125=\"X\"),1,0)","v":0},null,{"$f":"IF(AND('Step 2 - Ornamental'!$AC$20=\"X\",AK125=\"X\"),1,0)","v":0},null,{"$f":"IF(AND('Step 2 - Ornamental'!$AA$18=\"X\",AM125=\"X\"),1,0)","v":0},"X",{"$f":"IF(AND('Step 2 - Ornamental'!$AB$18=\"X\",AO125=\"X\"),1,0)","v":0},"X",{"$f":"IF(AND('Step 2 - Ornamental'!$AC$18=\"X\",AQ125=\"X\"),1,0)","v":0},"X",{"$f":"IF(AND('Step 2 - Ornamental'!$AD$18=\"X\",AS125=\"X\"),1,0)","v":0},null,{"$f":"IF(AND('Step 2 - Ornamental'!$AE$18=\"X\",AU125=\"X\"),1,0)","v":0},null,{"$f":"IF(AND('Step 2 - Ornamental'!$AA$17=\"X\",AW125=\"X\"),1,0)","v":0},"X",{"$f":"IF(AND('Step 2 - Ornamental'!$AB$17=\"X\",AY125=\"X\"),1,0)","v":0},"X",{"$f":"IF(AND('Step 2 - Ornamental'!$AC$17=\"X\",BA125=\"X\"),1,0)","v":0},null,{"$f":"IF(AND('Step 2 - Ornamental'!$AA$22=\"X\",BC125=\"X\"),1,0)","v":0},null,{"$f":"IF(AND('Step 2 - Ornamental'!$AB$22=\"X\",BE125=\"X\"),1,0)","v":0},null,{"$f":"IF(AND('Step 2 - Ornamental'!$AC$22=\"X\",BG125=\"X\"),1,0)","v":0},"X",{"$f":"IF(AND('Step 2 - Ornamental'!$AD$22=\"X\",BI125=\"X\"),1,0)","v":0},"X",null,null,null,"White / 6'-8",null,null,null,null,"Red fruit / 6'-8'"]
[null,1,"AR ME","Aronia melanocarpa","Black Chokeberry","4' O.C.","Tolerant of a variety of soil types, will sucker, edible fruit, 3'-6' tall",null,"X","X",null,null,null,0,null,{"$f":"IF(AND('Step 2 - Ornamental'!$AA$21=\"X\",Q126=\"X\"),1,0)","v":0},"X",{"$f":"IF(AND('Step 2 - Ornamental'!$AB$21=\"X\",S126=\"X\"),1,0)","v":0},"X",{"$f":"IF(AND('Step 2 - Ornamental'!$AC$21=\"X\",U126=\"X\"),1,0)","v":0},"X",{"$f":"IF(AND('Step 2 - Ornamental'!$AA$19=\"X\",W126=\"X\"),1,0)","v":0},null,{"$f":"IF(AND('Step 2 - Ornamental'!$AA$19=\"X\",Y126=\"X\"),1,0)","v":0},"X",{"$f":"IF(AND('Step 2 - Ornamental'!$AB$19=\"X\",AA126=\"X\"),1,0)","v":0},"X",{"$f":"IF(AND('Step 2 - Ornamental'!$AC$19=\"X\",AC126=\"X\"),1,0)","v":0},null,{"$f":"IF(AND('Step 2 - Ornamental'!$AA$20=\"X\",AE126=\"X\"),1,0)","v":0},null,{"$f":"IF(AND('Step 2 - Ornamental'!$AA$20=\"X\",AG126=\"X\"),1,0)","v":0},"X",{"$f":"IF(AND('Step 2 - Ornamental'!$AB$20=\"X\",AI126=\"X\"),1,0)","v":0},null,{"$f":"IF(AND('Step 2 - Ornamental'!$AC$20=\"X\",AK126=\"X\"),1,0)","v":0},null,{"$f":"IF(AND('Step 2 - Ornamental'!$AA$18=\"X\",AM126=\"X\"),1,0)","v":0},"X",{"$f":"IF(AND('Step 2 - Ornamental'!$AB$18=\"X\",AO126=\"X\"),1,0)","v":0},"X",{"$f":"IF(AND('Step 2 - Ornamental'!$AC$18=\"X\",AQ126=\"X\"),1,0)","v":0},"X",{"$f":"IF(AND('Step 2 - Ornamental'!$AD$18=\"X\",AS126=\"X\"),1,0)","v":0},null,{"$f":"IF(AND('Step 2 - Ornamental'!$AE$18=\"X\",AU126=\"X\"),1,0)","v":0},null,{"$f":"IF(AND('Step 2 - Ornamental'!$AA$17=\"X\",AW126=\"X\"),1,0)","v":0},"X",{"$f":"IF(AND('Step 2 - Ornamental'!$AB$17=\"X\",AY126=\"X\"),1,0)","v":0},"X",{"$f":"IF(AND('Step 2 - Ornamental'!$AC$17=\"X\",BA126=\"X\"),1,0)","v":0},null,{"$f":"IF(AND('Step 2 - Ornamental'!$AA$22=\"X\",BC126=\"X\"),1,0)","v":0},null,{"$f":"IF(AND('Step 2 - Ornamental'!$AB$22=\"X\",BE126=\"X\"),1,0)","v":0},null,{"$f":"IF(AND('Step 2 - Ornamental'!$AC$22=\"X\",BG126=\"X\"),1,0)","v":0},"X",{"$f":"IF(AND('Step 2 - Ornamental'!$AD$22=\"X\",BI126=\"X\"),1,0)","v":0},"X",null,null,null,null,"White / 3.0'-6.0'",null,null,null,"Purplish-black fruit/ 3.0'-6.0'"]
[null,1,"CA FL","Calycanthus floridus","Sweet Shrub","6' O.C.","Fragrant reddish-brown flowers in April-July, grows to 9' tall",null,"X",null,"X",null,null,0,null,{"$f":"IF(AND('Step 2 - Ornamental'!$AA$21=\"X\",Q127=\"X\"),1,0)","v":0},"X",{"$f":"IF(AND('Step 2 - Ornamental'!$AB$21=\"X\",S127=\"X\"),1,0)","v":0},"X",{"$f":"IF(AND('Step 2 - Ornamental'!$AC$21=\"X\",U127=\"X\"),1,0)","v":0},"X",{"$f":"IF(AND('Step 2 - Ornamental'!$AA$19=\"X\",W127=\"X\"),1,0)","v":0},"X",{"$f":"IF(AND('Step 2 - Ornamental'!$AA$19=\"X\",Y127=\"X\"),1,0)","v":0},null,{"$f":"IF(AND('Step 2 - Ornamental'!$AB$19=\"X\",AA127=\"X\"),1,0)","v":0},null,{"$f":"IF(AND('Step 2 - Ornamental'!$AC$19=\"X\",AC127=\"X\"),1,0)","v":0},null,{"$f":"IF(AND('Step 2 - Ornamental'!$AA$20=\"X\",AE127=\"X\"),1,0)","v":0},"X",{"$f":"IF(AND('Step 2 - Ornamental'!$AA$20=\"X\",AG127=\"X\"),1,0)","v":0},null,{"$f":"IF(AND('Step 2 - Ornamental'!$AB$20=\"X\",AI127=\"X\"),1,0)","v":0},null,{"$f":"IF(AND('Step 2 - Ornamental'!$AC$20=\"X\",AK127=\"X\"),1,0)","v":0},null,{"$f":"IF(AND('Step 2 - Ornamental'!$AA$18=\"X\",AM127=\"X\"),1,0)","v":0}," ",{"$f":"IF(AND('Step 2 - Ornamental'!$AB$18=\"X\",AO127=\"X\"),1,0)","v":0},"X",{"$f":"IF(AND('Step 2 - Ornamental'!$AC$18=\"X\",AQ127=\"X\"),1,0)","v":0},"X",{"$f":"IF(AND('Step 2 - Ornamental'!$AD$18=\"X\",AS127=\"X\"),1,0)","v":0},null,{"$f":"IF(AND('Step 2 - Ornamental'!$AE$18=\"X\",AU127=\"X\"),1,0)","v":0},null,{"$f":"IF(AND('Step 2 - Ornamental'!$AA$17=\"X\",AW127=\"X\"),1,0)","v":0},"X",{"$f":"IF(AND('Step 2 - Ornamental'!$AB$17=\"X\",AY127=\"X\"),1,0)","v":0},"X",{"$f":"IF(AND('Step 2 - Ornamental'!$AC$17=\"X\",BA127=\"X\"),1,0)","v":0},"X",{"$f":"IF(AND('Step 2 - Ornamental'!$AA$22=\"X\",BC127=\"X\"),1,0)","v":0},null,{"$f":"IF(AND('Step 2 - Ornamental'!$AB$22=\"X\",BE127=\"X\"),1,0)","v":0},null,{"$f":"IF(AND('Step 2 - Ornamental'!$AC$22=\"X\",BG127=\"X\"),1,0)","v":0},"X",{"$f":"IF(AND('Step 2 - Ornamental'!$AD$22=\"X\",BI127=\"X\"),1,0)","v":0},"X",null,null,null,"Brown / 6'-10'"]
[null,1,"CP OC","Cephalanthus occidentalis","Buttonbush","6' O.C.","Interesting ball-shaped flowers, tolerant of wet soils, ",null,"X","X",null,null,null,0,null,{"$f":"IF(AND('Step 2 - Ornamental'!$AA$21=\"X\",Q128=\"X\"),1,0)","v":0},"X",{"$f":"IF(AND('Step 2 - Ornamental'!$AB$21=\"X\",S128=\"X\"),1,0)","v":0},"X",{"$f":"IF(AND('Step 2 - Ornamental'!$AC$21=\"X\",U128=\"X\"),1,0)","v":0},"X",{"$f":"IF(AND('Step 2 - Ornamental'!$AA$19=\"X\",W128=\"X\"),1,0)","v":0},null,{"$f":"IF(AND('Step 2 - Ornamental'!$AA$19=\"X\",Y128=\"X\"),1,0)","v":0},"X",{"$f":"IF(AND('Step 2 - Ornamental'!$AB$19=\"X\",AA128=\"X\"),1,0)","v":0},"X",{"$f":"IF(AND('Step 2 - Ornamental'!$AC$19=\"X\",AC128=\"X\"),1,0)","v":0},"X",{"$f":"IF(AND('Step 2 - Ornamental'!$AA$20=\"X\",AE128=\"X\"),1,0)","v":0},null,{"$f":"IF(AND('Step 2 - Ornamental'!$AA$20=\"X\",AG128=\"X\"),1,0)","v":0},"X",{"$f":"IF(AND('Step 2 - Ornamental'!$AB$20=\"X\",AI128=\"X\"),1,0)","v":0},"X",{"$f":"IF(AND('Step 2 - Ornamental'!$AC$20=\"X\",AK128=\"X\"),1,0)","v":0},"X",{"$f":"IF(AND('Step 2 - Ornamental'!$AA$18=\"X\",AM128=\"X\"),1,0)","v":0},null,{"$f":"IF(AND('Step 2 - Ornamental'!$AB$18=\"X\",AO128=\"X\"),1,0)","v":0},"X",{"$f":"IF(AND('Step 2 - Ornamental'!$AC$18=\"X\",AQ128=\"X\"),1,0)","v":0},"X",{"$f":"IF(AND('Step 2 - Ornamental'!$AD$18=\"X\",AS128=\"X\"),1,0)","v":0},null,{"$f":"IF(AND('Step 2 - Ornamental'!$AE$18=\"X\",AU128=\"X\"),1,0)","v":0},null,{"$f":"IF(AND('Step 2 - Ornamental'!$AA$17=\"X\",AW128=\"X\"),1,0)","v":0},"X",{"$f":"IF(AND('Step 2 - Ornamental'!$AB$17=\"X\",AY128=\"X\"),1,0)","v":0},"X",{"$f":"IF(AND('Step 2 - Ornamental'!$AC$17=\"X\",BA128=\"X\"),1,0)","v":0},null,{"$f":"IF(AND('Step 2 - Ornamental'!$AA$22=\"X\",BC128=\"X\"),1,0)","v":0},null,{"$f":"IF(AND('Step 2 - Ornamental'!$AB$22=\"X\",BE128=\"X\"),1,0)","v":0},null,{"$f":"IF(AND('Step 2 - Ornamental'!$AC$22=\"X\",BG128=\"X\"),1,0)","v":0},"X",{"$f":"IF(AND('Step 2 - Ornamental'!$AD$22=\"X\",BI128=\"X\"),1,0)","v":0},"X",null,null,null,null,null,"White / 5'-12'"]
[null,1,"CL AL","Clethra alnifolia 'Tom's Compact'","Compact Summersweet Clethra","3' O.C.","Dwarf form to 4' tall, creamy-white flowers in July-Aug, attracts butterflies","X",null,null,null,null,null,0,null,{"$f":"IF(AND('Step 2 - Ornamental'!$AA$21=\"X\",Q129=\"X\"),1,0)","v":0},"X",{"$f":"IF(AND('Step 2 - Ornamental'!$AB$21=\"X\",S129=\"X\"),1,0)","v":0},"X",{"$f":"IF(AND('Step 2 - Ornamental'!$AC$21=\"X\",U129=\"X\"),1,0)","v":0},null,{"$f":"IF(AND('Step 2 - Ornamental'!$AA$19=\"X\",W129=\"X\"),1,0)","v":0},"X",{"$f":"IF(AND('Step 2 - Ornamental'!$AA$19=\"X\",Y129=\"X\"),1,0)","v":0},null,{"$f":"IF(AND('Step 2 - Ornamental'!$AB$19=\"X\",AA129=\"X\"),1,0)","v":0},null,{"$f":"IF(AND('Step 2 - Ornamental'!$AC$19=\"X\",AC129=\"X\"),1,0)","v":0},null,{"$f":"IF(AND('Step 2 - Ornamental'!$AA$20=\"X\",AE129=\"X\"),1,0)","v":0},"X",{"$f":"IF(AND('Step 2 - Ornamental'!$AA$20=\"X\",AG129=\"X\"),1,0)","v":0},null,{"$f":"IF(AND('Step 2 - Ornamental'!$AB$20=\"X\",AI129=\"X\"),1,0)","v":0},null,{"$f":"IF(AND('Step 2 - Ornamental'!$AC$20=\"X\",AK129=\"X\"),1,0)","v":0},null,{"$f":"IF(AND('Step 2 - Ornamental'!$AA$18=\"X\",AM129=\"X\"),1,0)","v":0},null,{"$f":"IF(AND('Step 2 - Ornamental'!$AB$18=\"X\",AO129=\"X\"),1,0)","v":0},"X",{"$f":"IF(AND('Step 2 - Ornamental'!$AC$18=\"X\",AQ129=\"X\"),1,0)","v":0},"X",{"$f":"IF(AND('Step 2 - Ornamental'!$AD$18=\"X\",AS129=\"X\"),1,0)","v":0},null,{"$f":"IF(AND('Step 2 - Ornamental'!$AE$18=\"X\",AU129=\"X\"),1,0)","v":0},null,{"$f":"IF(AND('Step 2 - Ornamental'!$AA$17=\"X\",AW129=\"X\"),1,0)","v":0},"X",{"$f":"IF(AND('Step 2 - Ornamental'!$AB$17=\"X\",AY129=\"X\"),1,0)","v":0},"X",{"$f":"IF(AND('Step 2 - Ornamental'!$AC$17=\"X\",BA129=\"X\"),1,0)","v":0},"X",{"$f":"IF(AND('Step 2 - Ornamental'!$AA$22=\"X\",BC129=\"X\"),1,0)","v":0},null,{"$f":"IF(AND('Step 2 - Ornamental'!$AB$22=\"X\",BE129=\"X\"),1,0)","v":0},null,{"$f":"IF(AND('Step 2 - Ornamental'!$AC$22=\"X\",BG129=\"X\"),1,0)","v":0},"X",{"$f":"IF(AND('Step 2 - Ornamental'!$AD$22=\"X\",BI129=\"X\"),1,0)","v":0},"X",null,null,null,null,null,null,"Creamy white / 3'-4'"]
[null,1,"CO AL","Cornus alba 'Sibirica'","Siberirica Tatarian Dogwood","5' O.C.","Brilliant red stems in winter, best in masses","X",null,null,"X","X",null,0,null,{"$f":"IF(AND('Step 2 - Ornamental'!$AA$21=\"X\",Q130=\"X\"),1,0)","v":0},"X",{"$f":"IF(AND('Step 2 - Ornamental'!$AB$21=\"X\",S130=\"X\"),1,0)","v":0},"X",{"$f":"IF(AND('Step 2 - Ornamental'!$AC$21=\"X\",U130=\"X\"),1,0)","v":0},"X",{"$f":"IF(AND('Step 2 - Ornamental'!$AA$19=\"X\",W130=\"X\"),1,0)","v":0},"X",{"$f":"IF(AND('Step 2 - Ornamental'!$AA$19=\"X\",Y130=\"X\"),1,0)","v":0},null,{"$f":"IF(AND('Step 2 - Ornamental'!$AB$19=\"X\",AA130=\"X\"),1,0)","v":0},null,{"$f":"IF(AND('Step 2 - Ornamental'!$AC$19=\"X\",AC130=\"X\"),1,0)","v":0},null,{"$f":"IF(AND('Step 2 - Ornamental'!$AA$20=\"X\",AE130=\"X\"),1,0)","v":0},"X",{"$f":"IF(AND('Step 2 - Ornamental'!$AA$20=\"X\",AG130=\"X\"),1,0)","v":0},null,{"$f":"IF(AND('Step 2 - Ornamental'!$AB$20=\"X\",AI130=\"X\"),1,0)","v":0},null,{"$f":"IF(AND('Step 2 - Ornamental'!$AC$20=\"X\",AK130=\"X\"),1,0)","v":0},null,{"$f":"IF(AND('Step 2 - Ornamental'!$AA$18=\"X\",AM130=\"X\"),1,0)","v":0},"X",{"$f":"IF(AND('Step 2 - Ornamental'!$AB$18=\"X\",AO130=\"X\"),1,0)","v":0},"X",{"$f":"IF(AND('Step 2 - Ornamental'!$AC$18=\"X\",AQ130=\"X\"),1,0)","v":0},null,{"$f":"IF(AND('Step 2 - Ornamental'!$AD$18=\"X\",AS130=\"X\"),1,0)","v":0},null,{"$f":"IF(AND('Step 2 - Ornamental'!$AE$18=\"X\",AU130=\"X\"),1,0)","v":0},null,{"$f":"IF(AND('Step 2 - Ornamental'!$AA$17=\"X\",AW130=\"X\"),1,0)","v":0},"X",{"$f":"IF(AND('Step 2 - Ornamental'!$AB$17=\"X\",AY130=\"X\"),1,0)","v":0},"X",{"$f":"IF(AND('Step 2 - Ornamental'!$AC$17=\"X\",BA130=\"X\"),1,0)","v":0},null,{"$f":"IF(AND('Step 2 - Ornamental'!$AA$22=\"X\",BC130=\"X\"),1,0)","v":0},null,{"$f":"IF(AND('Step 2 - Ornamental'!$AB$22=\"X\",BE130=\"X\"),1,0)","v":0},null,{"$f":"IF(AND('Step 2 - Ornamental'!$AC$22=\"X\",BG130=\"X\"),1,0)","v":0},"X",{"$f":"IF(AND('Step 2 - Ornamental'!$AD$22=\"X\",BI130=\"X\"),1,0)","v":0},"X",null,null,null,null,"Yellowish White / 4'-7'"]
[null,1,"CO RA","Cornus racemosa (foemina)","Gray Dogwood","6' O.C.","Large, colonizing dogwood for naturalized areas, tolerant of poor soils"," ","X","X","X",null,null,0,null,{"$f":"IF(AND('Step 2 - Ornamental'!$AA$21=\"X\",Q131=\"X\"),1,0)","v":0},"X",{"$f":"IF(AND('Step 2 - Ornamental'!$AB$21=\"X\",S131=\"X\"),1,0)","v":0},"X",{"$f":"IF(AND('Step 2 - Ornamental'!$AC$21=\"X\",U131=\"X\"),1,0)","v":0},"X",{"$f":"IF(AND('Step 2 - Ornamental'!$AA$19=\"X\",W131=\"X\"),1,0)","v":0},"X",{"$f":"IF(AND('Step 2 - Ornamental'!$AA$19=\"X\",Y131=\"X\"),1,0)","v":0},null,{"$f":"IF(AND('Step 2 - Ornamental'!$AB$19=\"X\",AA131=\"X\"),1,0)","v":0},null,{"$f":"IF(AND('Step 2 - Ornamental'!$AC$19=\"X\",AC131=\"X\"),1,0)","v":0},null,{"$f":"IF(AND('Step 2 - Ornamental'!$AA$20=\"X\",AE131=\"X\"),1,0)","v":0},null,{"$f":"IF(AND('Step 2 - Ornamental'!$AA$20=\"X\",AG131=\"X\"),1,0)","v":0},"X",{"$f":"IF(AND('Step 2 - Ornamental'!$AB$20=\"X\",AI131=\"X\"),1,0)","v":0},null,{"$f":"IF(AND('Step 2 - Ornamental'!$AC$20=\"X\",AK131=\"X\"),1,0)","v":0},null,{"$f":"IF(AND('Step 2 - Ornamental'!$AA$18=\"X\",AM131=\"X\"),1,0)","v":0},"X",{"$f":"IF(AND('Step 2 - Ornamental'!$AB$18=\"X\",AO131=\"X\"),1,0)","v":0},"X",{"$f":"IF(AND('Step 2 - Ornamental'!$AC$18=\"X\",AQ131=\"X\"),1,0)","v":0},"X",{"$f":"IF(AND('Step 2 - Ornamental'!$AD$18=\"X\",AS131=\"X\"),1,0)","v":0},null,{"$f":"IF(AND('Step 2 - Ornamental'!$AE$18=\"X\",AU131=\"X\"),1,0)","v":0},null,{"$f":"IF(AND('Step 2 - Ornamental'!$AA$17=\"X\",AW131=\"X\"),1,0)","v":0},"X",{"$f":"IF(AND('Step 2 - Ornamental'!$AB$17=\"X\",AY131=\"X\"),1,0)","v":0},"X",{"$f":"IF(AND('Step 2 - Ornamental'!$AC$17=\"X\",BA131=\"X\"),1,0)","v":0},"X",{"$f":"IF(AND('Step 2 - Ornamental'!$AA$22=\"X\",BC131=\"X\"),1,0)","v":0},null,{"$f":"IF(AND('Step 2 - Ornamental'!$AB$22=\"X\",BE131=\"X\"),1,0)","v":0},null,{"$f":"IF(AND('Step 2 - Ornamental'!$AC$22=\"X\",BG131=\"X\"),1,0)","v":0},"X",{"$f":"IF(AND('Step 2 - Ornamental'!$AD$22=\"X\",BI131=\"X\"),1,0)","v":0},"X",null,null,null,null,"White / 10'-15'"]
[null,1,"CO SE","Cornus sericea 'Flaviramea'","Flaviramea Redosier Dogwood","5' O.C.","Bright yellow stems in winter, shortish at 6' tall",null,"X","X","X",null,null,0,null,{"$f":"IF(AND('Step 2 - Ornamental'!$AA$21=\"X\",Q132=\"X\"),1,0)","v":0},"X",{"$f":"IF(AND('Step 2 - Ornamental'!$AB$21=\"X\",S132=\"X\"),1,0)","v":0},"X",{"$f":"IF(AND('Step 2 - Ornamental'!$AC$21=\"X\",U132=\"X\"),1,0)","v":0},"X",{"$f":"IF(AND('Step 2 - Ornamental'!$AA$19=\"X\",W132=\"X\"),1,0)","v":0},"X",{"$f":"IF(AND('Step 2 - Ornamental'!$AA$19=\"X\",Y132=\"X\"),1,0)","v":0},null,{"$f":"IF(AND('Step 2 - Ornamental'!$AB$19=\"X\",AA132=\"X\"),1,0)","v":0},null,{"$f":"IF(AND('Step 2 - Ornamental'!$AC$19=\"X\",AC132=\"X\"),1,0)","v":0},null,{"$f":"IF(AND('Step 2 - Ornamental'!$AA$20=\"X\",AE132=\"X\"),1,0)","v":0},null,{"$f":"IF(AND('Step 2 - Ornamental'!$AA$20=\"X\",AG132=\"X\"),1,0)","v":0},"X",{"$f":"IF(AND('Step 2 - Ornamental'!$AB$20=\"X\",AI132=\"X\"),1,0)","v":0},"X",{"$f":"IF(AND('Step 2 - Ornamental'!$AC$20=\"X\",AK132=\"X\"),1,0)","v":0},"X",{"$f":"IF(AND('Step 2 - Ornamental'!$AA$18=\"X\",AM132=\"X\"),1,0)","v":0},null,{"$f":"IF(AND('Step 2 - Ornamental'!$AB$18=\"X\",AO132=\"X\"),1,0)","v":0},"X",{"$f":"IF(AND('Step 2 - Ornamental'!$AC$18=\"X\",AQ132=\"X\"),1,0)","v":0},"X",{"$f":"IF(AND('Step 2 - Ornamental'!$AD$18=\"X\",AS132=\"X\"),1,0)","v":0},null,{"$f":"IF(AND('Step 2 - Ornamental'!$AE$18=\"X\",AU132=\"X\"),1,0)","v":0},null,{"$f":"IF(AND('Step 2 - Ornamental'!$AA$17=\"X\",AW132=\"X\"),1,0)","v":0},"X",{"$f":"IF(AND('Step 2 - Ornamental'!$AB$17=\"X\",AY132=\"X\"),1,0)","v":0},"X",{"$f":"IF(AND('Step 2 - Ornamental'!$AC$17=\"X\",BA132=\"X\"),1,0)","v":0},null,{"$f":"IF(AND('Step 2 - Ornamental'!$AA$22=\"X\",BC132=\"X\"),1,0)","v":0},null,{"$f":"IF(AND('Step 2 - Ornamental'!$AB$22=\"X\",BE132=\"X\"),1,0)","v":0},null,{"$f":"IF(AND('Step 2 - Ornamental'!$AC$22=\"X\",BG132=\"X\"),1,0)","v":0},"X",{"$f":"IF(AND('Step 2 - Ornamental'!$AD$22=\"X\",BI132=\"X\"),1,0)","v":0},"X",null,null,null,null,"White / 5'-6'"]
[null,1,"CO IS","Cornus sericea 'Isanti'","Istanti Redosier Dogwood","5' O.C.","Bright red stems in winter, more compact than species to 5' tall, ",null,"X","X","X",null,null,0,null,{"$f":"IF(AND('Step 2 - Ornamental'!$AA$21=\"X\",Q133=\"X\"),1,0)","v":0},"X",{"$f":"IF(AND('Step 2 - Ornamental'!$AB$21=\"X\",S133=\"X\"),1,0)","v":0},"X",{"$f":"IF(AND('Step 2 - Ornamental'!$AC$21=\"X\",U133=\"X\"),1,0)","v":0},"X",{"$f":"IF(AND('Step 2 - Ornamental'!$AA$19=\"X\",W133=\"X\"),1,0)","v":0},"X",{"$f":"IF(AND('Step 2 - Ornamental'!$AA$19=\"X\",Y133=\"X\"),1,0)","v":0},null,{"$f":"IF(AND('Step 2 - Ornamental'!$AB$19=\"X\",AA133=\"X\"),1,0)","v":0},null,{"$f":"IF(AND('Step 2 - Ornamental'!$AC$19=\"X\",AC133=\"X\"),1,0)","v":0},null,{"$f":"IF(AND('Step 2 - Ornamental'!$AA$20=\"X\",AE133=\"X\"),1,0)","v":0},null,{"$f":"IF(AND('Step 2 - Ornamental'!$AA$20=\"X\",AG133=\"X\"),1,0)","v":0},"X",{"$f":"IF(AND('Step 2 - Ornamental'!$AB$20=\"X\",AI133=\"X\"),1,0)","v":0},"X",{"$f":"IF(AND('Step 2 - Ornamental'!$AC$20=\"X\",AK133=\"X\"),1,0)","v":0},"X",{"$f":"IF(AND('Step 2 - Ornamental'!$AA$18=\"X\",AM133=\"X\"),1,0)","v":0},null,{"$f":"IF(AND('Step 2 - Ornamental'!$AB$18=\"X\",AO133=\"X\"),1,0)","v":0},"X",{"$f":"IF(AND('Step 2 - Ornamental'!$AC$18=\"X\",AQ133=\"X\"),1,0)","v":0},"X",{"$f":"IF(AND('Step 2 - Ornamental'!$AD$18=\"X\",AS133=\"X\"),1,0)","v":0},null,{"$f":"IF(AND('Step 2 - Ornamental'!$AE$18=\"X\",AU133=\"X\"),1,0)","v":0},null,{"$f":"IF(AND('Step 2 - Ornamental'!$AA$17=\"X\",AW133=\"X\"),1,0)","v":0},"X",{"$f":"IF(AND('Step 2 - Ornamental'!$AB$17=\"X\",AY133=\"X\"),1,0)","v":0},"X",{"$f":"IF(AND('Step 2 - Ornamental'!$AC$17=\"X\",BA133=\"X\"),1,0)","v":0},null,{"$f":"IF(AND('Step 2 - Ornamental'!$AA$22=\"X\",BC133=\"X\"),1,0)","v":0},null,{"$f":"IF(AND('Step 2 - Ornamental'!$AB$22=\"X\",BE133=\"X\"),1,0)","v":0},null,{"$f":"IF(AND('Step 2 - Ornamental'!$AC$22=\"X\",BG133=\"X\"),1,0)","v":0},"X",{"$f":"IF(AND('Step 2 - Ornamental'!$AD$22=\"X\",BI133=\"X\"),1,0)","v":0},"X",null,null,null,null,"White / 4'-5'"]
[null,1,"CO AM","Corylus americana","American filbert","6' O.C.","Very large shrub to 15' tall, edible nuts, will spread",null,"X","X",null,null,null,0,null,{"$f":"IF(AND('Step 2 - Ornamental'!$AA$21=\"X\",Q134=\"X\"),1,0)","v":0},"X",{"$f":"IF(AND('Step 2 - Ornamental'!$AB$21=\"X\",S134=\"X\"),1,0)","v":0},"X",{"$f":"IF(AND('Step 2 - Ornamental'!$AC$21=\"X\",U134=\"X\"),1,0)","v":0},"X",{"$f":"IF(AND('Step 2 - Ornamental'!$AA$19=\"X\",W134=\"X\"),1,0)","v":0},null,{"$f":"IF(AND('Step 2 - Ornamental'!$AA$19=\"X\",Y134=\"X\"),1,0)","v":0},"X",{"$f":"IF(AND('Step 2 - Ornamental'!$AB$19=\"X\",AA134=\"X\"),1,0)","v":0},"X",{"$f":"IF(AND('Step 2 - Ornamental'!$AC$19=\"X\",AC134=\"X\"),1,0)","v":0},null,{"$f":"IF(AND('Step 2 - Ornamental'!$AA$20=\"X\",AE134=\"X\"),1,0)","v":0},null,{"$f":"IF(AND('Step 2 - Ornamental'!$AA$20=\"X\",AG134=\"X\"),1,0)","v":0},"X",{"$f":"IF(AND('Step 2 - Ornamental'!$AB$20=\"X\",AI134=\"X\"),1,0)","v":0},"X",{"$f":"IF(AND('Step 2 - Ornamental'!$AC$20=\"X\",AK134=\"X\"),1,0)","v":0},null,{"$f":"IF(AND('Step 2 - Ornamental'!$AA$18=\"X\",AM134=\"X\"),1,0)","v":0},null,{"$f":"IF(AND('Step 2 - Ornamental'!$AB$18=\"X\",AO134=\"X\"),1,0)","v":0},"X",{"$f":"IF(AND('Step 2 - Ornamental'!$AC$18=\"X\",AQ134=\"X\"),1,0)","v":0},null,{"$f":"IF(AND('Step 2 - Ornamental'!$AD$18=\"X\",AS134=\"X\"),1,0)","v":0},null,{"$f":"IF(AND('Step 2 - Ornamental'!$AE$18=\"X\",AU134=\"X\"),1,0)","v":0},null,{"$f":"IF(AND('Step 2 - Ornamental'!$AA$17=\"X\",AW134=\"X\"),1,0)","v":0},"X",{"$f":"IF(AND('Step 2 - Ornamental'!$AB$17=\"X\",AY134=\"X\"),1,0)","v":0},"X",{"$f":"IF(AND('Step 2 - Ornamental'!$AC$17=\"X\",BA134=\"X\"),1,0)","v":0},null,{"$f":"IF(AND('Step 2 - Ornamental'!$AA$22=\"X\",BC134=\"X\"),1,0)","v":0},null,{"$f":"IF(AND('Step 2 - Ornamental'!$AB$22=\"X\",BE134=\"X\"),1,0)","v":0},null,{"$f":"IF(AND('Step 2 - Ornamental'!$AC$22=\"X\",BG134=\"X\"),1,0)","v":0},"X",{"$f":"IF(AND('Step 2 - Ornamental'!$AD$22=\"X\",BI134=\"X\"),1,0)","v":0},"X","Flowers are Not Showy"]
[null,1,"CO CG","Cotinus coggygria 'Day Dream'","Day Dream Smokebush","6' O.C.","Grey-green leaves with profuse shell pink and maroon flowers, foliage turns burgunday and gold in fall","X",null,null,"X",null,null,0,null,{"$f":"IF(AND('Step 2 - Ornamental'!$AA$21=\"X\",Q135=\"X\"),1,0)","v":0},"X",{"$f":"IF(AND('Step 2 - Ornamental'!$AB$21=\"X\",S135=\"X\"),1,0)","v":0},"X",{"$f":"IF(AND('Step 2 - Ornamental'!$AC$21=\"X\",U135=\"X\"),1,0)","v":0},"X",{"$f":"IF(AND('Step 2 - Ornamental'!$AA$19=\"X\",W135=\"X\"),1,0)","v":0},"X",{"$f":"IF(AND('Step 2 - Ornamental'!$AA$19=\"X\",Y135=\"X\"),1,0)","v":0},null,{"$f":"IF(AND('Step 2 - Ornamental'!$AB$19=\"X\",AA135=\"X\"),1,0)","v":0},null,{"$f":"IF(AND('Step 2 - Ornamental'!$AC$19=\"X\",AC135=\"X\"),1,0)","v":0},null,{"$f":"IF(AND('Step 2 - Ornamental'!$AA$20=\"X\",AE135=\"X\"),1,0)","v":0},"X",{"$f":"IF(AND('Step 2 - Ornamental'!$AA$20=\"X\",AG135=\"X\"),1,0)","v":0},null,{"$f":"IF(AND('Step 2 - Ornamental'!$AB$20=\"X\",AI135=\"X\"),1,0)","v":0},null,{"$f":"IF(AND('Step 2 - Ornamental'!$AC$20=\"X\",AK135=\"X\"),1,0)","v":0},null,{"$f":"IF(AND('Step 2 - Ornamental'!$AA$18=\"X\",AM135=\"X\"),1,0)","v":0},"X",{"$f":"IF(AND('Step 2 - Ornamental'!$AB$18=\"X\",AO135=\"X\"),1,0)","v":0},"X",{"$f":"IF(AND('Step 2 - Ornamental'!$AC$18=\"X\",AQ135=\"X\"),1,0)","v":0},null,{"$f":"IF(AND('Step 2 - Ornamental'!$AD$18=\"X\",AS135=\"X\"),1,0)","v":0},null,{"$f":"IF(AND('Step 2 - Ornamental'!$AE$18=\"X\",AU135=\"X\"),1,0)","v":0},null,{"$f":"IF(AND('Step 2 - Ornamental'!$AA$17=\"X\",AW135=\"X\"),1,0)","v":0},"X",{"$f":"IF(AND('Step 2 - Ornamental'!$AB$17=\"X\",AY135=\"X\"),1,0)","v":0},null,{"$f":"IF(AND('Step 2 - Ornamental'!$AC$17=\"X\",BA135=\"X\"),1,0)","v":0},null,{"$f":"IF(AND('Step 2 - Ornamental'!$AA$22=\"X\",BC135=\"X\"),1,0)","v":0},null,{"$f":"IF(AND('Step 2 - Ornamental'!$AB$22=\"X\",BE135=\"X\"),1,0)","v":0},null,{"$f":"IF(AND('Step 2 - Ornamental'!$AC$22=\"X\",BG135=\"X\"),1,0)","v":0},"X",{"$f":"IF(AND('Step 2 - Ornamental'!$AD$22=\"X\",BI135=\"X\"),1,0)","v":0},"X",null,null,null,null,null,"Shell Pink/8'-10'"]
[null,1,"CO AD","Cotoneaster adpressus ","Creeping Cotoneaster","3' O.C.","Low spreading cotoneaster - 1' H x 6' W, mass as a woody groundcover","X",null,null,null,"X",null,0,null,{"$f":"IF(AND('Step 2 - Ornamental'!$AA$21=\"X\",Q136=\"X\"),1,0)","v":0},"X",{"$f":"IF(AND('Step 2 - Ornamental'!$AB$21=\"X\",S136=\"X\"),1,0)","v":0},"X",{"$f":"IF(AND('Step 2 - Ornamental'!$AC$21=\"X\",U136=\"X\"),1,0)","v":0},"X",{"$f":"IF(AND('Step 2 - Ornamental'!$AA$19=\"X\",W136=\"X\"),1,0)","v":0},null,{"$f":"IF(AND('Step 2 - Ornamental'!$AA$19=\"X\",Y136=\"X\"),1,0)","v":0},"X",{"$f":"IF(AND('Step 2 - Ornamental'!$AB$19=\"X\",AA136=\"X\"),1,0)","v":0},"X",{"$f":"IF(AND('Step 2 - Ornamental'!$AC$19=\"X\",AC136=\"X\"),1,0)","v":0},"X",{"$f":"IF(AND('Step 2 - Ornamental'!$AA$20=\"X\",AE136=\"X\"),1,0)","v":0},"X",{"$f":"IF(AND('Step 2 - Ornamental'!$AA$20=\"X\",AG136=\"X\"),1,0)","v":0},null,{"$f":"IF(AND('Step 2 - Ornamental'!$AB$20=\"X\",AI136=\"X\"),1,0)","v":0},null,{"$f":"IF(AND('Step 2 - Ornamental'!$AC$20=\"X\",AK136=\"X\"),1,0)","v":0},null,{"$f":"IF(AND('Step 2 - Ornamental'!$AA$18=\"X\",AM136=\"X\"),1,0)","v":0},"X",{"$f":"IF(AND('Step 2 - Ornamental'!$AB$18=\"X\",AO136=\"X\"),1,0)","v":0},"X",{"$f":"IF(AND('Step 2 - Ornamental'!$AC$18=\"X\",AQ136=\"X\"),1,0)","v":0},null,{"$f":"IF(AND('Step 2 - Ornamental'!$AD$18=\"X\",AS136=\"X\"),1,0)","v":0},null,{"$f":"IF(AND('Step 2 - Ornamental'!$AE$18=\"X\",AU136=\"X\"),1,0)","v":0},null,{"$f":"IF(AND('Step 2 - Ornamental'!$AA$17=\"X\",AW136=\"X\"),1,0)","v":0},"X",{"$f":"IF(AND('Step 2 - Ornamental'!$AB$17=\"X\",AY136=\"X\"),1,0)","v":0},"X",{"$f":"IF(AND('Step 2 - Ornamental'!$AC$17=\"X\",BA136=\"X\"),1,0)","v":0},null,{"$f":"IF(AND('Step 2 - Ornamental'!$AA$22=\"X\",BC136=\"X\"),1,0)","v":0},null,{"$f":"IF(AND('Step 2 - Ornamental'!$AB$22=\"X\",BE136=\"X\"),1,0)","v":0},null,{"$f":"IF(AND('Step 2 - Ornamental'!$AC$22=\"X\",BG136=\"X\"),1,0)","v":0},"X",{"$f":"IF(AND('Step 2 - Ornamental'!$AD$22=\"X\",BI136=\"X\"),1,0)","v":0},"X",null,null,null,null,null,null,null,"Red fruit / 1.0'-1.5'"]
[null,1,"CO AP","Cotoneaster apiculatus ","Cranberry Cotoneaster","3' O.C.","Stiffly arched branching, 3' H x 5' Effective in mass for erosion control, ","X",null,null,null,"X",null,0,null,{"$f":"IF(AND('Step 2 - Ornamental'!$AA$21=\"X\",Q137=\"X\"),1,0)","v":0},"X",{"$f":"IF(AND('Step 2 - Ornamental'!$AB$21=\"X\",S137=\"X\"),1,0)","v":0},"X",{"$f":"IF(AND('Step 2 - Ornamental'!$AC$21=\"X\",U137=\"X\"),1,0)","v":0},"X",{"$f":"IF(AND('Step 2 - Ornamental'!$AA$19=\"X\",W137=\"X\"),1,0)","v":0},null,{"$f":"IF(AND('Step 2 - Ornamental'!$AA$19=\"X\",Y137=\"X\"),1,0)","v":0},"X",{"$f":"IF(AND('Step 2 - Ornamental'!$AB$19=\"X\",AA137=\"X\"),1,0)","v":0},"X",{"$f":"IF(AND('Step 2 - Ornamental'!$AC$19=\"X\",AC137=\"X\"),1,0)","v":0},"X",{"$f":"IF(AND('Step 2 - Ornamental'!$AA$20=\"X\",AE137=\"X\"),1,0)","v":0},"X",{"$f":"IF(AND('Step 2 - Ornamental'!$AA$20=\"X\",AG137=\"X\"),1,0)","v":0},null,{"$f":"IF(AND('Step 2 - Ornamental'!$AB$20=\"X\",AI137=\"X\"),1,0)","v":0},null,{"$f":"IF(AND('Step 2 - Ornamental'!$AC$20=\"X\",AK137=\"X\"),1,0)","v":0},null,{"$f":"IF(AND('Step 2 - Ornamental'!$AA$18=\"X\",AM137=\"X\"),1,0)","v":0},"X",{"$f":"IF(AND('Step 2 - Ornamental'!$AB$18=\"X\",AO137=\"X\"),1,0)","v":0},"X",{"$f":"IF(AND('Step 2 - Ornamental'!$AC$18=\"X\",AQ137=\"X\"),1,0)","v":0},null,{"$f":"IF(AND('Step 2 - Ornamental'!$AD$18=\"X\",AS137=\"X\"),1,0)","v":0},null,{"$f":"IF(AND('Step 2 - Ornamental'!$AE$18=\"X\",AU137=\"X\"),1,0)","v":0},null,{"$f":"IF(AND('Step 2 - Ornamental'!$AA$17=\"X\",AW137=\"X\"),1,0)","v":0},"X",{"$f":"IF(AND('Step 2 - Ornamental'!$AB$17=\"X\",AY137=\"X\"),1,0)","v":0},"X",{"$f":"IF(AND('Step 2 - Ornamental'!$AC$17=\"X\",BA137=\"X\"),1,0)","v":0},null,{"$f":"IF(AND('Step 2 - Ornamental'!$AA$22=\"X\",BC137=\"X\"),1,0)","v":0},null,{"$f":"IF(AND('Step 2 - Ornamental'!$AB$22=\"X\",BE137=\"X\"),1,0)","v":0},null,{"$f":"IF(AND('Step 2 - Ornamental'!$AC$22=\"X\",BG137=\"X\"),1,0)","v":0},"X",{"$f":"IF(AND('Step 2 - Ornamental'!$AD$22=\"X\",BI137=\"X\"),1,0)","v":0},"X",null,null,null,null,null,null,null,"Red fruit / 2.0'-3.0'"]
[null,1,"CO HE","Cotoneaster horizontalis 'Hesseii\"","Hessei Rockspray Cotoneaster","3' O.C.","1.5'H x 5' W, Attractive dark, glossy leaves throughout the growing season with fruits that persist thru winter","X",null,null,null,"X",null,0,null,{"$f":"IF(AND('Step 2 - Ornamental'!$AA$21=\"X\",Q138=\"X\"),1,0)","v":0},"X",{"$f":"IF(AND('Step 2 - Ornamental'!$AB$21=\"X\",S138=\"X\"),1,0)","v":0},"X",{"$f":"IF(AND('Step 2 - Ornamental'!$AC$21=\"X\",U138=\"X\"),1,0)","v":0},"X",{"$f":"IF(AND('Step 2 - Ornamental'!$AA$19=\"X\",W138=\"X\"),1,0)","v":0},null,{"$f":"IF(AND('Step 2 - Ornamental'!$AA$19=\"X\",Y138=\"X\"),1,0)","v":0},"X",{"$f":"IF(AND('Step 2 - Ornamental'!$AB$19=\"X\",AA138=\"X\"),1,0)","v":0},"X",{"$f":"IF(AND('Step 2 - Ornamental'!$AC$19=\"X\",AC138=\"X\"),1,0)","v":0},"X",{"$f":"IF(AND('Step 2 - Ornamental'!$AA$20=\"X\",AE138=\"X\"),1,0)","v":0},"X",{"$f":"IF(AND('Step 2 - Ornamental'!$AA$20=\"X\",AG138=\"X\"),1,0)","v":0},null,{"$f":"IF(AND('Step 2 - Ornamental'!$AB$20=\"X\",AI138=\"X\"),1,0)","v":0},null,{"$f":"IF(AND('Step 2 - Ornamental'!$AC$20=\"X\",AK138=\"X\"),1,0)","v":0},null,{"$f":"IF(AND('Step 2 - Ornamental'!$AA$18=\"X\",AM138=\"X\"),1,0)","v":0},"X",{"$f":"IF(AND('Step 2 - Ornamental'!$AB$18=\"X\",AO138=\"X\"),1,0)","v":0},"X",{"$f":"IF(AND('Step 2 - Ornamental'!$AC$18=\"X\",AQ138=\"X\"),1,0)","v":0},null,{"$f":"IF(AND('Step 2 - Ornamental'!$AD$18=\"X\",AS138=\"X\"),1,0)","v":0},null,{"$f":"IF(AND('Step 2 - Ornamental'!$AE$18=\"X\",AU138=\"X\"),1,0)","v":0},null,{"$f":"IF(AND('Step 2 - Ornamental'!$AA$17=\"X\",AW138=\"X\"),1,0)","v":0},"X",{"$f":"IF(AND('Step 2 - Ornamental'!$AB$17=\"X\",AY138=\"X\"),1,0)","v":0},"X",{"$f":"IF(AND('Step 2 - Ornamental'!$AC$17=\"X\",BA138=\"X\"),1,0)","v":0},null,{"$f":"IF(AND('Step 2 - Ornamental'!$AA$22=\"X\",BC138=\"X\"),1,0)","v":0},null,{"$f":"IF(AND('Step 2 - Ornamental'!$AB$22=\"X\",BE138=\"X\"),1,0)","v":0},null,{"$f":"IF(AND('Step 2 - Ornamental'!$AC$22=\"X\",BG138=\"X\"),1,0)","v":0},"X",{"$f":"IF(AND('Step 2 - Ornamental'!$AD$22=\"X\",BI138=\"X\"),1,0)","v":0},"X",null,null,null,null,null,null,null,"Red fruit / 2.0'-3.0'"]
[" ",1,"DE GR","Deutzia gracilis 'Nikko'","Nikko Slender Deutzia","3' O.C.","Dwarf variety - 2'H x 4'W, white flowers in April/May, burgundy fall color","X",null,null,null,null,null,0,null,{"$f":"IF(AND('Step 2 - Ornamental'!$AA$21=\"X\",Q139=\"X\"),1,0)","v":0},"X",{"$f":"IF(AND('Step 2 - Ornamental'!$AB$21=\"X\",S139=\"X\"),1,0)","v":0},"X",{"$f":"IF(AND('Step 2 - Ornamental'!$AC$21=\"X\",U139=\"X\"),1,0)","v":0},"X",{"$f":"IF(AND('Step 2 - Ornamental'!$AA$19=\"X\",W139=\"X\"),1,0)","v":0},"X",{"$f":"IF(AND('Step 2 - Ornamental'!$AA$19=\"X\",Y139=\"X\"),1,0)","v":0},null,{"$f":"IF(AND('Step 2 - Ornamental'!$AB$19=\"X\",AA139=\"X\"),1,0)","v":0},null,{"$f":"IF(AND('Step 2 - Ornamental'!$AC$19=\"X\",AC139=\"X\"),1,0)","v":0},null,{"$f":"IF(AND('Step 2 - Ornamental'!$AA$20=\"X\",AE139=\"X\"),1,0)","v":0},"X",{"$f":"IF(AND('Step 2 - Ornamental'!$AA$20=\"X\",AG139=\"X\"),1,0)","v":0},null,{"$f":"IF(AND('Step 2 - Ornamental'!$AB$20=\"X\",AI139=\"X\"),1,0)","v":0},null,{"$f":"IF(AND('Step 2 - Ornamental'!$AC$20=\"X\",AK139=\"X\"),1,0)","v":0},null,{"$f":"IF(AND('Step 2 - Ornamental'!$AA$18=\"X\",AM139=\"X\"),1,0)","v":0},null,{"$f":"IF(AND('Step 2 - Ornamental'!$AB$18=\"X\",AO139=\"X\"),1,0)","v":0},"X",{"$f":"IF(AND('Step 2 - Ornamental'!$AC$18=\"X\",AQ139=\"X\"),1,0)","v":0},null,{"$f":"IF(AND('Step 2 - Ornamental'!$AD$18=\"X\",AS139=\"X\"),1,0)","v":0},null,{"$f":"IF(AND('Step 2 - Ornamental'!$AE$18=\"X\",AU139=\"X\"),1,0)","v":0},null,{"$f":"IF(AND('Step 2 - Ornamental'!$AA$17=\"X\",AW139=\"X\"),1,0)","v":0},"X",{"$f":"IF(AND('Step 2 - Ornamental'!$AB$17=\"X\",AY139=\"X\"),1,0)","v":0},"X",{"$f":"IF(AND('Step 2 - Ornamental'!$AC$17=\"X\",BA139=\"X\"),1,0)","v":0},null,{"$f":"IF(AND('Step 2 - Ornamental'!$AA$22=\"X\",BC139=\"X\"),1,0)","v":0},null,{"$f":"IF(AND('Step 2 - Ornamental'!$AB$22=\"X\",BE139=\"X\"),1,0)","v":0},null,{"$f":"IF(AND('Step 2 - Ornamental'!$AC$22=\"X\",BG139=\"X\"),1,0)","v":0},"X",{"$f":"IF(AND('Step 2 - Ornamental'!$AD$22=\"X\",BI139=\"X\"),1,0)","v":0},"X",null,null,null,"White / 1.0'-2.0'"]
[null,1,"DI LO","Diervilla lonicera 'Copper'","Southern Bush Honeysuckle","4' O.C.","Copper colored new growth, suckers, wide range of soil tolerance",null,"X","X",null,null,null,1,"X",{"$f":"IF(AND('Step 2 - Ornamental'!$AA$21=\"X\",Q140=\"X\"),1,0)","v":0},null,{"$f":"IF(AND('Step 2 - Ornamental'!$AB$21=\"X\",S140=\"X\"),1,0)","v":0},null,{"$f":"IF(AND('Step 2 - Ornamental'!$AC$21=\"X\",U140=\"X\"),1,0)","v":0},null,{"$f":"IF(AND('Step 2 - Ornamental'!$AA$19=\"X\",W140=\"X\"),1,0)","v":0},null,{"$f":"IF(AND('Step 2 - Ornamental'!$AA$19=\"X\",Y140=\"X\"),1,0)","v":0},"X",{"$f":"IF(AND('Step 2 - Ornamental'!$AB$19=\"X\",AA140=\"X\"),1,0)","v":0},"X",{"$f":"IF(AND('Step 2 - Ornamental'!$AC$19=\"X\",AC140=\"X\"),1,0)","v":0},null,{"$f":"IF(AND('Step 2 - Ornamental'!$AA$20=\"X\",AE140=\"X\"),1,0)","v":0},"X",{"$f":"IF(AND('Step 2 - Ornamental'!$AA$20=\"X\",AG140=\"X\"),1,0)","v":0},null,{"$f":"IF(AND('Step 2 - Ornamental'!$AB$20=\"X\",AI140=\"X\"),1,0)","v":0},null,{"$f":"IF(AND('Step 2 - Ornamental'!$AC$20=\"X\",AK140=\"X\"),1,0)","v":0},null,{"$f":"IF(AND('Step 2 - Ornamental'!$AA$18=\"X\",AM140=\"X\"),1,0)","v":0},"X",{"$f":"IF(AND('Step 2 - Ornamental'!$AB$18=\"X\",AO140=\"X\"),1,0)","v":0},"X",{"$f":"IF(AND('Step 2 - Ornamental'!$AC$18=\"X\",AQ140=\"X\"),1,0)","v":0},null,{"$f":"IF(AND('Step 2 - Ornamental'!$AD$18=\"X\",AS140=\"X\"),1,0)","v":0},null,{"$f":"IF(AND('Step 2 - Ornamental'!$AE$18=\"X\",AU140=\"X\"),1,0)","v":0},null,{"$f":"IF(AND('Step 2 - Ornamental'!$AA$17=\"X\",AW140=\"X\"),1,0)","v":0},"X",{"$f":"IF(AND('Step 2 - Ornamental'!$AB$17=\"X\",AY140=\"X\"),1,0)","v":0},"X",{"$f":"IF(AND('Step 2 - Ornamental'!$AC$17=\"X\",BA140=\"X\"),1,0)","v":0},null,{"$f":"IF(AND('Step 2 - Ornamental'!$AA$22=\"X\",BC140=\"X\"),1,0)","v":0},null,{"$f":"IF(AND('Step 2 - Ornamental'!$AB$22=\"X\",BE140=\"X\"),1,0)","v":0},null,{"$f":"IF(AND('Step 2 - Ornamental'!$AC$22=\"X\",BG140=\"X\"),1,0)","v":0},"X",{"$f":"IF(AND('Step 2 - Ornamental'!$AD$22=\"X\",BI140=\"X\"),1,0)","v":0},"X",null,null,null,null,null,"Yellow/2'-3'"]
[null,1,"FO VI","Forsythia viridissima 'Bronxensis'","Bronx Greenstem Forsythia","3' O.C.","Unusual, low variety 12\"H x 36\" W, for sunny slopes","X",null,null,"X"," ",null,1,"X",{"$f":"IF(AND('Step 2 - Ornamental'!$AA$21=\"X\",Q141=\"X\"),1,0)","v":0},null,{"$f":"IF(AND('Step 2 - Ornamental'!$AB$21=\"X\",S141=\"X\"),1,0)","v":0},null,{"$f":"IF(AND('Step 2 - Ornamental'!$AC$21=\"X\",U141=\"X\"),1,0)","v":0},null,{"$f":"IF(AND('Step 2 - Ornamental'!$AA$19=\"X\",W141=\"X\"),1,0)","v":0},null,{"$f":"IF(AND('Step 2 - Ornamental'!$AA$19=\"X\",Y141=\"X\"),1,0)","v":0},"X",{"$f":"IF(AND('Step 2 - Ornamental'!$AB$19=\"X\",AA141=\"X\"),1,0)","v":0},"X",{"$f":"IF(AND('Step 2 - Ornamental'!$AC$19=\"X\",AC141=\"X\"),1,0)","v":0},"X",{"$f":"IF(AND('Step 2 - Ornamental'!$AA$20=\"X\",AE141=\"X\"),1,0)","v":0},"X",{"$f":"IF(AND('Step 2 - Ornamental'!$AA$20=\"X\",AG141=\"X\"),1,0)","v":0},null,{"$f":"IF(AND('Step 2 - Ornamental'!$AB$20=\"X\",AI141=\"X\"),1,0)","v":0},null,{"$f":"IF(AND('Step 2 - Ornamental'!$AC$20=\"X\",AK141=\"X\"),1,0)","v":0},null,{"$f":"IF(AND('Step 2 - Ornamental'!$AA$18=\"X\",AM141=\"X\"),1,0)","v":0},"X",{"$f":"IF(AND('Step 2 - Ornamental'!$AB$18=\"X\",AO141=\"X\"),1,0)","v":0},"X",{"$f":"IF(AND('Step 2 - Ornamental'!$AC$18=\"X\",AQ141=\"X\"),1,0)","v":0},null,{"$f":"IF(AND('Step 2 - Ornamental'!$AD$18=\"X\",AS141=\"X\"),1,0)","v":0},null,{"$f":"IF(AND('Step 2 - Ornamental'!$AE$18=\"X\",AU141=\"X\"),1,0)","v":0},null,{"$f":"IF(AND('Step 2 - Ornamental'!$AA$17=\"X\",AW141=\"X\"),1,0)","v":0},"X",{"$f":"IF(AND('Step 2 - Ornamental'!$AB$17=\"X\",AY141=\"X\"),1,0)","v":0},null,{"$f":"IF(AND('Step 2 - Ornamental'!$AC$17=\"X\",BA141=\"X\"),1,0)","v":0},null,{"$f":"IF(AND('Step 2 - Ornamental'!$AA$22=\"X\",BC141=\"X\"),1,0)","v":0},null,{"$f":"IF(AND('Step 2 - Ornamental'!$AB$22=\"X\",BE141=\"X\"),1,0)","v":0},null,{"$f":"IF(AND('Step 2 - Ornamental'!$AC$22=\"X\",BG141=\"X\"),1,0)","v":0},"X",{"$f":"IF(AND('Step 2 - Ornamental'!$AD$22=\"X\",BI141=\"X\"),1,0)","v":0},"X",null,null,"Yellow / 0.75'-1.0'"]
[null,1,"FO GA","Fothergilla gardenii 'Mount Airy'","Mount Airy Dwarf Fothergilla","4' O.C.","Profusely flowering variety, 5' tall, white fragrant flowers in April/May, gorgeous fall color","X",null,null,null,null,null,0,null,{"$f":"IF(AND('Step 2 - Ornamental'!$AA$21=\"X\",Q142=\"X\"),1,0)","v":0},"X",{"$f":"IF(AND('Step 2 - Ornamental'!$AB$21=\"X\",S142=\"X\"),1,0)","v":0},"X",{"$f":"IF(AND('Step 2 - Ornamental'!$AC$21=\"X\",U142=\"X\"),1,0)","v":0},null,{"$f":"IF(AND('Step 2 - Ornamental'!$AA$19=\"X\",W142=\"X\"),1,0)","v":0},"X",{"$f":"IF(AND('Step 2 - Ornamental'!$AA$19=\"X\",Y142=\"X\"),1,0)","v":0},null,{"$f":"IF(AND('Step 2 - Ornamental'!$AB$19=\"X\",AA142=\"X\"),1,0)","v":0},null,{"$f":"IF(AND('Step 2 - Ornamental'!$AC$19=\"X\",AC142=\"X\"),1,0)","v":0},null,{"$f":"IF(AND('Step 2 - Ornamental'!$AA$20=\"X\",AE142=\"X\"),1,0)","v":0},"X",{"$f":"IF(AND('Step 2 - Ornamental'!$AA$20=\"X\",AG142=\"X\"),1,0)","v":0},null,{"$f":"IF(AND('Step 2 - Ornamental'!$AB$20=\"X\",AI142=\"X\"),1,0)","v":0},null,{"$f":"IF(AND('Step 2 - Ornamental'!$AC$20=\"X\",AK142=\"X\"),1,0)","v":0},null,{"$f":"IF(AND('Step 2 - Ornamental'!$AA$18=\"X\",AM142=\"X\"),1,0)","v":0},null,{"$f":"IF(AND('Step 2 - Ornamental'!$AB$18=\"X\",AO142=\"X\"),1,0)","v":0},"X",{"$f":"IF(AND('Step 2 - Ornamental'!$AC$18=\"X\",AQ142=\"X\"),1,0)","v":0},null,{"$f":"IF(AND('Step 2 - Ornamental'!$AD$18=\"X\",AS142=\"X\"),1,0)","v":0},null,{"$f":"IF(AND('Step 2 - Ornamental'!$AE$18=\"X\",AU142=\"X\"),1,0)","v":0},null,{"$f":"IF(AND('Step 2 - Ornamental'!$AA$17=\"X\",AW142=\"X\"),1,0)","v":0},null,{"$f":"IF(AND('Step 2 - Ornamental'!$AB$17=\"X\",AY142=\"X\"),1,0)","v":0},"X",{"$f":"IF(AND('Step 2 - Ornamental'!$AC$17=\"X\",BA142=\"X\"),1,0)","v":0},"X",{"$f":"IF(AND('Step 2 - Ornamental'!$AA$22=\"X\",BC142=\"X\"),1,0)","v":0},null,{"$f":"IF(AND('Step 2 - Ornamental'!$AB$22=\"X\",BE142=\"X\"),1,0)","v":0},null,{"$f":"IF(AND('Step 2 - Ornamental'!$AC$22=\"X\",BG142=\"X\"),1,0)","v":0},"X",{"$f":"IF(AND('Step 2 - Ornamental'!$AD$22=\"X\",BI142=\"X\"),1,0)","v":0},"X",null,null,null,"White / 3'-5'"]
[null,1,"FO MA","Fothergilla major","Large Fothergilla","6' O.C.","Larger fothergill to 10' tall, can spread, requires acidic soils","X",null,null,null,null,null,0,null,{"$f":"IF(AND('Step 2 - Ornamental'!$AA$21=\"X\",Q143=\"X\"),1,0)","v":0},"X",{"$f":"IF(AND('Step 2 - Ornamental'!$AB$21=\"X\",S143=\"X\"),1,0)","v":0},"X",{"$f":"IF(AND('Step 2 - Ornamental'!$AC$21=\"X\",U143=\"X\"),1,0)","v":0},null,{"$f":"IF(AND('Step 2 - Ornamental'!$AA$19=\"X\",W143=\"X\"),1,0)","v":0},"X",{"$f":"IF(AND('Step 2 - Ornamental'!$AA$19=\"X\",Y143=\"X\"),1,0)","v":0},null,{"$f":"IF(AND('Step 2 - Ornamental'!$AB$19=\"X\",AA143=\"X\"),1,0)","v":0},null,{"$f":"IF(AND('Step 2 - Ornamental'!$AC$19=\"X\",AC143=\"X\"),1,0)","v":0},null,{"$f":"IF(AND('Step 2 - Ornamental'!$AA$20=\"X\",AE143=\"X\"),1,0)","v":0},"X",{"$f":"IF(AND('Step 2 - Ornamental'!$AA$20=\"X\",AG143=\"X\"),1,0)","v":0},null,{"$f":"IF(AND('Step 2 - Ornamental'!$AB$20=\"X\",AI143=\"X\"),1,0)","v":0},null,{"$f":"IF(AND('Step 2 - Ornamental'!$AC$20=\"X\",AK143=\"X\"),1,0)","v":0},null,{"$f":"IF(AND('Step 2 - Ornamental'!$AA$18=\"X\",AM143=\"X\"),1,0)","v":0},null,{"$f":"IF(AND('Step 2 - Ornamental'!$AB$18=\"X\",AO143=\"X\"),1,0)","v":0},"X",{"$f":"IF(AND('Step 2 - Ornamental'!$AC$18=\"X\",AQ143=\"X\"),1,0)","v":0},null,{"$f":"IF(AND('Step 2 - Ornamental'!$AD$18=\"X\",AS143=\"X\"),1,0)","v":0},null,{"$f":"IF(AND('Step 2 - Ornamental'!$AE$18=\"X\",AU143=\"X\"),1,0)","v":0},null,{"$f":"IF(AND('Step 2 - Ornamental'!$AA$17=\"X\",AW143=\"X\"),1,0)","v":0},null,{"$f":"IF(AND('Step 2 - Ornamental'!$AB$17=\"X\",AY143=\"X\"),1,0)","v":0},"X",{"$f":"IF(AND('Step 2 - Ornamental'!$AC$17=\"X\",BA143=\"X\"),1,0)","v":0},"X",{"$f":"IF(AND('Step 2 - Ornamental'!$AA$22=\"X\",BC143=\"X\"),1,0)","v":0},null,{"$f":"IF(AND('Step 2 - Ornamental'!$AB$22=\"X\",BE143=\"X\"),1,0)","v":0},null,{"$f":"IF(AND('Step 2 - Ornamental'!$AC$22=\"X\",BG143=\"X\"),1,0)","v":0},null,{"$f":"IF(AND('Step 2 - Ornamental'!$AD$22=\"X\",BI143=\"X\"),1,0)","v":0},"X",null,null,null,"White / 6'-10'"]
[null,1,"HA VE","Hamamelis vernalis","Vernal Witchhazel","6' O.C.","Later winter bloomer - Feb/March, grows to 10' tall, fragrant blooms",null,"X",null,"X",null,null,0,null,{"$f":"IF(AND('Step 2 - Ornamental'!$AA$21=\"X\",Q144=\"X\"),1,0)","v":0},"X",{"$f":"IF(AND('Step 2 - Ornamental'!$AB$21=\"X\",S144=\"X\"),1,0)","v":0},"X",{"$f":"IF(AND('Step 2 - Ornamental'!$AC$21=\"X\",U144=\"X\"),1,0)","v":0},"X",{"$f":"IF(AND('Step 2 - Ornamental'!$AA$19=\"X\",W144=\"X\"),1,0)","v":0},"X",{"$f":"IF(AND('Step 2 - Ornamental'!$AA$19=\"X\",Y144=\"X\"),1,0)","v":0},null,{"$f":"IF(AND('Step 2 - Ornamental'!$AB$19=\"X\",AA144=\"X\"),1,0)","v":0},null,{"$f":"IF(AND('Step 2 - Ornamental'!$AC$19=\"X\",AC144=\"X\"),1,0)","v":0},null,{"$f":"IF(AND('Step 2 - Ornamental'!$AA$20=\"X\",AE144=\"X\"),1,0)","v":0},"X",{"$f":"IF(AND('Step 2 - Ornamental'!$AA$20=\"X\",AG144=\"X\"),1,0)","v":0},null,{"$f":"IF(AND('Step 2 - Ornamental'!$AB$20=\"X\",AI144=\"X\"),1,0)","v":0},null,{"$f":"IF(AND('Step 2 - Ornamental'!$AC$20=\"X\",AK144=\"X\"),1,0)","v":0},null,{"$f":"IF(AND('Step 2 - Ornamental'!$AA$18=\"X\",AM144=\"X\"),1,0)","v":0},null,{"$f":"IF(AND('Step 2 - Ornamental'!$AB$18=\"X\",AO144=\"X\"),1,0)","v":0},"X",{"$f":"IF(AND('Step 2 - Ornamental'!$AC$18=\"X\",AQ144=\"X\"),1,0)","v":0},"X",{"$f":"IF(AND('Step 2 - Ornamental'!$AD$18=\"X\",AS144=\"X\"),1,0)","v":0},null,{"$f":"IF(AND('Step 2 - Ornamental'!$AE$18=\"X\",AU144=\"X\"),1,0)","v":0},null,{"$f":"IF(AND('Step 2 - Ornamental'!$AA$17=\"X\",AW144=\"X\"),1,0)","v":0},"X",{"$f":"IF(AND('Step 2 - Ornamental'!$AB$17=\"X\",AY144=\"X\"),1,0)","v":0},"X",{"$f":"IF(AND('Step 2 - Ornamental'!$AC$17=\"X\",BA144=\"X\"),1,0)","v":0},"X",{"$f":"IF(AND('Step 2 - Ornamental'!$AA$22=\"X\",BC144=\"X\"),1,0)","v":0},null,{"$f":"IF(AND('Step 2 - Ornamental'!$AB$22=\"X\",BE144=\"X\"),1,0)","v":0},null,{"$f":"IF(AND('Step 2 - Ornamental'!$AC$22=\"X\",BG144=\"X\"),1,0)","v":0},"X",{"$f":"IF(AND('Step 2 - Ornamental'!$AD$22=\"X\",BI144=\"X\"),1,0)","v":0},"X","Yellow and red / 6'-10'"]
[null,1,"HY LL","Hydrangea paniculata 'Jane' LITTLE LIME","Little Lime Dwarf Panicle Hydrangea","4' O.C.","Later summer blooming shrub - July/Sept, compact variety to 5' tall","X",null,null,null,null,null,0,null,{"$f":"IF(AND('Step 2 - Ornamental'!$AA$21=\"X\",Q145=\"X\"),1,0)","v":0},"X",{"$f":"IF(AND('Step 2 - Ornamental'!$AB$21=\"X\",S145=\"X\"),1,0)","v":0},"X",{"$f":"IF(AND('Step 2 - Ornamental'!$AC$21=\"X\",U145=\"X\"),1,0)","v":0},"X",{"$f":"IF(AND('Step 2 - Ornamental'!$AA$19=\"X\",W145=\"X\"),1,0)","v":0},"X",{"$f":"IF(AND('Step 2 - Ornamental'!$AA$19=\"X\",Y145=\"X\"),1,0)","v":0},null,{"$f":"IF(AND('Step 2 - Ornamental'!$AB$19=\"X\",AA145=\"X\"),1,0)","v":0},null,{"$f":"IF(AND('Step 2 - Ornamental'!$AC$19=\"X\",AC145=\"X\"),1,0)","v":0},null,{"$f":"IF(AND('Step 2 - Ornamental'!$AA$20=\"X\",AE145=\"X\"),1,0)","v":0},"X",{"$f":"IF(AND('Step 2 - Ornamental'!$AA$20=\"X\",AG145=\"X\"),1,0)","v":0},null,{"$f":"IF(AND('Step 2 - Ornamental'!$AB$20=\"X\",AI145=\"X\"),1,0)","v":0},null,{"$f":"IF(AND('Step 2 - Ornamental'!$AC$20=\"X\",AK145=\"X\"),1,0)","v":0},null,{"$f":"IF(AND('Step 2 - Ornamental'!$AA$18=\"X\",AM145=\"X\"),1,0)","v":0},null,{"$f":"IF(AND('Step 2 - Ornamental'!$AB$18=\"X\",AO145=\"X\"),1,0)","v":0},"X",{"$f":"IF(AND('Step 2 - Ornamental'!$AC$18=\"X\",AQ145=\"X\"),1,0)","v":0},null,{"$f":"IF(AND('Step 2 - Ornamental'!$AD$18=\"X\",AS145=\"X\"),1,0)","v":0},null,{"$f":"IF(AND('Step 2 - Ornamental'!$AE$18=\"X\",AU145=\"X\"),1,0)","v":0},null,{"$f":"IF(AND('Step 2 - Ornamental'!$AA$17=\"X\",AW145=\"X\"),1,0)","v":0},"X",{"$f":"IF(AND('Step 2 - Ornamental'!$AB$17=\"X\",AY145=\"X\"),1,0)","v":0},"X",{"$f":"IF(AND('Step 2 - Ornamental'!$AC$17=\"X\",BA145=\"X\"),1,0)","v":0},null,{"$f":"IF(AND('Step 2 - Ornamental'!$AA$22=\"X\",BC145=\"X\"),1,0)","v":0},null,{"$f":"IF(AND('Step 2 - Ornamental'!$AB$22=\"X\",BE145=\"X\"),1,0)","v":0},null,{"$f":"IF(AND('Step 2 - Ornamental'!$AC$22=\"X\",BG145=\"X\"),1,0)","v":0},"X",{"$f":"IF(AND('Step 2 - Ornamental'!$AD$22=\"X\",BI145=\"X\"),1,0)","v":0},"X",null,null,null,null,null,null,"Lime green changing to burgundy / 3'-5'"]
[null,1,"HY PA","Hydrangea paniculata 'Unique'","Unique Panicle Hydrangea","5' O.C.","White to pink flowers in July/Sept, grows to 15' tall","X",null,null,null,null,null,0,null,{"$f":"IF(AND('Step 2 - Ornamental'!$AA$21=\"X\",Q146=\"X\"),1,0)","v":0},"X",{"$f":"IF(AND('Step 2 - Ornamental'!$AB$21=\"X\",S146=\"X\"),1,0)","v":0},"X",{"$f":"IF(AND('Step 2 - Ornamental'!$AC$21=\"X\",U146=\"X\"),1,0)","v":0},"X",{"$f":"IF(AND('Step 2 - Ornamental'!$AA$19=\"X\",W146=\"X\"),1,0)","v":0},"X",{"$f":"IF(AND('Step 2 - Ornamental'!$AA$19=\"X\",Y146=\"X\"),1,0)","v":0},null,{"$f":"IF(AND('Step 2 - Ornamental'!$AB$19=\"X\",AA146=\"X\"),1,0)","v":0},null,{"$f":"IF(AND('Step 2 - Ornamental'!$AC$19=\"X\",AC146=\"X\"),1,0)","v":0},null,{"$f":"IF(AND('Step 2 - Ornamental'!$AA$20=\"X\",AE146=\"X\"),1,0)","v":0},"X",{"$f":"IF(AND('Step 2 - Ornamental'!$AA$20=\"X\",AG146=\"X\"),1,0)","v":0},null,{"$f":"IF(AND('Step 2 - Ornamental'!$AB$20=\"X\",AI146=\"X\"),1,0)","v":0},null,{"$f":"IF(AND('Step 2 - Ornamental'!$AC$20=\"X\",AK146=\"X\"),1,0)","v":0},null,{"$f":"IF(AND('Step 2 - Ornamental'!$AA$18=\"X\",AM146=\"X\"),1,0)","v":0},null,{"$f":"IF(AND('Step 2 - Ornamental'!$AB$18=\"X\",AO146=\"X\"),1,0)","v":0},"X",{"$f":"IF(AND('Step 2 - Ornamental'!$AC$18=\"X\",AQ146=\"X\"),1,0)","v":0},null,{"$f":"IF(AND('Step 2 - Ornamental'!$AD$18=\"X\",AS146=\"X\"),1,0)","v":0},null,{"$f":"IF(AND('Step 2 - Ornamental'!$AE$18=\"X\",AU146=\"X\"),1,0)","v":0},null,{"$f":"IF(AND('Step 2 - Ornamental'!$AA$17=\"X\",AW146=\"X\"),1,0)","v":0},"X",{"$f":"IF(AND('Step 2 - Ornamental'!$AB$17=\"X\",AY146=\"X\"),1,0)","v":0},"X",{"$f":"IF(AND('Step 2 - Ornamental'!$AC$17=\"X\",BA146=\"X\"),1,0)","v":0},null,{"$f":"IF(AND('Step 2 - Ornamental'!$AA$22=\"X\",BC146=\"X\"),1,0)","v":0},null,{"$f":"IF(AND('Step 2 - Ornamental'!$AB$22=\"X\",BE146=\"X\"),1,0)","v":0},null,{"$f":"IF(AND('Step 2 - Ornamental'!$AC$22=\"X\",BG146=\"X\"),1,0)","v":0},"X",{"$f":"IF(AND('Step 2 - Ornamental'!$AD$22=\"X\",BI146=\"X\"),1,0)","v":0},"X",null,null,null,null,null,null,"White changing to pink / 8'-15'"]
[null,1,"HY QU","Hydrangea quercifolia 'Flemygea' SNOW QUEEN","Snow Queen Oakleaf Hydrangea","4' O.C.","Gorgeous shrub with large leaves and white flowers changing to pink in May/July","X",null,null,null,null,null,0,null,{"$f":"IF(AND('Step 2 - Ornamental'!$AA$21=\"X\",Q147=\"X\"),1,0)","v":0},"X",{"$f":"IF(AND('Step 2 - Ornamental'!$AB$21=\"X\",S147=\"X\"),1,0)","v":0},"X",{"$f":"IF(AND('Step 2 - Ornamental'!$AC$21=\"X\",U147=\"X\"),1,0)","v":0},null,{"$f":"IF(AND('Step 2 - Ornamental'!$AA$19=\"X\",W147=\"X\"),1,0)","v":0},"X",{"$f":"IF(AND('Step 2 - Ornamental'!$AA$19=\"X\",Y147=\"X\"),1,0)","v":0},null,{"$f":"IF(AND('Step 2 - Ornamental'!$AB$19=\"X\",AA147=\"X\"),1,0)","v":0},null,{"$f":"IF(AND('Step 2 - Ornamental'!$AC$19=\"X\",AC147=\"X\"),1,0)","v":0},null,{"$f":"IF(AND('Step 2 - Ornamental'!$AA$20=\"X\",AE147=\"X\"),1,0)","v":0},"X",{"$f":"IF(AND('Step 2 - Ornamental'!$AA$20=\"X\",AG147=\"X\"),1,0)","v":0},null,{"$f":"IF(AND('Step 2 - Ornamental'!$AB$20=\"X\",AI147=\"X\"),1,0)","v":0},null,{"$f":"IF(AND('Step 2 - Ornamental'!$AC$20=\"X\",AK147=\"X\"),1,0)","v":0},null,{"$f":"IF(AND('Step 2 - Ornamental'!$AA$18=\"X\",AM147=\"X\"),1,0)","v":0},null,{"$f":"IF(AND('Step 2 - Ornamental'!$AB$18=\"X\",AO147=\"X\"),1,0)","v":0},"X",{"$f":"IF(AND('Step 2 - Ornamental'!$AC$18=\"X\",AQ147=\"X\"),1,0)","v":0},null,{"$f":"IF(AND('Step 2 - Ornamental'!$AD$18=\"X\",AS147=\"X\"),1,0)","v":0},null,{"$f":"IF(AND('Step 2 - Ornamental'!$AE$18=\"X\",AU147=\"X\"),1,0)","v":0},null,{"$f":"IF(AND('Step 2 - Ornamental'!$AA$17=\"X\",AW147=\"X\"),1,0)","v":0},null,{"$f":"IF(AND('Step 2 - Ornamental'!$AB$17=\"X\",AY147=\"X\"),1,0)","v":0},"X",{"$f":"IF(AND('Step 2 - Ornamental'!$AC$17=\"X\",BA147=\"X\"),1,0)","v":0},null,{"$f":"IF(AND('Step 2 - Ornamental'!$AA$22=\"X\",BC147=\"X\"),1,0)","v":0},null,{"$f":"IF(AND('Step 2 - Ornamental'!$AB$22=\"X\",BE147=\"X\"),1,0)","v":0},null,{"$f":"IF(AND('Step 2 - Ornamental'!$AC$22=\"X\",BG147=\"X\"),1,0)","v":0},"X",{"$f":"IF(AND('Step 2 - Ornamental'!$AD$22=\"X\",BI147=\"X\"),1,0)","v":0},"X",null,null,null,null,"White to Pink / 4'-6'"]
[null,1,"HY FR","Hypericum frondosum 'Sunburst'","Sunburst Golden St. Johnswort","3' O.C.","Larger flowers on smaller (3' tall) plant than species, showy yellow flowers in June/July"," ","X",null,null,null,null,1,"X",{"$f":"IF(AND('Step 2 - Ornamental'!$AA$21=\"X\",Q148=\"X\"),1,0)","v":0},null,{"$f":"IF(AND('Step 2 - Ornamental'!$AB$21=\"X\",S148=\"X\"),1,0)","v":0},null,{"$f":"IF(AND('Step 2 - Ornamental'!$AC$21=\"X\",U148=\"X\"),1,0)","v":0},null,{"$f":"IF(AND('Step 2 - Ornamental'!$AA$19=\"X\",W148=\"X\"),1,0)","v":0},"X",{"$f":"IF(AND('Step 2 - Ornamental'!$AA$19=\"X\",Y148=\"X\"),1,0)","v":0},null,{"$f":"IF(AND('Step 2 - Ornamental'!$AB$19=\"X\",AA148=\"X\"),1,0)","v":0},null,{"$f":"IF(AND('Step 2 - Ornamental'!$AC$19=\"X\",AC148=\"X\"),1,0)","v":0},null,{"$f":"IF(AND('Step 2 - Ornamental'!$AA$20=\"X\",AE148=\"X\"),1,0)","v":0},null,{"$f":"IF(AND('Step 2 - Ornamental'!$AA$20=\"X\",AG148=\"X\"),1,0)","v":0},"X",{"$f":"IF(AND('Step 2 - Ornamental'!$AB$20=\"X\",AI148=\"X\"),1,0)","v":0},"X",{"$f":"IF(AND('Step 2 - Ornamental'!$AC$20=\"X\",AK148=\"X\"),1,0)","v":0},null,{"$f":"IF(AND('Step 2 - Ornamental'!$AA$18=\"X\",AM148=\"X\"),1,0)","v":0},"X",{"$f":"IF(AND('Step 2 - Ornamental'!$AB$18=\"X\",AO148=\"X\"),1,0)","v":0},"X",{"$f":"IF(AND('Step 2 - Ornamental'!$AC$18=\"X\",AQ148=\"X\"),1,0)","v":0},null,{"$f":"IF(AND('Step 2 - Ornamental'!$AD$18=\"X\",AS148=\"X\"),1,0)","v":0},null,{"$f":"IF(AND('Step 2 - Ornamental'!$AE$18=\"X\",AU148=\"X\"),1,0)","v":0},null,{"$f":"IF(AND('Step 2 - Ornamental'!$AA$17=\"X\",AW148=\"X\"),1,0)","v":0},"X",{"$f":"IF(AND('Step 2 - Ornamental'!$AB$17=\"X\",AY148=\"X\"),1,0)","v":0},"X",{"$f":"IF(AND('Step 2 - Ornamental'!$AC$17=\"X\",BA148=\"X\"),1,0)","v":0},null,{"$f":"IF(AND('Step 2 - Ornamental'!$AA$22=\"X\",BC148=\"X\"),1,0)","v":0},null,{"$f":"IF(AND('Step 2 - Ornamental'!$AB$22=\"X\",BE148=\"X\"),1,0)","v":0},null,{"$f":"IF(AND('Step 2 - Ornamental'!$AC$22=\"X\",BG148=\"X\"),1,0)","v":0},"X",{"$f":"IF(AND('Step 2 - Ornamental'!$AD$22=\"X\",BI148=\"X\"),1,0)","v":0},"X",null,null,null,null,null,"Bright Yellow / 3.0'-4.0'"]
[null,1,"IL VE","Ilex verticillata","Common Winterberry","5' O.C.","Showy red berries in winter, tolerates wet soil",null,"X","X",null,null,null,0,null,{"$f":"IF(AND('Step 2 - Ornamental'!$AA$21=\"X\",Q149=\"X\"),1,0)","v":0},"X",{"$f":"IF(AND('Step 2 - Ornamental'!$AB$21=\"X\",S149=\"X\"),1,0)","v":0},"X",{"$f":"IF(AND('Step 2 - Ornamental'!$AC$21=\"X\",U149=\"X\"),1,0)","v":0},null,{"$f":"IF(AND('Step 2 - Ornamental'!$AA$19=\"X\",W149=\"X\"),1,0)","v":0},"X",{"$f":"IF(AND('Step 2 - Ornamental'!$AA$19=\"X\",Y149=\"X\"),1,0)","v":0},null,{"$f":"IF(AND('Step 2 - Ornamental'!$AB$19=\"X\",AA149=\"X\"),1,0)","v":0},null,{"$f":"IF(AND('Step 2 - Ornamental'!$AC$19=\"X\",AC149=\"X\"),1,0)","v":0},null,{"$f":"IF(AND('Step 2 - Ornamental'!$AA$20=\"X\",AE149=\"X\"),1,0)","v":0},null,{"$f":"IF(AND('Step 2 - Ornamental'!$AA$20=\"X\",AG149=\"X\"),1,0)","v":0},"X",{"$f":"IF(AND('Step 2 - Ornamental'!$AB$20=\"X\",AI149=\"X\"),1,0)","v":0},"X",{"$f":"IF(AND('Step 2 - Ornamental'!$AC$20=\"X\",AK149=\"X\"),1,0)","v":0},null,{"$f":"IF(AND('Step 2 - Ornamental'!$AA$18=\"X\",AM149=\"X\"),1,0)","v":0},null,{"$f":"IF(AND('Step 2 - Ornamental'!$AB$18=\"X\",AO149=\"X\"),1,0)","v":0},"X",{"$f":"IF(AND('Step 2 - Ornamental'!$AC$18=\"X\",AQ149=\"X\"),1,0)","v":0},"X",{"$f":"IF(AND('Step 2 - Ornamental'!$AD$18=\"X\",AS149=\"X\"),1,0)","v":0},null,{"$f":"IF(AND('Step 2 - Ornamental'!$AE$18=\"X\",AU149=\"X\"),1,0)","v":0},null,{"$f":"IF(AND('Step 2 - Ornamental'!$AA$17=\"X\",AW149=\"X\"),1,0)","v":0},"X",{"$f":"IF(AND('Step 2 - Ornamental'!$AB$17=\"X\",AY149=\"X\"),1,0)","v":0},"X",{"$f":"IF(AND('Step 2 - Ornamental'!$AC$17=\"X\",BA149=\"X\"),1,0)","v":0},null,{"$f":"IF(AND('Step 2 - Ornamental'!$AA$22=\"X\",BC149=\"X\"),1,0)","v":0},null,{"$f":"IF(AND('Step 2 - Ornamental'!$AB$22=\"X\",BE149=\"X\"),1,0)","v":0},null,{"$f":"IF(AND('Step 2 - Ornamental'!$AC$22=\"X\",BG149=\"X\"),1,0)","v":0},"X",{"$f":"IF(AND('Step 2 - Ornamental'!$AD$22=\"X\",BI149=\"X\"),1,0)","v":0},"X",null,null,null,null,null,null,null,null,"Bright Red Berries / 3'-12'"]
[null,1,"IT VL","Itea virginica  'Little Henry'","Little Henry Sweetspire","3' O.C.","Compact form (3'-4' tall) with red-purple fall color, ",null,"X",null,null,null,null,0,null,{"$f":"IF(AND('Step 2 - Ornamental'!$AA$21=\"X\",Q150=\"X\"),1,0)","v":0},"X",{"$f":"IF(AND('Step 2 - Ornamental'!$AB$21=\"X\",S150=\"X\"),1,0)","v":0},"X",{"$f":"IF(AND('Step 2 - Ornamental'!$AC$21=\"X\",U150=\"X\"),1,0)","v":0},"X",{"$f":"IF(AND('Step 2 - Ornamental'!$AA$19=\"X\",W150=\"X\"),1,0)","v":0},"X",{"$f":"IF(AND('Step 2 - Ornamental'!$AA$19=\"X\",Y150=\"X\"),1,0)","v":0},null,{"$f":"IF(AND('Step 2 - Ornamental'!$AB$19=\"X\",AA150=\"X\"),1,0)","v":0},null,{"$f":"IF(AND('Step 2 - Ornamental'!$AC$19=\"X\",AC150=\"X\"),1,0)","v":0},null,{"$f":"IF(AND('Step 2 - Ornamental'!$AA$20=\"X\",AE150=\"X\"),1,0)","v":0},null,{"$f":"IF(AND('Step 2 - Ornamental'!$AA$20=\"X\",AG150=\"X\"),1,0)","v":0},"X",{"$f":"IF(AND('Step 2 - Ornamental'!$AB$20=\"X\",AI150=\"X\"),1,0)","v":0},"X",{"$f":"IF(AND('Step 2 - Ornamental'!$AC$20=\"X\",AK150=\"X\"),1,0)","v":0},null,{"$f":"IF(AND('Step 2 - Ornamental'!$AA$18=\"X\",AM150=\"X\"),1,0)","v":0},null,{"$f":"IF(AND('Step 2 - Ornamental'!$AB$18=\"X\",AO150=\"X\"),1,0)","v":0},"X",{"$f":"IF(AND('Step 2 - Ornamental'!$AC$18=\"X\",AQ150=\"X\"),1,0)","v":0},"X",{"$f":"IF(AND('Step 2 - Ornamental'!$AD$18=\"X\",AS150=\"X\"),1,0)","v":0},null,{"$f":"IF(AND('Step 2 - Ornamental'!$AE$18=\"X\",AU150=\"X\"),1,0)","v":0},null,{"$f":"IF(AND('Step 2 - Ornamental'!$AA$17=\"X\",AW150=\"X\"),1,0)","v":0},"X",{"$f":"IF(AND('Step 2 - Ornamental'!$AB$17=\"X\",AY150=\"X\"),1,0)","v":0},"X",{"$f":"IF(AND('Step 2 - Ornamental'!$AC$17=\"X\",BA150=\"X\"),1,0)","v":0},"X",{"$f":"IF(AND('Step 2 - Ornamental'!$AA$22=\"X\",BC150=\"X\"),1,0)","v":0},null,{"$f":"IF(AND('Step 2 - Ornamental'!$AB$22=\"X\",BE150=\"X\"),1,0)","v":0},null,{"$f":"IF(AND('Step 2 - Ornamental'!$AC$22=\"X\",BG150=\"X\"),1,0)","v":0},"X",{"$f":"IF(AND('Step 2 - Ornamental'!$AD$22=\"X\",BI150=\"X\"),1,0)","v":0},"X",null,null,null,null,null,"White / 1.5'-2.0'"]
[null,1,"IT VH","Itea virginica  'Henry's Garnet'","Henry's Garnet Sweetspire","4' O.C.","Long flowers up to 6\", brilliant reddish purple fall color, grows to 5' high"," ","X",null,null,null,null,0,null,{"$f":"IF(AND('Step 2 - Ornamental'!$AA$21=\"X\",Q151=\"X\"),1,0)","v":0},"X",{"$f":"IF(AND('Step 2 - Ornamental'!$AB$21=\"X\",S151=\"X\"),1,0)","v":0},"X",{"$f":"IF(AND('Step 2 - Ornamental'!$AC$21=\"X\",U151=\"X\"),1,0)","v":0},"X",{"$f":"IF(AND('Step 2 - Ornamental'!$AA$19=\"X\",W151=\"X\"),1,0)","v":0},"X",{"$f":"IF(AND('Step 2 - Ornamental'!$AA$19=\"X\",Y151=\"X\"),1,0)","v":0},null,{"$f":"IF(AND('Step 2 - Ornamental'!$AB$19=\"X\",AA151=\"X\"),1,0)","v":0},null,{"$f":"IF(AND('Step 2 - Ornamental'!$AC$19=\"X\",AC151=\"X\"),1,0)","v":0},null,{"$f":"IF(AND('Step 2 - Ornamental'!$AA$20=\"X\",AE151=\"X\"),1,0)","v":0},null,{"$f":"IF(AND('Step 2 - Ornamental'!$AA$20=\"X\",AG151=\"X\"),1,0)","v":0},"X",{"$f":"IF(AND('Step 2 - Ornamental'!$AB$20=\"X\",AI151=\"X\"),1,0)","v":0},"X",{"$f":"IF(AND('Step 2 - Ornamental'!$AC$20=\"X\",AK151=\"X\"),1,0)","v":0},null,{"$f":"IF(AND('Step 2 - Ornamental'!$AA$18=\"X\",AM151=\"X\"),1,0)","v":0},null,{"$f":"IF(AND('Step 2 - Ornamental'!$AB$18=\"X\",AO151=\"X\"),1,0)","v":0},"X",{"$f":"IF(AND('Step 2 - Ornamental'!$AC$18=\"X\",AQ151=\"X\"),1,0)","v":0},"X",{"$f":"IF(AND('Step 2 - Ornamental'!$AD$18=\"X\",AS151=\"X\"),1,0)","v":0},null,{"$f":"IF(AND('Step 2 - Ornamental'!$AE$18=\"X\",AU151=\"X\"),1,0)","v":0},null,{"$f":"IF(AND('Step 2 - Ornamental'!$AA$17=\"X\",AW151=\"X\"),1,0)","v":0},"X",{"$f":"IF(AND('Step 2 - Ornamental'!$AB$17=\"X\",AY151=\"X\"),1,0)","v":0},"X",{"$f":"IF(AND('Step 2 - Ornamental'!$AC$17=\"X\",BA151=\"X\"),1,0)","v":0},"X",{"$f":"IF(AND('Step 2 - Ornamental'!$AA$22=\"X\",BC151=\"X\"),1,0)","v":0},null,{"$f":"IF(AND('Step 2 - Ornamental'!$AB$22=\"X\",BE151=\"X\"),1,0)","v":0},null,{"$f":"IF(AND('Step 2 - Ornamental'!$AC$22=\"X\",BG151=\"X\"),1,0)","v":0},"X",{"$f":"IF(AND('Step 2 - Ornamental'!$AD$22=\"X\",BI151=\"X\"),1,0)","v":0},"X",null,null,null,null,"White / 3'-4'"]
[null,1,"KE JA","Kerria japonica 'Golden Guinea'","Golden Guinea Japanese Kerria","4' O.C.","Shrub for heavy shade, variety has large single flowers ","X",null,null,"X",null,null,0,null,{"$f":"IF(AND('Step 2 - Ornamental'!$AA$21=\"X\",Q152=\"X\"),1,0)","v":0},"X",{"$f":"IF(AND('Step 2 - Ornamental'!$AB$21=\"X\",S152=\"X\"),1,0)","v":0},"X",{"$f":"IF(AND('Step 2 - Ornamental'!$AC$21=\"X\",U152=\"X\"),1,0)","v":0},null,{"$f":"IF(AND('Step 2 - Ornamental'!$AA$19=\"X\",W152=\"X\"),1,0)","v":0},"X",{"$f":"IF(AND('Step 2 - Ornamental'!$AA$19=\"X\",Y152=\"X\"),1,0)","v":0},null,{"$f":"IF(AND('Step 2 - Ornamental'!$AB$19=\"X\",AA152=\"X\"),1,0)","v":0},null,{"$f":"IF(AND('Step 2 - Ornamental'!$AC$19=\"X\",AC152=\"X\"),1,0)","v":0},null,{"$f":"IF(AND('Step 2 - Ornamental'!$AA$20=\"X\",AE152=\"X\"),1,0)","v":0},"X",{"$f":"IF(AND('Step 2 - Ornamental'!$AA$20=\"X\",AG152=\"X\"),1,0)","v":0},null,{"$f":"IF(AND('Step 2 - Ornamental'!$AB$20=\"X\",AI152=\"X\"),1,0)","v":0},null,{"$f":"IF(AND('Step 2 - Ornamental'!$AC$20=\"X\",AK152=\"X\"),1,0)","v":0},null,{"$f":"IF(AND('Step 2 - Ornamental'!$AA$18=\"X\",AM152=\"X\"),1,0)","v":0},null,{"$f":"IF(AND('Step 2 - Ornamental'!$AB$18=\"X\",AO152=\"X\"),1,0)","v":0},"X",{"$f":"IF(AND('Step 2 - Ornamental'!$AC$18=\"X\",AQ152=\"X\"),1,0)","v":0},null,{"$f":"IF(AND('Step 2 - Ornamental'!$AD$18=\"X\",AS152=\"X\"),1,0)","v":0},null,{"$f":"IF(AND('Step 2 - Ornamental'!$AE$18=\"X\",AU152=\"X\"),1,0)","v":0},null,{"$f":"IF(AND('Step 2 - Ornamental'!$AA$17=\"X\",AW152=\"X\"),1,0)","v":0},null,{"$f":"IF(AND('Step 2 - Ornamental'!$AB$17=\"X\",AY152=\"X\"),1,0)","v":0},"X",{"$f":"IF(AND('Step 2 - Ornamental'!$AC$17=\"X\",BA152=\"X\"),1,0)","v":0},"X",{"$f":"IF(AND('Step 2 - Ornamental'!$AA$22=\"X\",BC152=\"X\"),1,0)","v":0},null,{"$f":"IF(AND('Step 2 - Ornamental'!$AB$22=\"X\",BE152=\"X\"),1,0)","v":0},null,{"$f":"IF(AND('Step 2 - Ornamental'!$AC$22=\"X\",BG152=\"X\"),1,0)","v":0},"X",{"$f":"IF(AND('Step 2 - Ornamental'!$AD$22=\"X\",BI152=\"X\"),1,0)","v":0},"X",null,null,null,"Yellow / 4'-8'"]
[null,1,"LI BE","Lindera benzoin","Spicebush","6' O.C.","Good native shrub for heavy shade, grows to 12' tall, needs moist soils, Can be difficult to transplant"," ","X",null,"X",null,null,0,null,{"$f":"IF(AND('Step 2 - Ornamental'!$AA$21=\"X\",Q153=\"X\"),1,0)","v":0},"X",{"$f":"IF(AND('Step 2 - Ornamental'!$AB$21=\"X\",S153=\"X\"),1,0)","v":0},"X",{"$f":"IF(AND('Step 2 - Ornamental'!$AC$21=\"X\",U153=\"X\"),1,0)","v":0},"X",{"$f":"IF(AND('Step 2 - Ornamental'!$AA$19=\"X\",W153=\"X\"),1,0)","v":0},"X",{"$f":"IF(AND('Step 2 - Ornamental'!$AA$19=\"X\",Y153=\"X\"),1,0)","v":0},null,{"$f":"IF(AND('Step 2 - Ornamental'!$AB$19=\"X\",AA153=\"X\"),1,0)","v":0},null,{"$f":"IF(AND('Step 2 - Ornamental'!$AC$19=\"X\",AC153=\"X\"),1,0)","v":0},null,{"$f":"IF(AND('Step 2 - Ornamental'!$AA$20=\"X\",AE153=\"X\"),1,0)","v":0},"X",{"$f":"IF(AND('Step 2 - Ornamental'!$AA$20=\"X\",AG153=\"X\"),1,0)","v":0},null,{"$f":"IF(AND('Step 2 - Ornamental'!$AB$20=\"X\",AI153=\"X\"),1,0)","v":0},null,{"$f":"IF(AND('Step 2 - Ornamental'!$AC$20=\"X\",AK153=\"X\"),1,0)","v":0},null,{"$f":"IF(AND('Step 2 - Ornamental'!$AA$18=\"X\",AM153=\"X\"),1,0)","v":0},null,{"$f":"IF(AND('Step 2 - Ornamental'!$AB$18=\"X\",AO153=\"X\"),1,0)","v":0},"X",{"$f":"IF(AND('Step 2 - Ornamental'!$AC$18=\"X\",AQ153=\"X\"),1,0)","v":0},"X",{"$f":"IF(AND('Step 2 - Ornamental'!$AD$18=\"X\",AS153=\"X\"),1,0)","v":0},null,{"$f":"IF(AND('Step 2 - Ornamental'!$AE$18=\"X\",AU153=\"X\"),1,0)","v":0},null,{"$f":"IF(AND('Step 2 - Ornamental'!$AA$17=\"X\",AW153=\"X\"),1,0)","v":0},"X",{"$f":"IF(AND('Step 2 - Ornamental'!$AB$17=\"X\",AY153=\"X\"),1,0)","v":0},"X",{"$f":"IF(AND('Step 2 - Ornamental'!$AC$17=\"X\",BA153=\"X\"),1,0)","v":0},"X",{"$f":"IF(AND('Step 2 - Ornamental'!$AA$22=\"X\",BC153=\"X\"),1,0)","v":0},null,{"$f":"IF(AND('Step 2 - Ornamental'!$AB$22=\"X\",BE153=\"X\"),1,0)","v":0},null,{"$f":"IF(AND('Step 2 - Ornamental'!$AC$22=\"X\",BG153=\"X\"),1,0)","v":0},"X",{"$f":"IF(AND('Step 2 - Ornamental'!$AD$22=\"X\",BI153=\"X\"),1,0)","v":0},"X",null,null,null,"Greenish yellow /6'-12'"]
[null,1,"MY PE","Myrica pensylvanica","Northern Bayberry","6' O.C.","Salt tolerant shrub,  nice foliage to combine with junipers, dislikes alkaline soils"," ","X",null,null,null,null,0,null,{"$f":"IF(AND('Step 2 - Ornamental'!$AA$21=\"X\",Q154=\"X\"),1,0)","v":0},"X",{"$f":"IF(AND('Step 2 - Ornamental'!$AB$21=\"X\",S154=\"X\"),1,0)","v":0},"X",{"$f":"IF(AND('Step 2 - Ornamental'!$AC$21=\"X\",U154=\"X\"),1,0)","v":0},null,{"$f":"IF(AND('Step 2 - Ornamental'!$AA$19=\"X\",W154=\"X\"),1,0)","v":0},null,{"$f":"IF(AND('Step 2 - Ornamental'!$AA$19=\"X\",Y154=\"X\"),1,0)","v":0},"X",{"$f":"IF(AND('Step 2 - Ornamental'!$AB$19=\"X\",AA154=\"X\"),1,0)","v":0},"X",{"$f":"IF(AND('Step 2 - Ornamental'!$AC$19=\"X\",AC154=\"X\"),1,0)","v":0},"X",{"$f":"IF(AND('Step 2 - Ornamental'!$AA$20=\"X\",AE154=\"X\"),1,0)","v":0},"X",{"$f":"IF(AND('Step 2 - Ornamental'!$AA$20=\"X\",AG154=\"X\"),1,0)","v":0},null,{"$f":"IF(AND('Step 2 - Ornamental'!$AB$20=\"X\",AI154=\"X\"),1,0)","v":0},null,{"$f":"IF(AND('Step 2 - Ornamental'!$AC$20=\"X\",AK154=\"X\"),1,0)","v":0},null,{"$f":"IF(AND('Step 2 - Ornamental'!$AA$18=\"X\",AM154=\"X\"),1,0)","v":0},"X",{"$f":"IF(AND('Step 2 - Ornamental'!$AB$18=\"X\",AO154=\"X\"),1,0)","v":0},"X",{"$f":"IF(AND('Step 2 - Ornamental'!$AC$18=\"X\",AQ154=\"X\"),1,0)","v":0},null,{"$f":"IF(AND('Step 2 - Ornamental'!$AD$18=\"X\",AS154=\"X\"),1,0)","v":0},null,{"$f":"IF(AND('Step 2 - Ornamental'!$AE$18=\"X\",AU154=\"X\"),1,0)","v":0},null,{"$f":"IF(AND('Step 2 - Ornamental'!$AA$17=\"X\",AW154=\"X\"),1,0)","v":0},"X",{"$f":"IF(AND('Step 2 - Ornamental'!$AB$17=\"X\",AY154=\"X\"),1,0)","v":0},null,{"$f":"IF(AND('Step 2 - Ornamental'!$AC$17=\"X\",BA154=\"X\"),1,0)","v":0},null,{"$f":"IF(AND('Step 2 - Ornamental'!$AA$22=\"X\",BC154=\"X\"),1,0)","v":0},null,{"$f":"IF(AND('Step 2 - Ornamental'!$AB$22=\"X\",BE154=\"X\"),1,0)","v":0},null,{"$f":"IF(AND('Step 2 - Ornamental'!$AC$22=\"X\",BG154=\"X\"),1,0)","v":0},"X",{"$f":"IF(AND('Step 2 - Ornamental'!$AD$22=\"X\",BI154=\"X\"),1,0)","v":0},"X",null,null,null,null,null,null,null,null,"Greyish white fruit / 5'-12'"]
[null,1,"PH VM","Philadelphus x virginalis 'Minnesota Snowflake'","Minnesota Snowflake Mockorange","6' O.C.","One of the more cold hardy mockoranges, plants are known for fragrance, but it can be variable","X",null,null,null,null,null,0,null,{"$f":"IF(AND('Step 2 - Ornamental'!$AA$21=\"X\",Q155=\"X\"),1,0)","v":0},"X",{"$f":"IF(AND('Step 2 - Ornamental'!$AB$21=\"X\",S155=\"X\"),1,0)","v":0},"X",{"$f":"IF(AND('Step 2 - Ornamental'!$AC$21=\"X\",U155=\"X\"),1,0)","v":0},"X",{"$f":"IF(AND('Step 2 - Ornamental'!$AA$19=\"X\",W155=\"X\"),1,0)","v":0},null,{"$f":"IF(AND('Step 2 - Ornamental'!$AA$19=\"X\",Y155=\"X\"),1,0)","v":0},"X",{"$f":"IF(AND('Step 2 - Ornamental'!$AB$19=\"X\",AA155=\"X\"),1,0)","v":0},"X",{"$f":"IF(AND('Step 2 - Ornamental'!$AC$19=\"X\",AC155=\"X\"),1,0)","v":0},null,{"$f":"IF(AND('Step 2 - Ornamental'!$AA$20=\"X\",AE155=\"X\"),1,0)","v":0},"X",{"$f":"IF(AND('Step 2 - Ornamental'!$AA$20=\"X\",AG155=\"X\"),1,0)","v":0},null,{"$f":"IF(AND('Step 2 - Ornamental'!$AB$20=\"X\",AI155=\"X\"),1,0)","v":0},null,{"$f":"IF(AND('Step 2 - Ornamental'!$AC$20=\"X\",AK155=\"X\"),1,0)","v":0},null,{"$f":"IF(AND('Step 2 - Ornamental'!$AA$18=\"X\",AM155=\"X\"),1,0)","v":0},null,{"$f":"IF(AND('Step 2 - Ornamental'!$AB$18=\"X\",AO155=\"X\"),1,0)","v":0},"X",{"$f":"IF(AND('Step 2 - Ornamental'!$AC$18=\"X\",AQ155=\"X\"),1,0)","v":0},null,{"$f":"IF(AND('Step 2 - Ornamental'!$AD$18=\"X\",AS155=\"X\"),1,0)","v":0},null,{"$f":"IF(AND('Step 2 - Ornamental'!$AE$18=\"X\",AU155=\"X\"),1,0)","v":0},null,{"$f":"IF(AND('Step 2 - Ornamental'!$AA$17=\"X\",AW155=\"X\"),1,0)","v":0},"X",{"$f":"IF(AND('Step 2 - Ornamental'!$AB$17=\"X\",AY155=\"X\"),1,0)","v":0},"X",{"$f":"IF(AND('Step 2 - Ornamental'!$AC$17=\"X\",BA155=\"X\"),1,0)","v":0},null,{"$f":"IF(AND('Step 2 - Ornamental'!$AA$22=\"X\",BC155=\"X\"),1,0)","v":0},null,{"$f":"IF(AND('Step 2 - Ornamental'!$AB$22=\"X\",BE155=\"X\"),1,0)","v":0},null,{"$f":"IF(AND('Step 2 - Ornamental'!$AC$22=\"X\",BG155=\"X\"),1,0)","v":0},"X",{"$f":"IF(AND('Step 2 - Ornamental'!$AD$22=\"X\",BI155=\"X\"),1,0)","v":0},"X",null,null,null,null,"White / 5'-9'"]
[null,1,"PH DS","Philadelphus x virginalis 'Dwarf Snowflake'","Dwarf Snowflake Mockorange","3' O.C.","Another cold hardy variety, but smaller to 8' ","X",null,null,null,null,null,0,null,{"$f":"IF(AND('Step 2 - Ornamental'!$AA$21=\"X\",Q156=\"X\"),1,0)","v":0},"X",{"$f":"IF(AND('Step 2 - Ornamental'!$AB$21=\"X\",S156=\"X\"),1,0)","v":0},"X",{"$f":"IF(AND('Step 2 - Ornamental'!$AC$21=\"X\",U156=\"X\"),1,0)","v":0},"X",{"$f":"IF(AND('Step 2 - Ornamental'!$AA$19=\"X\",W156=\"X\"),1,0)","v":0},null,{"$f":"IF(AND('Step 2 - Ornamental'!$AA$19=\"X\",Y156=\"X\"),1,0)","v":0},"X",{"$f":"IF(AND('Step 2 - Ornamental'!$AB$19=\"X\",AA156=\"X\"),1,0)","v":0},"X",{"$f":"IF(AND('Step 2 - Ornamental'!$AC$19=\"X\",AC156=\"X\"),1,0)","v":0},null,{"$f":"IF(AND('Step 2 - Ornamental'!$AA$20=\"X\",AE156=\"X\"),1,0)","v":0},"X",{"$f":"IF(AND('Step 2 - Ornamental'!$AA$20=\"X\",AG156=\"X\"),1,0)","v":0},null,{"$f":"IF(AND('Step 2 - Ornamental'!$AB$20=\"X\",AI156=\"X\"),1,0)","v":0},null,{"$f":"IF(AND('Step 2 - Ornamental'!$AC$20=\"X\",AK156=\"X\"),1,0)","v":0},null,{"$f":"IF(AND('Step 2 - Ornamental'!$AA$18=\"X\",AM156=\"X\"),1,0)","v":0},null,{"$f":"IF(AND('Step 2 - Ornamental'!$AB$18=\"X\",AO156=\"X\"),1,0)","v":0},"X",{"$f":"IF(AND('Step 2 - Ornamental'!$AC$18=\"X\",AQ156=\"X\"),1,0)","v":0},null,{"$f":"IF(AND('Step 2 - Ornamental'!$AD$18=\"X\",AS156=\"X\"),1,0)","v":0},null,{"$f":"IF(AND('Step 2 - Ornamental'!$AE$18=\"X\",AU156=\"X\"),1,0)","v":0},null,{"$f":"IF(AND('Step 2 - Ornamental'!$AA$17=\"X\",AW156=\"X\"),1,0)","v":0},"X",{"$f":"IF(AND('Step 2 - Ornamental'!$AB$17=\"X\",AY156=\"X\"),1,0)","v":0},"X",{"$f":"IF(AND('Step 2 - Ornamental'!$AC$17=\"X\",BA156=\"X\"),1,0)","v":0},null,{"$f":"IF(AND('Step 2 - Ornamental'!$AA$22=\"X\",BC156=\"X\"),1,0)","v":0},null,{"$f":"IF(AND('Step 2 - Ornamental'!$AB$22=\"X\",BE156=\"X\"),1,0)","v":0},null,{"$f":"IF(AND('Step 2 - Ornamental'!$AC$22=\"X\",BG156=\"X\"),1,0)","v":0},"X",{"$f":"IF(AND('Step 2 - Ornamental'!$AD$22=\"X\",BI156=\"X\"),1,0)","v":0},"X",null,null,null,null,"White / 5'-9'"]
[null,1,"PH OP","Physocarpus opulifolius 'Diablo'","Diablo Purpleleaf Ninebark","6' O.C.","Purple leaved ninebark for contrast, drought tolerant, tough shrub",null,"X","X",null,null,null,0,null,{"$f":"IF(AND('Step 2 - Ornamental'!$AA$21=\"X\",Q157=\"X\"),1,0)","v":0},"X",{"$f":"IF(AND('Step 2 - Ornamental'!$AB$21=\"X\",S157=\"X\"),1,0)","v":0},"X",{"$f":"IF(AND('Step 2 - Ornamental'!$AC$21=\"X\",U157=\"X\"),1,0)","v":0},"X",{"$f":"IF(AND('Step 2 - Ornamental'!$AA$19=\"X\",W157=\"X\"),1,0)","v":0},null,{"$f":"IF(AND('Step 2 - Ornamental'!$AA$19=\"X\",Y157=\"X\"),1,0)","v":0},"X",{"$f":"IF(AND('Step 2 - Ornamental'!$AB$19=\"X\",AA157=\"X\"),1,0)","v":0},"X",{"$f":"IF(AND('Step 2 - Ornamental'!$AC$19=\"X\",AC157=\"X\"),1,0)","v":0},null,{"$f":"IF(AND('Step 2 - Ornamental'!$AA$20=\"X\",AE157=\"X\"),1,0)","v":0},null,{"$f":"IF(AND('Step 2 - Ornamental'!$AA$20=\"X\",AG157=\"X\"),1,0)","v":0},"X",{"$f":"IF(AND('Step 2 - Ornamental'!$AB$20=\"X\",AI157=\"X\"),1,0)","v":0},"X",{"$f":"IF(AND('Step 2 - Ornamental'!$AC$20=\"X\",AK157=\"X\"),1,0)","v":0},null,{"$f":"IF(AND('Step 2 - Ornamental'!$AA$18=\"X\",AM157=\"X\"),1,0)","v":0},"X",{"$f":"IF(AND('Step 2 - Ornamental'!$AB$18=\"X\",AO157=\"X\"),1,0)","v":0},"X",{"$f":"IF(AND('Step 2 - Ornamental'!$AC$18=\"X\",AQ157=\"X\"),1,0)","v":0},null,{"$f":"IF(AND('Step 2 - Ornamental'!$AD$18=\"X\",AS157=\"X\"),1,0)","v":0},null,{"$f":"IF(AND('Step 2 - Ornamental'!$AE$18=\"X\",AU157=\"X\"),1,0)","v":0},null,{"$f":"IF(AND('Step 2 - Ornamental'!$AA$17=\"X\",AW157=\"X\"),1,0)","v":0},"X",{"$f":"IF(AND('Step 2 - Ornamental'!$AB$17=\"X\",AY157=\"X\"),1,0)","v":0},"X",{"$f":"IF(AND('Step 2 - Ornamental'!$AC$17=\"X\",BA157=\"X\"),1,0)","v":0},null,{"$f":"IF(AND('Step 2 - Ornamental'!$AA$22=\"X\",BC157=\"X\"),1,0)","v":0},null,{"$f":"IF(AND('Step 2 - Ornamental'!$AB$22=\"X\",BE157=\"X\"),1,0)","v":0},null,{"$f":"IF(AND('Step 2 - Ornamental'!$AC$22=\"X\",BG157=\"X\"),1,0)","v":0},"X",{"$f":"IF(AND('Step 2 - Ornamental'!$AD$22=\"X\",BI157=\"X\"),1,0)","v":0},"X",null,null,null,null,"Pinkish White / 4'-8'"]
[null,1,"PO FR","Potentilla fruticosa  (Dasiphora fruticosa)","Shrubby Cinquefoil","30\" O.C.","Versatile, long-blooming shrub",null,"X","X","X","X",null,0,null,{"$f":"IF(AND('Step 2 - Ornamental'!$AA$21=\"X\",Q158=\"X\"),1,0)","v":0},"X",{"$f":"IF(AND('Step 2 - Ornamental'!$AB$21=\"X\",S158=\"X\"),1,0)","v":0},"X",{"$f":"IF(AND('Step 2 - Ornamental'!$AC$21=\"X\",U158=\"X\"),1,0)","v":0},"X",{"$f":"IF(AND('Step 2 - Ornamental'!$AA$19=\"X\",W158=\"X\"),1,0)","v":0},null,{"$f":"IF(AND('Step 2 - Ornamental'!$AA$19=\"X\",Y158=\"X\"),1,0)","v":0},"X",{"$f":"IF(AND('Step 2 - Ornamental'!$AB$19=\"X\",AA158=\"X\"),1,0)","v":0},"X",{"$f":"IF(AND('Step 2 - Ornamental'!$AC$19=\"X\",AC158=\"X\"),1,0)","v":0},"X",{"$f":"IF(AND('Step 2 - Ornamental'!$AA$20=\"X\",AE158=\"X\"),1,0)","v":0},null,{"$f":"IF(AND('Step 2 - Ornamental'!$AA$20=\"X\",AG158=\"X\"),1,0)","v":0},"X",{"$f":"IF(AND('Step 2 - Ornamental'!$AB$20=\"X\",AI158=\"X\"),1,0)","v":0},"X",{"$f":"IF(AND('Step 2 - Ornamental'!$AC$20=\"X\",AK158=\"X\"),1,0)","v":0},"X",{"$f":"IF(AND('Step 2 - Ornamental'!$AA$18=\"X\",AM158=\"X\"),1,0)","v":0},"X",{"$f":"IF(AND('Step 2 - Ornamental'!$AB$18=\"X\",AO158=\"X\"),1,0)","v":0},"X",{"$f":"IF(AND('Step 2 - Ornamental'!$AC$18=\"X\",AQ158=\"X\"),1,0)","v":0},null,{"$f":"IF(AND('Step 2 - Ornamental'!$AD$18=\"X\",AS158=\"X\"),1,0)","v":0},null,{"$f":"IF(AND('Step 2 - Ornamental'!$AE$18=\"X\",AU158=\"X\"),1,0)","v":0},null,{"$f":"IF(AND('Step 2 - Ornamental'!$AA$17=\"X\",AW158=\"X\"),1,0)","v":0},"X",{"$f":"IF(AND('Step 2 - Ornamental'!$AB$17=\"X\",AY158=\"X\"),1,0)","v":0},null,{"$f":"IF(AND('Step 2 - Ornamental'!$AC$17=\"X\",BA158=\"X\"),1,0)","v":0},null,{"$f":"IF(AND('Step 2 - Ornamental'!$AA$22=\"X\",BC158=\"X\"),1,0)","v":0},null,{"$f":"IF(AND('Step 2 - Ornamental'!$AB$22=\"X\",BE158=\"X\"),1,0)","v":0},null,{"$f":"IF(AND('Step 2 - Ornamental'!$AC$22=\"X\",BG158=\"X\"),1,0)","v":0},"X",{"$f":"IF(AND('Step 2 - Ornamental'!$AD$22=\"X\",BI158=\"X\"),1,0)","v":0},"X",null,null,null,null,null,"Buttercup Yellow / 1.0'-4.0'"]
[null,1,"PO MT","Potentilla fruticosa 'Uman' MANGO TANGO (D. fruticosa)","Mango Tango Potentilla","30\" O.C.","Orangy-yellow flower ",null,"X","X","X","X",null,0,null,{"$f":"IF(AND('Step 2 - Ornamental'!$AA$21=\"X\",Q159=\"X\"),1,0)","v":0},"X",{"$f":"IF(AND('Step 2 - Ornamental'!$AB$21=\"X\",S159=\"X\"),1,0)","v":0},"X",{"$f":"IF(AND('Step 2 - Ornamental'!$AC$21=\"X\",U159=\"X\"),1,0)","v":0},"X",{"$f":"IF(AND('Step 2 - Ornamental'!$AA$19=\"X\",W159=\"X\"),1,0)","v":0},null,{"$f":"IF(AND('Step 2 - Ornamental'!$AA$19=\"X\",Y159=\"X\"),1,0)","v":0},"X",{"$f":"IF(AND('Step 2 - Ornamental'!$AB$19=\"X\",AA159=\"X\"),1,0)","v":0},"X",{"$f":"IF(AND('Step 2 - Ornamental'!$AC$19=\"X\",AC159=\"X\"),1,0)","v":0},"X",{"$f":"IF(AND('Step 2 - Ornamental'!$AA$20=\"X\",AE159=\"X\"),1,0)","v":0},null,{"$f":"IF(AND('Step 2 - Ornamental'!$AA$20=\"X\",AG159=\"X\"),1,0)","v":0},"X",{"$f":"IF(AND('Step 2 - Ornamental'!$AB$20=\"X\",AI159=\"X\"),1,0)","v":0},"X",{"$f":"IF(AND('Step 2 - Ornamental'!$AC$20=\"X\",AK159=\"X\"),1,0)","v":0},"X",{"$f":"IF(AND('Step 2 - Ornamental'!$AA$18=\"X\",AM159=\"X\"),1,0)","v":0},"X",{"$f":"IF(AND('Step 2 - Ornamental'!$AB$18=\"X\",AO159=\"X\"),1,0)","v":0},"X",{"$f":"IF(AND('Step 2 - Ornamental'!$AC$18=\"X\",AQ159=\"X\"),1,0)","v":0},null,{"$f":"IF(AND('Step 2 - Ornamental'!$AD$18=\"X\",AS159=\"X\"),1,0)","v":0},null,{"$f":"IF(AND('Step 2 - Ornamental'!$AE$18=\"X\",AU159=\"X\"),1,0)","v":0},null,{"$f":"IF(AND('Step 2 - Ornamental'!$AA$17=\"X\",AW159=\"X\"),1,0)","v":0},"X",{"$f":"IF(AND('Step 2 - Ornamental'!$AB$17=\"X\",AY159=\"X\"),1,0)","v":0},null,{"$f":"IF(AND('Step 2 - Ornamental'!$AC$17=\"X\",BA159=\"X\"),1,0)","v":0},null,{"$f":"IF(AND('Step 2 - Ornamental'!$AA$22=\"X\",BC159=\"X\"),1,0)","v":0},null,{"$f":"IF(AND('Step 2 - Ornamental'!$AB$22=\"X\",BE159=\"X\"),1,0)","v":0},null,{"$f":"IF(AND('Step 2 - Ornamental'!$AC$22=\"X\",BG159=\"X\"),1,0)","v":0},"X",{"$f":"IF(AND('Step 2 - Ornamental'!$AD$22=\"X\",BI159=\"X\"),1,0)","v":0},"X",null,null,null,null,null,"Yellow and  Mango / 1.0'-4.0'"]
[null,1,"RH GL","Rhus aromatica 'Grow Low'","Grow-low Sumac","3' O.C.","Excellent, hardy low shrub for general groundcover purposes, attractive red fall color"," ","X","X",null,"X",null,0,null,{"$f":"IF(AND('Step 2 - Ornamental'!$AA$21=\"X\",Q160=\"X\"),1,0)","v":0},null,{"$f":"IF(AND('Step 2 - Ornamental'!$AB$21=\"X\",S160=\"X\"),1,0)","v":0},"X",{"$f":"IF(AND('Step 2 - Ornamental'!$AC$21=\"X\",U160=\"X\"),1,0)","v":0},"X",{"$f":"IF(AND('Step 2 - Ornamental'!$AA$19=\"X\",W160=\"X\"),1,0)","v":0},null,{"$f":"IF(AND('Step 2 - Ornamental'!$AA$19=\"X\",Y160=\"X\"),1,0)","v":0},"X",{"$f":"IF(AND('Step 2 - Ornamental'!$AB$19=\"X\",AA160=\"X\"),1,0)","v":0},"X",{"$f":"IF(AND('Step 2 - Ornamental'!$AC$19=\"X\",AC160=\"X\"),1,0)","v":0},"X",{"$f":"IF(AND('Step 2 - Ornamental'!$AA$20=\"X\",AE160=\"X\"),1,0)","v":0},"X",{"$f":"IF(AND('Step 2 - Ornamental'!$AA$20=\"X\",AG160=\"X\"),1,0)","v":0},null,{"$f":"IF(AND('Step 2 - Ornamental'!$AB$20=\"X\",AI160=\"X\"),1,0)","v":0},null,{"$f":"IF(AND('Step 2 - Ornamental'!$AC$20=\"X\",AK160=\"X\"),1,0)","v":0},null,{"$f":"IF(AND('Step 2 - Ornamental'!$AA$18=\"X\",AM160=\"X\"),1,0)","v":0},"X",{"$f":"IF(AND('Step 2 - Ornamental'!$AB$18=\"X\",AO160=\"X\"),1,0)","v":0},"X",{"$f":"IF(AND('Step 2 - Ornamental'!$AC$18=\"X\",AQ160=\"X\"),1,0)","v":0},null,{"$f":"IF(AND('Step 2 - Ornamental'!$AD$18=\"X\",AS160=\"X\"),1,0)","v":0},null,{"$f":"IF(AND('Step 2 - Ornamental'!$AE$18=\"X\",AU160=\"X\"),1,0)","v":0},null,{"$f":"IF(AND('Step 2 - Ornamental'!$AA$17=\"X\",AW160=\"X\"),1,0)","v":0},"X",{"$f":"IF(AND('Step 2 - Ornamental'!$AB$17=\"X\",AY160=\"X\"),1,0)","v":0},"X",{"$f":"IF(AND('Step 2 - Ornamental'!$AC$17=\"X\",BA160=\"X\"),1,0)","v":0},null,{"$f":"IF(AND('Step 2 - Ornamental'!$AA$22=\"X\",BC160=\"X\"),1,0)","v":0},null,{"$f":"IF(AND('Step 2 - Ornamental'!$AB$22=\"X\",BE160=\"X\"),1,0)","v":0},null,{"$f":"IF(AND('Step 2 - Ornamental'!$AC$22=\"X\",BG160=\"X\"),1,0)","v":0},"X",{"$f":"IF(AND('Step 2 - Ornamental'!$AD$22=\"X\",BI160=\"X\"),1,0)","v":0},"X","Flowers Insignificant"]
[null,1,"RH CO","Rhus copallina 'Morton'","Morton Shining Sumac","6' O.C.","Compact form (4'-6' H) spreads by suckers, great fall color, ",null,"X","X",null,"X",null,0,null,{"$f":"IF(AND('Step 2 - Ornamental'!$AA$21=\"X\",Q161=\"X\"),1,0)","v":0},"X",{"$f":"IF(AND('Step 2 - Ornamental'!$AB$21=\"X\",S161=\"X\"),1,0)","v":0},null,{"$f":"IF(AND('Step 2 - Ornamental'!$AC$21=\"X\",U161=\"X\"),1,0)","v":0},null,{"$f":"IF(AND('Step 2 - Ornamental'!$AA$19=\"X\",W161=\"X\"),1,0)","v":0},null,{"$f":"IF(AND('Step 2 - Ornamental'!$AA$19=\"X\",Y161=\"X\"),1,0)","v":0},"X",{"$f":"IF(AND('Step 2 - Ornamental'!$AB$19=\"X\",AA161=\"X\"),1,0)","v":0},"X",{"$f":"IF(AND('Step 2 - Ornamental'!$AC$19=\"X\",AC161=\"X\"),1,0)","v":0},"X",{"$f":"IF(AND('Step 2 - Ornamental'!$AA$20=\"X\",AE161=\"X\"),1,0)","v":0},"X",{"$f":"IF(AND('Step 2 - Ornamental'!$AA$20=\"X\",AG161=\"X\"),1,0)","v":0},null,{"$f":"IF(AND('Step 2 - Ornamental'!$AB$20=\"X\",AI161=\"X\"),1,0)","v":0},null,{"$f":"IF(AND('Step 2 - Ornamental'!$AC$20=\"X\",AK161=\"X\"),1,0)","v":0},null,{"$f":"IF(AND('Step 2 - Ornamental'!$AA$18=\"X\",AM161=\"X\"),1,0)","v":0},"X",{"$f":"IF(AND('Step 2 - Ornamental'!$AB$18=\"X\",AO161=\"X\"),1,0)","v":0},"X",{"$f":"IF(AND('Step 2 - Ornamental'!$AC$18=\"X\",AQ161=\"X\"),1,0)","v":0},null,{"$f":"IF(AND('Step 2 - Ornamental'!$AD$18=\"X\",AS161=\"X\"),1,0)","v":0},null,{"$f":"IF(AND('Step 2 - Ornamental'!$AE$18=\"X\",AU161=\"X\"),1,0)","v":0},null,{"$f":"IF(AND('Step 2 - Ornamental'!$AA$17=\"X\",AW161=\"X\"),1,0)","v":0},"X",{"$f":"IF(AND('Step 2 - Ornamental'!$AB$17=\"X\",AY161=\"X\"),1,0)","v":0},"X",{"$f":"IF(AND('Step 2 - Ornamental'!$AC$17=\"X\",BA161=\"X\"),1,0)","v":0},null,{"$f":"IF(AND('Step 2 - Ornamental'!$AA$22=\"X\",BC161=\"X\"),1,0)","v":0},null,{"$f":"IF(AND('Step 2 - Ornamental'!$AB$22=\"X\",BE161=\"X\"),1,0)","v":0},null,{"$f":"IF(AND('Step 2 - Ornamental'!$AC$22=\"X\",BG161=\"X\"),1,0)","v":0},"X",{"$f":"IF(AND('Step 2 - Ornamental'!$AD$22=\"X\",BI161=\"X\"),1,0)","v":0},"X",null,null,null,null,null,null,null,"Crimson to Dk. Red Fruit / 20'-30'"]
[null,1,"RH TY","Rhus typhina 'Laciniata'","Laceleaf Staghorn Sumac","6' O.C.","Larger sumac to 20' tall, fern-like foliage, yellow gold fall color, interesting trunking"," ","X","X",null,"X",null,0,null,{"$f":"IF(AND('Step 2 - Ornamental'!$AA$21=\"X\",Q162=\"X\"),1,0)","v":0},"X",{"$f":"IF(AND('Step 2 - Ornamental'!$AB$21=\"X\",S162=\"X\"),1,0)","v":0},"X",{"$f":"IF(AND('Step 2 - Ornamental'!$AC$21=\"X\",U162=\"X\"),1,0)","v":0},"X",{"$f":"IF(AND('Step 2 - Ornamental'!$AA$19=\"X\",W162=\"X\"),1,0)","v":0},null,{"$f":"IF(AND('Step 2 - Ornamental'!$AA$19=\"X\",Y162=\"X\"),1,0)","v":0},"X",{"$f":"IF(AND('Step 2 - Ornamental'!$AB$19=\"X\",AA162=\"X\"),1,0)","v":0},"X",{"$f":"IF(AND('Step 2 - Ornamental'!$AC$19=\"X\",AC162=\"X\"),1,0)","v":0},"X",{"$f":"IF(AND('Step 2 - Ornamental'!$AA$20=\"X\",AE162=\"X\"),1,0)","v":0},"X",{"$f":"IF(AND('Step 2 - Ornamental'!$AA$20=\"X\",AG162=\"X\"),1,0)","v":0},null,{"$f":"IF(AND('Step 2 - Ornamental'!$AB$20=\"X\",AI162=\"X\"),1,0)","v":0},null,{"$f":"IF(AND('Step 2 - Ornamental'!$AC$20=\"X\",AK162=\"X\"),1,0)","v":0},null,{"$f":"IF(AND('Step 2 - Ornamental'!$AA$18=\"X\",AM162=\"X\"),1,0)","v":0},"X",{"$f":"IF(AND('Step 2 - Ornamental'!$AB$18=\"X\",AO162=\"X\"),1,0)","v":0},"X",{"$f":"IF(AND('Step 2 - Ornamental'!$AC$18=\"X\",AQ162=\"X\"),1,0)","v":0},null,{"$f":"IF(AND('Step 2 - Ornamental'!$AD$18=\"X\",AS162=\"X\"),1,0)","v":0},null,{"$f":"IF(AND('Step 2 - Ornamental'!$AE$18=\"X\",AU162=\"X\"),1,0)","v":0},null,{"$f":"IF(AND('Step 2 - Ornamental'!$AA$17=\"X\",AW162=\"X\"),1,0)","v":0},"X",{"$f":"IF(AND('Step 2 - Ornamental'!$AB$17=\"X\",AY162=\"X\"),1,0)","v":0},"X",{"$f":"IF(AND('Step 2 - Ornamental'!$AC$17=\"X\",BA162=\"X\"),1,0)","v":0},null,{"$f":"IF(AND('Step 2 - Ornamental'!$AA$22=\"X\",BC162=\"X\"),1,0)","v":0},null,{"$f":"IF(AND('Step 2 - Ornamental'!$AB$22=\"X\",BE162=\"X\"),1,0)","v":0},null,{"$f":"IF(AND('Step 2 - Ornamental'!$AC$22=\"X\",BG162=\"X\"),1,0)","v":0},"X",{"$f":"IF(AND('Step 2 - Ornamental'!$AD$22=\"X\",BI162=\"X\"),1,0)","v":0},"X"," ",null,null,null,null,null,null,"Crimson to Dk. Red Fruit / 15'-25'"]
[null,1,"RI AL","Ribes alpinum 'Green Mound'","Green Mound Alpine Currant","3' O.C.","Good for low hedge - grows 2-3' tall, tough and hardy","X",null,null,null,"X",null,0,null,{"$f":"IF(AND('Step 2 - Ornamental'!$AA$21=\"X\",Q163=\"X\"),1,0)","v":0},"X",{"$f":"IF(AND('Step 2 - Ornamental'!$AB$21=\"X\",S163=\"X\"),1,0)","v":0},"X",{"$f":"IF(AND('Step 2 - Ornamental'!$AC$21=\"X\",U163=\"X\"),1,0)","v":0},"X",{"$f":"IF(AND('Step 2 - Ornamental'!$AA$19=\"X\",W163=\"X\"),1,0)","v":0},"X",{"$f":"IF(AND('Step 2 - Ornamental'!$AA$19=\"X\",Y163=\"X\"),1,0)","v":0},null,{"$f":"IF(AND('Step 2 - Ornamental'!$AB$19=\"X\",AA163=\"X\"),1,0)","v":0},null,{"$f":"IF(AND('Step 2 - Ornamental'!$AC$19=\"X\",AC163=\"X\"),1,0)","v":0},null,{"$f":"IF(AND('Step 2 - Ornamental'!$AA$20=\"X\",AE163=\"X\"),1,0)","v":0},"X",{"$f":"IF(AND('Step 2 - Ornamental'!$AA$20=\"X\",AG163=\"X\"),1,0)","v":0},null,{"$f":"IF(AND('Step 2 - Ornamental'!$AB$20=\"X\",AI163=\"X\"),1,0)","v":0},null,{"$f":"IF(AND('Step 2 - Ornamental'!$AC$20=\"X\",AK163=\"X\"),1,0)","v":0},null,{"$f":"IF(AND('Step 2 - Ornamental'!$AA$18=\"X\",AM163=\"X\"),1,0)","v":0},"X",{"$f":"IF(AND('Step 2 - Ornamental'!$AB$18=\"X\",AO163=\"X\"),1,0)","v":0},"X",{"$f":"IF(AND('Step 2 - Ornamental'!$AC$18=\"X\",AQ163=\"X\"),1,0)","v":0},null,{"$f":"IF(AND('Step 2 - Ornamental'!$AD$18=\"X\",AS163=\"X\"),1,0)","v":0},null,{"$f":"IF(AND('Step 2 - Ornamental'!$AE$18=\"X\",AU163=\"X\"),1,0)","v":0},null,{"$f":"IF(AND('Step 2 - Ornamental'!$AA$17=\"X\",AW163=\"X\"),1,0)","v":0},"X",{"$f":"IF(AND('Step 2 - Ornamental'!$AB$17=\"X\",AY163=\"X\"),1,0)","v":0},"X",{"$f":"IF(AND('Step 2 - Ornamental'!$AC$17=\"X\",BA163=\"X\"),1,0)","v":0},"X",{"$f":"IF(AND('Step 2 - Ornamental'!$AA$22=\"X\",BC163=\"X\"),1,0)","v":0},null,{"$f":"IF(AND('Step 2 - Ornamental'!$AB$22=\"X\",BE163=\"X\"),1,0)","v":0},null,{"$f":"IF(AND('Step 2 - Ornamental'!$AC$22=\"X\",BG163=\"X\"),1,0)","v":0},"X",{"$f":"IF(AND('Step 2 - Ornamental'!$AD$22=\"X\",BI163=\"X\"),1,0)","v":0},"X","Flowers are Not Showy"]
[null,1,"RO CA","Rosa carolina","Pasture Rose","NA","Rose for wet areas - 6'-7' tall",null,"X","X",null,null,null,0,null,{"$f":"IF(AND('Step 2 - Ornamental'!$AA$21=\"X\",Q164=\"X\"),1,0)","v":0},"X",{"$f":"IF(AND('Step 2 - Ornamental'!$AB$21=\"X\",S164=\"X\"),1,0)","v":0},"X",{"$f":"IF(AND('Step 2 - Ornamental'!$AC$21=\"X\",U164=\"X\"),1,0)","v":0},"X",{"$f":"IF(AND('Step 2 - Ornamental'!$AA$19=\"X\",W164=\"X\"),1,0)","v":0},"X",{"$f":"IF(AND('Step 2 - Ornamental'!$AA$19=\"X\",Y164=\"X\"),1,0)","v":0},null,{"$f":"IF(AND('Step 2 - Ornamental'!$AB$19=\"X\",AA164=\"X\"),1,0)","v":0},null,{"$f":"IF(AND('Step 2 - Ornamental'!$AC$19=\"X\",AC164=\"X\"),1,0)","v":0},null,{"$f":"IF(AND('Step 2 - Ornamental'!$AA$20=\"X\",AE164=\"X\"),1,0)","v":0},null,{"$f":"IF(AND('Step 2 - Ornamental'!$AA$20=\"X\",AG164=\"X\"),1,0)","v":0},"X",{"$f":"IF(AND('Step 2 - Ornamental'!$AB$20=\"X\",AI164=\"X\"),1,0)","v":0},"X",{"$f":"IF(AND('Step 2 - Ornamental'!$AC$20=\"X\",AK164=\"X\"),1,0)","v":0},null,{"$f":"IF(AND('Step 2 - Ornamental'!$AA$18=\"X\",AM164=\"X\"),1,0)","v":0},null,{"$f":"IF(AND('Step 2 - Ornamental'!$AB$18=\"X\",AO164=\"X\"),1,0)","v":0},"X",{"$f":"IF(AND('Step 2 - Ornamental'!$AC$18=\"X\",AQ164=\"X\"),1,0)","v":0},"X",{"$f":"IF(AND('Step 2 - Ornamental'!$AD$18=\"X\",AS164=\"X\"),1,0)","v":0},null,{"$f":"IF(AND('Step 2 - Ornamental'!$AE$18=\"X\",AU164=\"X\"),1,0)","v":0},null,{"$f":"IF(AND('Step 2 - Ornamental'!$AA$17=\"X\",AW164=\"X\"),1,0)","v":0},"X",{"$f":"IF(AND('Step 2 - Ornamental'!$AB$17=\"X\",AY164=\"X\"),1,0)","v":0},null,{"$f":"IF(AND('Step 2 - Ornamental'!$AC$17=\"X\",BA164=\"X\"),1,0)","v":0},null,{"$f":"IF(AND('Step 2 - Ornamental'!$AA$22=\"X\",BC164=\"X\"),1,0)","v":0},null,{"$f":"IF(AND('Step 2 - Ornamental'!$AB$22=\"X\",BE164=\"X\"),1,0)","v":0},null,{"$f":"IF(AND('Step 2 - Ornamental'!$AC$22=\"X\",BG164=\"X\"),1,0)","v":0},"X",{"$f":"IF(AND('Step 2 - Ornamental'!$AD$22=\"X\",BI164=\"X\"),1,0)","v":0},"X",null,null,null,null,"Pink / 3'-6'"]
[null,1,"RO CD","Rosa x 'Meipotal 1996' CAREFREE DELIGHT","Carefree Delight Shrub Rose","5' O.C.","Lower shrub rose, more profuse pink flowers, grows 2'-3' tall","X",null,null,null,null,null,0,null,{"$f":"IF(AND('Step 2 - Ornamental'!$AA$21=\"X\",Q165=\"X\"),1,0)","v":0},"X",{"$f":"IF(AND('Step 2 - Ornamental'!$AB$21=\"X\",S165=\"X\"),1,0)","v":0},null,{"$f":"IF(AND('Step 2 - Ornamental'!$AC$21=\"X\",U165=\"X\"),1,0)","v":0},null,{"$f":"IF(AND('Step 2 - Ornamental'!$AA$19=\"X\",W165=\"X\"),1,0)","v":0},"X",{"$f":"IF(AND('Step 2 - Ornamental'!$AA$19=\"X\",Y165=\"X\"),1,0)","v":0},null,{"$f":"IF(AND('Step 2 - Ornamental'!$AB$19=\"X\",AA165=\"X\"),1,0)","v":0},null,{"$f":"IF(AND('Step 2 - Ornamental'!$AC$19=\"X\",AC165=\"X\"),1,0)","v":0},null,{"$f":"IF(AND('Step 2 - Ornamental'!$AA$20=\"X\",AE165=\"X\"),1,0)","v":0},"X",{"$f":"IF(AND('Step 2 - Ornamental'!$AA$20=\"X\",AG165=\"X\"),1,0)","v":0},null,{"$f":"IF(AND('Step 2 - Ornamental'!$AB$20=\"X\",AI165=\"X\"),1,0)","v":0},null,{"$f":"IF(AND('Step 2 - Ornamental'!$AC$20=\"X\",AK165=\"X\"),1,0)","v":0},null,{"$f":"IF(AND('Step 2 - Ornamental'!$AA$18=\"X\",AM165=\"X\"),1,0)","v":0},null,{"$f":"IF(AND('Step 2 - Ornamental'!$AB$18=\"X\",AO165=\"X\"),1,0)","v":0},"X",{"$f":"IF(AND('Step 2 - Ornamental'!$AC$18=\"X\",AQ165=\"X\"),1,0)","v":0},null,{"$f":"IF(AND('Step 2 - Ornamental'!$AD$18=\"X\",AS165=\"X\"),1,0)","v":0},null,{"$f":"IF(AND('Step 2 - Ornamental'!$AE$18=\"X\",AU165=\"X\"),1,0)","v":0},null,{"$f":"IF(AND('Step 2 - Ornamental'!$AA$17=\"X\",AW165=\"X\"),1,0)","v":0},"X",{"$f":"IF(AND('Step 2 - Ornamental'!$AB$17=\"X\",AY165=\"X\"),1,0)","v":0},null,{"$f":"IF(AND('Step 2 - Ornamental'!$AC$17=\"X\",BA165=\"X\"),1,0)","v":0},null,{"$f":"IF(AND('Step 2 - Ornamental'!$AA$22=\"X\",BC165=\"X\"),1,0)","v":0},null,{"$f":"IF(AND('Step 2 - Ornamental'!$AB$22=\"X\",BE165=\"X\"),1,0)","v":0},null,{"$f":"IF(AND('Step 2 - Ornamental'!$AC$22=\"X\",BG165=\"X\"),1,0)","v":0},"X",{"$f":"IF(AND('Step 2 - Ornamental'!$AD$22=\"X\",BI165=\"X\"),1,0)","v":0},"X",null,null,null,null,"Pale Pink w/ yellow / 2.0'-3.0'"]
[null,1,"RO NW","Rosa 'Nearly Wild'","Nearly Wild Rose","3' O.C.","Floribunda rose, growing 2-3' tall","X",null,null,null,null,null,0,null,{"$f":"IF(AND('Step 2 - Ornamental'!$AA$21=\"X\",Q166=\"X\"),1,0)","v":0},"X",{"$f":"IF(AND('Step 2 - Ornamental'!$AB$21=\"X\",S166=\"X\"),1,0)","v":0},null,{"$f":"IF(AND('Step 2 - Ornamental'!$AC$21=\"X\",U166=\"X\"),1,0)","v":0},null,{"$f":"IF(AND('Step 2 - Ornamental'!$AA$19=\"X\",W166=\"X\"),1,0)","v":0},"X",{"$f":"IF(AND('Step 2 - Ornamental'!$AA$19=\"X\",Y166=\"X\"),1,0)","v":0},null,{"$f":"IF(AND('Step 2 - Ornamental'!$AB$19=\"X\",AA166=\"X\"),1,0)","v":0},null,{"$f":"IF(AND('Step 2 - Ornamental'!$AC$19=\"X\",AC166=\"X\"),1,0)","v":0},null,{"$f":"IF(AND('Step 2 - Ornamental'!$AA$20=\"X\",AE166=\"X\"),1,0)","v":0},"X",{"$f":"IF(AND('Step 2 - Ornamental'!$AA$20=\"X\",AG166=\"X\"),1,0)","v":0},null,{"$f":"IF(AND('Step 2 - Ornamental'!$AB$20=\"X\",AI166=\"X\"),1,0)","v":0},null,{"$f":"IF(AND('Step 2 - Ornamental'!$AC$20=\"X\",AK166=\"X\"),1,0)","v":0},null,{"$f":"IF(AND('Step 2 - Ornamental'!$AA$18=\"X\",AM166=\"X\"),1,0)","v":0},null,{"$f":"IF(AND('Step 2 - Ornamental'!$AB$18=\"X\",AO166=\"X\"),1,0)","v":0},"X",{"$f":"IF(AND('Step 2 - Ornamental'!$AC$18=\"X\",AQ166=\"X\"),1,0)","v":0},null,{"$f":"IF(AND('Step 2 - Ornamental'!$AD$18=\"X\",AS166=\"X\"),1,0)","v":0},null,{"$f":"IF(AND('Step 2 - Ornamental'!$AE$18=\"X\",AU166=\"X\"),1,0)","v":0},null,{"$f":"IF(AND('Step 2 - Ornamental'!$AA$17=\"X\",AW166=\"X\"),1,0)","v":0},"X",{"$f":"IF(AND('Step 2 - Ornamental'!$AB$17=\"X\",AY166=\"X\"),1,0)","v":0},null,{"$f":"IF(AND('Step 2 - Ornamental'!$AC$17=\"X\",BA166=\"X\"),1,0)","v":0},null,{"$f":"IF(AND('Step 2 - Ornamental'!$AA$22=\"X\",BC166=\"X\"),1,0)","v":0},null,{"$f":"IF(AND('Step 2 - Ornamental'!$AB$22=\"X\",BE166=\"X\"),1,0)","v":0},null,{"$f":"IF(AND('Step 2 - Ornamental'!$AC$22=\"X\",BG166=\"X\"),1,0)","v":0},"X",{"$f":"IF(AND('Step 2 - Ornamental'!$AD$22=\"X\",BI166=\"X\"),1,0)","v":0},"X",null,null,null,null,"Pink w/ yellow / 2.0'-3.0'"]
[null,1,"RO PA","Rosa palustris","Swamp Rose","3' O.C.","For wet sites, grows 3'-6' tall",null,"X","X",null,null,null,0,null,{"$f":"IF(AND('Step 2 - Ornamental'!$AA$21=\"X\",Q167=\"X\"),1,0)","v":0},"X",{"$f":"IF(AND('Step 2 - Ornamental'!$AB$21=\"X\",S167=\"X\"),1,0)","v":0},null,{"$f":"IF(AND('Step 2 - Ornamental'!$AC$21=\"X\",U167=\"X\"),1,0)","v":0},null,{"$f":"IF(AND('Step 2 - Ornamental'!$AA$19=\"X\",W167=\"X\"),1,0)","v":0},"X",{"$f":"IF(AND('Step 2 - Ornamental'!$AA$19=\"X\",Y167=\"X\"),1,0)","v":0},null,{"$f":"IF(AND('Step 2 - Ornamental'!$AB$19=\"X\",AA167=\"X\"),1,0)","v":0},null,{"$f":"IF(AND('Step 2 - Ornamental'!$AC$19=\"X\",AC167=\"X\"),1,0)","v":0},null,{"$f":"IF(AND('Step 2 - Ornamental'!$AA$20=\"X\",AE167=\"X\"),1,0)","v":0},null,{"$f":"IF(AND('Step 2 - Ornamental'!$AA$20=\"X\",AG167=\"X\"),1,0)","v":0},"X",{"$f":"IF(AND('Step 2 - Ornamental'!$AB$20=\"X\",AI167=\"X\"),1,0)","v":0},"X",{"$f":"IF(AND('Step 2 - Ornamental'!$AC$20=\"X\",AK167=\"X\"),1,0)","v":0},"X",{"$f":"IF(AND('Step 2 - Ornamental'!$AA$18=\"X\",AM167=\"X\"),1,0)","v":0},null,{"$f":"IF(AND('Step 2 - Ornamental'!$AB$18=\"X\",AO167=\"X\"),1,0)","v":0},"X",{"$f":"IF(AND('Step 2 - Ornamental'!$AC$18=\"X\",AQ167=\"X\"),1,0)","v":0},"X",{"$f":"IF(AND('Step 2 - Ornamental'!$AD$18=\"X\",AS167=\"X\"),1,0)","v":0},null,{"$f":"IF(AND('Step 2 - Ornamental'!$AE$18=\"X\",AU167=\"X\"),1,0)","v":0},null,{"$f":"IF(AND('Step 2 - Ornamental'!$AA$17=\"X\",AW167=\"X\"),1,0)","v":0},"X",{"$f":"IF(AND('Step 2 - Ornamental'!$AB$17=\"X\",AY167=\"X\"),1,0)","v":0},null,{"$f":"IF(AND('Step 2 - Ornamental'!$AC$17=\"X\",BA167=\"X\"),1,0)","v":0},null,{"$f":"IF(AND('Step 2 - Ornamental'!$AA$22=\"X\",BC167=\"X\"),1,0)","v":0},null,{"$f":"IF(AND('Step 2 - Ornamental'!$AB$22=\"X\",BE167=\"X\"),1,0)","v":0},null,{"$f":"IF(AND('Step 2 - Ornamental'!$AC$22=\"X\",BG167=\"X\"),1,0)","v":0},"X",{"$f":"IF(AND('Step 2 - Ornamental'!$AD$22=\"X\",BI167=\"X\"),1,0)","v":0},"X",null,null,null,null,null,"Pink / 3'-6'"]
[null,1,"SA CL","Sambucus canadensis 'Laciniata'","Laceleaf Elderberry","5' O.C.","Compact variety to 8' with deeply dissected leaves, edible fruit",null,"X","X",null,null,null,0,null,{"$f":"IF(AND('Step 2 - Ornamental'!$AA$21=\"X\",Q168=\"X\"),1,0)","v":0},"X",{"$f":"IF(AND('Step 2 - Ornamental'!$AB$21=\"X\",S168=\"X\"),1,0)","v":0},"X",{"$f":"IF(AND('Step 2 - Ornamental'!$AC$21=\"X\",U168=\"X\"),1,0)","v":0},"X",{"$f":"IF(AND('Step 2 - Ornamental'!$AA$19=\"X\",W168=\"X\"),1,0)","v":0},null,{"$f":"IF(AND('Step 2 - Ornamental'!$AA$19=\"X\",Y168=\"X\"),1,0)","v":0},"X",{"$f":"IF(AND('Step 2 - Ornamental'!$AB$19=\"X\",AA168=\"X\"),1,0)","v":0},"X",{"$f":"IF(AND('Step 2 - Ornamental'!$AC$19=\"X\",AC168=\"X\"),1,0)","v":0},null,{"$f":"IF(AND('Step 2 - Ornamental'!$AA$20=\"X\",AE168=\"X\"),1,0)","v":0},null,{"$f":"IF(AND('Step 2 - Ornamental'!$AA$20=\"X\",AG168=\"X\"),1,0)","v":0},"X",{"$f":"IF(AND('Step 2 - Ornamental'!$AB$20=\"X\",AI168=\"X\"),1,0)","v":0},"X",{"$f":"IF(AND('Step 2 - Ornamental'!$AC$20=\"X\",AK168=\"X\"),1,0)","v":0},"X",{"$f":"IF(AND('Step 2 - Ornamental'!$AA$18=\"X\",AM168=\"X\"),1,0)","v":0}," ",{"$f":"IF(AND('Step 2 - Ornamental'!$AB$18=\"X\",AO168=\"X\"),1,0)","v":0},"X",{"$f":"IF(AND('Step 2 - Ornamental'!$AC$18=\"X\",AQ168=\"X\"),1,0)","v":0},"X",{"$f":"IF(AND('Step 2 - Ornamental'!$AD$18=\"X\",AS168=\"X\"),1,0)","v":0},null,{"$f":"IF(AND('Step 2 - Ornamental'!$AE$18=\"X\",AU168=\"X\"),1,0)","v":0},null,{"$f":"IF(AND('Step 2 - Ornamental'!$AA$17=\"X\",AW168=\"X\"),1,0)","v":0},"X",{"$f":"IF(AND('Step 2 - Ornamental'!$AB$17=\"X\",AY168=\"X\"),1,0)","v":0},"X",{"$f":"IF(AND('Step 2 - Ornamental'!$AC$17=\"X\",BA168=\"X\"),1,0)","v":0},null,{"$f":"IF(AND('Step 2 - Ornamental'!$AA$22=\"X\",BC168=\"X\"),1,0)","v":0},null,{"$f":"IF(AND('Step 2 - Ornamental'!$AB$22=\"X\",BE168=\"X\"),1,0)","v":0},null,{"$f":"IF(AND('Step 2 - Ornamental'!$AC$22=\"X\",BG168=\"X\"),1,0)","v":0},"X",{"$f":"IF(AND('Step 2 - Ornamental'!$AD$22=\"X\",BI168=\"X\"),1,0)","v":0},"X",null,null,null,null,null,"White / 5'-8'"]
[null,1,"ST IN","Stephanandra incisa 'Crispa'","Cutleaf Stephanandra","3' O.C.","A groundcover shrub to 1'-2' tall x 4' wide","X",null,null,null,null,null,0,null,{"$f":"IF(AND('Step 2 - Ornamental'!$AA$21=\"X\",Q169=\"X\"),1,0)","v":0},"X",{"$f":"IF(AND('Step 2 - Ornamental'!$AB$21=\"X\",S169=\"X\"),1,0)","v":0},"X",{"$f":"IF(AND('Step 2 - Ornamental'!$AC$21=\"X\",U169=\"X\"),1,0)","v":0},null,{"$f":"IF(AND('Step 2 - Ornamental'!$AA$19=\"X\",W169=\"X\"),1,0)","v":0},"X",{"$f":"IF(AND('Step 2 - Ornamental'!$AA$19=\"X\",Y169=\"X\"),1,0)","v":0},null,{"$f":"IF(AND('Step 2 - Ornamental'!$AB$19=\"X\",AA169=\"X\"),1,0)","v":0},null,{"$f":"IF(AND('Step 2 - Ornamental'!$AC$19=\"X\",AC169=\"X\"),1,0)","v":0},null,{"$f":"IF(AND('Step 2 - Ornamental'!$AA$20=\"X\",AE169=\"X\"),1,0)","v":0},"X",{"$f":"IF(AND('Step 2 - Ornamental'!$AA$20=\"X\",AG169=\"X\"),1,0)","v":0},null,{"$f":"IF(AND('Step 2 - Ornamental'!$AB$20=\"X\",AI169=\"X\"),1,0)","v":0},null,{"$f":"IF(AND('Step 2 - Ornamental'!$AC$20=\"X\",AK169=\"X\"),1,0)","v":0},null,{"$f":"IF(AND('Step 2 - Ornamental'!$AA$18=\"X\",AM169=\"X\"),1,0)","v":0}," ",{"$f":"IF(AND('Step 2 - Ornamental'!$AB$18=\"X\",AO169=\"X\"),1,0)","v":0},"X",{"$f":"IF(AND('Step 2 - Ornamental'!$AC$18=\"X\",AQ169=\"X\"),1,0)","v":0},null,{"$f":"IF(AND('Step 2 - Ornamental'!$AD$18=\"X\",AS169=\"X\"),1,0)","v":0},null,{"$f":"IF(AND('Step 2 - Ornamental'!$AE$18=\"X\",AU169=\"X\"),1,0)","v":0},null,{"$f":"IF(AND('Step 2 - Ornamental'!$AA$17=\"X\",AW169=\"X\"),1,0)","v":0},"X",{"$f":"IF(AND('Step 2 - Ornamental'!$AB$17=\"X\",AY169=\"X\"),1,0)","v":0},"X",{"$f":"IF(AND('Step 2 - Ornamental'!$AC$17=\"X\",BA169=\"X\"),1,0)","v":0},null,{"$f":"IF(AND('Step 2 - Ornamental'!$AA$22=\"X\",BC169=\"X\"),1,0)","v":0},null,{"$f":"IF(AND('Step 2 - Ornamental'!$AB$22=\"X\",BE169=\"X\"),1,0)","v":0},null,{"$f":"IF(AND('Step 2 - Ornamental'!$AC$22=\"X\",BG169=\"X\"),1,0)","v":0},"X",{"$f":"IF(AND('Step 2 - Ornamental'!$AD$22=\"X\",BI169=\"X\"),1,0)","v":0},"X",null,null,null,null,"Yellowish white / 1.0'-3.0'"]
[null,1,"SY PA","Syringa pubescens subsp. patula 'Miss Kim'","Miss Kim Lilac","6' O.C.","Compact cultivar to 6'-7' with good fall burgundy color, smaller profuse blooms","X",null,null,"X",null,null,0,null,{"$f":"IF(AND('Step 2 - Ornamental'!$AA$21=\"X\",Q170=\"X\"),1,0)","v":0},"X",{"$f":"IF(AND('Step 2 - Ornamental'!$AB$21=\"X\",S170=\"X\"),1,0)","v":0},"X",{"$f":"IF(AND('Step 2 - Ornamental'!$AC$21=\"X\",U170=\"X\"),1,0)","v":0},"X",{"$f":"IF(AND('Step 2 - Ornamental'!$AA$19=\"X\",W170=\"X\"),1,0)","v":0},"X",{"$f":"IF(AND('Step 2 - Ornamental'!$AA$19=\"X\",Y170=\"X\"),1,0)","v":0},null,{"$f":"IF(AND('Step 2 - Ornamental'!$AB$19=\"X\",AA170=\"X\"),1,0)","v":0},null,{"$f":"IF(AND('Step 2 - Ornamental'!$AC$19=\"X\",AC170=\"X\"),1,0)","v":0},null,{"$f":"IF(AND('Step 2 - Ornamental'!$AA$20=\"X\",AE170=\"X\"),1,0)","v":0},"X",{"$f":"IF(AND('Step 2 - Ornamental'!$AA$20=\"X\",AG170=\"X\"),1,0)","v":0},null,{"$f":"IF(AND('Step 2 - Ornamental'!$AB$20=\"X\",AI170=\"X\"),1,0)","v":0},null,{"$f":"IF(AND('Step 2 - Ornamental'!$AC$20=\"X\",AK170=\"X\"),1,0)","v":0},null,{"$f":"IF(AND('Step 2 - Ornamental'!$AA$18=\"X\",AM170=\"X\"),1,0)","v":0},null,{"$f":"IF(AND('Step 2 - Ornamental'!$AB$18=\"X\",AO170=\"X\"),1,0)","v":0},"X",{"$f":"IF(AND('Step 2 - Ornamental'!$AC$18=\"X\",AQ170=\"X\"),1,0)","v":0},null,{"$f":"IF(AND('Step 2 - Ornamental'!$AD$18=\"X\",AS170=\"X\"),1,0)","v":0},null,{"$f":"IF(AND('Step 2 - Ornamental'!$AE$18=\"X\",AU170=\"X\"),1,0)","v":0},null,{"$f":"IF(AND('Step 2 - Ornamental'!$AA$17=\"X\",AW170=\"X\"),1,0)","v":0},"X",{"$f":"IF(AND('Step 2 - Ornamental'!$AB$17=\"X\",AY170=\"X\"),1,0)","v":0},"X",{"$f":"IF(AND('Step 2 - Ornamental'!$AC$17=\"X\",BA170=\"X\"),1,0)","v":0},null,{"$f":"IF(AND('Step 2 - Ornamental'!$AA$22=\"X\",BC170=\"X\"),1,0)","v":0},null,{"$f":"IF(AND('Step 2 - Ornamental'!$AB$22=\"X\",BE170=\"X\"),1,0)","v":0},null,{"$f":"IF(AND('Step 2 - Ornamental'!$AC$22=\"X\",BG170=\"X\"),1,0)","v":0},"X",{"$f":"IF(AND('Step 2 - Ornamental'!$AD$22=\"X\",BI170=\"X\"),1,0)","v":0},"X",null,null,null,null,"Lilac / 4'-9'"]
[null,1,"VI AC","Vibernum acerifolium","Maple-leaf Viburnum","4' O.C.","Good native shrub for dry shady conditions, nice fall color",null,"X","X",null,null,null,1,"X",{"$f":"IF(AND('Step 2 - Ornamental'!$AA$21=\"X\",Q171=\"X\"),1,0)","v":0},null,{"$f":"IF(AND('Step 2 - Ornamental'!$AB$21=\"X\",S171=\"X\"),1,0)","v":0},null,{"$f":"IF(AND('Step 2 - Ornamental'!$AC$21=\"X\",U171=\"X\"),1,0)","v":0},null,{"$f":"IF(AND('Step 2 - Ornamental'!$AA$19=\"X\",W171=\"X\"),1,0)","v":0},"X",{"$f":"IF(AND('Step 2 - Ornamental'!$AA$19=\"X\",Y171=\"X\"),1,0)","v":0},null,{"$f":"IF(AND('Step 2 - Ornamental'!$AB$19=\"X\",AA171=\"X\"),1,0)","v":0},null,{"$f":"IF(AND('Step 2 - Ornamental'!$AC$19=\"X\",AC171=\"X\"),1,0)","v":0},null,{"$f":"IF(AND('Step 2 - Ornamental'!$AA$20=\"X\",AE171=\"X\"),1,0)","v":0},"X",{"$f":"IF(AND('Step 2 - Ornamental'!$AA$20=\"X\",AG171=\"X\"),1,0)","v":0},null,{"$f":"IF(AND('Step 2 - Ornamental'!$AB$20=\"X\",AI171=\"X\"),1,0)","v":0},null,{"$f":"IF(AND('Step 2 - Ornamental'!$AC$20=\"X\",AK171=\"X\"),1,0)","v":0},null,{"$f":"IF(AND('Step 2 - Ornamental'!$AA$18=\"X\",AM171=\"X\"),1,0)","v":0},"X",{"$f":"IF(AND('Step 2 - Ornamental'!$AB$18=\"X\",AO171=\"X\"),1,0)","v":0},"X",{"$f":"IF(AND('Step 2 - Ornamental'!$AC$18=\"X\",AQ171=\"X\"),1,0)","v":0},null,{"$f":"IF(AND('Step 2 - Ornamental'!$AD$18=\"X\",AS171=\"X\"),1,0)","v":0},null,{"$f":"IF(AND('Step 2 - Ornamental'!$AE$18=\"X\",AU171=\"X\"),1,0)","v":0},null,{"$f":"IF(AND('Step 2 - Ornamental'!$AA$17=\"X\",AW171=\"X\"),1,0)","v":0},null,{"$f":"IF(AND('Step 2 - Ornamental'!$AB$17=\"X\",AY171=\"X\"),1,0)","v":0},"X",{"$f":"IF(AND('Step 2 - Ornamental'!$AC$17=\"X\",BA171=\"X\"),1,0)","v":0},"X",{"$f":"IF(AND('Step 2 - Ornamental'!$AA$22=\"X\",BC171=\"X\"),1,0)","v":0},null,{"$f":"IF(AND('Step 2 - Ornamental'!$AB$22=\"X\",BE171=\"X\"),1,0)","v":0},null,{"$f":"IF(AND('Step 2 - Ornamental'!$AC$22=\"X\",BG171=\"X\"),1,0)","v":0},"X",{"$f":"IF(AND('Step 2 - Ornamental'!$AD$22=\"X\",BI171=\"X\"),1,0)","v":0},"X",null,null,null,null,null,"Yellowish white/ 4'-6'"]
[null,1,"VI DE","Viburnum dentatum 'Ralph Senior' AUTUMN JAZZ","Autumn Jazz Arrowwood","5' O.C.","Upright, vase-shaped shrub to 8'-10' tall, durable shrub with dark, glossy, green leaves"," ","X",null,null,null,null,0,null,{"$f":"IF(AND('Step 2 - Ornamental'!$AA$21=\"X\",Q172=\"X\"),1,0)","v":0},"X",{"$f":"IF(AND('Step 2 - Ornamental'!$AB$21=\"X\",S172=\"X\"),1,0)","v":0},"X",{"$f":"IF(AND('Step 2 - Ornamental'!$AC$21=\"X\",U172=\"X\"),1,0)","v":0},null,{"$f":"IF(AND('Step 2 - Ornamental'!$AA$19=\"X\",W172=\"X\"),1,0)","v":0},null,{"$f":"IF(AND('Step 2 - Ornamental'!$AA$19=\"X\",Y172=\"X\"),1,0)","v":0},"X",{"$f":"IF(AND('Step 2 - Ornamental'!$AB$19=\"X\",AA172=\"X\"),1,0)","v":0},"X",{"$f":"IF(AND('Step 2 - Ornamental'!$AC$19=\"X\",AC172=\"X\"),1,0)","v":0},null,{"$f":"IF(AND('Step 2 - Ornamental'!$AA$20=\"X\",AE172=\"X\"),1,0)","v":0},"X",{"$f":"IF(AND('Step 2 - Ornamental'!$AA$20=\"X\",AG172=\"X\"),1,0)","v":0},null,{"$f":"IF(AND('Step 2 - Ornamental'!$AB$20=\"X\",AI172=\"X\"),1,0)","v":0},null,{"$f":"IF(AND('Step 2 - Ornamental'!$AC$20=\"X\",AK172=\"X\"),1,0)","v":0},null,{"$f":"IF(AND('Step 2 - Ornamental'!$AA$18=\"X\",AM172=\"X\"),1,0)","v":0},"X",{"$f":"IF(AND('Step 2 - Ornamental'!$AB$18=\"X\",AO172=\"X\"),1,0)","v":0},"X",{"$f":"IF(AND('Step 2 - Ornamental'!$AC$18=\"X\",AQ172=\"X\"),1,0)","v":0},null,{"$f":"IF(AND('Step 2 - Ornamental'!$AD$18=\"X\",AS172=\"X\"),1,0)","v":0},null,{"$f":"IF(AND('Step 2 - Ornamental'!$AE$18=\"X\",AU172=\"X\"),1,0)","v":0},null,{"$f":"IF(AND('Step 2 - Ornamental'!$AA$17=\"X\",AW172=\"X\"),1,0)","v":0},"X",{"$f":"IF(AND('Step 2 - Ornamental'!$AB$17=\"X\",AY172=\"X\"),1,0)","v":0},"X",{"$f":"IF(AND('Step 2 - Ornamental'!$AC$17=\"X\",BA172=\"X\"),1,0)","v":0},null,{"$f":"IF(AND('Step 2 - Ornamental'!$AA$22=\"X\",BC172=\"X\"),1,0)","v":0},null,{"$f":"IF(AND('Step 2 - Ornamental'!$AB$22=\"X\",BE172=\"X\"),1,0)","v":0},null,{"$f":"IF(AND('Step 2 - Ornamental'!$AC$22=\"X\",BG172=\"X\"),1,0)","v":0},null,{"$f":"IF(AND('Step 2 - Ornamental'!$AD$22=\"X\",BI172=\"X\"),1,0)","v":0},"X",null,null,null,null,"White / 6'-10'",null,null,null,"Bluish Black Fruit / 6'-10'"]
[null,1,"VI LA","Viburnum lantana 'Mohican'","Mohican Wayfaringtree Viburnum","6' O.C.","Better viburnum for alkaline soils, compact cultivar to 8' tall with orange-red fruit","X",null,null,null,null,null,0,null,{"$f":"IF(AND('Step 2 - Ornamental'!$AA$21=\"X\",Q173=\"X\"),1,0)","v":0},"X",{"$f":"IF(AND('Step 2 - Ornamental'!$AB$21=\"X\",S173=\"X\"),1,0)","v":0},"X",{"$f":"IF(AND('Step 2 - Ornamental'!$AC$21=\"X\",U173=\"X\"),1,0)","v":0},null,{"$f":"IF(AND('Step 2 - Ornamental'!$AA$19=\"X\",W173=\"X\"),1,0)","v":0},"X",{"$f":"IF(AND('Step 2 - Ornamental'!$AA$19=\"X\",Y173=\"X\"),1,0)","v":0},null,{"$f":"IF(AND('Step 2 - Ornamental'!$AB$19=\"X\",AA173=\"X\"),1,0)","v":0},null,{"$f":"IF(AND('Step 2 - Ornamental'!$AC$19=\"X\",AC173=\"X\"),1,0)","v":0},null,{"$f":"IF(AND('Step 2 - Ornamental'!$AA$20=\"X\",AE173=\"X\"),1,0)","v":0},"X",{"$f":"IF(AND('Step 2 - Ornamental'!$AA$20=\"X\",AG173=\"X\"),1,0)","v":0},null,{"$f":"IF(AND('Step 2 - Ornamental'!$AB$20=\"X\",AI173=\"X\"),1,0)","v":0},null,{"$f":"IF(AND('Step 2 - Ornamental'!$AC$20=\"X\",AK173=\"X\"),1,0)","v":0},null,{"$f":"IF(AND('Step 2 - Ornamental'!$AA$18=\"X\",AM173=\"X\"),1,0)","v":0},"X",{"$f":"IF(AND('Step 2 - Ornamental'!$AB$18=\"X\",AO173=\"X\"),1,0)","v":0},"X",{"$f":"IF(AND('Step 2 - Ornamental'!$AC$18=\"X\",AQ173=\"X\"),1,0)","v":0},null,{"$f":"IF(AND('Step 2 - Ornamental'!$AD$18=\"X\",AS173=\"X\"),1,0)","v":0},null,{"$f":"IF(AND('Step 2 - Ornamental'!$AE$18=\"X\",AU173=\"X\"),1,0)","v":0},null,{"$f":"IF(AND('Step 2 - Ornamental'!$AA$17=\"X\",AW173=\"X\"),1,0)","v":0},"X",{"$f":"IF(AND('Step 2 - Ornamental'!$AB$17=\"X\",AY173=\"X\"),1,0)","v":0},"X",{"$f":"IF(AND('Step 2 - Ornamental'!$AC$17=\"X\",BA173=\"X\"),1,0)","v":0},null,{"$f":"IF(AND('Step 2 - Ornamental'!$AA$22=\"X\",BC173=\"X\"),1,0)","v":0},null,{"$f":"IF(AND('Step 2 - Ornamental'!$AB$22=\"X\",BE173=\"X\"),1,0)","v":0},null,{"$f":"IF(AND('Step 2 - Ornamental'!$AC$22=\"X\",BG173=\"X\"),1,0)","v":0},null,{"$f":"IF(AND('Step 2 - Ornamental'!$AD$22=\"X\",BI173=\"X\"),1,0)","v":0},"X",null,null,null,null,"Cream/10'-15'",null,"Orange to Red to Black Fruit/ 10'-15'"]
[null,1,"VI JU","Viburnum x juddii","Judd Viburnum","5' O.C.","Fragrant hybrid viburnum, hybrid of V. carlesii, 6'-8' high and wide","X",null,null,null,null,null,0,null,{"$f":"IF(AND('Step 2 - Ornamental'!$AA$21=\"X\",Q174=\"X\"),1,0)","v":0},"X",{"$f":"IF(AND('Step 2 - Ornamental'!$AB$21=\"X\",S174=\"X\"),1,0)","v":0},"X",{"$f":"IF(AND('Step 2 - Ornamental'!$AC$21=\"X\",U174=\"X\"),1,0)","v":0},null,{"$f":"IF(AND('Step 2 - Ornamental'!$AA$19=\"X\",W174=\"X\"),1,0)","v":0},"X",{"$f":"IF(AND('Step 2 - Ornamental'!$AA$19=\"X\",Y174=\"X\"),1,0)","v":0},null,{"$f":"IF(AND('Step 2 - Ornamental'!$AB$19=\"X\",AA174=\"X\"),1,0)","v":0},null,{"$f":"IF(AND('Step 2 - Ornamental'!$AC$19=\"X\",AC174=\"X\"),1,0)","v":0},null,{"$f":"IF(AND('Step 2 - Ornamental'!$AA$20=\"X\",AE174=\"X\"),1,0)","v":0},"X",{"$f":"IF(AND('Step 2 - Ornamental'!$AA$20=\"X\",AG174=\"X\"),1,0)","v":0},null,{"$f":"IF(AND('Step 2 - Ornamental'!$AB$20=\"X\",AI174=\"X\"),1,0)","v":0},null,{"$f":"IF(AND('Step 2 - Ornamental'!$AC$20=\"X\",AK174=\"X\"),1,0)","v":0},null,{"$f":"IF(AND('Step 2 - Ornamental'!$AA$18=\"X\",AM174=\"X\"),1,0)","v":0},"X",{"$f":"IF(AND('Step 2 - Ornamental'!$AB$18=\"X\",AO174=\"X\"),1,0)","v":0},"X",{"$f":"IF(AND('Step 2 - Ornamental'!$AC$18=\"X\",AQ174=\"X\"),1,0)","v":0},null,{"$f":"IF(AND('Step 2 - Ornamental'!$AD$18=\"X\",AS174=\"X\"),1,0)","v":0},null,{"$f":"IF(AND('Step 2 - Ornamental'!$AE$18=\"X\",AU174=\"X\"),1,0)","v":0},null,{"$f":"IF(AND('Step 2 - Ornamental'!$AA$17=\"X\",AW174=\"X\"),1,0)","v":0},"X",{"$f":"IF(AND('Step 2 - Ornamental'!$AB$17=\"X\",AY174=\"X\"),1,0)","v":0},"X",{"$f":"IF(AND('Step 2 - Ornamental'!$AC$17=\"X\",BA174=\"X\"),1,0)","v":0},null,{"$f":"IF(AND('Step 2 - Ornamental'!$AA$22=\"X\",BC174=\"X\"),1,0)","v":0},null,{"$f":"IF(AND('Step 2 - Ornamental'!$AB$22=\"X\",BE174=\"X\"),1,0)","v":0},null,{"$f":"IF(AND('Step 2 - Ornamental'!$AC$22=\"X\",BG174=\"X\"),1,0)","v":0},"X",{"$f":"IF(AND('Step 2 - Ornamental'!$AD$22=\"X\",BI174=\"X\"),1,0)","v":0},"X",null,null,null,"White-pink / 6'-8'"]
[null,1,"VI PL","Viburnum plicatum var. tomentosum 'Mariesii'","Mariesii Doublefile Viburnum","NA","Specimen quality viburnum with horizontal branching with showy flower display","X",null,null,null,null,null,0,null,{"$f":"IF(AND('Step 2 - Ornamental'!$AA$21=\"X\",Q175=\"X\"),1,0)","v":0},"X",{"$f":"IF(AND('Step 2 - Ornamental'!$AB$21=\"X\",S175=\"X\"),1,0)","v":0},"X",{"$f":"IF(AND('Step 2 - Ornamental'!$AC$21=\"X\",U175=\"X\"),1,0)","v":0},null,{"$f":"IF(AND('Step 2 - Ornamental'!$AA$19=\"X\",W175=\"X\"),1,0)","v":0},"X",{"$f":"IF(AND('Step 2 - Ornamental'!$AA$19=\"X\",Y175=\"X\"),1,0)","v":0},null,{"$f":"IF(AND('Step 2 - Ornamental'!$AB$19=\"X\",AA175=\"X\"),1,0)","v":0},null,{"$f":"IF(AND('Step 2 - Ornamental'!$AC$19=\"X\",AC175=\"X\"),1,0)","v":0},null,{"$f":"IF(AND('Step 2 - Ornamental'!$AA$20=\"X\",AE175=\"X\"),1,0)","v":0},"X",{"$f":"IF(AND('Step 2 - Ornamental'!$AA$20=\"X\",AG175=\"X\"),1,0)","v":0},null,{"$f":"IF(AND('Step 2 - Ornamental'!$AB$20=\"X\",AI175=\"X\"),1,0)","v":0},null,{"$f":"IF(AND('Step 2 - Ornamental'!$AC$20=\"X\",AK175=\"X\"),1,0)","v":0},null,{"$f":"IF(AND('Step 2 - Ornamental'!$AA$18=\"X\",AM175=\"X\"),1,0)","v":0},null,{"$f":"IF(AND('Step 2 - Ornamental'!$AB$18=\"X\",AO175=\"X\"),1,0)","v":0},"X",{"$f":"IF(AND('Step 2 - Ornamental'!$AC$18=\"X\",AQ175=\"X\"),1,0)","v":0},null,{"$f":"IF(AND('Step 2 - Ornamental'!$AD$18=\"X\",AS175=\"X\"),1,0)","v":0},null,{"$f":"IF(AND('Step 2 - Ornamental'!$AE$18=\"X\",AU175=\"X\"),1,0)","v":0},null,{"$f":"IF(AND('Step 2 - Ornamental'!$AA$17=\"X\",AW175=\"X\"),1,0)","v":0},"X",{"$f":"IF(AND('Step 2 - Ornamental'!$AB$17=\"X\",AY175=\"X\"),1,0)","v":0},null,{"$f":"IF(AND('Step 2 - Ornamental'!$AC$17=\"X\",BA175=\"X\"),1,0)","v":0},null,{"$f":"IF(AND('Step 2 - Ornamental'!$AA$22=\"X\",BC175=\"X\"),1,0)","v":0},null,{"$f":"IF(AND('Step 2 - Ornamental'!$AB$22=\"X\",BE175=\"X\"),1,0)","v":0},null,{"$f":"IF(AND('Step 2 - Ornamental'!$AC$22=\"X\",BG175=\"X\"),1,0)","v":0},null,{"$f":"IF(AND('Step 2 - Ornamental'!$AD$22=\"X\",BI175=\"X\"),1,0)","v":0},"X",null,null,null,null,"Cream/8'-10'",null,"Red to Black fruit / 8'-10'"]
[null,1,"VI XR","Viburnum x rhytidophylloides 'Allegheny'","Allegheny Lantanaphyllum Viburnum","6' O.C.","A viburnum for screening with dark, leathery leaves","X",null,null,null,null,null,0,null,{"$f":"IF(AND('Step 2 - Ornamental'!$AA$21=\"X\",Q176=\"X\"),1,0)","v":0},"X",{"$f":"IF(AND('Step 2 - Ornamental'!$AB$21=\"X\",S176=\"X\"),1,0)","v":0},"X",{"$f":"IF(AND('Step 2 - Ornamental'!$AC$21=\"X\",U176=\"X\"),1,0)","v":0},null,{"$f":"IF(AND('Step 2 - Ornamental'!$AA$19=\"X\",W176=\"X\"),1,0)","v":0},"X",{"$f":"IF(AND('Step 2 - Ornamental'!$AA$19=\"X\",Y176=\"X\"),1,0)","v":0},null,{"$f":"IF(AND('Step 2 - Ornamental'!$AB$19=\"X\",AA176=\"X\"),1,0)","v":0},null,{"$f":"IF(AND('Step 2 - Ornamental'!$AC$19=\"X\",AC176=\"X\"),1,0)","v":0},null,{"$f":"IF(AND('Step 2 - Ornamental'!$AA$20=\"X\",AE176=\"X\"),1,0)","v":0},"X",{"$f":"IF(AND('Step 2 - Ornamental'!$AA$20=\"X\",AG176=\"X\"),1,0)","v":0},null,{"$f":"IF(AND('Step 2 - Ornamental'!$AB$20=\"X\",AI176=\"X\"),1,0)","v":0},null,{"$f":"IF(AND('Step 2 - Ornamental'!$AC$20=\"X\",AK176=\"X\"),1,0)","v":0},null,{"$f":"IF(AND('Step 2 - Ornamental'!$AA$18=\"X\",AM176=\"X\"),1,0)","v":0},null,{"$f":"IF(AND('Step 2 - Ornamental'!$AB$18=\"X\",AO176=\"X\"),1,0)","v":0},"X",{"$f":"IF(AND('Step 2 - Ornamental'!$AC$18=\"X\",AQ176=\"X\"),1,0)","v":0},null,{"$f":"IF(AND('Step 2 - Ornamental'!$AD$18=\"X\",AS176=\"X\"),1,0)","v":0},null,{"$f":"IF(AND('Step 2 - Ornamental'!$AE$18=\"X\",AU176=\"X\"),1,0)","v":0},null,{"$f":"IF(AND('Step 2 - Ornamental'!$AA$17=\"X\",AW176=\"X\"),1,0)","v":0},"X",{"$f":"IF(AND('Step 2 - Ornamental'!$AB$17=\"X\",AY176=\"X\"),1,0)","v":0},"X",{"$f":"IF(AND('Step 2 - Ornamental'!$AC$17=\"X\",BA176=\"X\"),1,0)","v":0},null,{"$f":"IF(AND('Step 2 - Ornamental'!$AA$22=\"X\",BC176=\"X\"),1,0)","v":0},null,{"$f":"IF(AND('Step 2 - Ornamental'!$AB$22=\"X\",BE176=\"X\"),1,0)","v":0},null,{"$f":"IF(AND('Step 2 - Ornamental'!$AC$22=\"X\",BG176=\"X\"),1,0)","v":0},null,{"$f":"IF(AND('Step 2 - Ornamental'!$AD$22=\"X\",BI176=\"X\"),1,0)","v":0},"X",null,null,null,null,"Cream/8'-10'",null,null,"Red to Black fruit  / 8'-10'"]
[null,1,"VI TR","Viburnum trilobum 'Compactum'","Compact American Cranberry Viburnum","4' O.C.","Not the invasive European species (V.opulus),  compact variety useful for massing "," ","X","X",null,null,null,0,null,{"$f":"IF(AND('Step 2 - Ornamental'!$AA$21=\"X\",Q177=\"X\"),1,0)","v":0},"X",{"$f":"IF(AND('Step 2 - Ornamental'!$AB$21=\"X\",S177=\"X\"),1,0)","v":0},"X",{"$f":"IF(AND('Step 2 - Ornamental'!$AC$21=\"X\",U177=\"X\"),1,0)","v":0},"X",{"$f":"IF(AND('Step 2 - Ornamental'!$AA$19=\"X\",W177=\"X\"),1,0)","v":0},null,{"$f":"IF(AND('Step 2 - Ornamental'!$AA$19=\"X\",Y177=\"X\"),1,0)","v":0},"X",{"$f":"IF(AND('Step 2 - Ornamental'!$AB$19=\"X\",AA177=\"X\"),1,0)","v":0},"X",{"$f":"IF(AND('Step 2 - Ornamental'!$AC$19=\"X\",AC177=\"X\"),1,0)","v":0},null,{"$f":"IF(AND('Step 2 - Ornamental'!$AA$20=\"X\",AE177=\"X\"),1,0)","v":0},null,{"$f":"IF(AND('Step 2 - Ornamental'!$AA$20=\"X\",AG177=\"X\"),1,0)","v":0},"X",{"$f":"IF(AND('Step 2 - Ornamental'!$AB$20=\"X\",AI177=\"X\"),1,0)","v":0},"X",{"$f":"IF(AND('Step 2 - Ornamental'!$AC$20=\"X\",AK177=\"X\"),1,0)","v":0},null,{"$f":"IF(AND('Step 2 - Ornamental'!$AA$18=\"X\",AM177=\"X\"),1,0)","v":0},null,{"$f":"IF(AND('Step 2 - Ornamental'!$AB$18=\"X\",AO177=\"X\"),1,0)","v":0},"X",{"$f":"IF(AND('Step 2 - Ornamental'!$AC$18=\"X\",AQ177=\"X\"),1,0)","v":0}," ",{"$f":"IF(AND('Step 2 - Ornamental'!$AD$18=\"X\",AS177=\"X\"),1,0)","v":0},null,{"$f":"IF(AND('Step 2 - Ornamental'!$AE$18=\"X\",AU177=\"X\"),1,0)","v":0},null,{"$f":"IF(AND('Step 2 - Ornamental'!$AA$17=\"X\",AW177=\"X\"),1,0)","v":0},"X",{"$f":"IF(AND('Step 2 - Ornamental'!$AB$17=\"X\",AY177=\"X\"),1,0)","v":0},"X",{"$f":"IF(AND('Step 2 - Ornamental'!$AC$17=\"X\",BA177=\"X\"),1,0)","v":0},null,{"$f":"IF(AND('Step 2 - Ornamental'!$AA$22=\"X\",BC177=\"X\"),1,0)","v":0},null,{"$f":"IF(AND('Step 2 - Ornamental'!$AB$22=\"X\",BE177=\"X\"),1,0)","v":0},null,{"$f":"IF(AND('Step 2 - Ornamental'!$AC$22=\"X\",BG177=\"X\"),1,0)","v":0},"X",{"$f":"IF(AND('Step 2 - Ornamental'!$AD$22=\"X\",BI177=\"X\"),1,0)","v":0},"X",null,null,null,null,"White/4'-6'",null,null,null,"Bright Red Fruit / 4.0'-6.0'"]
[null,null,null,null,null,null,null," "]
["Evergreen Shrubs",2]
[null,{"$f":"SUM((N180+P180+R180+T180)*(V180+X180+Z180+AB180)*(AD180+AF180+AH180+AJ180)*(AL180+AN180+AP180+AR180+AT180)*(AV180+AX180+AZ180)*(BB180+BD180+BF180+BH180))+1","v":1},"JU SA","Juniperus sabina 'Broadmoor'","Broadmoor Savin Juniper","4' O.C.","Ht (2'-3')xW(6'-10'), avoid wet soils, tolerant of most else, good low juniper that retains green color through winter","X",null,null,"X",null,null,{"$f":"IF(O180=\"X\",1,0)","v":0},null,{"$f":"IF(AND('Step 2 - Ornamental'!$AA$21=\"X\",Q180=\"X\"),1,0)","v":0},"X",{"$f":"IF(AND('Step 2 - Ornamental'!$AB$21=\"X\",S180=\"X\"),1,0)","v":0},"X",{"$f":"IF(AND('Step 2 - Ornamental'!$AC$21=\"X\",U180=\"X\"),1,0)","v":0},"X",{"$f":"IF(AND('Step 2 - Ornamental'!$AA$19=\"X\",W180=\"X\"),1,0)","v":0},null,{"$f":"IF(AND('Step 2 - Ornamental'!$AA$19=\"X\",Y180=\"X\"),1,0)","v":0},"X",{"$f":"IF(AND('Step 2 - Ornamental'!$AB$19=\"X\",AA180=\"X\"),1,0)","v":0},"X",{"$f":"IF(AND('Step 2 - Ornamental'!$AC$19=\"X\",AC180=\"X\"),1,0)","v":0},"X",{"$f":"IF(AND('Step 2 - Ornamental'!$AA$20=\"X\",AE180=\"X\"),1,0)","v":0},"X",{"$f":"IF(AND('Step 2 - Ornamental'!$AA$20=\"X\",AG180=\"X\"),1,0)","v":0},null,{"$f":"IF(AND('Step 2 - Ornamental'!$AB$20=\"X\",AI180=\"X\"),1,0)","v":0},null,{"$f":"IF(AND('Step 2 - Ornamental'!$AC$20=\"X\",AK180=\"X\"),1,0)","v":0},null,{"$f":"IF(AND('Step 2 - Ornamental'!$AA$18=\"X\",AM180=\"X\"),1,0)","v":0},"X",{"$f":"IF(AND('Step 2 - Ornamental'!$AB$18=\"X\",AO180=\"X\"),1,0)","v":0},"X",{"$f":"IF(AND('Step 2 - Ornamental'!$AC$18=\"X\",AQ180=\"X\"),1,0)","v":0},null,{"$f":"IF(AND('Step 2 - Ornamental'!$AD$18=\"X\",AS180=\"X\"),1,0)","v":0},null,{"$f":"IF(AND('Step 2 - Ornamental'!$AE$18=\"X\",AU180=\"X\"),1,0)","v":0},null,{"$f":"IF(AND('Step 2 - Ornamental'!$AA$17=\"X\",AW180=\"X\"),1,0)","v":0},"X",{"$f":"IF(AND('Step 2 - Ornamental'!$AB$17=\"X\",AY180=\"X\"),1,0)","v":0},null,{"$f":"IF(AND('Step 2 - Ornamental'!$AC$17=\"X\",BA180=\"X\"),1,0)","v":0},null,{"$f":"IF(AND('Step 2 - Ornamental'!$AA$22=\"X\",BC180=\"X\"),1,0)","v":0},null,{"$f":"IF(AND('Step 2 - Ornamental'!$AB$22=\"X\",BE180=\"X\"),1,0)","v":0},"X",{"$f":"IF(AND('Step 2 - Ornamental'!$AC$22=\"X\",BG180=\"X\"),1,0)","v":0},"X",{"$f":"IF(AND('Step 2 - Ornamental'!$AD$22=\"X\",BI180=\"X\"),1,0)","v":0},"X","Non-flowering"]
[null,{"$f":"SUM((N181+P181+R181+T181)*(V181+X181+Z181+AB181)*(AD181+AF181+AH181+AJ181)*(AL181+AN181+AP181+AR181+AT181)*(AV181+AX181+AZ181)*(BB181+BD181+BF181+BH181))+1","v":1},"MI DE","Microbiota decussata","Russian Arbovitae / Siberian Cypress","3' O.C.","Ht (0.5'-1.5')xW (3'-10'), prefers some afternoon shade, green needles turn bronze-purple in winter","X",null,null,null,null,null,0,null,{"$f":"IF(AND('Step 2 - Ornamental'!$AA$21=\"X\",Q181=\"X\"),1,0)","v":0},"X",{"$f":"IF(AND('Step 2 - Ornamental'!$AB$21=\"X\",S181=\"X\"),1,0)","v":0},"X",{"$f":"IF(AND('Step 2 - Ornamental'!$AC$21=\"X\",U181=\"X\"),1,0)","v":0},null,{"$f":"IF(AND('Step 2 - Ornamental'!$AA$19=\"X\",W181=\"X\"),1,0)","v":0},"X",{"$f":"IF(AND('Step 2 - Ornamental'!$AA$19=\"X\",Y181=\"X\"),1,0)","v":0},null,{"$f":"IF(AND('Step 2 - Ornamental'!$AB$19=\"X\",AA181=\"X\"),1,0)","v":0},null,{"$f":"IF(AND('Step 2 - Ornamental'!$AC$19=\"X\",AC181=\"X\"),1,0)","v":0},null,{"$f":"IF(AND('Step 2 - Ornamental'!$AA$20=\"X\",AE181=\"X\"),1,0)","v":0},"X",{"$f":"IF(AND('Step 2 - Ornamental'!$AA$20=\"X\",AG181=\"X\"),1,0)","v":0},null,{"$f":"IF(AND('Step 2 - Ornamental'!$AB$20=\"X\",AI181=\"X\"),1,0)","v":0},null,{"$f":"IF(AND('Step 2 - Ornamental'!$AC$20=\"X\",AK181=\"X\"),1,0)","v":0},null,{"$f":"IF(AND('Step 2 - Ornamental'!$AA$18=\"X\",AM181=\"X\"),1,0)","v":0},null,{"$f":"IF(AND('Step 2 - Ornamental'!$AB$18=\"X\",AO181=\"X\"),1,0)","v":0},"X",{"$f":"IF(AND('Step 2 - Ornamental'!$AC$18=\"X\",AQ181=\"X\"),1,0)","v":0},null,{"$f":"IF(AND('Step 2 - Ornamental'!$AD$18=\"X\",AS181=\"X\"),1,0)","v":0},null,{"$f":"IF(AND('Step 2 - Ornamental'!$AE$18=\"X\",AU181=\"X\"),1,0)","v":0},null,{"$f":"IF(AND('Step 2 - Ornamental'!$AA$17=\"X\",AW181=\"X\"),1,0)","v":0},"X",{"$f":"IF(AND('Step 2 - Ornamental'!$AB$17=\"X\",AY181=\"X\"),1,0)","v":0},"X",{"$f":"IF(AND('Step 2 - Ornamental'!$AC$17=\"X\",BA181=\"X\"),1,0)","v":0},null,{"$f":"IF(AND('Step 2 - Ornamental'!$AA$22=\"X\",BC181=\"X\"),1,0)","v":0},null,{"$f":"IF(AND('Step 2 - Ornamental'!$AB$22=\"X\",BE181=\"X\"),1,0)","v":0},null,{"$f":"IF(AND('Step 2 - Ornamental'!$AC$22=\"X\",BG181=\"X\"),1,0)","v":0},"X",{"$f":"IF(AND('Step 2 - Ornamental'!$AD$22=\"X\",BI181=\"X\"),1,0)","v":0},"X","Non-flowering"]
[null,{"$f":"SUM((N182+P182+R182+T182)*(V182+X182+Z182+AB182)*(AD182+AF182+AH182+AJ182)*(AL182+AN182+AP182+AR182+AT182)*(AV182+AX182+AZ182)*(BB182+BD182+BF182+BH182))+1","v":1},"PI MU","Pinus mugo var. Mugo","Mugo Pine","6' O.C.","Ht (3'-5')xW(6'-10'), form is variable, prune in winter to retain shape","X",null,null,"X",null,null,0,null,{"$f":"IF(AND('Step 2 - Ornamental'!$AA$21=\"X\",Q182=\"X\"),1,0)","v":0},"X",{"$f":"IF(AND('Step 2 - Ornamental'!$AB$21=\"X\",S182=\"X\"),1,0)","v":0},"X",{"$f":"IF(AND('Step 2 - Ornamental'!$AC$21=\"X\",U182=\"X\"),1,0)","v":0},"X",{"$f":"IF(AND('Step 2 - Ornamental'!$AA$19=\"X\",W182=\"X\"),1,0)","v":0},null,{"$f":"IF(AND('Step 2 - Ornamental'!$AA$19=\"X\",Y182=\"X\"),1,0)","v":0},"X",{"$f":"IF(AND('Step 2 - Ornamental'!$AB$19=\"X\",AA182=\"X\"),1,0)","v":0},"X",{"$f":"IF(AND('Step 2 - Ornamental'!$AC$19=\"X\",AC182=\"X\"),1,0)","v":0},null,{"$f":"IF(AND('Step 2 - Ornamental'!$AA$20=\"X\",AE182=\"X\"),1,0)","v":0},"X",{"$f":"IF(AND('Step 2 - Ornamental'!$AA$20=\"X\",AG182=\"X\"),1,0)","v":0},null,{"$f":"IF(AND('Step 2 - Ornamental'!$AB$20=\"X\",AI182=\"X\"),1,0)","v":0},null,{"$f":"IF(AND('Step 2 - Ornamental'!$AC$20=\"X\",AK182=\"X\"),1,0)","v":0},null,{"$f":"IF(AND('Step 2 - Ornamental'!$AA$18=\"X\",AM182=\"X\"),1,0)","v":0},null,{"$f":"IF(AND('Step 2 - Ornamental'!$AB$18=\"X\",AO182=\"X\"),1,0)","v":0},"X",{"$f":"IF(AND('Step 2 - Ornamental'!$AC$18=\"X\",AQ182=\"X\"),1,0)","v":0},null,{"$f":"IF(AND('Step 2 - Ornamental'!$AD$18=\"X\",AS182=\"X\"),1,0)","v":0},null,{"$f":"IF(AND('Step 2 - Ornamental'!$AE$18=\"X\",AU182=\"X\"),1,0)","v":0},null,{"$f":"IF(AND('Step 2 - Ornamental'!$AA$17=\"X\",AW182=\"X\"),1,0)","v":0},"X",{"$f":"IF(AND('Step 2 - Ornamental'!$AB$17=\"X\",AY182=\"X\"),1,0)","v":0},"X",{"$f":"IF(AND('Step 2 - Ornamental'!$AC$17=\"X\",BA182=\"X\"),1,0)","v":0},null,{"$f":"IF(AND('Step 2 - Ornamental'!$AA$22=\"X\",BC182=\"X\"),1,0)","v":0},null,{"$f":"IF(AND('Step 2 - Ornamental'!$AB$22=\"X\",BE182=\"X\"),1,0)","v":0},null,{"$f":"IF(AND('Step 2 - Ornamental'!$AC$22=\"X\",BG182=\"X\"),1,0)","v":0},"X",{"$f":"IF(AND('Step 2 - Ornamental'!$AD$22=\"X\",BI182=\"X\"),1,0)","v":0},"X","Non-flowering"]
[null,{"$f":"SUM((N183+P183+R183+T183)*(V183+X183+Z183+AB183)*(AD183+AF183+AH183+AJ183)*(AL183+AN183+AP183+AR183+AT183)*(AV183+AX183+AZ183)*(BB183+BD183+BF183+BH183))+1","v":1},"TA XH","Taxus x media 'Hicksii'","Hicks Intermediate Yew","4' O.C.","Ht (12'-20')xW(8'-12'), used mostly as hedge, avoid wet soils, but tolerant of shade","X",null,null,null,"X",null,0,null,{"$f":"IF(AND('Step 2 - Ornamental'!$AA$21=\"X\",Q183=\"X\"),1,0)","v":0},"X",{"$f":"IF(AND('Step 2 - Ornamental'!$AB$21=\"X\",S183=\"X\"),1,0)","v":0},"X",{"$f":"IF(AND('Step 2 - Ornamental'!$AC$21=\"X\",U183=\"X\"),1,0)","v":0},null,{"$f":"IF(AND('Step 2 - Ornamental'!$AA$19=\"X\",W183=\"X\"),1,0)","v":0},null,{"$f":"IF(AND('Step 2 - Ornamental'!$AA$19=\"X\",Y183=\"X\"),1,0)","v":0},"X",{"$f":"IF(AND('Step 2 - Ornamental'!$AB$19=\"X\",AA183=\"X\"),1,0)","v":0},"X",{"$f":"IF(AND('Step 2 - Ornamental'!$AC$19=\"X\",AC183=\"X\"),1,0)","v":0},null,{"$f":"IF(AND('Step 2 - Ornamental'!$AA$20=\"X\",AE183=\"X\"),1,0)","v":0},"X",{"$f":"IF(AND('Step 2 - Ornamental'!$AA$20=\"X\",AG183=\"X\"),1,0)","v":0},null,{"$f":"IF(AND('Step 2 - Ornamental'!$AB$20=\"X\",AI183=\"X\"),1,0)","v":0},null,{"$f":"IF(AND('Step 2 - Ornamental'!$AC$20=\"X\",AK183=\"X\"),1,0)","v":0},null,{"$f":"IF(AND('Step 2 - Ornamental'!$AA$18=\"X\",AM183=\"X\"),1,0)","v":0},"X",{"$f":"IF(AND('Step 2 - Ornamental'!$AB$18=\"X\",AO183=\"X\"),1,0)","v":0},"X",{"$f":"IF(AND('Step 2 - Ornamental'!$AC$18=\"X\",AQ183=\"X\"),1,0)","v":0},null,{"$f":"IF(AND('Step 2 - Ornamental'!$AD$18=\"X\",AS183=\"X\"),1,0)","v":0},null,{"$f":"IF(AND('Step 2 - Ornamental'!$AE$18=\"X\",AU183=\"X\"),1,0)","v":0},null,{"$f":"IF(AND('Step 2 - Ornamental'!$AA$17=\"X\",AW183=\"X\"),1,0)","v":0},"X",{"$f":"IF(AND('Step 2 - Ornamental'!$AB$17=\"X\",AY183=\"X\"),1,0)","v":0},"X",{"$f":"IF(AND('Step 2 - Ornamental'!$AC$17=\"X\",BA183=\"X\"),1,0)","v":0},"X",{"$f":"IF(AND('Step 2 - Ornamental'!$AA$22=\"X\",BC183=\"X\"),1,0)","v":0},null,{"$f":"IF(AND('Step 2 - Ornamental'!$AB$22=\"X\",BE183=\"X\"),1,0)","v":0},null,{"$f":"IF(AND('Step 2 - Ornamental'!$AC$22=\"X\",BG183=\"X\"),1,0)","v":0},"X",{"$f":"IF(AND('Step 2 - Ornamental'!$AD$22=\"X\",BI183=\"X\"),1,0)","v":0},"X","Non-flowering"]
[null,{"$f":"SUM((N184+P184+R184+T184)*(V184+X184+Z184+AB184)*(AD184+AF184+AH184+AJ184)*(AL184+AN184+AP184+AR184+AT184)*(AV184+AX184+AZ184)*(BB184+BD184+BF184+BH184))+1","v":1},"TA XW","Taxus x media 'Wardii'","Wardii Intermediate Yew","5' O.C.","Ht (3'-6')xW(8'-20'), good flat-topped yew for massing","X",null,null,null,"X",null,0,null,{"$f":"IF(AND('Step 2 - Ornamental'!$AA$21=\"X\",Q184=\"X\"),1,0)","v":0},"X",{"$f":"IF(AND('Step 2 - Ornamental'!$AB$21=\"X\",S184=\"X\"),1,0)","v":0},"X",{"$f":"IF(AND('Step 2 - Ornamental'!$AC$21=\"X\",U184=\"X\"),1,0)","v":0},null,{"$f":"IF(AND('Step 2 - Ornamental'!$AA$19=\"X\",W184=\"X\"),1,0)","v":0},null,{"$f":"IF(AND('Step 2 - Ornamental'!$AA$19=\"X\",Y184=\"X\"),1,0)","v":0},"X",{"$f":"IF(AND('Step 2 - Ornamental'!$AB$19=\"X\",AA184=\"X\"),1,0)","v":0},"X",{"$f":"IF(AND('Step 2 - Ornamental'!$AC$19=\"X\",AC184=\"X\"),1,0)","v":0},null,{"$f":"IF(AND('Step 2 - Ornamental'!$AA$20=\"X\",AE184=\"X\"),1,0)","v":0},"X",{"$f":"IF(AND('Step 2 - Ornamental'!$AA$20=\"X\",AG184=\"X\"),1,0)","v":0},null,{"$f":"IF(AND('Step 2 - Ornamental'!$AB$20=\"X\",AI184=\"X\"),1,0)","v":0},null,{"$f":"IF(AND('Step 2 - Ornamental'!$AC$20=\"X\",AK184=\"X\"),1,0)","v":0},null,{"$f":"IF(AND('Step 2 - Ornamental'!$AA$18=\"X\",AM184=\"X\"),1,0)","v":0},"X",{"$f":"IF(AND('Step 2 - Ornamental'!$AB$18=\"X\",AO184=\"X\"),1,0)","v":0},"X",{"$f":"IF(AND('Step 2 - Ornamental'!$AC$18=\"X\",AQ184=\"X\"),1,0)","v":0},null,{"$f":"IF(AND('Step 2 - Ornamental'!$AD$18=\"X\",AS184=\"X\"),1,0)","v":0},null,{"$f":"IF(AND('Step 2 - Ornamental'!$AE$18=\"X\",AU184=\"X\"),1,0)","v":0},null,{"$f":"IF(AND('Step 2 - Ornamental'!$AA$17=\"X\",AW184=\"X\"),1,0)","v":0},"X",{"$f":"IF(AND('Step 2 - Ornamental'!$AB$17=\"X\",AY184=\"X\"),1,0)","v":0},"X",{"$f":"IF(AND('Step 2 - Ornamental'!$AC$17=\"X\",BA184=\"X\"),1,0)","v":0},"X",{"$f":"IF(AND('Step 2 - Ornamental'!$AA$22=\"X\",BC184=\"X\"),1,0)","v":0},null,{"$f":"IF(AND('Step 2 - Ornamental'!$AB$22=\"X\",BE184=\"X\"),1,0)","v":0},null,{"$f":"IF(AND('Step 2 - Ornamental'!$AC$22=\"X\",BG184=\"X\"),1,0)","v":0},"X",{"$f":"IF(AND('Step 2 - Ornamental'!$AD$22=\"X\",BI184=\"X\"),1,0)","v":0},"X","Non-flowering"]
[]
["Broadleaf Evergreens",2]
[null,{"$f":"SUM((N187+P187+R187+T187)*(V187+X187+Z187+AB187)*(AD187+AF187+AH187+AJ187)*(AL187+AN187+AP187+AR187+AT187)*(AV187+AX187+AZ187)*(BB187+BD187+BF187+BH187))+1","v":1},"BU GM","Buxus 'Green Mountain' (var. koreana x B. sempervirens hybrid)","Green Mountain Boxwood","30\" O.C."," Ht(4') after 10 years, forms a perfect wide pyramidal oval, but can be shaped into small hedge"," X",null,null,"X","X",null,{"$f":"IF(O187=\"X\",1,0)","v":0},null,{"$f":"IF(AND('Step 2 - Ornamental'!$AA$21=\"X\",Q187=\"X\"),1,0)","v":0},"X",{"$f":"IF(AND('Step 2 - Ornamental'!$AB$21=\"X\",S187=\"X\"),1,0)","v":0},"X",{"$f":"IF(AND('Step 2 - Ornamental'!$AC$21=\"X\",U187=\"X\"),1,0)","v":0},null,{"$f":"IF(AND('Step 2 - Ornamental'!$AA$19=\"X\",W187=\"X\"),1,0)","v":0},null,{"$f":"IF(AND('Step 2 - Ornamental'!$AA$19=\"X\",Y187=\"X\"),1,0)","v":0},"X",{"$f":"IF(AND('Step 2 - Ornamental'!$AB$19=\"X\",AA187=\"X\"),1,0)","v":0},null,{"$f":"IF(AND('Step 2 - Ornamental'!$AC$19=\"X\",AC187=\"X\"),1,0)","v":0},null,{"$f":"IF(AND('Step 2 - Ornamental'!$AA$20=\"X\",AE187=\"X\"),1,0)","v":0},"X",{"$f":"IF(AND('Step 2 - Ornamental'!$AA$20=\"X\",AG187=\"X\"),1,0)","v":0},null,{"$f":"IF(AND('Step 2 - Ornamental'!$AB$20=\"X\",AI187=\"X\"),1,0)","v":0},null,{"$f":"IF(AND('Step 2 - Ornamental'!$AC$20=\"X\",AK187=\"X\"),1,0)","v":0},null,{"$f":"IF(AND('Step 2 - Ornamental'!$AA$18=\"X\",AM187=\"X\"),1,0)","v":0},null,{"$f":"IF(AND('Step 2 - Ornamental'!$AB$18=\"X\",AO187=\"X\"),1,0)","v":0},"X",{"$f":"IF(AND('Step 2 - Ornamental'!$AC$18=\"X\",AQ187=\"X\"),1,0)","v":0},null,{"$f":"IF(AND('Step 2 - Ornamental'!$AD$18=\"X\",AS187=\"X\"),1,0)","v":0},null,{"$f":"IF(AND('Step 2 - Ornamental'!$AE$18=\"X\",AU187=\"X\"),1,0)","v":0},null,{"$f":"IF(AND('Step 2 - Ornamental'!$AA$17=\"X\",AW187=\"X\"),1,0)","v":0},null,{"$f":"IF(AND('Step 2 - Ornamental'!$AB$17=\"X\",AY187=\"X\"),1,0)","v":0},"X",{"$f":"IF(AND('Step 2 - Ornamental'!$AC$17=\"X\",BA187=\"X\"),1,0)","v":0},null,{"$f":"IF(AND('Step 2 - Ornamental'!$AA$22=\"X\",BC187=\"X\"),1,0)","v":0},null,{"$f":"IF(AND('Step 2 - Ornamental'!$AB$22=\"X\",BE187=\"X\"),1,0)","v":0},null,{"$f":"IF(AND('Step 2 - Ornamental'!$AC$22=\"X\",BG187=\"X\"),1,0)","v":0},"X",{"$f":"IF(AND('Step 2 - Ornamental'!$AD$22=\"X\",BI187=\"X\"),1,0)","v":0},"X","Flowers Insignificant"]
[null,1,"DA XB","Daphne x burkwoodii 'Carol Mackie'","Carol Mackie Burkwood Daphne","3' O.C.","SPRING INSTALL ONLY, can be difficult to transplant","X",null,null,null,null,null,0,null,{"$f":"IF(AND('Step 2 - Ornamental'!$AA$21=\"X\",Q188=\"X\"),1,0)","v":0},null,{"$f":"IF(AND('Step 2 - Ornamental'!$AB$21=\"X\",S188=\"X\"),1,0)","v":0},"X",{"$f":"IF(AND('Step 2 - Ornamental'!$AC$21=\"X\",U188=\"X\"),1,0)","v":0},null,{"$f":"IF(AND('Step 2 - Ornamental'!$AA$19=\"X\",W188=\"X\"),1,0)","v":0},"X",{"$f":"IF(AND('Step 2 - Ornamental'!$AA$19=\"X\",Y188=\"X\"),1,0)","v":0},null,{"$f":"IF(AND('Step 2 - Ornamental'!$AB$19=\"X\",AA188=\"X\"),1,0)","v":0},null,{"$f":"IF(AND('Step 2 - Ornamental'!$AC$19=\"X\",AC188=\"X\"),1,0)","v":0},null,{"$f":"IF(AND('Step 2 - Ornamental'!$AA$20=\"X\",AE188=\"X\"),1,0)","v":0},"X",{"$f":"IF(AND('Step 2 - Ornamental'!$AA$20=\"X\",AG188=\"X\"),1,0)","v":0},null,{"$f":"IF(AND('Step 2 - Ornamental'!$AB$20=\"X\",AI188=\"X\"),1,0)","v":0},null,{"$f":"IF(AND('Step 2 - Ornamental'!$AC$20=\"X\",AK188=\"X\"),1,0)","v":0},null,{"$f":"IF(AND('Step 2 - Ornamental'!$AA$18=\"X\",AM188=\"X\"),1,0)","v":0},null,{"$f":"IF(AND('Step 2 - Ornamental'!$AB$18=\"X\",AO188=\"X\"),1,0)","v":0},"X",{"$f":"IF(AND('Step 2 - Ornamental'!$AC$18=\"X\",AQ188=\"X\"),1,0)","v":0},null,{"$f":"IF(AND('Step 2 - Ornamental'!$AD$18=\"X\",AS188=\"X\"),1,0)","v":0},null,{"$f":"IF(AND('Step 2 - Ornamental'!$AE$18=\"X\",AU188=\"X\"),1,0)","v":0},null,{"$f":"IF(AND('Step 2 - Ornamental'!$AA$17=\"X\",AW188=\"X\"),1,0)","v":0},null,{"$f":"IF(AND('Step 2 - Ornamental'!$AB$17=\"X\",AY188=\"X\"),1,0)","v":0},"X",{"$f":"IF(AND('Step 2 - Ornamental'!$AC$17=\"X\",BA188=\"X\"),1,0)","v":0},null,{"$f":"IF(AND('Step 2 - Ornamental'!$AA$22=\"X\",BC188=\"X\"),1,0)","v":0},null,{"$f":"IF(AND('Step 2 - Ornamental'!$AB$22=\"X\",BE188=\"X\"),1,0)","v":0},null,{"$f":"IF(AND('Step 2 - Ornamental'!$AC$22=\"X\",BG188=\"X\"),1,0)","v":0},"X",{"$f":"IF(AND('Step 2 - Ornamental'!$AD$22=\"X\",BI188=\"X\"),1,0)","v":0},"X",null,null,null,null,"Pale pink / 2.0'-3.0'"]
[null,1,"IL GL","Ilex glabra 'Shamrock'","Shamrock Inkberry","3' O.C.","Prefers acidic soil, but tolerates wet soils, spreads by suckering, 'Shamrock' is dwarf at 3-4' tall and suckers less","X",null,null,"X","X",null,0,null,{"$f":"IF(AND('Step 2 - Ornamental'!$AA$21=\"X\",Q189=\"X\"),1,0)","v":0},"X",{"$f":"IF(AND('Step 2 - Ornamental'!$AB$21=\"X\",S189=\"X\"),1,0)","v":0},null,{"$f":"IF(AND('Step 2 - Ornamental'!$AC$21=\"X\",U189=\"X\"),1,0)","v":0},null,{"$f":"IF(AND('Step 2 - Ornamental'!$AA$19=\"X\",W189=\"X\"),1,0)","v":0},null,{"$f":"IF(AND('Step 2 - Ornamental'!$AA$19=\"X\",Y189=\"X\"),1,0)","v":0},"X",{"$f":"IF(AND('Step 2 - Ornamental'!$AB$19=\"X\",AA189=\"X\"),1,0)","v":0},"X",{"$f":"IF(AND('Step 2 - Ornamental'!$AC$19=\"X\",AC189=\"X\"),1,0)","v":0},null,{"$f":"IF(AND('Step 2 - Ornamental'!$AA$20=\"X\",AE189=\"X\"),1,0)","v":0},null,{"$f":"IF(AND('Step 2 - Ornamental'!$AA$20=\"X\",AG189=\"X\"),1,0)","v":0},"X",{"$f":"IF(AND('Step 2 - Ornamental'!$AB$20=\"X\",AI189=\"X\"),1,0)","v":0},"X",{"$f":"IF(AND('Step 2 - Ornamental'!$AC$20=\"X\",AK189=\"X\"),1,0)","v":0},null,{"$f":"IF(AND('Step 2 - Ornamental'!$AA$18=\"X\",AM189=\"X\"),1,0)","v":0},null,{"$f":"IF(AND('Step 2 - Ornamental'!$AB$18=\"X\",AO189=\"X\"),1,0)","v":0},"X",{"$f":"IF(AND('Step 2 - Ornamental'!$AC$18=\"X\",AQ189=\"X\"),1,0)","v":0},"X",{"$f":"IF(AND('Step 2 - Ornamental'!$AD$18=\"X\",AS189=\"X\"),1,0)","v":0},null,{"$f":"IF(AND('Step 2 - Ornamental'!$AE$18=\"X\",AU189=\"X\"),1,0)","v":0},null,{"$f":"IF(AND('Step 2 - Ornamental'!$AA$17=\"X\",AW189=\"X\"),1,0)","v":0},"X",{"$f":"IF(AND('Step 2 - Ornamental'!$AB$17=\"X\",AY189=\"X\"),1,0)","v":0},"X",{"$f":"IF(AND('Step 2 - Ornamental'!$AC$17=\"X\",BA189=\"X\"),1,0)","v":0},null,{"$f":"IF(AND('Step 2 - Ornamental'!$AA$22=\"X\",BC189=\"X\"),1,0)","v":0},null,{"$f":"IF(AND('Step 2 - Ornamental'!$AB$22=\"X\",BE189=\"X\"),1,0)","v":0},null,{"$f":"IF(AND('Step 2 - Ornamental'!$AC$22=\"X\",BG189=\"X\"),1,0)","v":0},"X",{"$f":"IF(AND('Step 2 - Ornamental'!$AD$22=\"X\",BI189=\"X\"),1,0)","v":0},"X","Flowers Insignificant"]
[null,1,"IL XM","Ilex x meserveae 'Blue Girl', and 'Blue Boy'","Blue Boy/Girl Meserve Hollies","3' O.C.","Provide Boys to Girls in 1:4 ratio, avoid southern exposure","X",null,null,null,null,null,0,null,{"$f":"IF(AND('Step 2 - Ornamental'!$AA$21=\"X\",Q190=\"X\"),1,0)","v":0},"X",{"$f":"IF(AND('Step 2 - Ornamental'!$AB$21=\"X\",S190=\"X\"),1,0)","v":0},"X",{"$f":"IF(AND('Step 2 - Ornamental'!$AC$21=\"X\",U190=\"X\"),1,0)","v":0},null,{"$f":"IF(AND('Step 2 - Ornamental'!$AA$19=\"X\",W190=\"X\"),1,0)","v":0},"X",{"$f":"IF(AND('Step 2 - Ornamental'!$AA$19=\"X\",Y190=\"X\"),1,0)","v":0},null,{"$f":"IF(AND('Step 2 - Ornamental'!$AB$19=\"X\",AA190=\"X\"),1,0)","v":0},null,{"$f":"IF(AND('Step 2 - Ornamental'!$AC$19=\"X\",AC190=\"X\"),1,0)","v":0},null,{"$f":"IF(AND('Step 2 - Ornamental'!$AA$20=\"X\",AE190=\"X\"),1,0)","v":0},"X",{"$f":"IF(AND('Step 2 - Ornamental'!$AA$20=\"X\",AG190=\"X\"),1,0)","v":0},null,{"$f":"IF(AND('Step 2 - Ornamental'!$AB$20=\"X\",AI190=\"X\"),1,0)","v":0},null,{"$f":"IF(AND('Step 2 - Ornamental'!$AC$20=\"X\",AK190=\"X\"),1,0)","v":0},null,{"$f":"IF(AND('Step 2 - Ornamental'!$AA$18=\"X\",AM190=\"X\"),1,0)","v":0}," ",{"$f":"IF(AND('Step 2 - Ornamental'!$AB$18=\"X\",AO190=\"X\"),1,0)","v":0},"X",{"$f":"IF(AND('Step 2 - Ornamental'!$AC$18=\"X\",AQ190=\"X\"),1,0)","v":0},null,{"$f":"IF(AND('Step 2 - Ornamental'!$AD$18=\"X\",AS190=\"X\"),1,0)","v":0},null,{"$f":"IF(AND('Step 2 - Ornamental'!$AE$18=\"X\",AU190=\"X\"),1,0)","v":0},null,{"$f":"IF(AND('Step 2 - Ornamental'!$AA$17=\"X\",AW190=\"X\"),1,0)","v":0},"X",{"$f":"IF(AND('Step 2 - Ornamental'!$AB$17=\"X\",AY190=\"X\"),1,0)","v":0},"X",{"$f":"IF(AND('Step 2 - Ornamental'!$AC$17=\"X\",BA190=\"X\"),1,0)","v":0},null,{"$f":"IF(AND('Step 2 - Ornamental'!$AA$22=\"X\",BC190=\"X\"),1,0)","v":0},null,{"$f":"IF(AND('Step 2 - Ornamental'!$AB$22=\"X\",BE190=\"X\"),1,0)","v":0},null,{"$f":"IF(AND('Step 2 - Ornamental'!$AC$22=\"X\",BG190=\"X\"),1,0)","v":0},"X",{"$f":"IF(AND('Step 2 - Ornamental'!$AD$22=\"X\",BI190=\"X\"),1,0)","v":0},"X",null,null,null,null,null,null,null,null,null,"Showy red fruit / 10'-15'"]
[null,1,"KA LA","Kalmia latifolia","Mountainlaurel","5' O.C.","Good for part shade, avoid heavy clay soils, needs acidic soils",null,"X",null,"X","X",null,0,null,{"$f":"IF(AND('Step 2 - Ornamental'!$AA$21=\"X\",Q191=\"X\"),1,0)","v":0},"X",{"$f":"IF(AND('Step 2 - Ornamental'!$AB$21=\"X\",S191=\"X\"),1,0)","v":0},"X",{"$f":"IF(AND('Step 2 - Ornamental'!$AC$21=\"X\",U191=\"X\"),1,0)","v":0},null,{"$f":"IF(AND('Step 2 - Ornamental'!$AA$19=\"X\",W191=\"X\"),1,0)","v":0},"X",{"$f":"IF(AND('Step 2 - Ornamental'!$AA$19=\"X\",Y191=\"X\"),1,0)","v":0},null,{"$f":"IF(AND('Step 2 - Ornamental'!$AB$19=\"X\",AA191=\"X\"),1,0)","v":0},null,{"$f":"IF(AND('Step 2 - Ornamental'!$AC$19=\"X\",AC191=\"X\"),1,0)","v":0},null,{"$f":"IF(AND('Step 2 - Ornamental'!$AA$20=\"X\",AE191=\"X\"),1,0)","v":0},"X",{"$f":"IF(AND('Step 2 - Ornamental'!$AA$20=\"X\",AG191=\"X\"),1,0)","v":0},null,{"$f":"IF(AND('Step 2 - Ornamental'!$AB$20=\"X\",AI191=\"X\"),1,0)","v":0},null,{"$f":"IF(AND('Step 2 - Ornamental'!$AC$20=\"X\",AK191=\"X\"),1,0)","v":0},null,{"$f":"IF(AND('Step 2 - Ornamental'!$AA$18=\"X\",AM191=\"X\"),1,0)","v":0},"X",{"$f":"IF(AND('Step 2 - Ornamental'!$AB$18=\"X\",AO191=\"X\"),1,0)","v":0},"X",{"$f":"IF(AND('Step 2 - Ornamental'!$AC$18=\"X\",AQ191=\"X\"),1,0)","v":0},null,{"$f":"IF(AND('Step 2 - Ornamental'!$AD$18=\"X\",AS191=\"X\"),1,0)","v":0},null,{"$f":"IF(AND('Step 2 - Ornamental'!$AE$18=\"X\",AU191=\"X\"),1,0)","v":0},null,{"$f":"IF(AND('Step 2 - Ornamental'!$AA$17=\"X\",AW191=\"X\"),1,0)","v":0},"X",{"$f":"IF(AND('Step 2 - Ornamental'!$AB$17=\"X\",AY191=\"X\"),1,0)","v":0},"X",{"$f":"IF(AND('Step 2 - Ornamental'!$AC$17=\"X\",BA191=\"X\"),1,0)","v":0},"X",{"$f":"IF(AND('Step 2 - Ornamental'!$AA$22=\"X\",BC191=\"X\"),1,0)","v":0},null,{"$f":"IF(AND('Step 2 - Ornamental'!$AB$22=\"X\",BE191=\"X\"),1,0)","v":0},null,{"$f":"IF(AND('Step 2 - Ornamental'!$AC$22=\"X\",BG191=\"X\"),1,0)","v":0},"X",{"$f":"IF(AND('Step 2 - Ornamental'!$AD$22=\"X\",BI191=\"X\"),1,0)","v":0},"X",null,null,null,null,"Rose - white / 5.0'-15'"]
[null,1,"PI JA","Pieris japonica","Japanese Pieris","6' O.C.","Plant in locations sheltered from wind with afternoon shade","X",null,null,"X",null,null,0,null,{"$f":"IF(AND('Step 2 - Ornamental'!$AA$21=\"X\",Q192=\"X\"),1,0)","v":0},"X",{"$f":"IF(AND('Step 2 - Ornamental'!$AB$21=\"X\",S192=\"X\"),1,0)","v":0},"X",{"$f":"IF(AND('Step 2 - Ornamental'!$AC$21=\"X\",U192=\"X\"),1,0)","v":0},null,{"$f":"IF(AND('Step 2 - Ornamental'!$AA$19=\"X\",W192=\"X\"),1,0)","v":0},"X",{"$f":"IF(AND('Step 2 - Ornamental'!$AA$19=\"X\",Y192=\"X\"),1,0)","v":0},null,{"$f":"IF(AND('Step 2 - Ornamental'!$AB$19=\"X\",AA192=\"X\"),1,0)","v":0},null,{"$f":"IF(AND('Step 2 - Ornamental'!$AC$19=\"X\",AC192=\"X\"),1,0)","v":0},null,{"$f":"IF(AND('Step 2 - Ornamental'!$AA$20=\"X\",AE192=\"X\"),1,0)","v":0},"X",{"$f":"IF(AND('Step 2 - Ornamental'!$AA$20=\"X\",AG192=\"X\"),1,0)","v":0},null,{"$f":"IF(AND('Step 2 - Ornamental'!$AB$20=\"X\",AI192=\"X\"),1,0)","v":0},null,{"$f":"IF(AND('Step 2 - Ornamental'!$AC$20=\"X\",AK192=\"X\"),1,0)","v":0},null,{"$f":"IF(AND('Step 2 - Ornamental'!$AA$18=\"X\",AM192=\"X\"),1,0)","v":0},"X",{"$f":"IF(AND('Step 2 - Ornamental'!$AB$18=\"X\",AO192=\"X\"),1,0)","v":0},"X",{"$f":"IF(AND('Step 2 - Ornamental'!$AC$18=\"X\",AQ192=\"X\"),1,0)","v":0},null,{"$f":"IF(AND('Step 2 - Ornamental'!$AD$18=\"X\",AS192=\"X\"),1,0)","v":0},null,{"$f":"IF(AND('Step 2 - Ornamental'!$AE$18=\"X\",AU192=\"X\"),1,0)","v":0},null,{"$f":"IF(AND('Step 2 - Ornamental'!$AA$17=\"X\",AW192=\"X\"),1,0)","v":0},"X",{"$f":"IF(AND('Step 2 - Ornamental'!$AB$17=\"X\",AY192=\"X\"),1,0)","v":0},"X",{"$f":"IF(AND('Step 2 - Ornamental'!$AC$17=\"X\",BA192=\"X\"),1,0)","v":0},null,{"$f":"IF(AND('Step 2 - Ornamental'!$AA$22=\"X\",BC192=\"X\"),1,0)","v":0},null,{"$f":"IF(AND('Step 2 - Ornamental'!$AB$22=\"X\",BE192=\"X\"),1,0)","v":0},null,{"$f":"IF(AND('Step 2 - Ornamental'!$AC$22=\"X\",BG192=\"X\"),1,0)","v":0},null,{"$f":"IF(AND('Step 2 - Ornamental'!$AD$22=\"X\",BI192=\"X\"),1,0)","v":0},"X",null,null,null,"white/9'-12'"]
[null,1,"YU FI","Yucca filamentosa","Adam's Needle","2' O.C.","Tolerant of poor sandy/dry soils, tolerant of air pollution",null,"X",null,"X","X",null,0,null,{"$f":"IF(AND('Step 2 - Ornamental'!$AA$21=\"X\",Q193=\"X\"),1,0)","v":0},"X",{"$f":"IF(AND('Step 2 - Ornamental'!$AB$21=\"X\",S193=\"X\"),1,0)","v":0},"X",{"$f":"IF(AND('Step 2 - Ornamental'!$AC$21=\"X\",U193=\"X\"),1,0)","v":0},"X",{"$f":"IF(AND('Step 2 - Ornamental'!$AA$19=\"X\",W193=\"X\"),1,0)","v":0},null,{"$f":"IF(AND('Step 2 - Ornamental'!$AA$19=\"X\",Y193=\"X\"),1,0)","v":0},"X",{"$f":"IF(AND('Step 2 - Ornamental'!$AB$19=\"X\",AA193=\"X\"),1,0)","v":0},"X",{"$f":"IF(AND('Step 2 - Ornamental'!$AC$19=\"X\",AC193=\"X\"),1,0)","v":0},"X",{"$f":"IF(AND('Step 2 - Ornamental'!$AA$20=\"X\",AE193=\"X\"),1,0)","v":0},"X",{"$f":"IF(AND('Step 2 - Ornamental'!$AA$20=\"X\",AG193=\"X\"),1,0)","v":0},null,{"$f":"IF(AND('Step 2 - Ornamental'!$AB$20=\"X\",AI193=\"X\"),1,0)","v":0},null,{"$f":"IF(AND('Step 2 - Ornamental'!$AC$20=\"X\",AK193=\"X\"),1,0)","v":0},null,{"$f":"IF(AND('Step 2 - Ornamental'!$AA$18=\"X\",AM193=\"X\"),1,0)","v":0},"X",{"$f":"IF(AND('Step 2 - Ornamental'!$AB$18=\"X\",AO193=\"X\"),1,0)","v":0},"X",{"$f":"IF(AND('Step 2 - Ornamental'!$AC$18=\"X\",AQ193=\"X\"),1,0)","v":0},null,{"$f":"IF(AND('Step 2 - Ornamental'!$AD$18=\"X\",AS193=\"X\"),1,0)","v":0},null,{"$f":"IF(AND('Step 2 - Ornamental'!$AE$18=\"X\",AU193=\"X\"),1,0)","v":0},null,{"$f":"IF(AND('Step 2 - Ornamental'!$AA$17=\"X\",AW193=\"X\"),1,0)","v":0},"X",{"$f":"IF(AND('Step 2 - Ornamental'!$AB$17=\"X\",AY193=\"X\"),1,0)","v":0},null,{"$f":"IF(AND('Step 2 - Ornamental'!$AC$17=\"X\",BA193=\"X\"),1,0)","v":0},null,{"$f":"IF(AND('Step 2 - Ornamental'!$AA$22=\"X\",BC193=\"X\"),1,0)","v":0},null,{"$f":"IF(AND('Step 2 - Ornamental'!$AB$22=\"X\",BE193=\"X\"),1,0)","v":0},"X",{"$f":"IF(AND('Step 2 - Ornamental'!$AC$22=\"X\",BG193=\"X\"),1,0)","v":0},"X",{"$f":"IF(AND('Step 2 - Ornamental'!$AD$22=\"X\",BI193=\"X\"),1,0)","v":0},"X",null,null,null,null,null,"Cream-wht / 4'-8'"]
[]
["Vines",2]
[null,{"$f":"SUM((N196+P196+R196+T196)*(V196+X196+Z196+AB196)*(AD196+AF196+AH196+AJ196)*(AL196+AN196+AP196+AR196+AT196)*(AV196+AX196+AZ196)*(BB196+BD196+BF196+BH196))+1","v":1},"AR DU","Aristolochia durior (A. macrophylla)","Dutchman's Pipe","24\" O.C.","Twining habit, Fascinating fruiting structure, likes rich, moist soil",null,"X",null,null,null,null,{"$f":"IF(O196=\"X\",1,0)","v":0},null,{"$f":"IF(AND('Step 2 - Ornamental'!$AA$21=\"X\",Q196=\"X\"),1,0)","v":0},"X",{"$f":"IF(AND('Step 2 - Ornamental'!$AB$21=\"X\",S196=\"X\"),1,0)","v":0},"X",{"$f":"IF(AND('Step 2 - Ornamental'!$AC$21=\"X\",U196=\"X\"),1,0)","v":0},"X",{"$f":"IF(AND('Step 2 - Ornamental'!$AA$19=\"X\",W196=\"X\"),1,0)","v":0},null,{"$f":"IF(AND('Step 2 - Ornamental'!$AA$19=\"X\",Y196=\"X\"),1,0)","v":0},"X",{"$f":"IF(AND('Step 2 - Ornamental'!$AB$19=\"X\",AA196=\"X\"),1,0)","v":0},null,{"$f":"IF(AND('Step 2 - Ornamental'!$AC$19=\"X\",AC196=\"X\"),1,0)","v":0},null,{"$f":"IF(AND('Step 2 - Ornamental'!$AA$20=\"X\",AE196=\"X\"),1,0)","v":0},"X",{"$f":"IF(AND('Step 2 - Ornamental'!$AA$20=\"X\",AG196=\"X\"),1,0)","v":0},null,{"$f":"IF(AND('Step 2 - Ornamental'!$AB$20=\"X\",AI196=\"X\"),1,0)","v":0},null,{"$f":"IF(AND('Step 2 - Ornamental'!$AC$20=\"X\",AK196=\"X\"),1,0)","v":0},null,{"$f":"IF(AND('Step 2 - Ornamental'!$AA$18=\"X\",AM196=\"X\"),1,0)","v":0},null,{"$f":"IF(AND('Step 2 - Ornamental'!$AB$18=\"X\",AO196=\"X\"),1,0)","v":0},"X",{"$f":"IF(AND('Step 2 - Ornamental'!$AC$18=\"X\",AQ196=\"X\"),1,0)","v":0},"X",{"$f":"IF(AND('Step 2 - Ornamental'!$AD$18=\"X\",AS196=\"X\"),1,0)","v":0},null,{"$f":"IF(AND('Step 2 - Ornamental'!$AE$18=\"X\",AU196=\"X\"),1,0)","v":0},null,{"$f":"IF(AND('Step 2 - Ornamental'!$AA$17=\"X\",AW196=\"X\"),1,0)","v":0},"X",{"$f":"IF(AND('Step 2 - Ornamental'!$AB$17=\"X\",AY196=\"X\"),1,0)","v":0},"X",{"$f":"IF(AND('Step 2 - Ornamental'!$AC$17=\"X\",BA196=\"X\"),1,0)","v":0},null,{"$f":"IF(AND('Step 2 - Ornamental'!$AA$22=\"X\",BC196=\"X\"),1,0)","v":0},null,{"$f":"IF(AND('Step 2 - Ornamental'!$AB$22=\"X\",BE196=\"X\"),1,0)","v":0},"X",{"$f":"IF(AND('Step 2 - Ornamental'!$AC$22=\"X\",BG196=\"X\"),1,0)","v":0},"X",{"$f":"IF(AND('Step 2 - Ornamental'!$AD$22=\"X\",BI196=\"X\"),1,0)","v":0},"X",null,null,null,null,"Yllw/green / 15'-30'"]
[null,1,"CE SC","Celastrus scandens","American Bittersweet","24\" O.C.","Twining habit, showing red-orange fruit in winter, be careful not to use invasive Oriental Bittersweet, need male and female for fruit set"," ","X","X","X",null,null,0,null,{"$f":"IF(AND('Step 2 - Ornamental'!$AA$21=\"X\",Q197=\"X\"),1,0)","v":0},"X",{"$f":"IF(AND('Step 2 - Ornamental'!$AB$21=\"X\",S197=\"X\"),1,0)","v":0},"X",{"$f":"IF(AND('Step 2 - Ornamental'!$AC$21=\"X\",U197=\"X\"),1,0)","v":0},"X",{"$f":"IF(AND('Step 2 - Ornamental'!$AA$19=\"X\",W197=\"X\"),1,0)","v":0},"X",{"$f":"IF(AND('Step 2 - Ornamental'!$AA$19=\"X\",Y197=\"X\"),1,0)","v":0},null,{"$f":"IF(AND('Step 2 - Ornamental'!$AB$19=\"X\",AA197=\"X\"),1,0)","v":0},null,{"$f":"IF(AND('Step 2 - Ornamental'!$AC$19=\"X\",AC197=\"X\"),1,0)","v":0},null,{"$f":"IF(AND('Step 2 - Ornamental'!$AA$20=\"X\",AE197=\"X\"),1,0)","v":0},"X",{"$f":"IF(AND('Step 2 - Ornamental'!$AA$20=\"X\",AG197=\"X\"),1,0)","v":0},null,{"$f":"IF(AND('Step 2 - Ornamental'!$AB$20=\"X\",AI197=\"X\"),1,0)","v":0},null,{"$f":"IF(AND('Step 2 - Ornamental'!$AC$20=\"X\",AK197=\"X\"),1,0)","v":0},null,{"$f":"IF(AND('Step 2 - Ornamental'!$AA$18=\"X\",AM197=\"X\"),1,0)","v":0},"X",{"$f":"IF(AND('Step 2 - Ornamental'!$AB$18=\"X\",AO197=\"X\"),1,0)","v":0},"X",{"$f":"IF(AND('Step 2 - Ornamental'!$AC$18=\"X\",AQ197=\"X\"),1,0)","v":0},null,{"$f":"IF(AND('Step 2 - Ornamental'!$AD$18=\"X\",AS197=\"X\"),1,0)","v":0},null,{"$f":"IF(AND('Step 2 - Ornamental'!$AE$18=\"X\",AU197=\"X\"),1,0)","v":0},null,{"$f":"IF(AND('Step 2 - Ornamental'!$AA$17=\"X\",AW197=\"X\"),1,0)","v":0},"X",{"$f":"IF(AND('Step 2 - Ornamental'!$AB$17=\"X\",AY197=\"X\"),1,0)","v":0},"X",{"$f":"IF(AND('Step 2 - Ornamental'!$AC$17=\"X\",BA197=\"X\"),1,0)","v":0},null,{"$f":"IF(AND('Step 2 - Ornamental'!$AA$22=\"X\",BC197=\"X\"),1,0)","v":0},null,{"$f":"IF(AND('Step 2 - Ornamental'!$AB$22=\"X\",BE197=\"X\"),1,0)","v":0},"X",{"$f":"IF(AND('Step 2 - Ornamental'!$AC$22=\"X\",BG197=\"X\"),1,0)","v":0},"X",{"$f":"IF(AND('Step 2 - Ornamental'!$AD$22=\"X\",BI197=\"X\"),1,0)","v":0},"X",null,null,null,null,null,null,null,null,"Red-orange fruit / 15'-20'"]
[null,1,"CL VI","Clematis virginiana","Virginsbower","24\" O.C.","Twining habit, Native clematis with showing white flowers in fall, fragrant"," ","X","X","X",null,null,0,null,{"$f":"IF(AND('Step 2 - Ornamental'!$AA$21=\"X\",Q198=\"X\"),1,0)","v":0},"X",{"$f":"IF(AND('Step 2 - Ornamental'!$AB$21=\"X\",S198=\"X\"),1,0)","v":0},"X",{"$f":"IF(AND('Step 2 - Ornamental'!$AC$21=\"X\",U198=\"X\"),1,0)","v":0},null,{"$f":"IF(AND('Step 2 - Ornamental'!$AA$19=\"X\",W198=\"X\"),1,0)","v":0},null,{"$f":"IF(AND('Step 2 - Ornamental'!$AA$19=\"X\",Y198=\"X\"),1,0)","v":0},"X",{"$f":"IF(AND('Step 2 - Ornamental'!$AB$19=\"X\",AA198=\"X\"),1,0)","v":0},null,{"$f":"IF(AND('Step 2 - Ornamental'!$AC$19=\"X\",AC198=\"X\"),1,0)","v":0},null,{"$f":"IF(AND('Step 2 - Ornamental'!$AA$20=\"X\",AE198=\"X\"),1,0)","v":0},"X",{"$f":"IF(AND('Step 2 - Ornamental'!$AA$20=\"X\",AG198=\"X\"),1,0)","v":0},null,{"$f":"IF(AND('Step 2 - Ornamental'!$AB$20=\"X\",AI198=\"X\"),1,0)","v":0},null,{"$f":"IF(AND('Step 2 - Ornamental'!$AC$20=\"X\",AK198=\"X\"),1,0)","v":0},null,{"$f":"IF(AND('Step 2 - Ornamental'!$AA$18=\"X\",AM198=\"X\"),1,0)","v":0},null,{"$f":"IF(AND('Step 2 - Ornamental'!$AB$18=\"X\",AO198=\"X\"),1,0)","v":0},"X",{"$f":"IF(AND('Step 2 - Ornamental'!$AC$18=\"X\",AQ198=\"X\"),1,0)","v":0},"X",{"$f":"IF(AND('Step 2 - Ornamental'!$AD$18=\"X\",AS198=\"X\"),1,0)","v":0},null,{"$f":"IF(AND('Step 2 - Ornamental'!$AE$18=\"X\",AU198=\"X\"),1,0)","v":0},null,{"$f":"IF(AND('Step 2 - Ornamental'!$AA$17=\"X\",AW198=\"X\"),1,0)","v":0},"X",{"$f":"IF(AND('Step 2 - Ornamental'!$AB$17=\"X\",AY198=\"X\"),1,0)","v":0},"X",{"$f":"IF(AND('Step 2 - Ornamental'!$AC$17=\"X\",BA198=\"X\"),1,0)","v":0},"X",{"$f":"IF(AND('Step 2 - Ornamental'!$AA$22=\"X\",BC198=\"X\"),1,0)","v":0},null,{"$f":"IF(AND('Step 2 - Ornamental'!$AB$22=\"X\",BE198=\"X\"),1,0)","v":0},"X",{"$f":"IF(AND('Step 2 - Ornamental'!$AC$22=\"X\",BG198=\"X\"),1,0)","v":0},"X",{"$f":"IF(AND('Step 2 - Ornamental'!$AD$22=\"X\",BI198=\"X\"),1,0)","v":0},"X",null,null,null,null,null,null,null,"White / 12.0' - 20'"]
[null,1,"HY AN","Hydrangea anomala subsp. Petiolaris","Climbing Hydrangea","24\" O.C.","Twining and aerial rootlets, prefers consistently moist soil if in full sun","X",null,null,null,"X",null,0,null,{"$f":"IF(AND('Step 2 - Ornamental'!$AA$21=\"X\",Q199=\"X\"),1,0)","v":0},"X",{"$f":"IF(AND('Step 2 - Ornamental'!$AB$21=\"X\",S199=\"X\"),1,0)","v":0},"X",{"$f":"IF(AND('Step 2 - Ornamental'!$AC$21=\"X\",U199=\"X\"),1,0)","v":0},null,{"$f":"IF(AND('Step 2 - Ornamental'!$AA$19=\"X\",W199=\"X\"),1,0)","v":0},null,{"$f":"IF(AND('Step 2 - Ornamental'!$AA$19=\"X\",Y199=\"X\"),1,0)","v":0},"X",{"$f":"IF(AND('Step 2 - Ornamental'!$AB$19=\"X\",AA199=\"X\"),1,0)","v":0},null,{"$f":"IF(AND('Step 2 - Ornamental'!$AC$19=\"X\",AC199=\"X\"),1,0)","v":0},null,{"$f":"IF(AND('Step 2 - Ornamental'!$AA$20=\"X\",AE199=\"X\"),1,0)","v":0},"X",{"$f":"IF(AND('Step 2 - Ornamental'!$AA$20=\"X\",AG199=\"X\"),1,0)","v":0},null,{"$f":"IF(AND('Step 2 - Ornamental'!$AB$20=\"X\",AI199=\"X\"),1,0)","v":0},null,{"$f":"IF(AND('Step 2 - Ornamental'!$AC$20=\"X\",AK199=\"X\"),1,0)","v":0},null,{"$f":"IF(AND('Step 2 - Ornamental'!$AA$18=\"X\",AM199=\"X\"),1,0)","v":0},null,{"$f":"IF(AND('Step 2 - Ornamental'!$AB$18=\"X\",AO199=\"X\"),1,0)","v":0},"X",{"$f":"IF(AND('Step 2 - Ornamental'!$AC$18=\"X\",AQ199=\"X\"),1,0)","v":0},null,{"$f":"IF(AND('Step 2 - Ornamental'!$AD$18=\"X\",AS199=\"X\"),1,0)","v":0},null,{"$f":"IF(AND('Step 2 - Ornamental'!$AE$18=\"X\",AU199=\"X\"),1,0)","v":0},null,{"$f":"IF(AND('Step 2 - Ornamental'!$AA$17=\"X\",AW199=\"X\"),1,0)","v":0},null,{"$f":"IF(AND('Step 2 - Ornamental'!$AB$17=\"X\",AY199=\"X\"),1,0)","v":0},"X",{"$f":"IF(AND('Step 2 - Ornamental'!$AC$17=\"X\",BA199=\"X\"),1,0)","v":0},"X",{"$f":"IF(AND('Step 2 - Ornamental'!$AA$22=\"X\",BC199=\"X\"),1,0)","v":0},null,{"$f":"IF(AND('Step 2 - Ornamental'!$AB$22=\"X\",BE199=\"X\"),1,0)","v":0},null,{"$f":"IF(AND('Step 2 - Ornamental'!$AC$22=\"X\",BG199=\"X\"),1,0)","v":0},"X",{"$f":"IF(AND('Step 2 - Ornamental'!$AD$22=\"X\",BI199=\"X\"),1,0)","v":0},"X",null,null,null,null,"White / 30'-50'"]
[null,1,"LO SE","Lonicera sempervirens 'Major Wheeler'","Major Wheeler Honeysuckle Vine","24\" O.C.","Twining habit, very showing red flowers, native",null,"X",null,"X",null,null,0,null,{"$f":"IF(AND('Step 2 - Ornamental'!$AA$21=\"X\",Q200=\"X\"),1,0)","v":0},"X",{"$f":"IF(AND('Step 2 - Ornamental'!$AB$21=\"X\",S200=\"X\"),1,0)","v":0},"X",{"$f":"IF(AND('Step 2 - Ornamental'!$AC$21=\"X\",U200=\"X\"),1,0)","v":0},null,{"$f":"IF(AND('Step 2 - Ornamental'!$AA$19=\"X\",W200=\"X\"),1,0)","v":0},null,{"$f":"IF(AND('Step 2 - Ornamental'!$AA$19=\"X\",Y200=\"X\"),1,0)","v":0},"X",{"$f":"IF(AND('Step 2 - Ornamental'!$AB$19=\"X\",AA200=\"X\"),1,0)","v":0},"X",{"$f":"IF(AND('Step 2 - Ornamental'!$AC$19=\"X\",AC200=\"X\"),1,0)","v":0},null,{"$f":"IF(AND('Step 2 - Ornamental'!$AA$20=\"X\",AE200=\"X\"),1,0)","v":0},null,{"$f":"IF(AND('Step 2 - Ornamental'!$AA$20=\"X\",AG200=\"X\"),1,0)","v":0},"X",{"$f":"IF(AND('Step 2 - Ornamental'!$AB$20=\"X\",AI200=\"X\"),1,0)","v":0},"X",{"$f":"IF(AND('Step 2 - Ornamental'!$AC$20=\"X\",AK200=\"X\"),1,0)","v":0},null,{"$f":"IF(AND('Step 2 - Ornamental'!$AA$18=\"X\",AM200=\"X\"),1,0)","v":0},null,{"$f":"IF(AND('Step 2 - Ornamental'!$AB$18=\"X\",AO200=\"X\"),1,0)","v":0},"X",{"$f":"IF(AND('Step 2 - Ornamental'!$AC$18=\"X\",AQ200=\"X\"),1,0)","v":0},null,{"$f":"IF(AND('Step 2 - Ornamental'!$AD$18=\"X\",AS200=\"X\"),1,0)","v":0},null,{"$f":"IF(AND('Step 2 - Ornamental'!$AE$18=\"X\",AU200=\"X\"),1,0)","v":0},null,{"$f":"IF(AND('Step 2 - Ornamental'!$AA$17=\"X\",AW200=\"X\"),1,0)","v":0},"X",{"$f":"IF(AND('Step 2 - Ornamental'!$AB$17=\"X\",AY200=\"X\"),1,0)","v":0},"X",{"$f":"IF(AND('Step 2 - Ornamental'!$AC$17=\"X\",BA200=\"X\"),1,0)","v":0},null,{"$f":"IF(AND('Step 2 - Ornamental'!$AA$22=\"X\",BC200=\"X\"),1,0)","v":0},null,{"$f":"IF(AND('Step 2 - Ornamental'!$AB$22=\"X\",BE200=\"X\"),1,0)","v":0},"X",{"$f":"IF(AND('Step 2 - Ornamental'!$AC$22=\"X\",BG200=\"X\"),1,0)","v":0},"X",{"$f":"IF(AND('Step 2 - Ornamental'!$AD$22=\"X\",BI200=\"X\"),1,0)","v":0},"X",null,null,null,null,"Red / 3'-8'"]
[null,1,"PA QU","Parthenocissus quinquefolia","Virginia Creeper","24\" O.C.","Sucker disk attachment, will attach to blank wall, not as vigorous as tricuspidata"," ","X","X","X",null,null,0,null,{"$f":"IF(AND('Step 2 - Ornamental'!$AA$21=\"X\",Q201=\"X\"),1,0)","v":0},"X",{"$f":"IF(AND('Step 2 - Ornamental'!$AB$21=\"X\",S201=\"X\"),1,0)","v":0},"X",{"$f":"IF(AND('Step 2 - Ornamental'!$AC$21=\"X\",U201=\"X\"),1,0)","v":0},"X",{"$f":"IF(AND('Step 2 - Ornamental'!$AA$19=\"X\",W201=\"X\"),1,0)","v":0},null,{"$f":"IF(AND('Step 2 - Ornamental'!$AA$19=\"X\",Y201=\"X\"),1,0)","v":0},"X",{"$f":"IF(AND('Step 2 - Ornamental'!$AB$19=\"X\",AA201=\"X\"),1,0)","v":0},"X",{"$f":"IF(AND('Step 2 - Ornamental'!$AC$19=\"X\",AC201=\"X\"),1,0)","v":0},null,{"$f":"IF(AND('Step 2 - Ornamental'!$AA$20=\"X\",AE201=\"X\"),1,0)","v":0},"X",{"$f":"IF(AND('Step 2 - Ornamental'!$AA$20=\"X\",AG201=\"X\"),1,0)","v":0},null,{"$f":"IF(AND('Step 2 - Ornamental'!$AB$20=\"X\",AI201=\"X\"),1,0)","v":0},null,{"$f":"IF(AND('Step 2 - Ornamental'!$AC$20=\"X\",AK201=\"X\"),1,0)","v":0},null,{"$f":"IF(AND('Step 2 - Ornamental'!$AA$18=\"X\",AM201=\"X\"),1,0)","v":0},"X",{"$f":"IF(AND('Step 2 - Ornamental'!$AB$18=\"X\",AO201=\"X\"),1,0)","v":0},"X",{"$f":"IF(AND('Step 2 - Ornamental'!$AC$18=\"X\",AQ201=\"X\"),1,0)","v":0},null,{"$f":"IF(AND('Step 2 - Ornamental'!$AD$18=\"X\",AS201=\"X\"),1,0)","v":0},null,{"$f":"IF(AND('Step 2 - Ornamental'!$AE$18=\"X\",AU201=\"X\"),1,0)","v":0},null,{"$f":"IF(AND('Step 2 - Ornamental'!$AA$17=\"X\",AW201=\"X\"),1,0)","v":0},"X",{"$f":"IF(AND('Step 2 - Ornamental'!$AB$17=\"X\",AY201=\"X\"),1,0)","v":0},"X",{"$f":"IF(AND('Step 2 - Ornamental'!$AC$17=\"X\",BA201=\"X\"),1,0)","v":0},"X",{"$f":"IF(AND('Step 2 - Ornamental'!$AA$22=\"X\",BC201=\"X\"),1,0)","v":0},null,{"$f":"IF(AND('Step 2 - Ornamental'!$AB$22=\"X\",BE201=\"X\"),1,0)","v":0},"X",{"$f":"IF(AND('Step 2 - Ornamental'!$AC$22=\"X\",BG201=\"X\"),1,0)","v":0},"X",{"$f":"IF(AND('Step 2 - Ornamental'!$AD$22=\"X\",BI201=\"X\"),1,0)","v":0},"X","Flowers Insignificant"]
[null,1,"PA TR","Parthenocissus tricuspidata","Boston Ivy","24\" O.C.","Sucker disk attachment, will attach to blank wall, very vigorous","X",null,null,"X",null,null,0,null,{"$f":"IF(AND('Step 2 - Ornamental'!$AA$21=\"X\",Q202=\"X\"),1,0)","v":0},"X",{"$f":"IF(AND('Step 2 - Ornamental'!$AB$21=\"X\",S202=\"X\"),1,0)","v":0},"X",{"$f":"IF(AND('Step 2 - Ornamental'!$AC$21=\"X\",U202=\"X\"),1,0)","v":0},"X",{"$f":"IF(AND('Step 2 - Ornamental'!$AA$19=\"X\",W202=\"X\"),1,0)","v":0},null,{"$f":"IF(AND('Step 2 - Ornamental'!$AA$19=\"X\",Y202=\"X\"),1,0)","v":0},"X",{"$f":"IF(AND('Step 2 - Ornamental'!$AB$19=\"X\",AA202=\"X\"),1,0)","v":0},"X",{"$f":"IF(AND('Step 2 - Ornamental'!$AC$19=\"X\",AC202=\"X\"),1,0)","v":0},null,{"$f":"IF(AND('Step 2 - Ornamental'!$AA$20=\"X\",AE202=\"X\"),1,0)","v":0},"X",{"$f":"IF(AND('Step 2 - Ornamental'!$AA$20=\"X\",AG202=\"X\"),1,0)","v":0},null,{"$f":"IF(AND('Step 2 - Ornamental'!$AB$20=\"X\",AI202=\"X\"),1,0)","v":0},null,{"$f":"IF(AND('Step 2 - Ornamental'!$AC$20=\"X\",AK202=\"X\"),1,0)","v":0},null,{"$f":"IF(AND('Step 2 - Ornamental'!$AA$18=\"X\",AM202=\"X\"),1,0)","v":0},"X",{"$f":"IF(AND('Step 2 - Ornamental'!$AB$18=\"X\",AO202=\"X\"),1,0)","v":0},"X",{"$f":"IF(AND('Step 2 - Ornamental'!$AC$18=\"X\",AQ202=\"X\"),1,0)","v":0},null,{"$f":"IF(AND('Step 2 - Ornamental'!$AD$18=\"X\",AS202=\"X\"),1,0)","v":0},null,{"$f":"IF(AND('Step 2 - Ornamental'!$AE$18=\"X\",AU202=\"X\"),1,0)","v":0},null,{"$f":"IF(AND('Step 2 - Ornamental'!$AA$17=\"X\",AW202=\"X\"),1,0)","v":0},"X",{"$f":"IF(AND('Step 2 - Ornamental'!$AB$17=\"X\",AY202=\"X\"),1,0)","v":0},"X",{"$f":"IF(AND('Step 2 - Ornamental'!$AC$17=\"X\",BA202=\"X\"),1,0)","v":0},"X",{"$f":"IF(AND('Step 2 - Ornamental'!$AA$22=\"X\",BC202=\"X\"),1,0)","v":0},null,{"$f":"IF(AND('Step 2 - Ornamental'!$AB$22=\"X\",BE202=\"X\"),1,0)","v":0},"X",{"$f":"IF(AND('Step 2 - Ornamental'!$AC$22=\"X\",BG202=\"X\"),1,0)","v":0},"X",{"$f":"IF(AND('Step 2 - Ornamental'!$AD$22=\"X\",BI202=\"X\"),1,0)","v":0},"X","Flowers Insignificant"]
[]
["Perennials",2]
[null,{"$f":"SUM((N205+P205+R205+T205)*(V205+X205+Z205+AB205)*(AD205+AF205+AH205+AJ205)*(AL205+AN205+AP205+AR205+AT205)*(AV205+AX205+AZ205)*(BB205+BD205+BF205+BH205))+1","v":1},"AC CG","Achillea 'Coronation Gold'","Coronation Gold Yarrow","24\" O.C.","Mustard-yellow flowers (2'-3' tall),","X",null,null,"X",null,null,{"$f":"IF(O205=\"X\",1,0)","v":0},null,{"$f":"IF(AND('Step 2 - Ornamental'!$AA$21=\"X\",Q205=\"X\"),1,0)","v":0},"X",{"$f":"IF(AND('Step 2 - Ornamental'!$AB$21=\"X\",S205=\"X\"),1,0)","v":0},"X",{"$f":"IF(AND('Step 2 - Ornamental'!$AC$21=\"X\",U205=\"X\"),1,0)","v":0},"X",{"$f":"IF(AND('Step 2 - Ornamental'!$AA$19=\"X\",W205=\"X\"),1,0)","v":0},null,{"$f":"IF(AND('Step 2 - Ornamental'!$AA$19=\"X\",Y205=\"X\"),1,0)","v":0},"X",{"$f":"IF(AND('Step 2 - Ornamental'!$AB$19=\"X\",AA205=\"X\"),1,0)","v":0},null,{"$f":"IF(AND('Step 2 - Ornamental'!$AC$19=\"X\",AC205=\"X\"),1,0)","v":0},null,{"$f":"IF(AND('Step 2 - Ornamental'!$AA$20=\"X\",AE205=\"X\"),1,0)","v":0},"X",{"$f":"IF(AND('Step 2 - Ornamental'!$AA$20=\"X\",AG205=\"X\"),1,0)","v":0},null,{"$f":"IF(AND('Step 2 - Ornamental'!$AB$20=\"X\",AI205=\"X\"),1,0)","v":0},null,{"$f":"IF(AND('Step 2 - Ornamental'!$AC$20=\"X\",AK205=\"X\"),1,0)","v":0},null,{"$f":"IF(AND('Step 2 - Ornamental'!$AA$18=\"X\",AM205=\"X\"),1,0)","v":0},"X",{"$f":"IF(AND('Step 2 - Ornamental'!$AB$18=\"X\",AO205=\"X\"),1,0)","v":0},"X",{"$f":"IF(AND('Step 2 - Ornamental'!$AC$18=\"X\",AQ205=\"X\"),1,0)","v":0},null,{"$f":"IF(AND('Step 2 - Ornamental'!$AD$18=\"X\",AS205=\"X\"),1,0)","v":0},null,{"$f":"IF(AND('Step 2 - Ornamental'!$AE$18=\"X\",AU205=\"X\"),1,0)","v":0},null,{"$f":"IF(AND('Step 2 - Ornamental'!$AA$17=\"X\",AW205=\"X\"),1,0)","v":0},"X",{"$f":"IF(AND('Step 2 - Ornamental'!$AB$17=\"X\",AY205=\"X\"),1,0)","v":0},null,{"$f":"IF(AND('Step 2 - Ornamental'!$AC$17=\"X\",BA205=\"X\"),1,0)","v":0},null,{"$f":"IF(AND('Step 2 - Ornamental'!$AA$22=\"X\",BC205=\"X\"),1,0)","v":0},null,{"$f":"IF(AND('Step 2 - Ornamental'!$AB$22=\"X\",BE205=\"X\"),1,0)","v":0},null,{"$f":"IF(AND('Step 2 - Ornamental'!$AC$22=\"X\",BG205=\"X\"),1,0)","v":0},"X",{"$f":"IF(AND('Step 2 - Ornamental'!$AD$22=\"X\",BI205=\"X\"),1,0)","v":0},"X",null,null,null,null,null,"Yellow / 2.5'-3.0'"]
[null,1,"AC FI","Achillea filipendulina 'Gold Plate'","Gold Plate Fern-leaf Yarrow","30\" O.C.","Very tall yarrow (5'), with mustard-yellow flowers up to 6\" across","X",null,null,"X",null,null,0,null,{"$f":"IF(AND('Step 2 - Ornamental'!$AA$21=\"X\",Q206=\"X\"),1,0)","v":0},"X",{"$f":"IF(AND('Step 2 - Ornamental'!$AB$21=\"X\",S206=\"X\"),1,0)","v":0},"X",{"$f":"IF(AND('Step 2 - Ornamental'!$AC$21=\"X\",U206=\"X\"),1,0)","v":0},"X",{"$f":"IF(AND('Step 2 - Ornamental'!$AA$19=\"X\",W206=\"X\"),1,0)","v":0},null,{"$f":"IF(AND('Step 2 - Ornamental'!$AA$19=\"X\",Y206=\"X\"),1,0)","v":0},"X",{"$f":"IF(AND('Step 2 - Ornamental'!$AB$19=\"X\",AA206=\"X\"),1,0)","v":0},null,{"$f":"IF(AND('Step 2 - Ornamental'!$AC$19=\"X\",AC206=\"X\"),1,0)","v":0},null,{"$f":"IF(AND('Step 2 - Ornamental'!$AA$20=\"X\",AE206=\"X\"),1,0)","v":0},"X",{"$f":"IF(AND('Step 2 - Ornamental'!$AA$20=\"X\",AG206=\"X\"),1,0)","v":0},null,{"$f":"IF(AND('Step 2 - Ornamental'!$AB$20=\"X\",AI206=\"X\"),1,0)","v":0},null,{"$f":"IF(AND('Step 2 - Ornamental'!$AC$20=\"X\",AK206=\"X\"),1,0)","v":0},null,{"$f":"IF(AND('Step 2 - Ornamental'!$AA$18=\"X\",AM206=\"X\"),1,0)","v":0},"X",{"$f":"IF(AND('Step 2 - Ornamental'!$AB$18=\"X\",AO206=\"X\"),1,0)","v":0},"X",{"$f":"IF(AND('Step 2 - Ornamental'!$AC$18=\"X\",AQ206=\"X\"),1,0)","v":0},null,{"$f":"IF(AND('Step 2 - Ornamental'!$AD$18=\"X\",AS206=\"X\"),1,0)","v":0},null,{"$f":"IF(AND('Step 2 - Ornamental'!$AE$18=\"X\",AU206=\"X\"),1,0)","v":0},null,{"$f":"IF(AND('Step 2 - Ornamental'!$AA$17=\"X\",AW206=\"X\"),1,0)","v":0},"X",{"$f":"IF(AND('Step 2 - Ornamental'!$AB$17=\"X\",AY206=\"X\"),1,0)","v":0},null,{"$f":"IF(AND('Step 2 - Ornamental'!$AC$17=\"X\",BA206=\"X\"),1,0)","v":0},null,{"$f":"IF(AND('Step 2 - Ornamental'!$AA$22=\"X\",BC206=\"X\"),1,0)","v":0},null,{"$f":"IF(AND('Step 2 - Ornamental'!$AB$22=\"X\",BE206=\"X\"),1,0)","v":0},null,{"$f":"IF(AND('Step 2 - Ornamental'!$AC$22=\"X\",BG206=\"X\"),1,0)","v":0},"X",{"$f":"IF(AND('Step 2 - Ornamental'!$AD$22=\"X\",BI206=\"X\"),1,0)","v":0},"X",null,null,null,null,null,"Yellow / 4.0'-5.0'"]
[null,1,"AC HG","Achillea x 'Hella Glashoff'","Hella Glashoff Yarrow","18\" O.C.","Flowers pale, creamy yellow to 20\" high in June-Aug","X",null,null,null,null,null,0,null,{"$f":"IF(AND('Step 2 - Ornamental'!$AA$21=\"X\",Q207=\"X\"),1,0)","v":0},"X",{"$f":"IF(AND('Step 2 - Ornamental'!$AB$21=\"X\",S207=\"X\"),1,0)","v":0},"X",{"$f":"IF(AND('Step 2 - Ornamental'!$AC$21=\"X\",U207=\"X\"),1,0)","v":0},"X",{"$f":"IF(AND('Step 2 - Ornamental'!$AA$19=\"X\",W207=\"X\"),1,0)","v":0},null,{"$f":"IF(AND('Step 2 - Ornamental'!$AA$19=\"X\",Y207=\"X\"),1,0)","v":0},"X",{"$f":"IF(AND('Step 2 - Ornamental'!$AB$19=\"X\",AA207=\"X\"),1,0)","v":0},null,{"$f":"IF(AND('Step 2 - Ornamental'!$AC$19=\"X\",AC207=\"X\"),1,0)","v":0},null,{"$f":"IF(AND('Step 2 - Ornamental'!$AA$20=\"X\",AE207=\"X\"),1,0)","v":0},"X",{"$f":"IF(AND('Step 2 - Ornamental'!$AA$20=\"X\",AG207=\"X\"),1,0)","v":0},null,{"$f":"IF(AND('Step 2 - Ornamental'!$AB$20=\"X\",AI207=\"X\"),1,0)","v":0},null,{"$f":"IF(AND('Step 2 - Ornamental'!$AC$20=\"X\",AK207=\"X\"),1,0)","v":0},null,{"$f":"IF(AND('Step 2 - Ornamental'!$AA$18=\"X\",AM207=\"X\"),1,0)","v":0},"X",{"$f":"IF(AND('Step 2 - Ornamental'!$AB$18=\"X\",AO207=\"X\"),1,0)","v":0},"X",{"$f":"IF(AND('Step 2 - Ornamental'!$AC$18=\"X\",AQ207=\"X\"),1,0)","v":0},null,{"$f":"IF(AND('Step 2 - Ornamental'!$AD$18=\"X\",AS207=\"X\"),1,0)","v":0},null,{"$f":"IF(AND('Step 2 - Ornamental'!$AE$18=\"X\",AU207=\"X\"),1,0)","v":0},null,{"$f":"IF(AND('Step 2 - Ornamental'!$AA$17=\"X\",AW207=\"X\"),1,0)","v":0},"X",{"$f":"IF(AND('Step 2 - Ornamental'!$AB$17=\"X\",AY207=\"X\"),1,0)","v":0},null,{"$f":"IF(AND('Step 2 - Ornamental'!$AC$17=\"X\",BA207=\"X\"),1,0)","v":0},null,{"$f":"IF(AND('Step 2 - Ornamental'!$AA$22=\"X\",BC207=\"X\"),1,0)","v":0},null,{"$f":"IF(AND('Step 2 - Ornamental'!$AB$22=\"X\",BE207=\"X\"),1,0)","v":0},null,{"$f":"IF(AND('Step 2 - Ornamental'!$AC$22=\"X\",BG207=\"X\"),1,0)","v":0},"X",{"$f":"IF(AND('Step 2 - Ornamental'!$AD$22=\"X\",BI207=\"X\"),1,0)","v":0},"X",null,null,null,null,null,"Butter Lemon / 2.0'-3.0'"]
[null,1,"AC TC","Achillea x 'Desert Eve Terracotta'","Desert Eve Terracotta Yarrow","18\" O.C.","Brownish-orange flowers","X",null,null,"X",null,null,0,null,{"$f":"IF(AND('Step 2 - Ornamental'!$AA$21=\"X\",Q208=\"X\"),1,0)","v":0},"X",{"$f":"IF(AND('Step 2 - Ornamental'!$AB$21=\"X\",S208=\"X\"),1,0)","v":0},"X",{"$f":"IF(AND('Step 2 - Ornamental'!$AC$21=\"X\",U208=\"X\"),1,0)","v":0},"X",{"$f":"IF(AND('Step 2 - Ornamental'!$AA$19=\"X\",W208=\"X\"),1,0)","v":0},null,{"$f":"IF(AND('Step 2 - Ornamental'!$AA$19=\"X\",Y208=\"X\"),1,0)","v":0},"X",{"$f":"IF(AND('Step 2 - Ornamental'!$AB$19=\"X\",AA208=\"X\"),1,0)","v":0},null,{"$f":"IF(AND('Step 2 - Ornamental'!$AC$19=\"X\",AC208=\"X\"),1,0)","v":0},null,{"$f":"IF(AND('Step 2 - Ornamental'!$AA$20=\"X\",AE208=\"X\"),1,0)","v":0},"X",{"$f":"IF(AND('Step 2 - Ornamental'!$AA$20=\"X\",AG208=\"X\"),1,0)","v":0},null,{"$f":"IF(AND('Step 2 - Ornamental'!$AB$20=\"X\",AI208=\"X\"),1,0)","v":0},null,{"$f":"IF(AND('Step 2 - Ornamental'!$AC$20=\"X\",AK208=\"X\"),1,0)","v":0},null,{"$f":"IF(AND('Step 2 - Ornamental'!$AA$18=\"X\",AM208=\"X\"),1,0)","v":0},"X",{"$f":"IF(AND('Step 2 - Ornamental'!$AB$18=\"X\",AO208=\"X\"),1,0)","v":0},"X",{"$f":"IF(AND('Step 2 - Ornamental'!$AC$18=\"X\",AQ208=\"X\"),1,0)","v":0},null,{"$f":"IF(AND('Step 2 - Ornamental'!$AD$18=\"X\",AS208=\"X\"),1,0)","v":0},null,{"$f":"IF(AND('Step 2 - Ornamental'!$AE$18=\"X\",AU208=\"X\"),1,0)","v":0},null,{"$f":"IF(AND('Step 2 - Ornamental'!$AA$17=\"X\",AW208=\"X\"),1,0)","v":0},"X",{"$f":"IF(AND('Step 2 - Ornamental'!$AB$17=\"X\",AY208=\"X\"),1,0)","v":0},null,{"$f":"IF(AND('Step 2 - Ornamental'!$AC$17=\"X\",BA208=\"X\"),1,0)","v":0},null,{"$f":"IF(AND('Step 2 - Ornamental'!$AA$22=\"X\",BC208=\"X\"),1,0)","v":0},null,{"$f":"IF(AND('Step 2 - Ornamental'!$AB$22=\"X\",BE208=\"X\"),1,0)","v":0},null,{"$f":"IF(AND('Step 2 - Ornamental'!$AC$22=\"X\",BG208=\"X\"),1,0)","v":0},"X",{"$f":"IF(AND('Step 2 - Ornamental'!$AD$22=\"X\",BI208=\"X\"),1,0)","v":0},"X",null,null,null,null,null,"Burnt Orange / 1.0' - 1.5'"]
[null,1,"AC MY","Achillea millefolium 'Desert Eve' 'Light Yellow'","Desert Eve Light Yellow Yarrow","18\" O.C.","compact growth and lighter flowers than Moonshine",null,"X","X","X",null,null,0,null,{"$f":"IF(AND('Step 2 - Ornamental'!$AA$21=\"X\",Q209=\"X\"),1,0)","v":0},"X",{"$f":"IF(AND('Step 2 - Ornamental'!$AB$21=\"X\",S209=\"X\"),1,0)","v":0},"X",{"$f":"IF(AND('Step 2 - Ornamental'!$AC$21=\"X\",U209=\"X\"),1,0)","v":0},"X",{"$f":"IF(AND('Step 2 - Ornamental'!$AA$19=\"X\",W209=\"X\"),1,0)","v":0},null,{"$f":"IF(AND('Step 2 - Ornamental'!$AA$19=\"X\",Y209=\"X\"),1,0)","v":0},"X",{"$f":"IF(AND('Step 2 - Ornamental'!$AB$19=\"X\",AA209=\"X\"),1,0)","v":0},null,{"$f":"IF(AND('Step 2 - Ornamental'!$AC$19=\"X\",AC209=\"X\"),1,0)","v":0},null,{"$f":"IF(AND('Step 2 - Ornamental'!$AA$20=\"X\",AE209=\"X\"),1,0)","v":0},null,{"$f":"IF(AND('Step 2 - Ornamental'!$AA$20=\"X\",AG209=\"X\"),1,0)","v":0},"X",{"$f":"IF(AND('Step 2 - Ornamental'!$AB$20=\"X\",AI209=\"X\"),1,0)","v":0},"X",{"$f":"IF(AND('Step 2 - Ornamental'!$AC$20=\"X\",AK209=\"X\"),1,0)","v":0},null,{"$f":"IF(AND('Step 2 - Ornamental'!$AA$18=\"X\",AM209=\"X\"),1,0)","v":0},"X",{"$f":"IF(AND('Step 2 - Ornamental'!$AB$18=\"X\",AO209=\"X\"),1,0)","v":0},"X",{"$f":"IF(AND('Step 2 - Ornamental'!$AC$18=\"X\",AQ209=\"X\"),1,0)","v":0},null,{"$f":"IF(AND('Step 2 - Ornamental'!$AD$18=\"X\",AS209=\"X\"),1,0)","v":0},null,{"$f":"IF(AND('Step 2 - Ornamental'!$AE$18=\"X\",AU209=\"X\"),1,0)","v":0},null,{"$f":"IF(AND('Step 2 - Ornamental'!$AA$17=\"X\",AW209=\"X\"),1,0)","v":0},"X",{"$f":"IF(AND('Step 2 - Ornamental'!$AB$17=\"X\",AY209=\"X\"),1,0)","v":0},"X",{"$f":"IF(AND('Step 2 - Ornamental'!$AC$17=\"X\",BA209=\"X\"),1,0)","v":0},null,{"$f":"IF(AND('Step 2 - Ornamental'!$AA$22=\"X\",BC209=\"X\"),1,0)","v":0},null,{"$f":"IF(AND('Step 2 - Ornamental'!$AB$22=\"X\",BE209=\"X\"),1,0)","v":0},"X",{"$f":"IF(AND('Step 2 - Ornamental'!$AC$22=\"X\",BG209=\"X\"),1,0)","v":0},"X",{"$f":"IF(AND('Step 2 - Ornamental'!$AD$22=\"X\",BI209=\"X\"),1,0)","v":0},"X",null,null,null,null,null,"Creamy Yellow / 1.0'-1.5'"]
[null,1,"AC MR","Achillea millefolium 'Desert Eve' 'Red Improved'","Desert Eve Red Improved Yarrow","18\" O.C.","compact growth, early flowering, brick red flowers",null,"X","X","X",null,null,0,null,{"$f":"IF(AND('Step 2 - Ornamental'!$AA$21=\"X\",Q210=\"X\"),1,0)","v":0},"X",{"$f":"IF(AND('Step 2 - Ornamental'!$AB$21=\"X\",S210=\"X\"),1,0)","v":0},"X",{"$f":"IF(AND('Step 2 - Ornamental'!$AC$21=\"X\",U210=\"X\"),1,0)","v":0},"X",{"$f":"IF(AND('Step 2 - Ornamental'!$AA$19=\"X\",W210=\"X\"),1,0)","v":0},null,{"$f":"IF(AND('Step 2 - Ornamental'!$AA$19=\"X\",Y210=\"X\"),1,0)","v":0},"X",{"$f":"IF(AND('Step 2 - Ornamental'!$AB$19=\"X\",AA210=\"X\"),1,0)","v":0},null,{"$f":"IF(AND('Step 2 - Ornamental'!$AC$19=\"X\",AC210=\"X\"),1,0)","v":0},null,{"$f":"IF(AND('Step 2 - Ornamental'!$AA$20=\"X\",AE210=\"X\"),1,0)","v":0},null,{"$f":"IF(AND('Step 2 - Ornamental'!$AA$20=\"X\",AG210=\"X\"),1,0)","v":0},"X",{"$f":"IF(AND('Step 2 - Ornamental'!$AB$20=\"X\",AI210=\"X\"),1,0)","v":0},"X",{"$f":"IF(AND('Step 2 - Ornamental'!$AC$20=\"X\",AK210=\"X\"),1,0)","v":0},null,{"$f":"IF(AND('Step 2 - Ornamental'!$AA$18=\"X\",AM210=\"X\"),1,0)","v":0},"X",{"$f":"IF(AND('Step 2 - Ornamental'!$AB$18=\"X\",AO210=\"X\"),1,0)","v":0},"X",{"$f":"IF(AND('Step 2 - Ornamental'!$AC$18=\"X\",AQ210=\"X\"),1,0)","v":0},null,{"$f":"IF(AND('Step 2 - Ornamental'!$AD$18=\"X\",AS210=\"X\"),1,0)","v":0},null,{"$f":"IF(AND('Step 2 - Ornamental'!$AE$18=\"X\",AU210=\"X\"),1,0)","v":0},null,{"$f":"IF(AND('Step 2 - Ornamental'!$AA$17=\"X\",AW210=\"X\"),1,0)","v":0},"X",{"$f":"IF(AND('Step 2 - Ornamental'!$AB$17=\"X\",AY210=\"X\"),1,0)","v":0},"X",{"$f":"IF(AND('Step 2 - Ornamental'!$AC$17=\"X\",BA210=\"X\"),1,0)","v":0},null,{"$f":"IF(AND('Step 2 - Ornamental'!$AA$22=\"X\",BC210=\"X\"),1,0)","v":0},null,{"$f":"IF(AND('Step 2 - Ornamental'!$AB$22=\"X\",BE210=\"X\"),1,0)","v":0},"X",{"$f":"IF(AND('Step 2 - Ornamental'!$AC$22=\"X\",BG210=\"X\"),1,0)","v":0},"X",{"$f":"IF(AND('Step 2 - Ornamental'!$AD$22=\"X\",BI210=\"X\"),1,0)","v":0},"X",null,null,null,null,null,"Brick Red / 1.0'-1.5'"]
[null,1,"AC IG","Achillea x 'Inca Gold'","Inca Gold Yarrow","24\" O.C.","Rust to Yellow flowers","X",null,null,"X",null,null,1,"X",{"$f":"IF(AND('Step 2 - Ornamental'!$AA$21=\"X\",Q211=\"X\"),1,0)","v":0},null,{"$f":"IF(AND('Step 2 - Ornamental'!$AB$21=\"X\",S211=\"X\"),1,0)","v":0},null,{"$f":"IF(AND('Step 2 - Ornamental'!$AC$21=\"X\",U211=\"X\"),1,0)","v":0},null,{"$f":"IF(AND('Step 2 - Ornamental'!$AA$19=\"X\",W211=\"X\"),1,0)","v":0},null,{"$f":"IF(AND('Step 2 - Ornamental'!$AA$19=\"X\",Y211=\"X\"),1,0)","v":0},"X",{"$f":"IF(AND('Step 2 - Ornamental'!$AB$19=\"X\",AA211=\"X\"),1,0)","v":0},null,{"$f":"IF(AND('Step 2 - Ornamental'!$AC$19=\"X\",AC211=\"X\"),1,0)","v":0},null,{"$f":"IF(AND('Step 2 - Ornamental'!$AA$20=\"X\",AE211=\"X\"),1,0)","v":0},"X",{"$f":"IF(AND('Step 2 - Ornamental'!$AA$20=\"X\",AG211=\"X\"),1,0)","v":0},null,{"$f":"IF(AND('Step 2 - Ornamental'!$AB$20=\"X\",AI211=\"X\"),1,0)","v":0},null,{"$f":"IF(AND('Step 2 - Ornamental'!$AC$20=\"X\",AK211=\"X\"),1,0)","v":0},null,{"$f":"IF(AND('Step 2 - Ornamental'!$AA$18=\"X\",AM211=\"X\"),1,0)","v":0},"X",{"$f":"IF(AND('Step 2 - Ornamental'!$AB$18=\"X\",AO211=\"X\"),1,0)","v":0},"X",{"$f":"IF(AND('Step 2 - Ornamental'!$AC$18=\"X\",AQ211=\"X\"),1,0)","v":0},null,{"$f":"IF(AND('Step 2 - Ornamental'!$AD$18=\"X\",AS211=\"X\"),1,0)","v":0},null,{"$f":"IF(AND('Step 2 - Ornamental'!$AE$18=\"X\",AU211=\"X\"),1,0)","v":0},null,{"$f":"IF(AND('Step 2 - Ornamental'!$AA$17=\"X\",AW211=\"X\"),1,0)","v":0},"X",{"$f":"IF(AND('Step 2 - Ornamental'!$AB$17=\"X\",AY211=\"X\"),1,0)","v":0},null,{"$f":"IF(AND('Step 2 - Ornamental'!$AC$17=\"X\",BA211=\"X\"),1,0)","v":0},null,{"$f":"IF(AND('Step 2 - Ornamental'!$AA$22=\"X\",BC211=\"X\"),1,0)","v":0},null,{"$f":"IF(AND('Step 2 - Ornamental'!$AB$22=\"X\",BE211=\"X\"),1,0)","v":0},null,{"$f":"IF(AND('Step 2 - Ornamental'!$AC$22=\"X\",BG211=\"X\"),1,0)","v":0},"X",{"$f":"IF(AND('Step 2 - Ornamental'!$AD$22=\"X\",BI211=\"X\"),1,0)","v":0},"X",null,null,null,null,null,"Yellow / 2.5'-3.0'"]
[null,1,"AC MO","Achillea x 'Moonshine'","Moonshine Yarrow","18\" O.C.","light yellow flowers","X",null,null,"X",null,null,0,null,{"$f":"IF(AND('Step 2 - Ornamental'!$AA$21=\"X\",Q212=\"X\"),1,0)","v":0},"X",{"$f":"IF(AND('Step 2 - Ornamental'!$AB$21=\"X\",S212=\"X\"),1,0)","v":0},"X",{"$f":"IF(AND('Step 2 - Ornamental'!$AC$21=\"X\",U212=\"X\"),1,0)","v":0},null,{"$f":"IF(AND('Step 2 - Ornamental'!$AA$19=\"X\",W212=\"X\"),1,0)","v":0},null,{"$f":"IF(AND('Step 2 - Ornamental'!$AA$19=\"X\",Y212=\"X\"),1,0)","v":0},"X",{"$f":"IF(AND('Step 2 - Ornamental'!$AB$19=\"X\",AA212=\"X\"),1,0)","v":0},null,{"$f":"IF(AND('Step 2 - Ornamental'!$AC$19=\"X\",AC212=\"X\"),1,0)","v":0},null,{"$f":"IF(AND('Step 2 - Ornamental'!$AA$20=\"X\",AE212=\"X\"),1,0)","v":0},"X",{"$f":"IF(AND('Step 2 - Ornamental'!$AA$20=\"X\",AG212=\"X\"),1,0)","v":0},null,{"$f":"IF(AND('Step 2 - Ornamental'!$AB$20=\"X\",AI212=\"X\"),1,0)","v":0},null,{"$f":"IF(AND('Step 2 - Ornamental'!$AC$20=\"X\",AK212=\"X\"),1,0)","v":0},null,{"$f":"IF(AND('Step 2 - Ornamental'!$AA$18=\"X\",AM212=\"X\"),1,0)","v":0},"X",{"$f":"IF(AND('Step 2 - Ornamental'!$AB$18=\"X\",AO212=\"X\"),1,0)","v":0},"X",{"$f":"IF(AND('Step 2 - Ornamental'!$AC$18=\"X\",AQ212=\"X\"),1,0)","v":0},null,{"$f":"IF(AND('Step 2 - Ornamental'!$AD$18=\"X\",AS212=\"X\"),1,0)","v":0},null,{"$f":"IF(AND('Step 2 - Ornamental'!$AE$18=\"X\",AU212=\"X\"),1,0)","v":0},null,{"$f":"IF(AND('Step 2 - Ornamental'!$AA$17=\"X\",AW212=\"X\"),1,0)","v":0},"X",{"$f":"IF(AND('Step 2 - Ornamental'!$AB$17=\"X\",AY212=\"X\"),1,0)","v":0},null,{"$f":"IF(AND('Step 2 - Ornamental'!$AC$17=\"X\",BA212=\"X\"),1,0)","v":0},null,{"$f":"IF(AND('Step 2 - Ornamental'!$AA$22=\"X\",BC212=\"X\"),1,0)","v":0},null,{"$f":"IF(AND('Step 2 - Ornamental'!$AB$22=\"X\",BE212=\"X\"),1,0)","v":0},null,{"$f":"IF(AND('Step 2 - Ornamental'!$AC$22=\"X\",BG212=\"X\"),1,0)","v":0},"X",{"$f":"IF(AND('Step 2 - Ornamental'!$AD$22=\"X\",BI212=\"X\"),1,0)","v":0},"X",null,null,null,null,null,"Yellow / 1.0'-3.0'"]
[null,1,"AC TO","Achillea tomentosa","Dwarf Yarrow / Woolly Yarrow","12\" O.C.","height to 12\", 6\" deep soil, self sowing","X",null,null,"X",null,null,0,null,{"$f":"IF(AND('Step 2 - Ornamental'!$AA$21=\"X\",Q213=\"X\"),1,0)","v":0},"X",{"$f":"IF(AND('Step 2 - Ornamental'!$AB$21=\"X\",S213=\"X\"),1,0)","v":0},"X",{"$f":"IF(AND('Step 2 - Ornamental'!$AC$21=\"X\",U213=\"X\"),1,0)","v":0},"X",{"$f":"IF(AND('Step 2 - Ornamental'!$AA$19=\"X\",W213=\"X\"),1,0)","v":0},null,{"$f":"IF(AND('Step 2 - Ornamental'!$AA$19=\"X\",Y213=\"X\"),1,0)","v":0},"X",{"$f":"IF(AND('Step 2 - Ornamental'!$AB$19=\"X\",AA213=\"X\"),1,0)","v":0},null,{"$f":"IF(AND('Step 2 - Ornamental'!$AC$19=\"X\",AC213=\"X\"),1,0)","v":0},null,{"$f":"IF(AND('Step 2 - Ornamental'!$AA$20=\"X\",AE213=\"X\"),1,0)","v":0},"X",{"$f":"IF(AND('Step 2 - Ornamental'!$AA$20=\"X\",AG213=\"X\"),1,0)","v":0},null,{"$f":"IF(AND('Step 2 - Ornamental'!$AB$20=\"X\",AI213=\"X\"),1,0)","v":0},null,{"$f":"IF(AND('Step 2 - Ornamental'!$AC$20=\"X\",AK213=\"X\"),1,0)","v":0},null,{"$f":"IF(AND('Step 2 - Ornamental'!$AA$18=\"X\",AM213=\"X\"),1,0)","v":0},"X",{"$f":"IF(AND('Step 2 - Ornamental'!$AB$18=\"X\",AO213=\"X\"),1,0)","v":0},"X",{"$f":"IF(AND('Step 2 - Ornamental'!$AC$18=\"X\",AQ213=\"X\"),1,0)","v":0},null,{"$f":"IF(AND('Step 2 - Ornamental'!$AD$18=\"X\",AS213=\"X\"),1,0)","v":0},null,{"$f":"IF(AND('Step 2 - Ornamental'!$AE$18=\"X\",AU213=\"X\"),1,0)","v":0},null,{"$f":"IF(AND('Step 2 - Ornamental'!$AA$17=\"X\",AW213=\"X\"),1,0)","v":0},"X",{"$f":"IF(AND('Step 2 - Ornamental'!$AB$17=\"X\",AY213=\"X\"),1,0)","v":0},null,{"$f":"IF(AND('Step 2 - Ornamental'!$AC$17=\"X\",BA213=\"X\"),1,0)","v":0},null,{"$f":"IF(AND('Step 2 - Ornamental'!$AA$22=\"X\",BC213=\"X\"),1,0)","v":0},null,{"$f":"IF(AND('Step 2 - Ornamental'!$AB$22=\"X\",BE213=\"X\"),1,0)","v":0},"X",{"$f":"IF(AND('Step 2 - Ornamental'!$AC$22=\"X\",BG213=\"X\"),1,0)","v":0},"X",{"$f":"IF(AND('Step 2 - Ornamental'!$AD$22=\"X\",BI213=\"X\"),1,0)","v":0},"X",null,null,null,null,null,"Yellow / 8\" "]
[null,1,"AC WF","Achillea x 'Walther Funcke'","Walther Funcke Yarrow","18\" O.C.","shorter variety, brick red flowers","X",null,null,"X",null,null,0,null,{"$f":"IF(AND('Step 2 - Ornamental'!$AA$21=\"X\",Q214=\"X\"),1,0)","v":0},"X",{"$f":"IF(AND('Step 2 - Ornamental'!$AB$21=\"X\",S214=\"X\"),1,0)","v":0},"X",{"$f":"IF(AND('Step 2 - Ornamental'!$AC$21=\"X\",U214=\"X\"),1,0)","v":0},null,{"$f":"IF(AND('Step 2 - Ornamental'!$AA$19=\"X\",W214=\"X\"),1,0)","v":0},null,{"$f":"IF(AND('Step 2 - Ornamental'!$AA$19=\"X\",Y214=\"X\"),1,0)","v":0},"X",{"$f":"IF(AND('Step 2 - Ornamental'!$AB$19=\"X\",AA214=\"X\"),1,0)","v":0},null,{"$f":"IF(AND('Step 2 - Ornamental'!$AC$19=\"X\",AC214=\"X\"),1,0)","v":0},null,{"$f":"IF(AND('Step 2 - Ornamental'!$AA$20=\"X\",AE214=\"X\"),1,0)","v":0},"X",{"$f":"IF(AND('Step 2 - Ornamental'!$AA$20=\"X\",AG214=\"X\"),1,0)","v":0},null,{"$f":"IF(AND('Step 2 - Ornamental'!$AB$20=\"X\",AI214=\"X\"),1,0)","v":0},null,{"$f":"IF(AND('Step 2 - Ornamental'!$AC$20=\"X\",AK214=\"X\"),1,0)","v":0},null,{"$f":"IF(AND('Step 2 - Ornamental'!$AA$18=\"X\",AM214=\"X\"),1,0)","v":0},"X",{"$f":"IF(AND('Step 2 - Ornamental'!$AB$18=\"X\",AO214=\"X\"),1,0)","v":0},"X",{"$f":"IF(AND('Step 2 - Ornamental'!$AC$18=\"X\",AQ214=\"X\"),1,0)","v":0},null,{"$f":"IF(AND('Step 2 - Ornamental'!$AD$18=\"X\",AS214=\"X\"),1,0)","v":0},null,{"$f":"IF(AND('Step 2 - Ornamental'!$AE$18=\"X\",AU214=\"X\"),1,0)","v":0},null,{"$f":"IF(AND('Step 2 - Ornamental'!$AA$17=\"X\",AW214=\"X\"),1,0)","v":0},"X",{"$f":"IF(AND('Step 2 - Ornamental'!$AB$17=\"X\",AY214=\"X\"),1,0)","v":0},null,{"$f":"IF(AND('Step 2 - Ornamental'!$AC$17=\"X\",BA214=\"X\"),1,0)","v":0},null,{"$f":"IF(AND('Step 2 - Ornamental'!$AA$22=\"X\",BC214=\"X\"),1,0)","v":0},null,{"$f":"IF(AND('Step 2 - Ornamental'!$AB$22=\"X\",BE214=\"X\"),1,0)","v":0},null,{"$f":"IF(AND('Step 2 - Ornamental'!$AC$22=\"X\",BG214=\"X\"),1,0)","v":0},"X",{"$f":"IF(AND('Step 2 - Ornamental'!$AD$22=\"X\",BI214=\"X\"),1,0)","v":0},"X",null,null,null,null,"Brick Red / 1.0'-3.0'"]
[null,1,"AG AL","Agastache albiflora (rugosa) 'Golden Jubilee'","Golden Jubilee Giant Hyssop","24\" O.C.","chartreuse foliage,","X",null,null,"X",null,null,0,null,{"$f":"IF(AND('Step 2 - Ornamental'!$AA$21=\"X\",Q215=\"X\"),1,0)","v":0},"X",{"$f":"IF(AND('Step 2 - Ornamental'!$AB$21=\"X\",S215=\"X\"),1,0)","v":0},"X",{"$f":"IF(AND('Step 2 - Ornamental'!$AC$21=\"X\",U215=\"X\"),1,0)","v":0},"X",{"$f":"IF(AND('Step 2 - Ornamental'!$AA$19=\"X\",W215=\"X\"),1,0)","v":0},null,{"$f":"IF(AND('Step 2 - Ornamental'!$AA$19=\"X\",Y215=\"X\"),1,0)","v":0},"X",{"$f":"IF(AND('Step 2 - Ornamental'!$AB$19=\"X\",AA215=\"X\"),1,0)","v":0},null,{"$f":"IF(AND('Step 2 - Ornamental'!$AC$19=\"X\",AC215=\"X\"),1,0)","v":0},null,{"$f":"IF(AND('Step 2 - Ornamental'!$AA$20=\"X\",AE215=\"X\"),1,0)","v":0},"X",{"$f":"IF(AND('Step 2 - Ornamental'!$AA$20=\"X\",AG215=\"X\"),1,0)","v":0},null,{"$f":"IF(AND('Step 2 - Ornamental'!$AB$20=\"X\",AI215=\"X\"),1,0)","v":0},null,{"$f":"IF(AND('Step 2 - Ornamental'!$AC$20=\"X\",AK215=\"X\"),1,0)","v":0},null,{"$f":"IF(AND('Step 2 - Ornamental'!$AA$18=\"X\",AM215=\"X\"),1,0)","v":0},"X",{"$f":"IF(AND('Step 2 - Ornamental'!$AB$18=\"X\",AO215=\"X\"),1,0)","v":0},"X",{"$f":"IF(AND('Step 2 - Ornamental'!$AC$18=\"X\",AQ215=\"X\"),1,0)","v":0},null,{"$f":"IF(AND('Step 2 - Ornamental'!$AD$18=\"X\",AS215=\"X\"),1,0)","v":0},null,{"$f":"IF(AND('Step 2 - Ornamental'!$AE$18=\"X\",AU215=\"X\"),1,0)","v":0},null,{"$f":"IF(AND('Step 2 - Ornamental'!$AA$17=\"X\",AW215=\"X\"),1,0)","v":0},"X",{"$f":"IF(AND('Step 2 - Ornamental'!$AB$17=\"X\",AY215=\"X\"),1,0)","v":0},"X",{"$f":"IF(AND('Step 2 - Ornamental'!$AC$17=\"X\",BA215=\"X\"),1,0)","v":0},null,{"$f":"IF(AND('Step 2 - Ornamental'!$AA$22=\"X\",BC215=\"X\"),1,0)","v":0},null,{"$f":"IF(AND('Step 2 - Ornamental'!$AB$22=\"X\",BE215=\"X\"),1,0)","v":0},null,{"$f":"IF(AND('Step 2 - Ornamental'!$AC$22=\"X\",BG215=\"X\"),1,0)","v":0},"X",{"$f":"IF(AND('Step 2 - Ornamental'!$AD$22=\"X\",BI215=\"X\"),1,0)","v":0},"X",null,null,null,null,null,null,"Lvndr-Blue / 2.0'-3.0' (chartreuse lvs)"]
[null,1,"AG FO","Agastache foeniculum","Anise Hyssop","24\" O.C.","Needs good drainage, may self seed, 2'-4' tall lavender flowers Jun-Sept, attracts butterflies"," ","X","X","X",null,null,0,null,{"$f":"IF(AND('Step 2 - Ornamental'!$AA$21=\"X\",Q216=\"X\"),1,0)","v":0},"X",{"$f":"IF(AND('Step 2 - Ornamental'!$AB$21=\"X\",S216=\"X\"),1,0)","v":0},"X",{"$f":"IF(AND('Step 2 - Ornamental'!$AC$21=\"X\",U216=\"X\"),1,0)","v":0},"X",{"$f":"IF(AND('Step 2 - Ornamental'!$AA$19=\"X\",W216=\"X\"),1,0)","v":0},null,{"$f":"IF(AND('Step 2 - Ornamental'!$AA$19=\"X\",Y216=\"X\"),1,0)","v":0},"X",{"$f":"IF(AND('Step 2 - Ornamental'!$AB$19=\"X\",AA216=\"X\"),1,0)","v":0},null,{"$f":"IF(AND('Step 2 - Ornamental'!$AC$19=\"X\",AC216=\"X\"),1,0)","v":0},null,{"$f":"IF(AND('Step 2 - Ornamental'!$AA$20=\"X\",AE216=\"X\"),1,0)","v":0},null,{"$f":"IF(AND('Step 2 - Ornamental'!$AA$20=\"X\",AG216=\"X\"),1,0)","v":0},"X",{"$f":"IF(AND('Step 2 - Ornamental'!$AB$20=\"X\",AI216=\"X\"),1,0)","v":0},null,{"$f":"IF(AND('Step 2 - Ornamental'!$AC$20=\"X\",AK216=\"X\"),1,0)","v":0},null,{"$f":"IF(AND('Step 2 - Ornamental'!$AA$18=\"X\",AM216=\"X\"),1,0)","v":0},"X",{"$f":"IF(AND('Step 2 - Ornamental'!$AB$18=\"X\",AO216=\"X\"),1,0)","v":0},"X",{"$f":"IF(AND('Step 2 - Ornamental'!$AC$18=\"X\",AQ216=\"X\"),1,0)","v":0},null,{"$f":"IF(AND('Step 2 - Ornamental'!$AD$18=\"X\",AS216=\"X\"),1,0)","v":0},null,{"$f":"IF(AND('Step 2 - Ornamental'!$AE$18=\"X\",AU216=\"X\"),1,0)","v":0},null,{"$f":"IF(AND('Step 2 - Ornamental'!$AA$17=\"X\",AW216=\"X\"),1,0)","v":0},"X",{"$f":"IF(AND('Step 2 - Ornamental'!$AB$17=\"X\",AY216=\"X\"),1,0)","v":0},"X",{"$f":"IF(AND('Step 2 - Ornamental'!$AC$17=\"X\",BA216=\"X\"),1,0)","v":0},null,{"$f":"IF(AND('Step 2 - Ornamental'!$AA$22=\"X\",BC216=\"X\"),1,0)","v":0},null,{"$f":"IF(AND('Step 2 - Ornamental'!$AB$22=\"X\",BE216=\"X\"),1,0)","v":0},null,{"$f":"IF(AND('Step 2 - Ornamental'!$AC$22=\"X\",BG216=\"X\"),1,0)","v":0},"X",{"$f":"IF(AND('Step 2 - Ornamental'!$AD$22=\"X\",BI216=\"X\"),1,0)","v":0},"X",null,null,null,null,null,"Lavender-Blue / 2.0'-4.0'"]
[null,1,"AG BF","Agastache foeniculum 'Blue Fortune'","Anise Hyssop","24\" O.C.","Better and more tightly packed flowers than species to 3' tall, attracts butterflies"," ","X","X","X",null,null,0,null,{"$f":"IF(AND('Step 2 - Ornamental'!$AA$21=\"X\",Q217=\"X\"),1,0)","v":0},"X",{"$f":"IF(AND('Step 2 - Ornamental'!$AB$21=\"X\",S217=\"X\"),1,0)","v":0},"X",{"$f":"IF(AND('Step 2 - Ornamental'!$AC$21=\"X\",U217=\"X\"),1,0)","v":0},"X",{"$f":"IF(AND('Step 2 - Ornamental'!$AA$19=\"X\",W217=\"X\"),1,0)","v":0},null,{"$f":"IF(AND('Step 2 - Ornamental'!$AA$19=\"X\",Y217=\"X\"),1,0)","v":0},"X",{"$f":"IF(AND('Step 2 - Ornamental'!$AB$19=\"X\",AA217=\"X\"),1,0)","v":0},null,{"$f":"IF(AND('Step 2 - Ornamental'!$AC$19=\"X\",AC217=\"X\"),1,0)","v":0},null,{"$f":"IF(AND('Step 2 - Ornamental'!$AA$20=\"X\",AE217=\"X\"),1,0)","v":0},null,{"$f":"IF(AND('Step 2 - Ornamental'!$AA$20=\"X\",AG217=\"X\"),1,0)","v":0},"X",{"$f":"IF(AND('Step 2 - Ornamental'!$AB$20=\"X\",AI217=\"X\"),1,0)","v":0},null,{"$f":"IF(AND('Step 2 - Ornamental'!$AC$20=\"X\",AK217=\"X\"),1,0)","v":0},null,{"$f":"IF(AND('Step 2 - Ornamental'!$AA$18=\"X\",AM217=\"X\"),1,0)","v":0},"X",{"$f":"IF(AND('Step 2 - Ornamental'!$AB$18=\"X\",AO217=\"X\"),1,0)","v":0},"X",{"$f":"IF(AND('Step 2 - Ornamental'!$AC$18=\"X\",AQ217=\"X\"),1,0)","v":0},null,{"$f":"IF(AND('Step 2 - Ornamental'!$AD$18=\"X\",AS217=\"X\"),1,0)","v":0},null,{"$f":"IF(AND('Step 2 - Ornamental'!$AE$18=\"X\",AU217=\"X\"),1,0)","v":0},null,{"$f":"IF(AND('Step 2 - Ornamental'!$AA$17=\"X\",AW217=\"X\"),1,0)","v":0},"X",{"$f":"IF(AND('Step 2 - Ornamental'!$AB$17=\"X\",AY217=\"X\"),1,0)","v":0},"X",{"$f":"IF(AND('Step 2 - Ornamental'!$AC$17=\"X\",BA217=\"X\"),1,0)","v":0},null,{"$f":"IF(AND('Step 2 - Ornamental'!$AA$22=\"X\",BC217=\"X\"),1,0)","v":0},null,{"$f":"IF(AND('Step 2 - Ornamental'!$AB$22=\"X\",BE217=\"X\"),1,0)","v":0},null,{"$f":"IF(AND('Step 2 - Ornamental'!$AC$22=\"X\",BG217=\"X\"),1,0)","v":0},"X",{"$f":"IF(AND('Step 2 - Ornamental'!$AD$22=\"X\",BI217=\"X\"),1,0)","v":0},"X",null,null,null,null,null,"Lavender-Blue / 2.0'-3.0'"]
[null,1,"AG KA","Agastache 'Kudos Ambrosia'","Kudos Ambrosia Dwarf Hummingbird Mint","16\" O.C.","17\" tall pinkish red blooms in summer to fall","X",null,null,"X",null,null,0,null,{"$f":"IF(AND('Step 2 - Ornamental'!$AA$21=\"X\",Q218=\"X\"),1,0)","v":0},"X",{"$f":"IF(AND('Step 2 - Ornamental'!$AB$21=\"X\",S218=\"X\"),1,0)","v":0},"X",{"$f":"IF(AND('Step 2 - Ornamental'!$AC$21=\"X\",U218=\"X\"),1,0)","v":0},"X",{"$f":"IF(AND('Step 2 - Ornamental'!$AA$19=\"X\",W218=\"X\"),1,0)","v":0},null,{"$f":"IF(AND('Step 2 - Ornamental'!$AA$19=\"X\",Y218=\"X\"),1,0)","v":0},"X",{"$f":"IF(AND('Step 2 - Ornamental'!$AB$19=\"X\",AA218=\"X\"),1,0)","v":0},null,{"$f":"IF(AND('Step 2 - Ornamental'!$AC$19=\"X\",AC218=\"X\"),1,0)","v":0},null,{"$f":"IF(AND('Step 2 - Ornamental'!$AA$20=\"X\",AE218=\"X\"),1,0)","v":0},"X",{"$f":"IF(AND('Step 2 - Ornamental'!$AA$20=\"X\",AG218=\"X\"),1,0)","v":0},null,{"$f":"IF(AND('Step 2 - Ornamental'!$AB$20=\"X\",AI218=\"X\"),1,0)","v":0},null,{"$f":"IF(AND('Step 2 - Ornamental'!$AC$20=\"X\",AK218=\"X\"),1,0)","v":0},null,{"$f":"IF(AND('Step 2 - Ornamental'!$AA$18=\"X\",AM218=\"X\"),1,0)","v":0},"X",{"$f":"IF(AND('Step 2 - Ornamental'!$AB$18=\"X\",AO218=\"X\"),1,0)","v":0},"X",{"$f":"IF(AND('Step 2 - Ornamental'!$AC$18=\"X\",AQ218=\"X\"),1,0)","v":0},null,{"$f":"IF(AND('Step 2 - Ornamental'!$AD$18=\"X\",AS218=\"X\"),1,0)","v":0},null,{"$f":"IF(AND('Step 2 - Ornamental'!$AE$18=\"X\",AU218=\"X\"),1,0)","v":0},null,{"$f":"IF(AND('Step 2 - Ornamental'!$AA$17=\"X\",AW218=\"X\"),1,0)","v":0},"X",{"$f":"IF(AND('Step 2 - Ornamental'!$AB$17=\"X\",AY218=\"X\"),1,0)","v":0},null,{"$f":"IF(AND('Step 2 - Ornamental'!$AC$17=\"X\",BA218=\"X\"),1,0)","v":0},null,{"$f":"IF(AND('Step 2 - Ornamental'!$AA$22=\"X\",BC218=\"X\"),1,0)","v":0},null,{"$f":"IF(AND('Step 2 - Ornamental'!$AB$22=\"X\",BE218=\"X\"),1,0)","v":0},null,{"$f":"IF(AND('Step 2 - Ornamental'!$AC$22=\"X\",BG218=\"X\"),1,0)","v":0},"X",{"$f":"IF(AND('Step 2 - Ornamental'!$AD$22=\"X\",BI218=\"X\"),1,0)","v":0},"X",null,null,null,null,null,"Orange to  Pink / 1.5'"]
[null,1,"AG NE","Agastache nepetoides","Yellow Giant Hyssop","24\" O.C.","Native, tall hyssop with yellow-green flowers at 4-6' tall in July-Sept.",null,"X","X","X",null,null,1,"X",{"$f":"IF(AND('Step 2 - Ornamental'!$AA$21=\"X\",Q219=\"X\"),1,0)","v":0},null,{"$f":"IF(AND('Step 2 - Ornamental'!$AB$21=\"X\",S219=\"X\"),1,0)","v":0},null,{"$f":"IF(AND('Step 2 - Ornamental'!$AC$21=\"X\",U219=\"X\"),1,0)","v":0},null,{"$f":"IF(AND('Step 2 - Ornamental'!$AA$19=\"X\",W219=\"X\"),1,0)","v":0},null,{"$f":"IF(AND('Step 2 - Ornamental'!$AA$19=\"X\",Y219=\"X\"),1,0)","v":0},"X",{"$f":"IF(AND('Step 2 - Ornamental'!$AB$19=\"X\",AA219=\"X\"),1,0)","v":0},null,{"$f":"IF(AND('Step 2 - Ornamental'!$AC$19=\"X\",AC219=\"X\"),1,0)","v":0},null,{"$f":"IF(AND('Step 2 - Ornamental'!$AA$20=\"X\",AE219=\"X\"),1,0)","v":0},"X",{"$f":"IF(AND('Step 2 - Ornamental'!$AA$20=\"X\",AG219=\"X\"),1,0)","v":0},null,{"$f":"IF(AND('Step 2 - Ornamental'!$AB$20=\"X\",AI219=\"X\"),1,0)","v":0},null,{"$f":"IF(AND('Step 2 - Ornamental'!$AC$20=\"X\",AK219=\"X\"),1,0)","v":0},null,{"$f":"IF(AND('Step 2 - Ornamental'!$AA$18=\"X\",AM219=\"X\"),1,0)","v":0},null,{"$f":"IF(AND('Step 2 - Ornamental'!$AB$18=\"X\",AO219=\"X\"),1,0)","v":0},"X",{"$f":"IF(AND('Step 2 - Ornamental'!$AC$18=\"X\",AQ219=\"X\"),1,0)","v":0},null,{"$f":"IF(AND('Step 2 - Ornamental'!$AD$18=\"X\",AS219=\"X\"),1,0)","v":0},null,{"$f":"IF(AND('Step 2 - Ornamental'!$AE$18=\"X\",AU219=\"X\"),1,0)","v":0},null,{"$f":"IF(AND('Step 2 - Ornamental'!$AA$17=\"X\",AW219=\"X\"),1,0)","v":0},"X",{"$f":"IF(AND('Step 2 - Ornamental'!$AB$17=\"X\",AY219=\"X\"),1,0)","v":0},"X",{"$f":"IF(AND('Step 2 - Ornamental'!$AC$17=\"X\",BA219=\"X\"),1,0)","v":0},null,{"$f":"IF(AND('Step 2 - Ornamental'!$AA$22=\"X\",BC219=\"X\"),1,0)","v":0},null,{"$f":"IF(AND('Step 2 - Ornamental'!$AB$22=\"X\",BE219=\"X\"),1,0)","v":0},null,{"$f":"IF(AND('Step 2 - Ornamental'!$AC$22=\"X\",BG219=\"X\"),1,0)","v":0},"X",{"$f":"IF(AND('Step 2 - Ornamental'!$AD$22=\"X\",BI219=\"X\"),1,0)","v":0},"X",null,null,null,null,null,null,"Greenish-yellow / 4.0'-6.0'"]
[null,1,"AG AL","Ageratina altissima 'Chocolate' (Eupatorium rugosum 'Chocolate')","Chocolate Joe-Pye","36\" O.C.","brown foliage, insignificant white flowers, better shade tolerance than other Eupatoriums"," ","X","X","X",null,null,0,null,{"$f":"IF(AND('Step 2 - Ornamental'!$AA$21=\"X\",Q220=\"X\"),1,0)","v":0},null,{"$f":"IF(AND('Step 2 - Ornamental'!$AB$21=\"X\",S220=\"X\"),1,0)","v":0},"X",{"$f":"IF(AND('Step 2 - Ornamental'!$AC$21=\"X\",U220=\"X\"),1,0)","v":0},"X",{"$f":"IF(AND('Step 2 - Ornamental'!$AA$19=\"X\",W220=\"X\"),1,0)","v":0},null,{"$f":"IF(AND('Step 2 - Ornamental'!$AA$19=\"X\",Y220=\"X\"),1,0)","v":0},"X",{"$f":"IF(AND('Step 2 - Ornamental'!$AB$19=\"X\",AA220=\"X\"),1,0)","v":0},null,{"$f":"IF(AND('Step 2 - Ornamental'!$AC$19=\"X\",AC220=\"X\"),1,0)","v":0},null,{"$f":"IF(AND('Step 2 - Ornamental'!$AA$20=\"X\",AE220=\"X\"),1,0)","v":0},"X",{"$f":"IF(AND('Step 2 - Ornamental'!$AA$20=\"X\",AG220=\"X\"),1,0)","v":0},null,{"$f":"IF(AND('Step 2 - Ornamental'!$AB$20=\"X\",AI220=\"X\"),1,0)","v":0},null,{"$f":"IF(AND('Step 2 - Ornamental'!$AC$20=\"X\",AK220=\"X\"),1,0)","v":0},null,{"$f":"IF(AND('Step 2 - Ornamental'!$AA$18=\"X\",AM220=\"X\"),1,0)","v":0},null,{"$f":"IF(AND('Step 2 - Ornamental'!$AB$18=\"X\",AO220=\"X\"),1,0)","v":0},"X",{"$f":"IF(AND('Step 2 - Ornamental'!$AC$18=\"X\",AQ220=\"X\"),1,0)","v":0},"X",{"$f":"IF(AND('Step 2 - Ornamental'!$AD$18=\"X\",AS220=\"X\"),1,0)","v":0},null,{"$f":"IF(AND('Step 2 - Ornamental'!$AE$18=\"X\",AU220=\"X\"),1,0)","v":0},null,{"$f":"IF(AND('Step 2 - Ornamental'!$AA$17=\"X\",AW220=\"X\"),1,0)","v":0},"X",{"$f":"IF(AND('Step 2 - Ornamental'!$AB$17=\"X\",AY220=\"X\"),1,0)","v":0},"X",{"$f":"IF(AND('Step 2 - Ornamental'!$AC$17=\"X\",BA220=\"X\"),1,0)","v":0},null,{"$f":"IF(AND('Step 2 - Ornamental'!$AA$22=\"X\",BC220=\"X\"),1,0)","v":0},null,{"$f":"IF(AND('Step 2 - Ornamental'!$AB$22=\"X\",BE220=\"X\"),1,0)","v":0},null,{"$f":"IF(AND('Step 2 - Ornamental'!$AC$22=\"X\",BG220=\"X\"),1,0)","v":0},"X",{"$f":"IF(AND('Step 2 - Ornamental'!$AD$22=\"X\",BI220=\"X\"),1,0)","v":0},"X",null,null,null,null,null,null,"White  w/ dark purple foliage / 3.0'-4.0' "]
[null,1,"AL MO","Alchemilla mollis 'Thriller'","Thriller Lady's Mantle","24\" O.C.","slightly larger variety than species w/ bigger blooms, pair with CAMO","X",null,null,"X","X",null,1,"X",{"$f":"IF(AND('Step 2 - Ornamental'!$AA$21=\"X\",Q221=\"X\"),1,0)","v":0},null,{"$f":"IF(AND('Step 2 - Ornamental'!$AB$21=\"X\",S221=\"X\"),1,0)","v":0},null,{"$f":"IF(AND('Step 2 - Ornamental'!$AC$21=\"X\",U221=\"X\"),1,0)","v":0},null,{"$f":"IF(AND('Step 2 - Ornamental'!$AA$19=\"X\",W221=\"X\"),1,0)","v":0},null,{"$f":"IF(AND('Step 2 - Ornamental'!$AA$19=\"X\",Y221=\"X\"),1,0)","v":0},"X",{"$f":"IF(AND('Step 2 - Ornamental'!$AB$19=\"X\",AA221=\"X\"),1,0)","v":0},null,{"$f":"IF(AND('Step 2 - Ornamental'!$AC$19=\"X\",AC221=\"X\"),1,0)","v":0},null,{"$f":"IF(AND('Step 2 - Ornamental'!$AA$20=\"X\",AE221=\"X\"),1,0)","v":0},"X",{"$f":"IF(AND('Step 2 - Ornamental'!$AA$20=\"X\",AG221=\"X\"),1,0)","v":0},null,{"$f":"IF(AND('Step 2 - Ornamental'!$AB$20=\"X\",AI221=\"X\"),1,0)","v":0},null,{"$f":"IF(AND('Step 2 - Ornamental'!$AC$20=\"X\",AK221=\"X\"),1,0)","v":0},null,{"$f":"IF(AND('Step 2 - Ornamental'!$AA$18=\"X\",AM221=\"X\"),1,0)","v":0},null,{"$f":"IF(AND('Step 2 - Ornamental'!$AB$18=\"X\",AO221=\"X\"),1,0)","v":0},"X",{"$f":"IF(AND('Step 2 - Ornamental'!$AC$18=\"X\",AQ221=\"X\"),1,0)","v":0},"X",{"$f":"IF(AND('Step 2 - Ornamental'!$AD$18=\"X\",AS221=\"X\"),1,0)","v":0},null,{"$f":"IF(AND('Step 2 - Ornamental'!$AE$18=\"X\",AU221=\"X\"),1,0)","v":0},null,{"$f":"IF(AND('Step 2 - Ornamental'!$AA$17=\"X\",AW221=\"X\"),1,0)","v":0},"X",{"$f":"IF(AND('Step 2 - Ornamental'!$AB$17=\"X\",AY221=\"X\"),1,0)","v":0},"X",{"$f":"IF(AND('Step 2 - Ornamental'!$AC$17=\"X\",BA221=\"X\"),1,0)","v":0}," ",{"$f":"IF(AND('Step 2 - Ornamental'!$AA$22=\"X\",BC221=\"X\"),1,0)","v":0},null,{"$f":"IF(AND('Step 2 - Ornamental'!$AB$22=\"X\",BE221=\"X\"),1,0)","v":0},null,{"$f":"IF(AND('Step 2 - Ornamental'!$AC$22=\"X\",BG221=\"X\"),1,0)","v":0},"X",{"$f":"IF(AND('Step 2 - Ornamental'!$AD$22=\"X\",BI221=\"X\"),1,0)","v":0},"X",null,null,null,null,null,"Chartreuse / 1.0'2.0'"]
[null,1,"AL CE","Allium cernuum","Nodding Wild Onion","12\" O.C.","pink flowers 12\" tall in June/August, will naturalize",null,"X","X","X",null,null,0,null,{"$f":"IF(AND('Step 2 - Ornamental'!$AA$21=\"X\",Q222=\"X\"),1,0)","v":0},null,{"$f":"IF(AND('Step 2 - Ornamental'!$AB$21=\"X\",S222=\"X\"),1,0)","v":0},"X",{"$f":"IF(AND('Step 2 - Ornamental'!$AC$21=\"X\",U222=\"X\"),1,0)","v":0},null,{"$f":"IF(AND('Step 2 - Ornamental'!$AA$19=\"X\",W222=\"X\"),1,0)","v":0},null,{"$f":"IF(AND('Step 2 - Ornamental'!$AA$19=\"X\",Y222=\"X\"),1,0)","v":0},"X",{"$f":"IF(AND('Step 2 - Ornamental'!$AB$19=\"X\",AA222=\"X\"),1,0)","v":0},"X",{"$f":"IF(AND('Step 2 - Ornamental'!$AC$19=\"X\",AC222=\"X\"),1,0)","v":0},null,{"$f":"IF(AND('Step 2 - Ornamental'!$AA$20=\"X\",AE222=\"X\"),1,0)","v":0},null,{"$f":"IF(AND('Step 2 - Ornamental'!$AA$20=\"X\",AG222=\"X\"),1,0)","v":0},"X",{"$f":"IF(AND('Step 2 - Ornamental'!$AB$20=\"X\",AI222=\"X\"),1,0)","v":0},null,{"$f":"IF(AND('Step 2 - Ornamental'!$AC$20=\"X\",AK222=\"X\"),1,0)","v":0},null,{"$f":"IF(AND('Step 2 - Ornamental'!$AA$18=\"X\",AM222=\"X\"),1,0)","v":0},"X",{"$f":"IF(AND('Step 2 - Ornamental'!$AB$18=\"X\",AO222=\"X\"),1,0)","v":0},"X",{"$f":"IF(AND('Step 2 - Ornamental'!$AC$18=\"X\",AQ222=\"X\"),1,0)","v":0},null,{"$f":"IF(AND('Step 2 - Ornamental'!$AD$18=\"X\",AS222=\"X\"),1,0)","v":0},null,{"$f":"IF(AND('Step 2 - Ornamental'!$AE$18=\"X\",AU222=\"X\"),1,0)","v":0},null,{"$f":"IF(AND('Step 2 - Ornamental'!$AA$17=\"X\",AW222=\"X\"),1,0)","v":0},"X",{"$f":"IF(AND('Step 2 - Ornamental'!$AB$17=\"X\",AY222=\"X\"),1,0)","v":0},"X",{"$f":"IF(AND('Step 2 - Ornamental'!$AC$17=\"X\",BA222=\"X\"),1,0)","v":0},null,{"$f":"IF(AND('Step 2 - Ornamental'!$AA$22=\"X\",BC222=\"X\"),1,0)","v":0},"X",{"$f":"IF(AND('Step 2 - Ornamental'!$AB$22=\"X\",BE222=\"X\"),1,0)","v":0},"X",{"$f":"IF(AND('Step 2 - Ornamental'!$AC$22=\"X\",BG222=\"X\"),1,0)","v":0},"X",{"$f":"IF(AND('Step 2 - Ornamental'!$AD$22=\"X\",BI222=\"X\"),1,0)","v":0},"X",null,null,null,null,null,"Pink / 0.25'-0.5'"]
[" ",1,"AL SB","Allium angulosum 'Summer Beauty' (Allium lusitanicum)","Summer Beauty Ornamental Chive","24\" O.C.","late summer flowers, good foliage","X",null,null,"X","X",null,0,null,{"$f":"IF(AND('Step 2 - Ornamental'!$AA$21=\"X\",Q223=\"X\"),1,0)","v":0},"X",{"$f":"IF(AND('Step 2 - Ornamental'!$AB$21=\"X\",S223=\"X\"),1,0)","v":0},"X",{"$f":"IF(AND('Step 2 - Ornamental'!$AC$21=\"X\",U223=\"X\"),1,0)","v":0},"X",{"$f":"IF(AND('Step 2 - Ornamental'!$AA$19=\"X\",W223=\"X\"),1,0)","v":0},null,{"$f":"IF(AND('Step 2 - Ornamental'!$AA$19=\"X\",Y223=\"X\"),1,0)","v":0},"X",{"$f":"IF(AND('Step 2 - Ornamental'!$AB$19=\"X\",AA223=\"X\"),1,0)","v":0},"X",{"$f":"IF(AND('Step 2 - Ornamental'!$AC$19=\"X\",AC223=\"X\"),1,0)","v":0},null,{"$f":"IF(AND('Step 2 - Ornamental'!$AA$20=\"X\",AE223=\"X\"),1,0)","v":0},"X",{"$f":"IF(AND('Step 2 - Ornamental'!$AA$20=\"X\",AG223=\"X\"),1,0)","v":0},null,{"$f":"IF(AND('Step 2 - Ornamental'!$AB$20=\"X\",AI223=\"X\"),1,0)","v":0},null,{"$f":"IF(AND('Step 2 - Ornamental'!$AC$20=\"X\",AK223=\"X\"),1,0)","v":0},null,{"$f":"IF(AND('Step 2 - Ornamental'!$AA$18=\"X\",AM223=\"X\"),1,0)","v":0},"X",{"$f":"IF(AND('Step 2 - Ornamental'!$AB$18=\"X\",AO223=\"X\"),1,0)","v":0},"X",{"$f":"IF(AND('Step 2 - Ornamental'!$AC$18=\"X\",AQ223=\"X\"),1,0)","v":0},null,{"$f":"IF(AND('Step 2 - Ornamental'!$AD$18=\"X\",AS223=\"X\"),1,0)","v":0},null,{"$f":"IF(AND('Step 2 - Ornamental'!$AE$18=\"X\",AU223=\"X\"),1,0)","v":0},null,{"$f":"IF(AND('Step 2 - Ornamental'!$AA$17=\"X\",AW223=\"X\"),1,0)","v":0},"X",{"$f":"IF(AND('Step 2 - Ornamental'!$AB$17=\"X\",AY223=\"X\"),1,0)","v":0},"X",{"$f":"IF(AND('Step 2 - Ornamental'!$AC$17=\"X\",BA223=\"X\"),1,0)","v":0},null,{"$f":"IF(AND('Step 2 - Ornamental'!$AA$22=\"X\",BC223=\"X\"),1,0)","v":0},null,{"$f":"IF(AND('Step 2 - Ornamental'!$AB$22=\"X\",BE223=\"X\"),1,0)","v":0},"X",{"$f":"IF(AND('Step 2 - Ornamental'!$AC$22=\"X\",BG223=\"X\"),1,0)","v":0},"X",{"$f":"IF(AND('Step 2 - Ornamental'!$AD$22=\"X\",BI223=\"X\"),1,0)","v":0},"X",null,null,null,null,null,"Lavender-pink /1.5'-2.0'"]
[null,1,"AL SE","Allium senescens subsp. Montanum var. glaucum","Blue Twister Onion","10\" O.C.","height to 8\", 4\" deep soil, self sowing","X",null,null,"X",null,null,0,null,{"$f":"IF(AND('Step 2 - Ornamental'!$AA$21=\"X\",Q224=\"X\"),1,0)","v":0},"X",{"$f":"IF(AND('Step 2 - Ornamental'!$AB$21=\"X\",S224=\"X\"),1,0)","v":0},"X",{"$f":"IF(AND('Step 2 - Ornamental'!$AC$21=\"X\",U224=\"X\"),1,0)","v":0},"X",{"$f":"IF(AND('Step 2 - Ornamental'!$AA$19=\"X\",W224=\"X\"),1,0)","v":0},null,{"$f":"IF(AND('Step 2 - Ornamental'!$AA$19=\"X\",Y224=\"X\"),1,0)","v":0},"X",{"$f":"IF(AND('Step 2 - Ornamental'!$AB$19=\"X\",AA224=\"X\"),1,0)","v":0},"X",{"$f":"IF(AND('Step 2 - Ornamental'!$AC$19=\"X\",AC224=\"X\"),1,0)","v":0},null,{"$f":"IF(AND('Step 2 - Ornamental'!$AA$20=\"X\",AE224=\"X\"),1,0)","v":0},"X",{"$f":"IF(AND('Step 2 - Ornamental'!$AA$20=\"X\",AG224=\"X\"),1,0)","v":0},null,{"$f":"IF(AND('Step 2 - Ornamental'!$AB$20=\"X\",AI224=\"X\"),1,0)","v":0},null,{"$f":"IF(AND('Step 2 - Ornamental'!$AC$20=\"X\",AK224=\"X\"),1,0)","v":0},null,{"$f":"IF(AND('Step 2 - Ornamental'!$AA$18=\"X\",AM224=\"X\"),1,0)","v":0},"X",{"$f":"IF(AND('Step 2 - Ornamental'!$AB$18=\"X\",AO224=\"X\"),1,0)","v":0},null,{"$f":"IF(AND('Step 2 - Ornamental'!$AC$18=\"X\",AQ224=\"X\"),1,0)","v":0},null,{"$f":"IF(AND('Step 2 - Ornamental'!$AD$18=\"X\",AS224=\"X\"),1,0)","v":0},null,{"$f":"IF(AND('Step 2 - Ornamental'!$AE$18=\"X\",AU224=\"X\"),1,0)","v":0},null,{"$f":"IF(AND('Step 2 - Ornamental'!$AA$17=\"X\",AW224=\"X\"),1,0)","v":0},"X",{"$f":"IF(AND('Step 2 - Ornamental'!$AB$17=\"X\",AY224=\"X\"),1,0)","v":0},null,{"$f":"IF(AND('Step 2 - Ornamental'!$AC$17=\"X\",BA224=\"X\"),1,0)","v":0},null,{"$f":"IF(AND('Step 2 - Ornamental'!$AA$22=\"X\",BC224=\"X\"),1,0)","v":0},"X",{"$f":"IF(AND('Step 2 - Ornamental'!$AB$22=\"X\",BE224=\"X\"),1,0)","v":0},"X",{"$f":"IF(AND('Step 2 - Ornamental'!$AC$22=\"X\",BG224=\"X\"),1,0)","v":0},"X",{"$f":"IF(AND('Step 2 - Ornamental'!$AD$22=\"X\",BI224=\"X\"),1,0)","v":0},"X",null,null,null,null,null,null,null,"Pink / 8\""]
[null,1,"AL SC","Allium schoenoprasum","Chives","10\" O.C.","pink/purple flowers in April-May to 18\" tall","X",null,null,"X",null,null,0,null,{"$f":"IF(AND('Step 2 - Ornamental'!$AA$21=\"X\",Q225=\"X\"),1,0)","v":0},"X",{"$f":"IF(AND('Step 2 - Ornamental'!$AB$21=\"X\",S225=\"X\"),1,0)","v":0},"X",{"$f":"IF(AND('Step 2 - Ornamental'!$AC$21=\"X\",U225=\"X\"),1,0)","v":0},"X",{"$f":"IF(AND('Step 2 - Ornamental'!$AA$19=\"X\",W225=\"X\"),1,0)","v":0},null,{"$f":"IF(AND('Step 2 - Ornamental'!$AA$19=\"X\",Y225=\"X\"),1,0)","v":0},"X",{"$f":"IF(AND('Step 2 - Ornamental'!$AB$19=\"X\",AA225=\"X\"),1,0)","v":0},"X",{"$f":"IF(AND('Step 2 - Ornamental'!$AC$19=\"X\",AC225=\"X\"),1,0)","v":0},null,{"$f":"IF(AND('Step 2 - Ornamental'!$AA$20=\"X\",AE225=\"X\"),1,0)","v":0},"X",{"$f":"IF(AND('Step 2 - Ornamental'!$AA$20=\"X\",AG225=\"X\"),1,0)","v":0},null,{"$f":"IF(AND('Step 2 - Ornamental'!$AB$20=\"X\",AI225=\"X\"),1,0)","v":0},null,{"$f":"IF(AND('Step 2 - Ornamental'!$AC$20=\"X\",AK225=\"X\"),1,0)","v":0},null,{"$f":"IF(AND('Step 2 - Ornamental'!$AA$18=\"X\",AM225=\"X\"),1,0)","v":0},null,{"$f":"IF(AND('Step 2 - Ornamental'!$AB$18=\"X\",AO225=\"X\"),1,0)","v":0},"X",{"$f":"IF(AND('Step 2 - Ornamental'!$AC$18=\"X\",AQ225=\"X\"),1,0)","v":0},null,{"$f":"IF(AND('Step 2 - Ornamental'!$AD$18=\"X\",AS225=\"X\"),1,0)","v":0},null,{"$f":"IF(AND('Step 2 - Ornamental'!$AE$18=\"X\",AU225=\"X\"),1,0)","v":0},null,{"$f":"IF(AND('Step 2 - Ornamental'!$AA$17=\"X\",AW225=\"X\"),1,0)","v":0},"X",{"$f":"IF(AND('Step 2 - Ornamental'!$AB$17=\"X\",AY225=\"X\"),1,0)","v":0},"X",{"$f":"IF(AND('Step 2 - Ornamental'!$AC$17=\"X\",BA225=\"X\"),1,0)","v":0},null,{"$f":"IF(AND('Step 2 - Ornamental'!$AA$22=\"X\",BC225=\"X\"),1,0)","v":0},"X",{"$f":"IF(AND('Step 2 - Ornamental'!$AB$22=\"X\",BE225=\"X\"),1,0)","v":0},"X",{"$f":"IF(AND('Step 2 - Ornamental'!$AC$22=\"X\",BG225=\"X\"),1,0)","v":0},"X",{"$f":"IF(AND('Step 2 - Ornamental'!$AD$22=\"X\",BI225=\"X\"),1,0)","v":0},"X",null,null,null,"Purple / 1.0'-1.5'"]
[null,1,"AL ST","Allium stellatum","Prairie Onion","12\" O.C.","height to 12\", 6\" deep soil, self sowing",null,"X","X","X",null,null,0,null,{"$f":"IF(AND('Step 2 - Ornamental'!$AA$21=\"X\",Q226=\"X\"),1,0)","v":0},null,{"$f":"IF(AND('Step 2 - Ornamental'!$AB$21=\"X\",S226=\"X\"),1,0)","v":0},"X",{"$f":"IF(AND('Step 2 - Ornamental'!$AC$21=\"X\",U226=\"X\"),1,0)","v":0},"X",{"$f":"IF(AND('Step 2 - Ornamental'!$AA$19=\"X\",W226=\"X\"),1,0)","v":0},null,{"$f":"IF(AND('Step 2 - Ornamental'!$AA$19=\"X\",Y226=\"X\"),1,0)","v":0},"X",{"$f":"IF(AND('Step 2 - Ornamental'!$AB$19=\"X\",AA226=\"X\"),1,0)","v":0},"X",{"$f":"IF(AND('Step 2 - Ornamental'!$AC$19=\"X\",AC226=\"X\"),1,0)","v":0},null,{"$f":"IF(AND('Step 2 - Ornamental'!$AA$20=\"X\",AE226=\"X\"),1,0)","v":0},"X",{"$f":"IF(AND('Step 2 - Ornamental'!$AA$20=\"X\",AG226=\"X\"),1,0)","v":0},null,{"$f":"IF(AND('Step 2 - Ornamental'!$AB$20=\"X\",AI226=\"X\"),1,0)","v":0},null,{"$f":"IF(AND('Step 2 - Ornamental'!$AC$20=\"X\",AK226=\"X\"),1,0)","v":0},null,{"$f":"IF(AND('Step 2 - Ornamental'!$AA$18=\"X\",AM226=\"X\"),1,0)","v":0},"X",{"$f":"IF(AND('Step 2 - Ornamental'!$AB$18=\"X\",AO226=\"X\"),1,0)","v":0},"X",{"$f":"IF(AND('Step 2 - Ornamental'!$AC$18=\"X\",AQ226=\"X\"),1,0)","v":0},null,{"$f":"IF(AND('Step 2 - Ornamental'!$AD$18=\"X\",AS226=\"X\"),1,0)","v":0},null,{"$f":"IF(AND('Step 2 - Ornamental'!$AE$18=\"X\",AU226=\"X\"),1,0)","v":0},null,{"$f":"IF(AND('Step 2 - Ornamental'!$AA$17=\"X\",AW226=\"X\"),1,0)","v":0},"X",{"$f":"IF(AND('Step 2 - Ornamental'!$AB$17=\"X\",AY226=\"X\"),1,0)","v":0},null,{"$f":"IF(AND('Step 2 - Ornamental'!$AC$17=\"X\",BA226=\"X\"),1,0)","v":0},null,{"$f":"IF(AND('Step 2 - Ornamental'!$AA$22=\"X\",BC226=\"X\"),1,0)","v":0},null,{"$f":"IF(AND('Step 2 - Ornamental'!$AB$22=\"X\",BE226=\"X\"),1,0)","v":0},"X",{"$f":"IF(AND('Step 2 - Ornamental'!$AC$22=\"X\",BG226=\"X\"),1,0)","v":0},"X",{"$f":"IF(AND('Step 2 - Ornamental'!$AD$22=\"X\",BI226=\"X\"),1,0)","v":0},"X",null,null,null,null,null,null,"Reddish Pink / 16\" "]
[null,1,"AL TH","Allium thunbergii 'Ozawa'","Ozawa Ornamental Onion","10\" O.C.","red-violet flowers blooming Sept-Oct.","X",null,null,"X",null,null,0,null,{"$f":"IF(AND('Step 2 - Ornamental'!$AA$21=\"X\",Q227=\"X\"),1,0)","v":0},"X",{"$f":"IF(AND('Step 2 - Ornamental'!$AB$21=\"X\",S227=\"X\"),1,0)","v":0},"X",{"$f":"IF(AND('Step 2 - Ornamental'!$AC$21=\"X\",U227=\"X\"),1,0)","v":0},"X",{"$f":"IF(AND('Step 2 - Ornamental'!$AA$19=\"X\",W227=\"X\"),1,0)","v":0},null,{"$f":"IF(AND('Step 2 - Ornamental'!$AA$19=\"X\",Y227=\"X\"),1,0)","v":0},"X",{"$f":"IF(AND('Step 2 - Ornamental'!$AB$19=\"X\",AA227=\"X\"),1,0)","v":0},"X",{"$f":"IF(AND('Step 2 - Ornamental'!$AC$19=\"X\",AC227=\"X\"),1,0)","v":0},null,{"$f":"IF(AND('Step 2 - Ornamental'!$AA$20=\"X\",AE227=\"X\"),1,0)","v":0},"X",{"$f":"IF(AND('Step 2 - Ornamental'!$AA$20=\"X\",AG227=\"X\"),1,0)","v":0},null,{"$f":"IF(AND('Step 2 - Ornamental'!$AB$20=\"X\",AI227=\"X\"),1,0)","v":0},null,{"$f":"IF(AND('Step 2 - Ornamental'!$AC$20=\"X\",AK227=\"X\"),1,0)","v":0},null,{"$f":"IF(AND('Step 2 - Ornamental'!$AA$18=\"X\",AM227=\"X\"),1,0)","v":0},"X",{"$f":"IF(AND('Step 2 - Ornamental'!$AB$18=\"X\",AO227=\"X\"),1,0)","v":0},"X",{"$f":"IF(AND('Step 2 - Ornamental'!$AC$18=\"X\",AQ227=\"X\"),1,0)","v":0},null,{"$f":"IF(AND('Step 2 - Ornamental'!$AD$18=\"X\",AS227=\"X\"),1,0)","v":0},null,{"$f":"IF(AND('Step 2 - Ornamental'!$AE$18=\"X\",AU227=\"X\"),1,0)","v":0},null,{"$f":"IF(AND('Step 2 - Ornamental'!$AA$17=\"X\",AW227=\"X\"),1,0)","v":0},"X",{"$f":"IF(AND('Step 2 - Ornamental'!$AB$17=\"X\",AY227=\"X\"),1,0)","v":0},"X",{"$f":"IF(AND('Step 2 - Ornamental'!$AC$17=\"X\",BA227=\"X\"),1,0)","v":0},null,{"$f":"IF(AND('Step 2 - Ornamental'!$AA$22=\"X\",BC227=\"X\"),1,0)","v":0},null,{"$f":"IF(AND('Step 2 - Ornamental'!$AB$22=\"X\",BE227=\"X\"),1,0)","v":0},"X",{"$f":"IF(AND('Step 2 - Ornamental'!$AC$22=\"X\",BG227=\"X\"),1,0)","v":0},"X",{"$f":"IF(AND('Step 2 - Ornamental'!$AD$22=\"X\",BI227=\"X\"),1,0)","v":0},"X",null,null,null,null,null,null,null,null,"Red-violet / 0.75'-1.0'"]
[null,1,"AL MI","Allium x 'Millenium\"","Millenium Onion","18\" O.C.","Does self-seed somewhat, rose-purple blooms to 18\" in Jul-Aug","X",null,null,"X","X",null,1,"X",{"$f":"IF(AND('Step 2 - Ornamental'!$AA$21=\"X\",Q228=\"X\"),1,0)","v":0},null,{"$f":"IF(AND('Step 2 - Ornamental'!$AB$21=\"X\",S228=\"X\"),1,0)","v":0},null,{"$f":"IF(AND('Step 2 - Ornamental'!$AC$21=\"X\",U228=\"X\"),1,0)","v":0},null,{"$f":"IF(AND('Step 2 - Ornamental'!$AA$19=\"X\",W228=\"X\"),1,0)","v":0},"X",{"$f":"IF(AND('Step 2 - Ornamental'!$AA$19=\"X\",Y228=\"X\"),1,0)","v":0},null,{"$f":"IF(AND('Step 2 - Ornamental'!$AB$19=\"X\",AA228=\"X\"),1,0)","v":0},null,{"$f":"IF(AND('Step 2 - Ornamental'!$AC$19=\"X\",AC228=\"X\"),1,0)","v":0},null,{"$f":"IF(AND('Step 2 - Ornamental'!$AA$20=\"X\",AE228=\"X\"),1,0)","v":0},"X",{"$f":"IF(AND('Step 2 - Ornamental'!$AA$20=\"X\",AG228=\"X\"),1,0)","v":0},null,{"$f":"IF(AND('Step 2 - Ornamental'!$AB$20=\"X\",AI228=\"X\"),1,0)","v":0},null,{"$f":"IF(AND('Step 2 - Ornamental'!$AC$20=\"X\",AK228=\"X\"),1,0)","v":0},null,{"$f":"IF(AND('Step 2 - Ornamental'!$AA$18=\"X\",AM228=\"X\"),1,0)","v":0},"X",{"$f":"IF(AND('Step 2 - Ornamental'!$AB$18=\"X\",AO228=\"X\"),1,0)","v":0},"X",{"$f":"IF(AND('Step 2 - Ornamental'!$AC$18=\"X\",AQ228=\"X\"),1,0)","v":0},null,{"$f":"IF(AND('Step 2 - Ornamental'!$AD$18=\"X\",AS228=\"X\"),1,0)","v":0},null,{"$f":"IF(AND('Step 2 - Ornamental'!$AE$18=\"X\",AU228=\"X\"),1,0)","v":0},null,{"$f":"IF(AND('Step 2 - Ornamental'!$AA$17=\"X\",AW228=\"X\"),1,0)","v":0},"X",{"$f":"IF(AND('Step 2 - Ornamental'!$AB$17=\"X\",AY228=\"X\"),1,0)","v":0},"X",{"$f":"IF(AND('Step 2 - Ornamental'!$AC$17=\"X\",BA228=\"X\"),1,0)","v":0},null,{"$f":"IF(AND('Step 2 - Ornamental'!$AA$22=\"X\",BC228=\"X\"),1,0)","v":0},null,{"$f":"IF(AND('Step 2 - Ornamental'!$AB$22=\"X\",BE228=\"X\"),1,0)","v":0},"X",{"$f":"IF(AND('Step 2 - Ornamental'!$AC$22=\"X\",BG228=\"X\"),1,0)","v":0},"X",{"$f":"IF(AND('Step 2 - Ornamental'!$AD$22=\"X\",BI228=\"X\"),1,0)","v":0},"X",null,null,null,null,null,null,"Rose Purple / 1.0-1.5'"]
[null,1,"AM HU","Amsonia hubrichtii","Blue Star","24\" O.C.","Great fern-like foliage with narrow leaves, turns stunning yellow/orange in fall","X",null,null,"X",null,null,0,null,{"$f":"IF(AND('Step 2 - Ornamental'!$AA$21=\"X\",Q229=\"X\"),1,0)","v":0},null,{"$f":"IF(AND('Step 2 - Ornamental'!$AB$21=\"X\",S229=\"X\"),1,0)","v":0},"X",{"$f":"IF(AND('Step 2 - Ornamental'!$AC$21=\"X\",U229=\"X\"),1,0)","v":0},"X",{"$f":"IF(AND('Step 2 - Ornamental'!$AA$19=\"X\",W229=\"X\"),1,0)","v":0},null,{"$f":"IF(AND('Step 2 - Ornamental'!$AA$19=\"X\",Y229=\"X\"),1,0)","v":0},"X",{"$f":"IF(AND('Step 2 - Ornamental'!$AB$19=\"X\",AA229=\"X\"),1,0)","v":0},"X",{"$f":"IF(AND('Step 2 - Ornamental'!$AC$19=\"X\",AC229=\"X\"),1,0)","v":0},null,{"$f":"IF(AND('Step 2 - Ornamental'!$AA$20=\"X\",AE229=\"X\"),1,0)","v":0},"X",{"$f":"IF(AND('Step 2 - Ornamental'!$AA$20=\"X\",AG229=\"X\"),1,0)","v":0},null,{"$f":"IF(AND('Step 2 - Ornamental'!$AB$20=\"X\",AI229=\"X\"),1,0)","v":0},null,{"$f":"IF(AND('Step 2 - Ornamental'!$AC$20=\"X\",AK229=\"X\"),1,0)","v":0},null,{"$f":"IF(AND('Step 2 - Ornamental'!$AA$18=\"X\",AM229=\"X\"),1,0)","v":0}," ",{"$f":"IF(AND('Step 2 - Ornamental'!$AB$18=\"X\",AO229=\"X\"),1,0)","v":0},"X",{"$f":"IF(AND('Step 2 - Ornamental'!$AC$18=\"X\",AQ229=\"X\"),1,0)","v":0},null,{"$f":"IF(AND('Step 2 - Ornamental'!$AD$18=\"X\",AS229=\"X\"),1,0)","v":0},null,{"$f":"IF(AND('Step 2 - Ornamental'!$AE$18=\"X\",AU229=\"X\"),1,0)","v":0},null,{"$f":"IF(AND('Step 2 - Ornamental'!$AA$17=\"X\",AW229=\"X\"),1,0)","v":0},"X",{"$f":"IF(AND('Step 2 - Ornamental'!$AB$17=\"X\",AY229=\"X\"),1,0)","v":0},"X",{"$f":"IF(AND('Step 2 - Ornamental'!$AC$17=\"X\",BA229=\"X\"),1,0)","v":0},null,{"$f":"IF(AND('Step 2 - Ornamental'!$AA$22=\"X\",BC229=\"X\"),1,0)","v":0},null,{"$f":"IF(AND('Step 2 - Ornamental'!$AB$22=\"X\",BE229=\"X\"),1,0)","v":0},null,{"$f":"IF(AND('Step 2 - Ornamental'!$AC$22=\"X\",BG229=\"X\"),1,0)","v":0},"X",{"$f":"IF(AND('Step 2 - Ornamental'!$AD$22=\"X\",BI229=\"X\"),1,0)","v":0},"X",null,null,null,"Powdery-blue / 2.0'-3.0'"]
[null,1,"AM NS","Amsonia 'Northwind Select'","Northwind Select Amsonia","24\" O.C.","superior flowering cultivar of hubrichtii, narrow leaves, more cold hardy than hubrichtii"," ","X",null,"X",null,null,1,"X",{"$f":"IF(AND('Step 2 - Ornamental'!$AA$21=\"X\",Q230=\"X\"),1,0)","v":0},null,{"$f":"IF(AND('Step 2 - Ornamental'!$AB$21=\"X\",S230=\"X\"),1,0)","v":0},null,{"$f":"IF(AND('Step 2 - Ornamental'!$AC$21=\"X\",U230=\"X\"),1,0)","v":0},null,{"$f":"IF(AND('Step 2 - Ornamental'!$AA$19=\"X\",W230=\"X\"),1,0)","v":0},null,{"$f":"IF(AND('Step 2 - Ornamental'!$AA$19=\"X\",Y230=\"X\"),1,0)","v":0},"X",{"$f":"IF(AND('Step 2 - Ornamental'!$AB$19=\"X\",AA230=\"X\"),1,0)","v":0},null,{"$f":"IF(AND('Step 2 - Ornamental'!$AC$19=\"X\",AC230=\"X\"),1,0)","v":0},null,{"$f":"IF(AND('Step 2 - Ornamental'!$AA$20=\"X\",AE230=\"X\"),1,0)","v":0},"X",{"$f":"IF(AND('Step 2 - Ornamental'!$AA$20=\"X\",AG230=\"X\"),1,0)","v":0},null,{"$f":"IF(AND('Step 2 - Ornamental'!$AB$20=\"X\",AI230=\"X\"),1,0)","v":0},null,{"$f":"IF(AND('Step 2 - Ornamental'!$AC$20=\"X\",AK230=\"X\"),1,0)","v":0},null,{"$f":"IF(AND('Step 2 - Ornamental'!$AA$18=\"X\",AM230=\"X\"),1,0)","v":0}," ",{"$f":"IF(AND('Step 2 - Ornamental'!$AB$18=\"X\",AO230=\"X\"),1,0)","v":0},"X",{"$f":"IF(AND('Step 2 - Ornamental'!$AC$18=\"X\",AQ230=\"X\"),1,0)","v":0},null,{"$f":"IF(AND('Step 2 - Ornamental'!$AD$18=\"X\",AS230=\"X\"),1,0)","v":0},null,{"$f":"IF(AND('Step 2 - Ornamental'!$AE$18=\"X\",AU230=\"X\"),1,0)","v":0},null,{"$f":"IF(AND('Step 2 - Ornamental'!$AA$17=\"X\",AW230=\"X\"),1,0)","v":0},"X",{"$f":"IF(AND('Step 2 - Ornamental'!$AB$17=\"X\",AY230=\"X\"),1,0)","v":0},"X",{"$f":"IF(AND('Step 2 - Ornamental'!$AC$17=\"X\",BA230=\"X\"),1,0)","v":0}," ",{"$f":"IF(AND('Step 2 - Ornamental'!$AA$22=\"X\",BC230=\"X\"),1,0)","v":0},null,{"$f":"IF(AND('Step 2 - Ornamental'!$AB$22=\"X\",BE230=\"X\"),1,0)","v":0},null,{"$f":"IF(AND('Step 2 - Ornamental'!$AC$22=\"X\",BG230=\"X\"),1,0)","v":0},"X",{"$f":"IF(AND('Step 2 - Ornamental'!$AD$22=\"X\",BI230=\"X\"),1,0)","v":0},"X",null,null,null,"Powdery-blue / 2.0'-3.0'"]
[null,1,"AM BI","Amsonia orientalis 'Blue Ice'","Blue Ice Blue Star","18\" O.C.","smaller than tabernaemontana with darker lavender blue flower, fat leaves"," ","X",null,"X",null,null,1,"X",{"$f":"IF(AND('Step 2 - Ornamental'!$AA$21=\"X\",Q231=\"X\"),1,0)","v":0},null,{"$f":"IF(AND('Step 2 - Ornamental'!$AB$21=\"X\",S231=\"X\"),1,0)","v":0},null,{"$f":"IF(AND('Step 2 - Ornamental'!$AC$21=\"X\",U231=\"X\"),1,0)","v":0},null,{"$f":"IF(AND('Step 2 - Ornamental'!$AA$19=\"X\",W231=\"X\"),1,0)","v":0},null,{"$f":"IF(AND('Step 2 - Ornamental'!$AA$19=\"X\",Y231=\"X\"),1,0)","v":0},"X",{"$f":"IF(AND('Step 2 - Ornamental'!$AB$19=\"X\",AA231=\"X\"),1,0)","v":0},null,{"$f":"IF(AND('Step 2 - Ornamental'!$AC$19=\"X\",AC231=\"X\"),1,0)","v":0},null,{"$f":"IF(AND('Step 2 - Ornamental'!$AA$20=\"X\",AE231=\"X\"),1,0)","v":0},"X",{"$f":"IF(AND('Step 2 - Ornamental'!$AA$20=\"X\",AG231=\"X\"),1,0)","v":0},null,{"$f":"IF(AND('Step 2 - Ornamental'!$AB$20=\"X\",AI231=\"X\"),1,0)","v":0},null,{"$f":"IF(AND('Step 2 - Ornamental'!$AC$20=\"X\",AK231=\"X\"),1,0)","v":0},null,{"$f":"IF(AND('Step 2 - Ornamental'!$AA$18=\"X\",AM231=\"X\"),1,0)","v":0}," ",{"$f":"IF(AND('Step 2 - Ornamental'!$AB$18=\"X\",AO231=\"X\"),1,0)","v":0},"X",{"$f":"IF(AND('Step 2 - Ornamental'!$AC$18=\"X\",AQ231=\"X\"),1,0)","v":0},null,{"$f":"IF(AND('Step 2 - Ornamental'!$AD$18=\"X\",AS231=\"X\"),1,0)","v":0},null,{"$f":"IF(AND('Step 2 - Ornamental'!$AE$18=\"X\",AU231=\"X\"),1,0)","v":0},null,{"$f":"IF(AND('Step 2 - Ornamental'!$AA$17=\"X\",AW231=\"X\"),1,0)","v":0},"X",{"$f":"IF(AND('Step 2 - Ornamental'!$AB$17=\"X\",AY231=\"X\"),1,0)","v":0},"X",{"$f":"IF(AND('Step 2 - Ornamental'!$AC$17=\"X\",BA231=\"X\"),1,0)","v":0}," ",{"$f":"IF(AND('Step 2 - Ornamental'!$AA$22=\"X\",BC231=\"X\"),1,0)","v":0},null,{"$f":"IF(AND('Step 2 - Ornamental'!$AB$22=\"X\",BE231=\"X\"),1,0)","v":0},null,{"$f":"IF(AND('Step 2 - Ornamental'!$AC$22=\"X\",BG231=\"X\"),1,0)","v":0},"X",{"$f":"IF(AND('Step 2 - Ornamental'!$AD$22=\"X\",BI231=\"X\"),1,0)","v":0},"X",null,null,null,null,"Dark Lavender-Blue / 1.0'-1.5'"]
[null,1,"AM TS","Amsonia tabernaemontana var. salicifolia","Blue Star","24\" O.C.","pale blue flowers with white throats, fat leaves",null,"X",null,"X",null,null,0,null,{"$f":"IF(AND('Step 2 - Ornamental'!$AA$21=\"X\",Q232=\"X\"),1,0)","v":0},"X",{"$f":"IF(AND('Step 2 - Ornamental'!$AB$21=\"X\",S232=\"X\"),1,0)","v":0},"X",{"$f":"IF(AND('Step 2 - Ornamental'!$AC$21=\"X\",U232=\"X\"),1,0)","v":0},"X",{"$f":"IF(AND('Step 2 - Ornamental'!$AA$19=\"X\",W232=\"X\"),1,0)","v":0},null,{"$f":"IF(AND('Step 2 - Ornamental'!$AA$19=\"X\",Y232=\"X\"),1,0)","v":0},"X",{"$f":"IF(AND('Step 2 - Ornamental'!$AB$19=\"X\",AA232=\"X\"),1,0)","v":0},null,{"$f":"IF(AND('Step 2 - Ornamental'!$AC$19=\"X\",AC232=\"X\"),1,0)","v":0},null,{"$f":"IF(AND('Step 2 - Ornamental'!$AA$20=\"X\",AE232=\"X\"),1,0)","v":0},"X",{"$f":"IF(AND('Step 2 - Ornamental'!$AA$20=\"X\",AG232=\"X\"),1,0)","v":0},null,{"$f":"IF(AND('Step 2 - Ornamental'!$AB$20=\"X\",AI232=\"X\"),1,0)","v":0},null,{"$f":"IF(AND('Step 2 - Ornamental'!$AC$20=\"X\",AK232=\"X\"),1,0)","v":0},null,{"$f":"IF(AND('Step 2 - Ornamental'!$AA$18=\"X\",AM232=\"X\"),1,0)","v":0},null,{"$f":"IF(AND('Step 2 - Ornamental'!$AB$18=\"X\",AO232=\"X\"),1,0)","v":0},"X",{"$f":"IF(AND('Step 2 - Ornamental'!$AC$18=\"X\",AQ232=\"X\"),1,0)","v":0},null,{"$f":"IF(AND('Step 2 - Ornamental'!$AD$18=\"X\",AS232=\"X\"),1,0)","v":0},null,{"$f":"IF(AND('Step 2 - Ornamental'!$AE$18=\"X\",AU232=\"X\"),1,0)","v":0},null,{"$f":"IF(AND('Step 2 - Ornamental'!$AA$17=\"X\",AW232=\"X\"),1,0)","v":0},"X",{"$f":"IF(AND('Step 2 - Ornamental'!$AB$17=\"X\",AY232=\"X\"),1,0)","v":0},"X",{"$f":"IF(AND('Step 2 - Ornamental'!$AC$17=\"X\",BA232=\"X\"),1,0)","v":0},null,{"$f":"IF(AND('Step 2 - Ornamental'!$AA$22=\"X\",BC232=\"X\"),1,0)","v":0},null,{"$f":"IF(AND('Step 2 - Ornamental'!$AB$22=\"X\",BE232=\"X\"),1,0)","v":0},null,{"$f":"IF(AND('Step 2 - Ornamental'!$AC$22=\"X\",BG232=\"X\"),1,0)","v":0},"X",{"$f":"IF(AND('Step 2 - Ornamental'!$AD$22=\"X\",BI232=\"X\"),1,0)","v":0},"X",null,null,null,null,"Pale Blue / 2.0'-3.0'"]
[null,1,"AN CA","Anemone canadensis","Meadow Anemone","24\" O.C.","white flower April-June, aggressive spreader, native",null,"X","X","X",null,null,0,null,{"$f":"IF(AND('Step 2 - Ornamental'!$AA$21=\"X\",Q233=\"X\"),1,0)","v":0},"X",{"$f":"IF(AND('Step 2 - Ornamental'!$AB$21=\"X\",S233=\"X\"),1,0)","v":0},"X",{"$f":"IF(AND('Step 2 - Ornamental'!$AC$21=\"X\",U233=\"X\"),1,0)","v":0},null,{"$f":"IF(AND('Step 2 - Ornamental'!$AA$19=\"X\",W233=\"X\"),1,0)","v":0},null,{"$f":"IF(AND('Step 2 - Ornamental'!$AA$19=\"X\",Y233=\"X\"),1,0)","v":0},"X",{"$f":"IF(AND('Step 2 - Ornamental'!$AB$19=\"X\",AA233=\"X\"),1,0)","v":0},null,{"$f":"IF(AND('Step 2 - Ornamental'!$AC$19=\"X\",AC233=\"X\"),1,0)","v":0},null,{"$f":"IF(AND('Step 2 - Ornamental'!$AA$20=\"X\",AE233=\"X\"),1,0)","v":0},null,{"$f":"IF(AND('Step 2 - Ornamental'!$AA$20=\"X\",AG233=\"X\"),1,0)","v":0},"X",{"$f":"IF(AND('Step 2 - Ornamental'!$AB$20=\"X\",AI233=\"X\"),1,0)","v":0},"X",{"$f":"IF(AND('Step 2 - Ornamental'!$AC$20=\"X\",AK233=\"X\"),1,0)","v":0},null,{"$f":"IF(AND('Step 2 - Ornamental'!$AA$18=\"X\",AM233=\"X\"),1,0)","v":0},null,{"$f":"IF(AND('Step 2 - Ornamental'!$AB$18=\"X\",AO233=\"X\"),1,0)","v":0},"X",{"$f":"IF(AND('Step 2 - Ornamental'!$AC$18=\"X\",AQ233=\"X\"),1,0)","v":0},"X",{"$f":"IF(AND('Step 2 - Ornamental'!$AD$18=\"X\",AS233=\"X\"),1,0)","v":0},null,{"$f":"IF(AND('Step 2 - Ornamental'!$AE$18=\"X\",AU233=\"X\"),1,0)","v":0},null,{"$f":"IF(AND('Step 2 - Ornamental'!$AA$17=\"X\",AW233=\"X\"),1,0)","v":0},"X",{"$f":"IF(AND('Step 2 - Ornamental'!$AB$17=\"X\",AY233=\"X\"),1,0)","v":0},"X",{"$f":"IF(AND('Step 2 - Ornamental'!$AC$17=\"X\",BA233=\"X\"),1,0)","v":0},null,{"$f":"IF(AND('Step 2 - Ornamental'!$AA$22=\"X\",BC233=\"X\"),1,0)","v":0},null,{"$f":"IF(AND('Step 2 - Ornamental'!$AB$22=\"X\",BE233=\"X\"),1,0)","v":0},null,{"$f":"IF(AND('Step 2 - Ornamental'!$AC$22=\"X\",BG233=\"X\"),1,0)","v":0},"X",{"$f":"IF(AND('Step 2 - Ornamental'!$AD$22=\"X\",BI233=\"X\"),1,0)","v":0},"X",null,null,null,"White / 1.0'-2.0'"]
[" ",1,"AN SY","Anemone sylvestris","Snowdrop Windflower","10\" O.C.","white flower, 18\" tall, woodland spreader","X",null,null,"X","X",null,0,null,{"$f":"IF(AND('Step 2 - Ornamental'!$AA$21=\"X\",Q234=\"X\"),1,0)","v":0},"X",{"$f":"IF(AND('Step 2 - Ornamental'!$AB$21=\"X\",S234=\"X\"),1,0)","v":0},null,{"$f":"IF(AND('Step 2 - Ornamental'!$AC$21=\"X\",U234=\"X\"),1,0)","v":0},null,{"$f":"IF(AND('Step 2 - Ornamental'!$AA$19=\"X\",W234=\"X\"),1,0)","v":0},null,{"$f":"IF(AND('Step 2 - Ornamental'!$AA$19=\"X\",Y234=\"X\"),1,0)","v":0},"X",{"$f":"IF(AND('Step 2 - Ornamental'!$AB$19=\"X\",AA234=\"X\"),1,0)","v":0},null,{"$f":"IF(AND('Step 2 - Ornamental'!$AC$19=\"X\",AC234=\"X\"),1,0)","v":0},null,{"$f":"IF(AND('Step 2 - Ornamental'!$AA$20=\"X\",AE234=\"X\"),1,0)","v":0},"X",{"$f":"IF(AND('Step 2 - Ornamental'!$AA$20=\"X\",AG234=\"X\"),1,0)","v":0},null,{"$f":"IF(AND('Step 2 - Ornamental'!$AB$20=\"X\",AI234=\"X\"),1,0)","v":0},null,{"$f":"IF(AND('Step 2 - Ornamental'!$AC$20=\"X\",AK234=\"X\"),1,0)","v":0},null,{"$f":"IF(AND('Step 2 - Ornamental'!$AA$18=\"X\",AM234=\"X\"),1,0)","v":0},null,{"$f":"IF(AND('Step 2 - Ornamental'!$AB$18=\"X\",AO234=\"X\"),1,0)","v":0},"X",{"$f":"IF(AND('Step 2 - Ornamental'!$AC$18=\"X\",AQ234=\"X\"),1,0)","v":0},null,{"$f":"IF(AND('Step 2 - Ornamental'!$AD$18=\"X\",AS234=\"X\"),1,0)","v":0},null,{"$f":"IF(AND('Step 2 - Ornamental'!$AE$18=\"X\",AU234=\"X\"),1,0)","v":0},null,{"$f":"IF(AND('Step 2 - Ornamental'!$AA$17=\"X\",AW234=\"X\"),1,0)","v":0},null,{"$f":"IF(AND('Step 2 - Ornamental'!$AB$17=\"X\",AY234=\"X\"),1,0)","v":0},"X",{"$f":"IF(AND('Step 2 - Ornamental'!$AC$17=\"X\",BA234=\"X\"),1,0)","v":0},"X",{"$f":"IF(AND('Step 2 - Ornamental'!$AA$22=\"X\",BC234=\"X\"),1,0)","v":0},null,{"$f":"IF(AND('Step 2 - Ornamental'!$AB$22=\"X\",BE234=\"X\"),1,0)","v":0},null,{"$f":"IF(AND('Step 2 - Ornamental'!$AC$22=\"X\",BG234=\"X\"),1,0)","v":0},"X",{"$f":"IF(AND('Step 2 - Ornamental'!$AD$22=\"X\",BI234=\"X\"),1,0)","v":0},"X",null,null,null,"White / 2.0'-3.0'"]
[" ",1,"AN TO","Anemone tomentosa 'Robustissima'","Grapeleaf Anemone","24\" O.C.","pink flowers, needs moist soils, blooms in Fall","X",null,null,"X","X",null,0,null,{"$f":"IF(AND('Step 2 - Ornamental'!$AA$21=\"X\",Q235=\"X\"),1,0)","v":0},"X",{"$f":"IF(AND('Step 2 - Ornamental'!$AB$21=\"X\",S235=\"X\"),1,0)","v":0},null,{"$f":"IF(AND('Step 2 - Ornamental'!$AC$21=\"X\",U235=\"X\"),1,0)","v":0},null,{"$f":"IF(AND('Step 2 - Ornamental'!$AA$19=\"X\",W235=\"X\"),1,0)","v":0},null,{"$f":"IF(AND('Step 2 - Ornamental'!$AA$19=\"X\",Y235=\"X\"),1,0)","v":0},"X",{"$f":"IF(AND('Step 2 - Ornamental'!$AB$19=\"X\",AA235=\"X\"),1,0)","v":0},null,{"$f":"IF(AND('Step 2 - Ornamental'!$AC$19=\"X\",AC235=\"X\"),1,0)","v":0},null,{"$f":"IF(AND('Step 2 - Ornamental'!$AA$20=\"X\",AE235=\"X\"),1,0)","v":0},"X",{"$f":"IF(AND('Step 2 - Ornamental'!$AA$20=\"X\",AG235=\"X\"),1,0)","v":0},null,{"$f":"IF(AND('Step 2 - Ornamental'!$AB$20=\"X\",AI235=\"X\"),1,0)","v":0},null,{"$f":"IF(AND('Step 2 - Ornamental'!$AC$20=\"X\",AK235=\"X\"),1,0)","v":0},null,{"$f":"IF(AND('Step 2 - Ornamental'!$AA$18=\"X\",AM235=\"X\"),1,0)","v":0},null,{"$f":"IF(AND('Step 2 - Ornamental'!$AB$18=\"X\",AO235=\"X\"),1,0)","v":0},"X",{"$f":"IF(AND('Step 2 - Ornamental'!$AC$18=\"X\",AQ235=\"X\"),1,0)","v":0},"X",{"$f":"IF(AND('Step 2 - Ornamental'!$AD$18=\"X\",AS235=\"X\"),1,0)","v":0},null,{"$f":"IF(AND('Step 2 - Ornamental'!$AE$18=\"X\",AU235=\"X\"),1,0)","v":0},null,{"$f":"IF(AND('Step 2 - Ornamental'!$AA$17=\"X\",AW235=\"X\"),1,0)","v":0},"X",{"$f":"IF(AND('Step 2 - Ornamental'!$AB$17=\"X\",AY235=\"X\"),1,0)","v":0},"X",{"$f":"IF(AND('Step 2 - Ornamental'!$AC$17=\"X\",BA235=\"X\"),1,0)","v":0},null,{"$f":"IF(AND('Step 2 - Ornamental'!$AA$22=\"X\",BC235=\"X\"),1,0)","v":0},null,{"$f":"IF(AND('Step 2 - Ornamental'!$AB$22=\"X\",BE235=\"X\"),1,0)","v":0},null,{"$f":"IF(AND('Step 2 - Ornamental'!$AC$22=\"X\",BG235=\"X\"),1,0)","v":0},"X",{"$f":"IF(AND('Step 2 - Ornamental'!$AD$22=\"X\",BI235=\"X\"),1,0)","v":0},"X",null,null,null,null,null,null,null,null,"Pink /  3.0'-4.0'"]
[null,1,"AN RA","Anthericum ramosum","Branched St. Benard Lily",null,"Starry white flowers to 3' tall in Jun-Aug, likes rich soils","X",null,null,null,null,null,0,null,{"$f":"IF(AND('Step 2 - Ornamental'!$AA$21=\"X\",Q236=\"X\"),1,0)","v":0},null,{"$f":"IF(AND('Step 2 - Ornamental'!$AB$21=\"X\",S236=\"X\"),1,0)","v":0},"X",{"$f":"IF(AND('Step 2 - Ornamental'!$AC$21=\"X\",U236=\"X\"),1,0)","v":0},"X",{"$f":"IF(AND('Step 2 - Ornamental'!$AA$19=\"X\",W236=\"X\"),1,0)","v":0},"X",{"$f":"IF(AND('Step 2 - Ornamental'!$AA$19=\"X\",Y236=\"X\"),1,0)","v":0},null,{"$f":"IF(AND('Step 2 - Ornamental'!$AB$19=\"X\",AA236=\"X\"),1,0)","v":0},null,{"$f":"IF(AND('Step 2 - Ornamental'!$AC$19=\"X\",AC236=\"X\"),1,0)","v":0},null,{"$f":"IF(AND('Step 2 - Ornamental'!$AA$20=\"X\",AE236=\"X\"),1,0)","v":0},"X",{"$f":"IF(AND('Step 2 - Ornamental'!$AA$20=\"X\",AG236=\"X\"),1,0)","v":0},null,{"$f":"IF(AND('Step 2 - Ornamental'!$AB$20=\"X\",AI236=\"X\"),1,0)","v":0},null,{"$f":"IF(AND('Step 2 - Ornamental'!$AC$20=\"X\",AK236=\"X\"),1,0)","v":0},null,{"$f":"IF(AND('Step 2 - Ornamental'!$AA$18=\"X\",AM236=\"X\"),1,0)","v":0},"X",{"$f":"IF(AND('Step 2 - Ornamental'!$AB$18=\"X\",AO236=\"X\"),1,0)","v":0},"X",{"$f":"IF(AND('Step 2 - Ornamental'!$AC$18=\"X\",AQ236=\"X\"),1,0)","v":0},null,{"$f":"IF(AND('Step 2 - Ornamental'!$AD$18=\"X\",AS236=\"X\"),1,0)","v":0},null,{"$f":"IF(AND('Step 2 - Ornamental'!$AE$18=\"X\",AU236=\"X\"),1,0)","v":0},null,{"$f":"IF(AND('Step 2 - Ornamental'!$AA$17=\"X\",AW236=\"X\"),1,0)","v":0},"X",{"$f":"IF(AND('Step 2 - Ornamental'!$AB$17=\"X\",AY236=\"X\"),1,0)","v":0},"X",{"$f":"IF(AND('Step 2 - Ornamental'!$AC$17=\"X\",BA236=\"X\"),1,0)","v":0},null,{"$f":"IF(AND('Step 2 - Ornamental'!$AA$22=\"X\",BC236=\"X\"),1,0)","v":0},null,{"$f":"IF(AND('Step 2 - Ornamental'!$AB$22=\"X\",BE236=\"X\"),1,0)","v":0},null,{"$f":"IF(AND('Step 2 - Ornamental'!$AC$22=\"X\",BG236=\"X\"),1,0)","v":0},"X",{"$f":"IF(AND('Step 2 - Ornamental'!$AD$22=\"X\",BI236=\"X\"),1,0)","v":0},"X",null,null,null,null,null,"White / 1.0-2.5'"]
[null,1,"AQ CA","Aquilegia canadensis","Columbine","18\" O.C.","Good for naturalizing, reliable self-seeder, pink/red flowers in April-May"," ","X","X","X","X",null,0,null,{"$f":"IF(AND('Step 2 - Ornamental'!$AA$21=\"X\",Q237=\"X\"),1,0)","v":0},"X",{"$f":"IF(AND('Step 2 - Ornamental'!$AB$21=\"X\",S237=\"X\"),1,0)","v":0},"X",{"$f":"IF(AND('Step 2 - Ornamental'!$AC$21=\"X\",U237=\"X\"),1,0)","v":0},null,{"$f":"IF(AND('Step 2 - Ornamental'!$AA$19=\"X\",W237=\"X\"),1,0)","v":0},null,{"$f":"IF(AND('Step 2 - Ornamental'!$AA$19=\"X\",Y237=\"X\"),1,0)","v":0},"X",{"$f":"IF(AND('Step 2 - Ornamental'!$AB$19=\"X\",AA237=\"X\"),1,0)","v":0},null,{"$f":"IF(AND('Step 2 - Ornamental'!$AC$19=\"X\",AC237=\"X\"),1,0)","v":0},null,{"$f":"IF(AND('Step 2 - Ornamental'!$AA$20=\"X\",AE237=\"X\"),1,0)","v":0},null,{"$f":"IF(AND('Step 2 - Ornamental'!$AA$20=\"X\",AG237=\"X\"),1,0)","v":0},"X",{"$f":"IF(AND('Step 2 - Ornamental'!$AB$20=\"X\",AI237=\"X\"),1,0)","v":0},null,{"$f":"IF(AND('Step 2 - Ornamental'!$AC$20=\"X\",AK237=\"X\"),1,0)","v":0},null,{"$f":"IF(AND('Step 2 - Ornamental'!$AA$18=\"X\",AM237=\"X\"),1,0)","v":0},"X",{"$f":"IF(AND('Step 2 - Ornamental'!$AB$18=\"X\",AO237=\"X\"),1,0)","v":0},"X",{"$f":"IF(AND('Step 2 - Ornamental'!$AC$18=\"X\",AQ237=\"X\"),1,0)","v":0},null,{"$f":"IF(AND('Step 2 - Ornamental'!$AD$18=\"X\",AS237=\"X\"),1,0)","v":0},null,{"$f":"IF(AND('Step 2 - Ornamental'!$AE$18=\"X\",AU237=\"X\"),1,0)","v":0},null,{"$f":"IF(AND('Step 2 - Ornamental'!$AA$17=\"X\",AW237=\"X\"),1,0)","v":0}," ",{"$f":"IF(AND('Step 2 - Ornamental'!$AB$17=\"X\",AY237=\"X\"),1,0)","v":0},"X",{"$f":"IF(AND('Step 2 - Ornamental'!$AC$17=\"X\",BA237=\"X\"),1,0)","v":0},null,{"$f":"IF(AND('Step 2 - Ornamental'!$AA$22=\"X\",BC237=\"X\"),1,0)","v":0},null,{"$f":"IF(AND('Step 2 - Ornamental'!$AB$22=\"X\",BE237=\"X\"),1,0)","v":0},"X",{"$f":"IF(AND('Step 2 - Ornamental'!$AC$22=\"X\",BG237=\"X\"),1,0)","v":0},"X",{"$f":"IF(AND('Step 2 - Ornamental'!$AD$22=\"X\",BI237=\"X\"),1,0)","v":0},"X",null,null,null,"Red / 0.5'-2.5'"]
[null,1,"AR CO","Aralia cordata 'Sun King'","Japanese Spikenard","36\" O.C.","Large, back of border perennial, with yellow-green leaves for part-shade moist soils, Can naturalize, best grown in moist, fertile soils in part shade","X",null,null,"X",null,null,0,null,{"$f":"IF(AND('Step 2 - Ornamental'!$AA$21=\"X\",Q238=\"X\"),1,0)","v":0},"X",{"$f":"IF(AND('Step 2 - Ornamental'!$AB$21=\"X\",S238=\"X\"),1,0)","v":0},"X",{"$f":"IF(AND('Step 2 - Ornamental'!$AC$21=\"X\",U238=\"X\"),1,0)","v":0},"X",{"$f":"IF(AND('Step 2 - Ornamental'!$AA$19=\"X\",W238=\"X\"),1,0)","v":0},null,{"$f":"IF(AND('Step 2 - Ornamental'!$AA$19=\"X\",Y238=\"X\"),1,0)","v":0},"X",{"$f":"IF(AND('Step 2 - Ornamental'!$AB$19=\"X\",AA238=\"X\"),1,0)","v":0},null,{"$f":"IF(AND('Step 2 - Ornamental'!$AC$19=\"X\",AC238=\"X\"),1,0)","v":0},null,{"$f":"IF(AND('Step 2 - Ornamental'!$AA$20=\"X\",AE238=\"X\"),1,0)","v":0},"X",{"$f":"IF(AND('Step 2 - Ornamental'!$AA$20=\"X\",AG238=\"X\"),1,0)","v":0},null,{"$f":"IF(AND('Step 2 - Ornamental'!$AB$20=\"X\",AI238=\"X\"),1,0)","v":0},null,{"$f":"IF(AND('Step 2 - Ornamental'!$AC$20=\"X\",AK238=\"X\"),1,0)","v":0},null,{"$f":"IF(AND('Step 2 - Ornamental'!$AA$18=\"X\",AM238=\"X\"),1,0)","v":0},null,{"$f":"IF(AND('Step 2 - Ornamental'!$AB$18=\"X\",AO238=\"X\"),1,0)","v":0},"X",{"$f":"IF(AND('Step 2 - Ornamental'!$AC$18=\"X\",AQ238=\"X\"),1,0)","v":0},null,{"$f":"IF(AND('Step 2 - Ornamental'!$AD$18=\"X\",AS238=\"X\"),1,0)","v":0},null,{"$f":"IF(AND('Step 2 - Ornamental'!$AE$18=\"X\",AU238=\"X\"),1,0)","v":0},null,{"$f":"IF(AND('Step 2 - Ornamental'!$AA$17=\"X\",AW238=\"X\"),1,0)","v":0},null,{"$f":"IF(AND('Step 2 - Ornamental'!$AB$17=\"X\",AY238=\"X\"),1,0)","v":0},"X",{"$f":"IF(AND('Step 2 - Ornamental'!$AC$17=\"X\",BA238=\"X\"),1,0)","v":0},null,{"$f":"IF(AND('Step 2 - Ornamental'!$AA$22=\"X\",BC238=\"X\"),1,0)","v":0},null,{"$f":"IF(AND('Step 2 - Ornamental'!$AB$22=\"X\",BE238=\"X\"),1,0)","v":0},null,{"$f":"IF(AND('Step 2 - Ornamental'!$AC$22=\"X\",BG238=\"X\"),1,0)","v":0},"X",{"$f":"IF(AND('Step 2 - Ornamental'!$AD$22=\"X\",BI238=\"X\"),1,0)","v":0},"X",null,null,null,null,null,null,"White / 3.0'-6.0'"]
[null,1,"AR SC","Artemisia schmidtiana 'Nana'","Silvermound Artemisia","18\" O.C.","Foliage plant, Good for hot, dry sites, prune back hard when flowers appear","X",null,null,"X","X",null,0,null,{"$f":"IF(AND('Step 2 - Ornamental'!$AA$21=\"X\",Q239=\"X\"),1,0)","v":0},"X",{"$f":"IF(AND('Step 2 - Ornamental'!$AB$21=\"X\",S239=\"X\"),1,0)","v":0},"X",{"$f":"IF(AND('Step 2 - Ornamental'!$AC$21=\"X\",U239=\"X\"),1,0)","v":0},null,{"$f":"IF(AND('Step 2 - Ornamental'!$AA$19=\"X\",W239=\"X\"),1,0)","v":0},"X",{"$f":"IF(AND('Step 2 - Ornamental'!$AA$19=\"X\",Y239=\"X\"),1,0)","v":0},null,{"$f":"IF(AND('Step 2 - Ornamental'!$AB$19=\"X\",AA239=\"X\"),1,0)","v":0},null,{"$f":"IF(AND('Step 2 - Ornamental'!$AC$19=\"X\",AC239=\"X\"),1,0)","v":0},null,{"$f":"IF(AND('Step 2 - Ornamental'!$AA$20=\"X\",AE239=\"X\"),1,0)","v":0},"X",{"$f":"IF(AND('Step 2 - Ornamental'!$AA$20=\"X\",AG239=\"X\"),1,0)","v":0},null,{"$f":"IF(AND('Step 2 - Ornamental'!$AB$20=\"X\",AI239=\"X\"),1,0)","v":0},null,{"$f":"IF(AND('Step 2 - Ornamental'!$AC$20=\"X\",AK239=\"X\"),1,0)","v":0},null,{"$f":"IF(AND('Step 2 - Ornamental'!$AA$18=\"X\",AM239=\"X\"),1,0)","v":0},"X",{"$f":"IF(AND('Step 2 - Ornamental'!$AB$18=\"X\",AO239=\"X\"),1,0)","v":0},"X",{"$f":"IF(AND('Step 2 - Ornamental'!$AC$18=\"X\",AQ239=\"X\"),1,0)","v":0},null,{"$f":"IF(AND('Step 2 - Ornamental'!$AD$18=\"X\",AS239=\"X\"),1,0)","v":0},null,{"$f":"IF(AND('Step 2 - Ornamental'!$AE$18=\"X\",AU239=\"X\"),1,0)","v":0},null,{"$f":"IF(AND('Step 2 - Ornamental'!$AA$17=\"X\",AW239=\"X\"),1,0)","v":0},"X",{"$f":"IF(AND('Step 2 - Ornamental'!$AB$17=\"X\",AY239=\"X\"),1,0)","v":0},null,{"$f":"IF(AND('Step 2 - Ornamental'!$AC$17=\"X\",BA239=\"X\"),1,0)","v":0},null,{"$f":"IF(AND('Step 2 - Ornamental'!$AA$22=\"X\",BC239=\"X\"),1,0)","v":0},null,{"$f":"IF(AND('Step 2 - Ornamental'!$AB$22=\"X\",BE239=\"X\"),1,0)","v":0},null,{"$f":"IF(AND('Step 2 - Ornamental'!$AC$22=\"X\",BG239=\"X\"),1,0)","v":0},"X",{"$f":"IF(AND('Step 2 - Ornamental'!$AD$22=\"X\",BI239=\"X\"),1,0)","v":0},"X","Flowers Insignificant"]
[null,1,"AR LU","Artemisia ludoviciana 'Silver King'","White Sage","24\" O.C.","Foliage plant, Aggressive spreader, but not as aggressive as species, needs dry soil in full sun"," ","X","X","X","X",null,0,null,{"$f":"IF(AND('Step 2 - Ornamental'!$AA$21=\"X\",Q240=\"X\"),1,0)","v":0},null,{"$f":"IF(AND('Step 2 - Ornamental'!$AB$21=\"X\",S240=\"X\"),1,0)","v":0},"X",{"$f":"IF(AND('Step 2 - Ornamental'!$AC$21=\"X\",U240=\"X\"),1,0)","v":0},"X",{"$f":"IF(AND('Step 2 - Ornamental'!$AA$19=\"X\",W240=\"X\"),1,0)","v":0},null,{"$f":"IF(AND('Step 2 - Ornamental'!$AA$19=\"X\",Y240=\"X\"),1,0)","v":0},"X",{"$f":"IF(AND('Step 2 - Ornamental'!$AB$19=\"X\",AA240=\"X\"),1,0)","v":0},null,{"$f":"IF(AND('Step 2 - Ornamental'!$AC$19=\"X\",AC240=\"X\"),1,0)","v":0},null,{"$f":"IF(AND('Step 2 - Ornamental'!$AA$20=\"X\",AE240=\"X\"),1,0)","v":0},null,{"$f":"IF(AND('Step 2 - Ornamental'!$AA$20=\"X\",AG240=\"X\"),1,0)","v":0},"X",{"$f":"IF(AND('Step 2 - Ornamental'!$AB$20=\"X\",AI240=\"X\"),1,0)","v":0},"X",{"$f":"IF(AND('Step 2 - Ornamental'!$AC$20=\"X\",AK240=\"X\"),1,0)","v":0},null,{"$f":"IF(AND('Step 2 - Ornamental'!$AA$18=\"X\",AM240=\"X\"),1,0)","v":0},"X",{"$f":"IF(AND('Step 2 - Ornamental'!$AB$18=\"X\",AO240=\"X\"),1,0)","v":0},"X",{"$f":"IF(AND('Step 2 - Ornamental'!$AC$18=\"X\",AQ240=\"X\"),1,0)","v":0},null,{"$f":"IF(AND('Step 2 - Ornamental'!$AD$18=\"X\",AS240=\"X\"),1,0)","v":0},null,{"$f":"IF(AND('Step 2 - Ornamental'!$AE$18=\"X\",AU240=\"X\"),1,0)","v":0},null,{"$f":"IF(AND('Step 2 - Ornamental'!$AA$17=\"X\",AW240=\"X\"),1,0)","v":0},"X",{"$f":"IF(AND('Step 2 - Ornamental'!$AB$17=\"X\",AY240=\"X\"),1,0)","v":0},null,{"$f":"IF(AND('Step 2 - Ornamental'!$AC$17=\"X\",BA240=\"X\"),1,0)","v":0},null,{"$f":"IF(AND('Step 2 - Ornamental'!$AA$22=\"X\",BC240=\"X\"),1,0)","v":0},null,{"$f":"IF(AND('Step 2 - Ornamental'!$AB$22=\"X\",BE240=\"X\"),1,0)","v":0},"X",{"$f":"IF(AND('Step 2 - Ornamental'!$AC$22=\"X\",BG240=\"X\"),1,0)","v":0},"X",{"$f":"IF(AND('Step 2 - Ornamental'!$AD$22=\"X\",BI240=\"X\"),1,0)","v":0},"X","Flowers Insignificant"]
[null,1,"AR DI","Aruncus dioicus  ","Goat's Beard","36\" O.C.","Tall perennial (5') for moist soils in part shade, cream flowers in April/May"," ","X",null,null,"X",null,0,null,{"$f":"IF(AND('Step 2 - Ornamental'!$AA$21=\"X\",Q241=\"X\"),1,0)","v":0},"X",{"$f":"IF(AND('Step 2 - Ornamental'!$AB$21=\"X\",S241=\"X\"),1,0)","v":0},"X",{"$f":"IF(AND('Step 2 - Ornamental'!$AC$21=\"X\",U241=\"X\"),1,0)","v":0},"X",{"$f":"IF(AND('Step 2 - Ornamental'!$AA$19=\"X\",W241=\"X\"),1,0)","v":0},null,{"$f":"IF(AND('Step 2 - Ornamental'!$AA$19=\"X\",Y241=\"X\"),1,0)","v":0},"X",{"$f":"IF(AND('Step 2 - Ornamental'!$AB$19=\"X\",AA241=\"X\"),1,0)","v":0},null,{"$f":"IF(AND('Step 2 - Ornamental'!$AC$19=\"X\",AC241=\"X\"),1,0)","v":0},null,{"$f":"IF(AND('Step 2 - Ornamental'!$AA$20=\"X\",AE241=\"X\"),1,0)","v":0},"X",{"$f":"IF(AND('Step 2 - Ornamental'!$AA$20=\"X\",AG241=\"X\"),1,0)","v":0},null,{"$f":"IF(AND('Step 2 - Ornamental'!$AB$20=\"X\",AI241=\"X\"),1,0)","v":0},null,{"$f":"IF(AND('Step 2 - Ornamental'!$AC$20=\"X\",AK241=\"X\"),1,0)","v":0},null,{"$f":"IF(AND('Step 2 - Ornamental'!$AA$18=\"X\",AM241=\"X\"),1,0)","v":0},null,{"$f":"IF(AND('Step 2 - Ornamental'!$AB$18=\"X\",AO241=\"X\"),1,0)","v":0},"X",{"$f":"IF(AND('Step 2 - Ornamental'!$AC$18=\"X\",AQ241=\"X\"),1,0)","v":0},"X",{"$f":"IF(AND('Step 2 - Ornamental'!$AD$18=\"X\",AS241=\"X\"),1,0)","v":0},null,{"$f":"IF(AND('Step 2 - Ornamental'!$AE$18=\"X\",AU241=\"X\"),1,0)","v":0},null,{"$f":"IF(AND('Step 2 - Ornamental'!$AA$17=\"X\",AW241=\"X\"),1,0)","v":0},null,{"$f":"IF(AND('Step 2 - Ornamental'!$AB$17=\"X\",AY241=\"X\"),1,0)","v":0},"X",{"$f":"IF(AND('Step 2 - Ornamental'!$AC$17=\"X\",BA241=\"X\"),1,0)","v":0},null,{"$f":"IF(AND('Step 2 - Ornamental'!$AA$22=\"X\",BC241=\"X\"),1,0)","v":0},null,{"$f":"IF(AND('Step 2 - Ornamental'!$AB$22=\"X\",BE241=\"X\"),1,0)","v":0},null,{"$f":"IF(AND('Step 2 - Ornamental'!$AC$22=\"X\",BG241=\"X\"),1,0)","v":0},"X",{"$f":"IF(AND('Step 2 - Ornamental'!$AD$22=\"X\",BI241=\"X\"),1,0)","v":0},"X",null,null,null,"Cream / 4.0'-6.0'"]
[null,1,"AR HO","Aruncus hybrid 'Horatio'","Horatio Goat's Beard","36\" O.C.","Shorter (3') and more tolerant of hot conditions than species","X",null,null,null,null,null,0,null,{"$f":"IF(AND('Step 2 - Ornamental'!$AA$21=\"X\",Q242=\"X\"),1,0)","v":0},"X",{"$f":"IF(AND('Step 2 - Ornamental'!$AB$21=\"X\",S242=\"X\"),1,0)","v":0},"X",{"$f":"IF(AND('Step 2 - Ornamental'!$AC$21=\"X\",U242=\"X\"),1,0)","v":0},"X",{"$f":"IF(AND('Step 2 - Ornamental'!$AA$19=\"X\",W242=\"X\"),1,0)","v":0},null,{"$f":"IF(AND('Step 2 - Ornamental'!$AA$19=\"X\",Y242=\"X\"),1,0)","v":0},"X",{"$f":"IF(AND('Step 2 - Ornamental'!$AB$19=\"X\",AA242=\"X\"),1,0)","v":0},null,{"$f":"IF(AND('Step 2 - Ornamental'!$AC$19=\"X\",AC242=\"X\"),1,0)","v":0},null,{"$f":"IF(AND('Step 2 - Ornamental'!$AA$20=\"X\",AE242=\"X\"),1,0)","v":0},"X",{"$f":"IF(AND('Step 2 - Ornamental'!$AA$20=\"X\",AG242=\"X\"),1,0)","v":0},null,{"$f":"IF(AND('Step 2 - Ornamental'!$AB$20=\"X\",AI242=\"X\"),1,0)","v":0},null,{"$f":"IF(AND('Step 2 - Ornamental'!$AC$20=\"X\",AK242=\"X\"),1,0)","v":0},null,{"$f":"IF(AND('Step 2 - Ornamental'!$AA$18=\"X\",AM242=\"X\"),1,0)","v":0},null,{"$f":"IF(AND('Step 2 - Ornamental'!$AB$18=\"X\",AO242=\"X\"),1,0)","v":0},"X",{"$f":"IF(AND('Step 2 - Ornamental'!$AC$18=\"X\",AQ242=\"X\"),1,0)","v":0},"X",{"$f":"IF(AND('Step 2 - Ornamental'!$AD$18=\"X\",AS242=\"X\"),1,0)","v":0},null,{"$f":"IF(AND('Step 2 - Ornamental'!$AE$18=\"X\",AU242=\"X\"),1,0)","v":0},null,{"$f":"IF(AND('Step 2 - Ornamental'!$AA$17=\"X\",AW242=\"X\"),1,0)","v":0},null,{"$f":"IF(AND('Step 2 - Ornamental'!$AB$17=\"X\",AY242=\"X\"),1,0)","v":0},"X",{"$f":"IF(AND('Step 2 - Ornamental'!$AC$17=\"X\",BA242=\"X\"),1,0)","v":0},null,{"$f":"IF(AND('Step 2 - Ornamental'!$AA$22=\"X\",BC242=\"X\"),1,0)","v":0},null,{"$f":"IF(AND('Step 2 - Ornamental'!$AB$22=\"X\",BE242=\"X\"),1,0)","v":0},null,{"$f":"IF(AND('Step 2 - Ornamental'!$AC$22=\"X\",BG242=\"X\"),1,0)","v":0},"X",{"$f":"IF(AND('Step 2 - Ornamental'!$AD$22=\"X\",BI242=\"X\"),1,0)","v":0},"X",null,null,null,null,"Creamy-white / 2.0'-3.0'"]
[null,1,"AS CA","Asarum canadense","Wild Ginger","12\" O.C.","Native woodland groundcover that likes moist and acidic soils",null,"X","X","X",null,null,0,null,{"$f":"IF(AND('Step 2 - Ornamental'!$AA$21=\"X\",Q243=\"X\"),1,0)","v":0},"X",{"$f":"IF(AND('Step 2 - Ornamental'!$AB$21=\"X\",S243=\"X\"),1,0)","v":0},null,{"$f":"IF(AND('Step 2 - Ornamental'!$AC$21=\"X\",U243=\"X\"),1,0)","v":0},null,{"$f":"IF(AND('Step 2 - Ornamental'!$AA$19=\"X\",W243=\"X\"),1,0)","v":0},null,{"$f":"IF(AND('Step 2 - Ornamental'!$AA$19=\"X\",Y243=\"X\"),1,0)","v":0},"X",{"$f":"IF(AND('Step 2 - Ornamental'!$AB$19=\"X\",AA243=\"X\"),1,0)","v":0},null,{"$f":"IF(AND('Step 2 - Ornamental'!$AC$19=\"X\",AC243=\"X\"),1,0)","v":0},null,{"$f":"IF(AND('Step 2 - Ornamental'!$AA$20=\"X\",AE243=\"X\"),1,0)","v":0},null,{"$f":"IF(AND('Step 2 - Ornamental'!$AA$20=\"X\",AG243=\"X\"),1,0)","v":0},"X",{"$f":"IF(AND('Step 2 - Ornamental'!$AB$20=\"X\",AI243=\"X\"),1,0)","v":0},null,{"$f":"IF(AND('Step 2 - Ornamental'!$AC$20=\"X\",AK243=\"X\"),1,0)","v":0},null,{"$f":"IF(AND('Step 2 - Ornamental'!$AA$18=\"X\",AM243=\"X\"),1,0)","v":0},null,{"$f":"IF(AND('Step 2 - Ornamental'!$AB$18=\"X\",AO243=\"X\"),1,0)","v":0},"X",{"$f":"IF(AND('Step 2 - Ornamental'!$AC$18=\"X\",AQ243=\"X\"),1,0)","v":0},"X",{"$f":"IF(AND('Step 2 - Ornamental'!$AD$18=\"X\",AS243=\"X\"),1,0)","v":0},null,{"$f":"IF(AND('Step 2 - Ornamental'!$AE$18=\"X\",AU243=\"X\"),1,0)","v":0},null,{"$f":"IF(AND('Step 2 - Ornamental'!$AA$17=\"X\",AW243=\"X\"),1,0)","v":0},null,{"$f":"IF(AND('Step 2 - Ornamental'!$AB$17=\"X\",AY243=\"X\"),1,0)","v":0},"X",{"$f":"IF(AND('Step 2 - Ornamental'!$AC$17=\"X\",BA243=\"X\"),1,0)","v":0},"X",{"$f":"IF(AND('Step 2 - Ornamental'!$AA$22=\"X\",BC243=\"X\"),1,0)","v":0},null,{"$f":"IF(AND('Step 2 - Ornamental'!$AB$22=\"X\",BE243=\"X\"),1,0)","v":0},null,{"$f":"IF(AND('Step 2 - Ornamental'!$AC$22=\"X\",BG243=\"X\"),1,0)","v":0},"X",{"$f":"IF(AND('Step 2 - Ornamental'!$AD$22=\"X\",BI243=\"X\"),1,0)","v":0},"X","Flowers Insignificant"]
[null,1,"AS IN","Asclepias incarnata","Swamp Milkweed","24\" O.C.","taller and more tolerant of wet soil than tuberosa, pink flowers in July/Aug"," ","X","X","X",null,null,0,null,{"$f":"IF(AND('Step 2 - Ornamental'!$AA$21=\"X\",Q244=\"X\"),1,0)","v":0},"X",{"$f":"IF(AND('Step 2 - Ornamental'!$AB$21=\"X\",S244=\"X\"),1,0)","v":0},"X",{"$f":"IF(AND('Step 2 - Ornamental'!$AC$21=\"X\",U244=\"X\"),1,0)","v":0},null,{"$f":"IF(AND('Step 2 - Ornamental'!$AA$19=\"X\",W244=\"X\"),1,0)","v":0},null,{"$f":"IF(AND('Step 2 - Ornamental'!$AA$19=\"X\",Y244=\"X\"),1,0)","v":0},"X",{"$f":"IF(AND('Step 2 - Ornamental'!$AB$19=\"X\",AA244=\"X\"),1,0)","v":0},"X",{"$f":"IF(AND('Step 2 - Ornamental'!$AC$19=\"X\",AC244=\"X\"),1,0)","v":0},null,{"$f":"IF(AND('Step 2 - Ornamental'!$AA$20=\"X\",AE244=\"X\"),1,0)","v":0},null,{"$f":"IF(AND('Step 2 - Ornamental'!$AA$20=\"X\",AG244=\"X\"),1,0)","v":0},"X",{"$f":"IF(AND('Step 2 - Ornamental'!$AB$20=\"X\",AI244=\"X\"),1,0)","v":0},"X",{"$f":"IF(AND('Step 2 - Ornamental'!$AC$20=\"X\",AK244=\"X\"),1,0)","v":0},null,{"$f":"IF(AND('Step 2 - Ornamental'!$AA$18=\"X\",AM244=\"X\"),1,0)","v":0},null,{"$f":"IF(AND('Step 2 - Ornamental'!$AB$18=\"X\",AO244=\"X\"),1,0)","v":0},"X",{"$f":"IF(AND('Step 2 - Ornamental'!$AC$18=\"X\",AQ244=\"X\"),1,0)","v":0},"X",{"$f":"IF(AND('Step 2 - Ornamental'!$AD$18=\"X\",AS244=\"X\"),1,0)","v":0},null,{"$f":"IF(AND('Step 2 - Ornamental'!$AE$18=\"X\",AU244=\"X\"),1,0)","v":0},null,{"$f":"IF(AND('Step 2 - Ornamental'!$AA$17=\"X\",AW244=\"X\"),1,0)","v":0},"X",{"$f":"IF(AND('Step 2 - Ornamental'!$AB$17=\"X\",AY244=\"X\"),1,0)","v":0},"X",{"$f":"IF(AND('Step 2 - Ornamental'!$AC$17=\"X\",BA244=\"X\"),1,0)","v":0},null,{"$f":"IF(AND('Step 2 - Ornamental'!$AA$22=\"X\",BC244=\"X\"),1,0)","v":0},null,{"$f":"IF(AND('Step 2 - Ornamental'!$AB$22=\"X\",BE244=\"X\"),1,0)","v":0},null,{"$f":"IF(AND('Step 2 - Ornamental'!$AC$22=\"X\",BG244=\"X\"),1,0)","v":0},"X",{"$f":"IF(AND('Step 2 - Ornamental'!$AD$22=\"X\",BI244=\"X\"),1,0)","v":0},"X",null,null,null,null,null,null,"Pink / 3'-4'"]
[null,1,"AS TU","Asclepias tuberosa","Butterfly Weed","18\" O.C.","slow to produce flowers, flowers are orange/yellow from June-Aug"," ","X","X","X",null,null,0,null,{"$f":"IF(AND('Step 2 - Ornamental'!$AA$21=\"X\",Q245=\"X\"),1,0)","v":0},"X",{"$f":"IF(AND('Step 2 - Ornamental'!$AB$21=\"X\",S245=\"X\"),1,0)","v":0},"X",{"$f":"IF(AND('Step 2 - Ornamental'!$AC$21=\"X\",U245=\"X\"),1,0)","v":0},null,{"$f":"IF(AND('Step 2 - Ornamental'!$AA$19=\"X\",W245=\"X\"),1,0)","v":0},null,{"$f":"IF(AND('Step 2 - Ornamental'!$AA$19=\"X\",Y245=\"X\"),1,0)","v":0},"X",{"$f":"IF(AND('Step 2 - Ornamental'!$AB$19=\"X\",AA245=\"X\"),1,0)","v":0},"X",{"$f":"IF(AND('Step 2 - Ornamental'!$AC$19=\"X\",AC245=\"X\"),1,0)","v":0},null,{"$f":"IF(AND('Step 2 - Ornamental'!$AA$20=\"X\",AE245=\"X\"),1,0)","v":0},null,{"$f":"IF(AND('Step 2 - Ornamental'!$AA$20=\"X\",AG245=\"X\"),1,0)","v":0},"X",{"$f":"IF(AND('Step 2 - Ornamental'!$AB$20=\"X\",AI245=\"X\"),1,0)","v":0},null,{"$f":"IF(AND('Step 2 - Ornamental'!$AC$20=\"X\",AK245=\"X\"),1,0)","v":0},null,{"$f":"IF(AND('Step 2 - Ornamental'!$AA$18=\"X\",AM245=\"X\"),1,0)","v":0},"X",{"$f":"IF(AND('Step 2 - Ornamental'!$AB$18=\"X\",AO245=\"X\"),1,0)","v":0},"X",{"$f":"IF(AND('Step 2 - Ornamental'!$AC$18=\"X\",AQ245=\"X\"),1,0)","v":0},null,{"$f":"IF(AND('Step 2 - Ornamental'!$AD$18=\"X\",AS245=\"X\"),1,0)","v":0},null,{"$f":"IF(AND('Step 2 - Ornamental'!$AE$18=\"X\",AU245=\"X\"),1,0)","v":0},null,{"$f":"IF(AND('Step 2 - Ornamental'!$AA$17=\"X\",AW245=\"X\"),1,0)","v":0},"X",{"$f":"IF(AND('Step 2 - Ornamental'!$AB$17=\"X\",AY245=\"X\"),1,0)","v":0},null,{"$f":"IF(AND('Step 2 - Ornamental'!$AC$17=\"X\",BA245=\"X\"),1,0)","v":0},null,{"$f":"IF(AND('Step 2 - Ornamental'!$AA$22=\"X\",BC245=\"X\"),1,0)","v":0},null,{"$f":"IF(AND('Step 2 - Ornamental'!$AB$22=\"X\",BE245=\"X\"),1,0)","v":0},"X",{"$f":"IF(AND('Step 2 - Ornamental'!$AC$22=\"X\",BG245=\"X\"),1,0)","v":0},"X",{"$f":"IF(AND('Step 2 - Ornamental'!$AD$22=\"X\",BI245=\"X\"),1,0)","v":0},"X",null,null,null,null,null,"Yellow-Orange/ 1.0'-2.5'"]
[null,1,"AS AZ","Aster azureus (Symphyotrichum oolentangiensis)","Skyblue Aster","24\" O.C.","lavender blue flowers, spreads,",null,"X","X",null,null,null,1,"X",{"$f":"IF(AND('Step 2 - Ornamental'!$AA$21=\"X\",Q246=\"X\"),1,0)","v":0},null,{"$f":"IF(AND('Step 2 - Ornamental'!$AB$21=\"X\",S246=\"X\"),1,0)","v":0},null,{"$f":"IF(AND('Step 2 - Ornamental'!$AC$21=\"X\",U246=\"X\"),1,0)","v":0},null,{"$f":"IF(AND('Step 2 - Ornamental'!$AA$19=\"X\",W246=\"X\"),1,0)","v":0},null,{"$f":"IF(AND('Step 2 - Ornamental'!$AA$19=\"X\",Y246=\"X\"),1,0)","v":0},"X",{"$f":"IF(AND('Step 2 - Ornamental'!$AB$19=\"X\",AA246=\"X\"),1,0)","v":0},null,{"$f":"IF(AND('Step 2 - Ornamental'!$AC$19=\"X\",AC246=\"X\"),1,0)","v":0},null,{"$f":"IF(AND('Step 2 - Ornamental'!$AA$20=\"X\",AE246=\"X\"),1,0)","v":0},"X",{"$f":"IF(AND('Step 2 - Ornamental'!$AA$20=\"X\",AG246=\"X\"),1,0)","v":0},null,{"$f":"IF(AND('Step 2 - Ornamental'!$AB$20=\"X\",AI246=\"X\"),1,0)","v":0},null,{"$f":"IF(AND('Step 2 - Ornamental'!$AC$20=\"X\",AK246=\"X\"),1,0)","v":0},null,{"$f":"IF(AND('Step 2 - Ornamental'!$AA$18=\"X\",AM246=\"X\"),1,0)","v":0},"X",{"$f":"IF(AND('Step 2 - Ornamental'!$AB$18=\"X\",AO246=\"X\"),1,0)","v":0},"X",{"$f":"IF(AND('Step 2 - Ornamental'!$AC$18=\"X\",AQ246=\"X\"),1,0)","v":0},null,{"$f":"IF(AND('Step 2 - Ornamental'!$AD$18=\"X\",AS246=\"X\"),1,0)","v":0},null,{"$f":"IF(AND('Step 2 - Ornamental'!$AE$18=\"X\",AU246=\"X\"),1,0)","v":0},null,{"$f":"IF(AND('Step 2 - Ornamental'!$AA$17=\"X\",AW246=\"X\"),1,0)","v":0},"X",{"$f":"IF(AND('Step 2 - Ornamental'!$AB$17=\"X\",AY246=\"X\"),1,0)","v":0},null,{"$f":"IF(AND('Step 2 - Ornamental'!$AC$17=\"X\",BA246=\"X\"),1,0)","v":0},null,{"$f":"IF(AND('Step 2 - Ornamental'!$AA$22=\"X\",BC246=\"X\"),1,0)","v":0},null,{"$f":"IF(AND('Step 2 - Ornamental'!$AB$22=\"X\",BE246=\"X\"),1,0)","v":0},"X",{"$f":"IF(AND('Step 2 - Ornamental'!$AC$22=\"X\",BG246=\"X\"),1,0)","v":0},"X",{"$f":"IF(AND('Step 2 - Ornamental'!$AD$22=\"X\",BI246=\"X\"),1,0)","v":0},"X",null,null,null,null,null,null,null,null,"Blue / 2.0'-3.0'"]
[null,1,"AS CO","Aster cordifolius 'Avondale' (Symphyotrichum cordifolium)","Blue Wood Aster","18\" O.C.","Heart-shaped leaves, Early fall bloomer for sun or shade, lt. blue flowers to 30\" in Aug-Oct, will self-seed"," ","X","X",null,null,null,0,null,{"$f":"IF(AND('Step 2 - Ornamental'!$AA$21=\"X\",Q247=\"X\"),1,0)","v":0},"X",{"$f":"IF(AND('Step 2 - Ornamental'!$AB$21=\"X\",S247=\"X\"),1,0)","v":0},"X",{"$f":"IF(AND('Step 2 - Ornamental'!$AC$21=\"X\",U247=\"X\"),1,0)","v":0},null,{"$f":"IF(AND('Step 2 - Ornamental'!$AA$19=\"X\",W247=\"X\"),1,0)","v":0},null,{"$f":"IF(AND('Step 2 - Ornamental'!$AA$19=\"X\",Y247=\"X\"),1,0)","v":0},"X",{"$f":"IF(AND('Step 2 - Ornamental'!$AB$19=\"X\",AA247=\"X\"),1,0)","v":0},null,{"$f":"IF(AND('Step 2 - Ornamental'!$AC$19=\"X\",AC247=\"X\"),1,0)","v":0},null,{"$f":"IF(AND('Step 2 - Ornamental'!$AA$20=\"X\",AE247=\"X\"),1,0)","v":0},"X",{"$f":"IF(AND('Step 2 - Ornamental'!$AA$20=\"X\",AG247=\"X\"),1,0)","v":0},null,{"$f":"IF(AND('Step 2 - Ornamental'!$AB$20=\"X\",AI247=\"X\"),1,0)","v":0},null,{"$f":"IF(AND('Step 2 - Ornamental'!$AC$20=\"X\",AK247=\"X\"),1,0)","v":0},null,{"$f":"IF(AND('Step 2 - Ornamental'!$AA$18=\"X\",AM247=\"X\"),1,0)","v":0},"X",{"$f":"IF(AND('Step 2 - Ornamental'!$AB$18=\"X\",AO247=\"X\"),1,0)","v":0},"X",{"$f":"IF(AND('Step 2 - Ornamental'!$AC$18=\"X\",AQ247=\"X\"),1,0)","v":0}," ",{"$f":"IF(AND('Step 2 - Ornamental'!$AD$18=\"X\",AS247=\"X\"),1,0)","v":0},null,{"$f":"IF(AND('Step 2 - Ornamental'!$AE$18=\"X\",AU247=\"X\"),1,0)","v":0},null,{"$f":"IF(AND('Step 2 - Ornamental'!$AA$17=\"X\",AW247=\"X\"),1,0)","v":0},"X",{"$f":"IF(AND('Step 2 - Ornamental'!$AB$17=\"X\",AY247=\"X\"),1,0)","v":0},"X",{"$f":"IF(AND('Step 2 - Ornamental'!$AC$17=\"X\",BA247=\"X\"),1,0)","v":0},"X",{"$f":"IF(AND('Step 2 - Ornamental'!$AA$22=\"X\",BC247=\"X\"),1,0)","v":0},null,{"$f":"IF(AND('Step 2 - Ornamental'!$AB$22=\"X\",BE247=\"X\"),1,0)","v":0},"X",{"$f":"IF(AND('Step 2 - Ornamental'!$AC$22=\"X\",BG247=\"X\"),1,0)","v":0},"X",{"$f":"IF(AND('Step 2 - Ornamental'!$AD$22=\"X\",BI247=\"X\"),1,0)","v":0},"X",null,null,null,null,null,null,null,"Pale blue / 2.0'-3.0'"]
[null,1,"AS DI","Aster divaricatus (Eurybia divaricata)","White Wood Aster","18\" O.C.","Great shade perennial that mixes well with ferns, hostas, ",null,"X",null,null,null,null,0,null,{"$f":"IF(AND('Step 2 - Ornamental'!$AA$21=\"X\",Q248=\"X\"),1,0)","v":0},"X",{"$f":"IF(AND('Step 2 - Ornamental'!$AB$21=\"X\",S248=\"X\"),1,0)","v":0},null,{"$f":"IF(AND('Step 2 - Ornamental'!$AC$21=\"X\",U248=\"X\"),1,0)","v":0},null,{"$f":"IF(AND('Step 2 - Ornamental'!$AA$19=\"X\",W248=\"X\"),1,0)","v":0},null,{"$f":"IF(AND('Step 2 - Ornamental'!$AA$19=\"X\",Y248=\"X\"),1,0)","v":0},"X",{"$f":"IF(AND('Step 2 - Ornamental'!$AB$19=\"X\",AA248=\"X\"),1,0)","v":0},null,{"$f":"IF(AND('Step 2 - Ornamental'!$AC$19=\"X\",AC248=\"X\"),1,0)","v":0},null,{"$f":"IF(AND('Step 2 - Ornamental'!$AA$20=\"X\",AE248=\"X\"),1,0)","v":0},"X",{"$f":"IF(AND('Step 2 - Ornamental'!$AA$20=\"X\",AG248=\"X\"),1,0)","v":0},null,{"$f":"IF(AND('Step 2 - Ornamental'!$AB$20=\"X\",AI248=\"X\"),1,0)","v":0},null,{"$f":"IF(AND('Step 2 - Ornamental'!$AC$20=\"X\",AK248=\"X\"),1,0)","v":0},null,{"$f":"IF(AND('Step 2 - Ornamental'!$AA$18=\"X\",AM248=\"X\"),1,0)","v":0},"X",{"$f":"IF(AND('Step 2 - Ornamental'!$AB$18=\"X\",AO248=\"X\"),1,0)","v":0},"X",{"$f":"IF(AND('Step 2 - Ornamental'!$AC$18=\"X\",AQ248=\"X\"),1,0)","v":0},null,{"$f":"IF(AND('Step 2 - Ornamental'!$AD$18=\"X\",AS248=\"X\"),1,0)","v":0},null,{"$f":"IF(AND('Step 2 - Ornamental'!$AE$18=\"X\",AU248=\"X\"),1,0)","v":0},null,{"$f":"IF(AND('Step 2 - Ornamental'!$AA$17=\"X\",AW248=\"X\"),1,0)","v":0},null,{"$f":"IF(AND('Step 2 - Ornamental'!$AB$17=\"X\",AY248=\"X\"),1,0)","v":0},"X",{"$f":"IF(AND('Step 2 - Ornamental'!$AC$17=\"X\",BA248=\"X\"),1,0)","v":0},"X",{"$f":"IF(AND('Step 2 - Ornamental'!$AA$22=\"X\",BC248=\"X\"),1,0)","v":0},null,{"$f":"IF(AND('Step 2 - Ornamental'!$AB$22=\"X\",BE248=\"X\"),1,0)","v":0},"X",{"$f":"IF(AND('Step 2 - Ornamental'!$AC$22=\"X\",BG248=\"X\"),1,0)","v":0},"X",{"$f":"IF(AND('Step 2 - Ornamental'!$AD$22=\"X\",BI248=\"X\"),1,0)","v":0},"X",null,null,null,null,null,null,null,"White / 1.0'-2.5'"]
[null,1,"AS DU","Aster dumosus 'Wood's Blue' (Symphyotrichum dumosum)","Wood's Blue Aster","24\" O.C.","Mounded form with profuse blue flowers in Sept/Oct",null,"X","X",null,null,null,0,null,{"$f":"IF(AND('Step 2 - Ornamental'!$AA$21=\"X\",Q249=\"X\"),1,0)","v":0},"X",{"$f":"IF(AND('Step 2 - Ornamental'!$AB$21=\"X\",S249=\"X\"),1,0)","v":0},null,{"$f":"IF(AND('Step 2 - Ornamental'!$AC$21=\"X\",U249=\"X\"),1,0)","v":0},null,{"$f":"IF(AND('Step 2 - Ornamental'!$AA$19=\"X\",W249=\"X\"),1,0)","v":0},null,{"$f":"IF(AND('Step 2 - Ornamental'!$AA$19=\"X\",Y249=\"X\"),1,0)","v":0},"X",{"$f":"IF(AND('Step 2 - Ornamental'!$AB$19=\"X\",AA249=\"X\"),1,0)","v":0},null,{"$f":"IF(AND('Step 2 - Ornamental'!$AC$19=\"X\",AC249=\"X\"),1,0)","v":0},null,{"$f":"IF(AND('Step 2 - Ornamental'!$AA$20=\"X\",AE249=\"X\"),1,0)","v":0},"X",{"$f":"IF(AND('Step 2 - Ornamental'!$AA$20=\"X\",AG249=\"X\"),1,0)","v":0},null,{"$f":"IF(AND('Step 2 - Ornamental'!$AB$20=\"X\",AI249=\"X\"),1,0)","v":0},null,{"$f":"IF(AND('Step 2 - Ornamental'!$AC$20=\"X\",AK249=\"X\"),1,0)","v":0},null,{"$f":"IF(AND('Step 2 - Ornamental'!$AA$18=\"X\",AM249=\"X\"),1,0)","v":0},null,{"$f":"IF(AND('Step 2 - Ornamental'!$AB$18=\"X\",AO249=\"X\"),1,0)","v":0},"X",{"$f":"IF(AND('Step 2 - Ornamental'!$AC$18=\"X\",AQ249=\"X\"),1,0)","v":0},"X",{"$f":"IF(AND('Step 2 - Ornamental'!$AD$18=\"X\",AS249=\"X\"),1,0)","v":0},null,{"$f":"IF(AND('Step 2 - Ornamental'!$AE$18=\"X\",AU249=\"X\"),1,0)","v":0},null,{"$f":"IF(AND('Step 2 - Ornamental'!$AA$17=\"X\",AW249=\"X\"),1,0)","v":0},"X",{"$f":"IF(AND('Step 2 - Ornamental'!$AB$17=\"X\",AY249=\"X\"),1,0)","v":0},null,{"$f":"IF(AND('Step 2 - Ornamental'!$AC$17=\"X\",BA249=\"X\"),1,0)","v":0},null,{"$f":"IF(AND('Step 2 - Ornamental'!$AA$22=\"X\",BC249=\"X\"),1,0)","v":0},null,{"$f":"IF(AND('Step 2 - Ornamental'!$AB$22=\"X\",BE249=\"X\"),1,0)","v":0},null,{"$f":"IF(AND('Step 2 - Ornamental'!$AC$22=\"X\",BG249=\"X\"),1,0)","v":0},"X",{"$f":"IF(AND('Step 2 - Ornamental'!$AD$22=\"X\",BI249=\"X\"),1,0)","v":0},"X",null,null,null,null,null,null,null,"Blue shades / 1.0-1.5'"]
[null,1,"AS EC","Aster ericoides 'Snow Flurry' (Symphyotrichum ericoides)","Snow Flurry Aster","12\" O.C.","Short (6\" tall) prostrate spreader with white flowers in Sept/Oct",null,"X","X",null,null,null,0,null,{"$f":"IF(AND('Step 2 - Ornamental'!$AA$21=\"X\",Q250=\"X\"),1,0)","v":0},"X",{"$f":"IF(AND('Step 2 - Ornamental'!$AB$21=\"X\",S250=\"X\"),1,0)","v":0},null,{"$f":"IF(AND('Step 2 - Ornamental'!$AC$21=\"X\",U250=\"X\"),1,0)","v":0},null,{"$f":"IF(AND('Step 2 - Ornamental'!$AA$19=\"X\",W250=\"X\"),1,0)","v":0},null,{"$f":"IF(AND('Step 2 - Ornamental'!$AA$19=\"X\",Y250=\"X\"),1,0)","v":0},"X",{"$f":"IF(AND('Step 2 - Ornamental'!$AB$19=\"X\",AA250=\"X\"),1,0)","v":0},null,{"$f":"IF(AND('Step 2 - Ornamental'!$AC$19=\"X\",AC250=\"X\"),1,0)","v":0},null,{"$f":"IF(AND('Step 2 - Ornamental'!$AA$20=\"X\",AE250=\"X\"),1,0)","v":0},"X",{"$f":"IF(AND('Step 2 - Ornamental'!$AA$20=\"X\",AG250=\"X\"),1,0)","v":0},null,{"$f":"IF(AND('Step 2 - Ornamental'!$AB$20=\"X\",AI250=\"X\"),1,0)","v":0},null,{"$f":"IF(AND('Step 2 - Ornamental'!$AC$20=\"X\",AK250=\"X\"),1,0)","v":0},null,{"$f":"IF(AND('Step 2 - Ornamental'!$AA$18=\"X\",AM250=\"X\"),1,0)","v":0},"X",{"$f":"IF(AND('Step 2 - Ornamental'!$AB$18=\"X\",AO250=\"X\"),1,0)","v":0},"X",{"$f":"IF(AND('Step 2 - Ornamental'!$AC$18=\"X\",AQ250=\"X\"),1,0)","v":0},null,{"$f":"IF(AND('Step 2 - Ornamental'!$AD$18=\"X\",AS250=\"X\"),1,0)","v":0},null,{"$f":"IF(AND('Step 2 - Ornamental'!$AE$18=\"X\",AU250=\"X\"),1,0)","v":0},null,{"$f":"IF(AND('Step 2 - Ornamental'!$AA$17=\"X\",AW250=\"X\"),1,0)","v":0},"X",{"$f":"IF(AND('Step 2 - Ornamental'!$AB$17=\"X\",AY250=\"X\"),1,0)","v":0},"X",{"$f":"IF(AND('Step 2 - Ornamental'!$AC$17=\"X\",BA250=\"X\"),1,0)","v":0},null,{"$f":"IF(AND('Step 2 - Ornamental'!$AA$22=\"X\",BC250=\"X\"),1,0)","v":0},null,{"$f":"IF(AND('Step 2 - Ornamental'!$AB$22=\"X\",BE250=\"X\"),1,0)","v":0},null,{"$f":"IF(AND('Step 2 - Ornamental'!$AC$22=\"X\",BG250=\"X\"),1,0)","v":0},"X",{"$f":"IF(AND('Step 2 - Ornamental'!$AD$22=\"X\",BI250=\"X\"),1,0)","v":0},"X",null,null,null,null,null,null,null,null,"White / 0.25'-0.5'"]
[null,1,"AS MA","Aster macrophyllus (Eurybia macrophylla)","Large Leafe Aster","18\" O.C.","2'-4' tall, will grow in full shade, but part shade better for flowering, sperads, violet flowers in Sept/Oct"," ","X","X",null,null,null,0,null,{"$f":"IF(AND('Step 2 - Ornamental'!$AA$21=\"X\",Q251=\"X\"),1,0)","v":0},"X",{"$f":"IF(AND('Step 2 - Ornamental'!$AB$21=\"X\",S251=\"X\"),1,0)","v":0},null,{"$f":"IF(AND('Step 2 - Ornamental'!$AC$21=\"X\",U251=\"X\"),1,0)","v":0},null,{"$f":"IF(AND('Step 2 - Ornamental'!$AA$19=\"X\",W251=\"X\"),1,0)","v":0},null,{"$f":"IF(AND('Step 2 - Ornamental'!$AA$19=\"X\",Y251=\"X\"),1,0)","v":0},"X",{"$f":"IF(AND('Step 2 - Ornamental'!$AB$19=\"X\",AA251=\"X\"),1,0)","v":0},null,{"$f":"IF(AND('Step 2 - Ornamental'!$AC$19=\"X\",AC251=\"X\"),1,0)","v":0},null,{"$f":"IF(AND('Step 2 - Ornamental'!$AA$20=\"X\",AE251=\"X\"),1,0)","v":0},null,{"$f":"IF(AND('Step 2 - Ornamental'!$AA$20=\"X\",AG251=\"X\"),1,0)","v":0},"X",{"$f":"IF(AND('Step 2 - Ornamental'!$AB$20=\"X\",AI251=\"X\"),1,0)","v":0},null,{"$f":"IF(AND('Step 2 - Ornamental'!$AC$20=\"X\",AK251=\"X\"),1,0)","v":0},null,{"$f":"IF(AND('Step 2 - Ornamental'!$AA$18=\"X\",AM251=\"X\"),1,0)","v":0},"X",{"$f":"IF(AND('Step 2 - Ornamental'!$AB$18=\"X\",AO251=\"X\"),1,0)","v":0},"X",{"$f":"IF(AND('Step 2 - Ornamental'!$AC$18=\"X\",AQ251=\"X\"),1,0)","v":0},"X",{"$f":"IF(AND('Step 2 - Ornamental'!$AD$18=\"X\",AS251=\"X\"),1,0)","v":0},null,{"$f":"IF(AND('Step 2 - Ornamental'!$AE$18=\"X\",AU251=\"X\"),1,0)","v":0},null,{"$f":"IF(AND('Step 2 - Ornamental'!$AA$17=\"X\",AW251=\"X\"),1,0)","v":0},null,{"$f":"IF(AND('Step 2 - Ornamental'!$AB$17=\"X\",AY251=\"X\"),1,0)","v":0},"X",{"$f":"IF(AND('Step 2 - Ornamental'!$AC$17=\"X\",BA251=\"X\"),1,0)","v":0},"X",{"$f":"IF(AND('Step 2 - Ornamental'!$AA$22=\"X\",BC251=\"X\"),1,0)","v":0},null,{"$f":"IF(AND('Step 2 - Ornamental'!$AB$22=\"X\",BE251=\"X\"),1,0)","v":0},null,{"$f":"IF(AND('Step 2 - Ornamental'!$AC$22=\"X\",BG251=\"X\"),1,0)","v":0},"X",{"$f":"IF(AND('Step 2 - Ornamental'!$AD$22=\"X\",BI251=\"X\"),1,0)","v":0},"X",null,null,null,null,null,null,null,"White / 1.0'-2.0'"]
[null,1,"AS NE","Aster novea-angliae (Symphyotrichum novae-angliae)","New England Aster","30\" O.C.","Intense deep pink-purple flowering to 6' tall in Aug/Sept, tolerates clay soil, can self seed, "," ","X","X",null,null,null,0,null,{"$f":"IF(AND('Step 2 - Ornamental'!$AA$21=\"X\",Q252=\"X\"),1,0)","v":0},"X",{"$f":"IF(AND('Step 2 - Ornamental'!$AB$21=\"X\",S252=\"X\"),1,0)","v":0},null,{"$f":"IF(AND('Step 2 - Ornamental'!$AC$21=\"X\",U252=\"X\"),1,0)","v":0},null,{"$f":"IF(AND('Step 2 - Ornamental'!$AA$19=\"X\",W252=\"X\"),1,0)","v":0},null,{"$f":"IF(AND('Step 2 - Ornamental'!$AA$19=\"X\",Y252=\"X\"),1,0)","v":0},"X",{"$f":"IF(AND('Step 2 - Ornamental'!$AB$19=\"X\",AA252=\"X\"),1,0)","v":0},null,{"$f":"IF(AND('Step 2 - Ornamental'!$AC$19=\"X\",AC252=\"X\"),1,0)","v":0},null,{"$f":"IF(AND('Step 2 - Ornamental'!$AA$20=\"X\",AE252=\"X\"),1,0)","v":0},null,{"$f":"IF(AND('Step 2 - Ornamental'!$AA$20=\"X\",AG252=\"X\"),1,0)","v":0},"X",{"$f":"IF(AND('Step 2 - Ornamental'!$AB$20=\"X\",AI252=\"X\"),1,0)","v":0},"X",{"$f":"IF(AND('Step 2 - Ornamental'!$AC$20=\"X\",AK252=\"X\"),1,0)","v":0},null,{"$f":"IF(AND('Step 2 - Ornamental'!$AA$18=\"X\",AM252=\"X\"),1,0)","v":0},null,{"$f":"IF(AND('Step 2 - Ornamental'!$AB$18=\"X\",AO252=\"X\"),1,0)","v":0},"X",{"$f":"IF(AND('Step 2 - Ornamental'!$AC$18=\"X\",AQ252=\"X\"),1,0)","v":0},null,{"$f":"IF(AND('Step 2 - Ornamental'!$AD$18=\"X\",AS252=\"X\"),1,0)","v":0},null,{"$f":"IF(AND('Step 2 - Ornamental'!$AE$18=\"X\",AU252=\"X\"),1,0)","v":0},null,{"$f":"IF(AND('Step 2 - Ornamental'!$AA$17=\"X\",AW252=\"X\"),1,0)","v":0},"X",{"$f":"IF(AND('Step 2 - Ornamental'!$AB$17=\"X\",AY252=\"X\"),1,0)","v":0},null,{"$f":"IF(AND('Step 2 - Ornamental'!$AC$17=\"X\",BA252=\"X\"),1,0)","v":0},null,{"$f":"IF(AND('Step 2 - Ornamental'!$AA$22=\"X\",BC252=\"X\"),1,0)","v":0},null,{"$f":"IF(AND('Step 2 - Ornamental'!$AB$22=\"X\",BE252=\"X\"),1,0)","v":0},null,{"$f":"IF(AND('Step 2 - Ornamental'!$AC$22=\"X\",BG252=\"X\"),1,0)","v":0},"X",{"$f":"IF(AND('Step 2 - Ornamental'!$AD$22=\"X\",BI252=\"X\"),1,0)","v":0},"X",null,null,null,null,null,null,null,"Deep pink-purple / 3.0'-6.0'"]
[null,1,"AS OB","Aster oblongifolius 'October Skies' (Symphyotrichum oblongifolium)","Otober Skies Aromatic Aster","30\" O.C.","Sky blue flowering to 2' tall in Aug/Oct",null,"X","X",null,null,null,0,null,{"$f":"IF(AND('Step 2 - Ornamental'!$AA$21=\"X\",Q253=\"X\"),1,0)","v":0},"X",{"$f":"IF(AND('Step 2 - Ornamental'!$AB$21=\"X\",S253=\"X\"),1,0)","v":0},null,{"$f":"IF(AND('Step 2 - Ornamental'!$AC$21=\"X\",U253=\"X\"),1,0)","v":0},null,{"$f":"IF(AND('Step 2 - Ornamental'!$AA$19=\"X\",W253=\"X\"),1,0)","v":0},null,{"$f":"IF(AND('Step 2 - Ornamental'!$AA$19=\"X\",Y253=\"X\"),1,0)","v":0},"X",{"$f":"IF(AND('Step 2 - Ornamental'!$AB$19=\"X\",AA253=\"X\"),1,0)","v":0},null,{"$f":"IF(AND('Step 2 - Ornamental'!$AC$19=\"X\",AC253=\"X\"),1,0)","v":0},null,{"$f":"IF(AND('Step 2 - Ornamental'!$AA$20=\"X\",AE253=\"X\"),1,0)","v":0},"X",{"$f":"IF(AND('Step 2 - Ornamental'!$AA$20=\"X\",AG253=\"X\"),1,0)","v":0},null,{"$f":"IF(AND('Step 2 - Ornamental'!$AB$20=\"X\",AI253=\"X\"),1,0)","v":0},null,{"$f":"IF(AND('Step 2 - Ornamental'!$AC$20=\"X\",AK253=\"X\"),1,0)","v":0},null,{"$f":"IF(AND('Step 2 - Ornamental'!$AA$18=\"X\",AM253=\"X\"),1,0)","v":0},"X",{"$f":"IF(AND('Step 2 - Ornamental'!$AB$18=\"X\",AO253=\"X\"),1,0)","v":0},"X",{"$f":"IF(AND('Step 2 - Ornamental'!$AC$18=\"X\",AQ253=\"X\"),1,0)","v":0},null,{"$f":"IF(AND('Step 2 - Ornamental'!$AD$18=\"X\",AS253=\"X\"),1,0)","v":0},null,{"$f":"IF(AND('Step 2 - Ornamental'!$AE$18=\"X\",AU253=\"X\"),1,0)","v":0},null,{"$f":"IF(AND('Step 2 - Ornamental'!$AA$17=\"X\",AW253=\"X\"),1,0)","v":0},"X",{"$f":"IF(AND('Step 2 - Ornamental'!$AB$17=\"X\",AY253=\"X\"),1,0)","v":0}," ",{"$f":"IF(AND('Step 2 - Ornamental'!$AC$17=\"X\",BA253=\"X\"),1,0)","v":0},null,{"$f":"IF(AND('Step 2 - Ornamental'!$AA$22=\"X\",BC253=\"X\"),1,0)","v":0},null,{"$f":"IF(AND('Step 2 - Ornamental'!$AB$22=\"X\",BE253=\"X\"),1,0)","v":0},"X",{"$f":"IF(AND('Step 2 - Ornamental'!$AC$22=\"X\",BG253=\"X\"),1,0)","v":0},"X",{"$f":"IF(AND('Step 2 - Ornamental'!$AD$22=\"X\",BI253=\"X\"),1,0)","v":0},"X",null,null,null,null,null,null,null,"Lavender / 1.5'-2.0'"]
[null,1,"AS PT","Aster ptarmicoides (Oligoneuron album, Solidago ptarmicoides)","White Goldenrod, Prairie Aster","18\" O.c.","Short (2' tall) aster for dry sandy soils, will self seed, ",null,"X","X",null,null,null,0,null,{"$f":"IF(AND('Step 2 - Ornamental'!$AA$21=\"X\",Q254=\"X\"),1,0)","v":0},"X",{"$f":"IF(AND('Step 2 - Ornamental'!$AB$21=\"X\",S254=\"X\"),1,0)","v":0},null,{"$f":"IF(AND('Step 2 - Ornamental'!$AC$21=\"X\",U254=\"X\"),1,0)","v":0},null,{"$f":"IF(AND('Step 2 - Ornamental'!$AA$19=\"X\",W254=\"X\"),1,0)","v":0},null,{"$f":"IF(AND('Step 2 - Ornamental'!$AA$19=\"X\",Y254=\"X\"),1,0)","v":0},"X",{"$f":"IF(AND('Step 2 - Ornamental'!$AB$19=\"X\",AA254=\"X\"),1,0)","v":0},null,{"$f":"IF(AND('Step 2 - Ornamental'!$AC$19=\"X\",AC254=\"X\"),1,0)","v":0},null,{"$f":"IF(AND('Step 2 - Ornamental'!$AA$20=\"X\",AE254=\"X\"),1,0)","v":0},null,{"$f":"IF(AND('Step 2 - Ornamental'!$AA$20=\"X\",AG254=\"X\"),1,0)","v":0},"X",{"$f":"IF(AND('Step 2 - Ornamental'!$AB$20=\"X\",AI254=\"X\"),1,0)","v":0},null,{"$f":"IF(AND('Step 2 - Ornamental'!$AC$20=\"X\",AK254=\"X\"),1,0)","v":0},null,{"$f":"IF(AND('Step 2 - Ornamental'!$AA$18=\"X\",AM254=\"X\"),1,0)","v":0},"X",{"$f":"IF(AND('Step 2 - Ornamental'!$AB$18=\"X\",AO254=\"X\"),1,0)","v":0},"X",{"$f":"IF(AND('Step 2 - Ornamental'!$AC$18=\"X\",AQ254=\"X\"),1,0)","v":0},null,{"$f":"IF(AND('Step 2 - Ornamental'!$AD$18=\"X\",AS254=\"X\"),1,0)","v":0},null,{"$f":"IF(AND('Step 2 - Ornamental'!$AE$18=\"X\",AU254=\"X\"),1,0)","v":0},null,{"$f":"IF(AND('Step 2 - Ornamental'!$AA$17=\"X\",AW254=\"X\"),1,0)","v":0},"X",{"$f":"IF(AND('Step 2 - Ornamental'!$AB$17=\"X\",AY254=\"X\"),1,0)","v":0},null,{"$f":"IF(AND('Step 2 - Ornamental'!$AC$17=\"X\",BA254=\"X\"),1,0)","v":0},null,{"$f":"IF(AND('Step 2 - Ornamental'!$AA$22=\"X\",BC254=\"X\"),1,0)","v":0},null,{"$f":"IF(AND('Step 2 - Ornamental'!$AB$22=\"X\",BE254=\"X\"),1,0)","v":0},null,{"$f":"IF(AND('Step 2 - Ornamental'!$AC$22=\"X\",BG254=\"X\"),1,0)","v":0},"X",{"$f":"IF(AND('Step 2 - Ornamental'!$AD$22=\"X\",BI254=\"X\"),1,0)","v":0},"X",null,null,null,null,null,null,"White / 1.0'-2.0'"]
[null,1,"AS UM","Aster umbellatus (Doellingeria umbellata)","Flat-top Aster","30\" O.C.","very tall (7') with white blooms in June-Sept)",null,"X","X",null,null,null,0,null,{"$f":"IF(AND('Step 2 - Ornamental'!$AA$21=\"X\",Q255=\"X\"),1,0)","v":0},"X",{"$f":"IF(AND('Step 2 - Ornamental'!$AB$21=\"X\",S255=\"X\"),1,0)","v":0},null,{"$f":"IF(AND('Step 2 - Ornamental'!$AC$21=\"X\",U255=\"X\"),1,0)","v":0},null,{"$f":"IF(AND('Step 2 - Ornamental'!$AA$19=\"X\",W255=\"X\"),1,0)","v":0},null,{"$f":"IF(AND('Step 2 - Ornamental'!$AA$19=\"X\",Y255=\"X\"),1,0)","v":0},"X",{"$f":"IF(AND('Step 2 - Ornamental'!$AB$19=\"X\",AA255=\"X\"),1,0)","v":0},null,{"$f":"IF(AND('Step 2 - Ornamental'!$AC$19=\"X\",AC255=\"X\"),1,0)","v":0},null,{"$f":"IF(AND('Step 2 - Ornamental'!$AA$20=\"X\",AE255=\"X\"),1,0)","v":0},null,{"$f":"IF(AND('Step 2 - Ornamental'!$AA$20=\"X\",AG255=\"X\"),1,0)","v":0},"X",{"$f":"IF(AND('Step 2 - Ornamental'!$AB$20=\"X\",AI255=\"X\"),1,0)","v":0},null,{"$f":"IF(AND('Step 2 - Ornamental'!$AC$20=\"X\",AK255=\"X\"),1,0)","v":0},null,{"$f":"IF(AND('Step 2 - Ornamental'!$AA$18=\"X\",AM255=\"X\"),1,0)","v":0},null,{"$f":"IF(AND('Step 2 - Ornamental'!$AB$18=\"X\",AO255=\"X\"),1,0)","v":0},"X",{"$f":"IF(AND('Step 2 - Ornamental'!$AC$18=\"X\",AQ255=\"X\"),1,0)","v":0},"X",{"$f":"IF(AND('Step 2 - Ornamental'!$AD$18=\"X\",AS255=\"X\"),1,0)","v":0},null,{"$f":"IF(AND('Step 2 - Ornamental'!$AE$18=\"X\",AU255=\"X\"),1,0)","v":0},null,{"$f":"IF(AND('Step 2 - Ornamental'!$AA$17=\"X\",AW255=\"X\"),1,0)","v":0},"X",{"$f":"IF(AND('Step 2 - Ornamental'!$AB$17=\"X\",AY255=\"X\"),1,0)","v":0},"X",{"$f":"IF(AND('Step 2 - Ornamental'!$AC$17=\"X\",BA255=\"X\"),1,0)","v":0},null,{"$f":"IF(AND('Step 2 - Ornamental'!$AA$22=\"X\",BC255=\"X\"),1,0)","v":0},null,{"$f":"IF(AND('Step 2 - Ornamental'!$AB$22=\"X\",BE255=\"X\"),1,0)","v":0},null,{"$f":"IF(AND('Step 2 - Ornamental'!$AC$22=\"X\",BG255=\"X\"),1,0)","v":0},"X",{"$f":"IF(AND('Step 2 - Ornamental'!$AD$22=\"X\",BI255=\"X\"),1,0)","v":0},"X",null,null,null,null,null,null,"Cream / 2.0'-5.0'"]
[null,1,"AS SH","Aster shortii (Symphyotrichum shortii )","Short's Aster","18\" O.C.","grows to 3' tall, with purple flowers in Aug-Oct, short-lived, but self-seeds"," ","X","X",null,null,null,0,null,{"$f":"IF(AND('Step 2 - Ornamental'!$AA$21=\"X\",Q256=\"X\"),1,0)","v":0},"X",{"$f":"IF(AND('Step 2 - Ornamental'!$AB$21=\"X\",S256=\"X\"),1,0)","v":0},"X",{"$f":"IF(AND('Step 2 - Ornamental'!$AC$21=\"X\",U256=\"X\"),1,0)","v":0},"X",{"$f":"IF(AND('Step 2 - Ornamental'!$AA$19=\"X\",W256=\"X\"),1,0)","v":0},null,{"$f":"IF(AND('Step 2 - Ornamental'!$AA$19=\"X\",Y256=\"X\"),1,0)","v":0},"X",{"$f":"IF(AND('Step 2 - Ornamental'!$AB$19=\"X\",AA256=\"X\"),1,0)","v":0},null,{"$f":"IF(AND('Step 2 - Ornamental'!$AC$19=\"X\",AC256=\"X\"),1,0)","v":0},null,{"$f":"IF(AND('Step 2 - Ornamental'!$AA$20=\"X\",AE256=\"X\"),1,0)","v":0},"X",{"$f":"IF(AND('Step 2 - Ornamental'!$AA$20=\"X\",AG256=\"X\"),1,0)","v":0},null,{"$f":"IF(AND('Step 2 - Ornamental'!$AB$20=\"X\",AI256=\"X\"),1,0)","v":0},null,{"$f":"IF(AND('Step 2 - Ornamental'!$AC$20=\"X\",AK256=\"X\"),1,0)","v":0},null,{"$f":"IF(AND('Step 2 - Ornamental'!$AA$18=\"X\",AM256=\"X\"),1,0)","v":0},"X",{"$f":"IF(AND('Step 2 - Ornamental'!$AB$18=\"X\",AO256=\"X\"),1,0)","v":0},"X",{"$f":"IF(AND('Step 2 - Ornamental'!$AC$18=\"X\",AQ256=\"X\"),1,0)","v":0},null,{"$f":"IF(AND('Step 2 - Ornamental'!$AD$18=\"X\",AS256=\"X\"),1,0)","v":0},null,{"$f":"IF(AND('Step 2 - Ornamental'!$AE$18=\"X\",AU256=\"X\"),1,0)","v":0},null,{"$f":"IF(AND('Step 2 - Ornamental'!$AA$17=\"X\",AW256=\"X\"),1,0)","v":0},"X",{"$f":"IF(AND('Step 2 - Ornamental'!$AB$17=\"X\",AY256=\"X\"),1,0)","v":0},"X",{"$f":"IF(AND('Step 2 - Ornamental'!$AC$17=\"X\",BA256=\"X\"),1,0)","v":0},null,{"$f":"IF(AND('Step 2 - Ornamental'!$AA$22=\"X\",BC256=\"X\"),1,0)","v":0},null,{"$f":"IF(AND('Step 2 - Ornamental'!$AB$22=\"X\",BE256=\"X\"),1,0)","v":0},null,{"$f":"IF(AND('Step 2 - Ornamental'!$AC$22=\"X\",BG256=\"X\"),1,0)","v":0},"X",{"$f":"IF(AND('Step 2 - Ornamental'!$AD$22=\"X\",BI256=\"X\"),1,0)","v":0},"X",null,null,null,null,null,null,null,"Pale Lavender Blue / 1.0'-1.5'"]
[null,1,"AS TW","Aster hybrid 'Twilight' (Eurybia x herveyi)","Twilight Aster","18\" O.C.","Showy blooms to 3' tall, light lavender color, fall blooming","X",null,null,null,null,null,0,null,{"$f":"IF(AND('Step 2 - Ornamental'!$AA$21=\"X\",Q257=\"X\"),1,0)","v":0},"X",{"$f":"IF(AND('Step 2 - Ornamental'!$AB$21=\"X\",S257=\"X\"),1,0)","v":0},null,{"$f":"IF(AND('Step 2 - Ornamental'!$AC$21=\"X\",U257=\"X\"),1,0)","v":0},null,{"$f":"IF(AND('Step 2 - Ornamental'!$AA$19=\"X\",W257=\"X\"),1,0)","v":0},null,{"$f":"IF(AND('Step 2 - Ornamental'!$AA$19=\"X\",Y257=\"X\"),1,0)","v":0},"X",{"$f":"IF(AND('Step 2 - Ornamental'!$AB$19=\"X\",AA257=\"X\"),1,0)","v":0},"X",{"$f":"IF(AND('Step 2 - Ornamental'!$AC$19=\"X\",AC257=\"X\"),1,0)","v":0},null,{"$f":"IF(AND('Step 2 - Ornamental'!$AA$20=\"X\",AE257=\"X\"),1,0)","v":0},"X",{"$f":"IF(AND('Step 2 - Ornamental'!$AA$20=\"X\",AG257=\"X\"),1,0)","v":0},null,{"$f":"IF(AND('Step 2 - Ornamental'!$AB$20=\"X\",AI257=\"X\"),1,0)","v":0},null,{"$f":"IF(AND('Step 2 - Ornamental'!$AC$20=\"X\",AK257=\"X\"),1,0)","v":0},null,{"$f":"IF(AND('Step 2 - Ornamental'!$AA$18=\"X\",AM257=\"X\"),1,0)","v":0},"X",{"$f":"IF(AND('Step 2 - Ornamental'!$AB$18=\"X\",AO257=\"X\"),1,0)","v":0},"X",{"$f":"IF(AND('Step 2 - Ornamental'!$AC$18=\"X\",AQ257=\"X\"),1,0)","v":0},null,{"$f":"IF(AND('Step 2 - Ornamental'!$AD$18=\"X\",AS257=\"X\"),1,0)","v":0},null,{"$f":"IF(AND('Step 2 - Ornamental'!$AE$18=\"X\",AU257=\"X\"),1,0)","v":0},null,{"$f":"IF(AND('Step 2 - Ornamental'!$AA$17=\"X\",AW257=\"X\"),1,0)","v":0}," ",{"$f":"IF(AND('Step 2 - Ornamental'!$AB$17=\"X\",AY257=\"X\"),1,0)","v":0},"X",{"$f":"IF(AND('Step 2 - Ornamental'!$AC$17=\"X\",BA257=\"X\"),1,0)","v":0}," ",{"$f":"IF(AND('Step 2 - Ornamental'!$AA$22=\"X\",BC257=\"X\"),1,0)","v":0},null,{"$f":"IF(AND('Step 2 - Ornamental'!$AB$22=\"X\",BE257=\"X\"),1,0)","v":0},null,{"$f":"IF(AND('Step 2 - Ornamental'!$AC$22=\"X\",BG257=\"X\"),1,0)","v":0},"X",{"$f":"IF(AND('Step 2 - Ornamental'!$AD$22=\"X\",BI257=\"X\"),1,0)","v":0},"X",null,null,null,null,null,null,null,null,"Lavender / 2.0'"]
[null,1,"AS PU","Astilbe chinensis 'Pumila'","Dwarf Chinese False Spirea","12\" O.C.","Prefers consistently moist, rich soils, pink flowers to 12\" in May-Aug","X",null,null,"X","X",null,0,null,{"$f":"IF(AND('Step 2 - Ornamental'!$AA$21=\"X\",Q258=\"X\"),1,0)","v":0},"X",{"$f":"IF(AND('Step 2 - Ornamental'!$AB$21=\"X\",S258=\"X\"),1,0)","v":0},"X",{"$f":"IF(AND('Step 2 - Ornamental'!$AC$21=\"X\",U258=\"X\"),1,0)","v":0},null,{"$f":"IF(AND('Step 2 - Ornamental'!$AA$19=\"X\",W258=\"X\"),1,0)","v":0},null,{"$f":"IF(AND('Step 2 - Ornamental'!$AA$19=\"X\",Y258=\"X\"),1,0)","v":0},"X",{"$f":"IF(AND('Step 2 - Ornamental'!$AB$19=\"X\",AA258=\"X\"),1,0)","v":0},null,{"$f":"IF(AND('Step 2 - Ornamental'!$AC$19=\"X\",AC258=\"X\"),1,0)","v":0},null,{"$f":"IF(AND('Step 2 - Ornamental'!$AA$20=\"X\",AE258=\"X\"),1,0)","v":0},"X",{"$f":"IF(AND('Step 2 - Ornamental'!$AA$20=\"X\",AG258=\"X\"),1,0)","v":0},null,{"$f":"IF(AND('Step 2 - Ornamental'!$AB$20=\"X\",AI258=\"X\"),1,0)","v":0},null,{"$f":"IF(AND('Step 2 - Ornamental'!$AC$20=\"X\",AK258=\"X\"),1,0)","v":0},null,{"$f":"IF(AND('Step 2 - Ornamental'!$AA$18=\"X\",AM258=\"X\"),1,0)","v":0},null,{"$f":"IF(AND('Step 2 - Ornamental'!$AB$18=\"X\",AO258=\"X\"),1,0)","v":0},"X",{"$f":"IF(AND('Step 2 - Ornamental'!$AC$18=\"X\",AQ258=\"X\"),1,0)","v":0}," ",{"$f":"IF(AND('Step 2 - Ornamental'!$AD$18=\"X\",AS258=\"X\"),1,0)","v":0},null,{"$f":"IF(AND('Step 2 - Ornamental'!$AE$18=\"X\",AU258=\"X\"),1,0)","v":0},null,{"$f":"IF(AND('Step 2 - Ornamental'!$AA$17=\"X\",AW258=\"X\"),1,0)","v":0},null,{"$f":"IF(AND('Step 2 - Ornamental'!$AB$17=\"X\",AY258=\"X\"),1,0)","v":0},"X",{"$f":"IF(AND('Step 2 - Ornamental'!$AC$17=\"X\",BA258=\"X\"),1,0)","v":0},"X",{"$f":"IF(AND('Step 2 - Ornamental'!$AA$22=\"X\",BC258=\"X\"),1,0)","v":0},null,{"$f":"IF(AND('Step 2 - Ornamental'!$AB$22=\"X\",BE258=\"X\"),1,0)","v":0},null,{"$f":"IF(AND('Step 2 - Ornamental'!$AC$22=\"X\",BG258=\"X\"),1,0)","v":0},"X",{"$f":"IF(AND('Step 2 - Ornamental'!$AD$22=\"X\",BI258=\"X\"),1,0)","v":0},"X",null,null,null,null,"Mauve-Pink / 0.75'-1.0'"]
[null,1,"AS PZ","Astilbe chinensis 'Purpurkurze'","Purple Candle False Spirea","18\" O.C.","Prefers consistently moist, rich soils, dark purplish red flowers to 48\" in June-July","X",null,null,"X","X",null,0,null,{"$f":"IF(AND('Step 2 - Ornamental'!$AA$21=\"X\",Q259=\"X\"),1,0)","v":0},"X",{"$f":"IF(AND('Step 2 - Ornamental'!$AB$21=\"X\",S259=\"X\"),1,0)","v":0},"X",{"$f":"IF(AND('Step 2 - Ornamental'!$AC$21=\"X\",U259=\"X\"),1,0)","v":0},null,{"$f":"IF(AND('Step 2 - Ornamental'!$AA$19=\"X\",W259=\"X\"),1,0)","v":0},null,{"$f":"IF(AND('Step 2 - Ornamental'!$AA$19=\"X\",Y259=\"X\"),1,0)","v":0},"X",{"$f":"IF(AND('Step 2 - Ornamental'!$AB$19=\"X\",AA259=\"X\"),1,0)","v":0},null,{"$f":"IF(AND('Step 2 - Ornamental'!$AC$19=\"X\",AC259=\"X\"),1,0)","v":0},null,{"$f":"IF(AND('Step 2 - Ornamental'!$AA$20=\"X\",AE259=\"X\"),1,0)","v":0},"X",{"$f":"IF(AND('Step 2 - Ornamental'!$AA$20=\"X\",AG259=\"X\"),1,0)","v":0},null,{"$f":"IF(AND('Step 2 - Ornamental'!$AB$20=\"X\",AI259=\"X\"),1,0)","v":0},null,{"$f":"IF(AND('Step 2 - Ornamental'!$AC$20=\"X\",AK259=\"X\"),1,0)","v":0},null,{"$f":"IF(AND('Step 2 - Ornamental'!$AA$18=\"X\",AM259=\"X\"),1,0)","v":0},null,{"$f":"IF(AND('Step 2 - Ornamental'!$AB$18=\"X\",AO259=\"X\"),1,0)","v":0},"X",{"$f":"IF(AND('Step 2 - Ornamental'!$AC$18=\"X\",AQ259=\"X\"),1,0)","v":0}," ",{"$f":"IF(AND('Step 2 - Ornamental'!$AD$18=\"X\",AS259=\"X\"),1,0)","v":0},null,{"$f":"IF(AND('Step 2 - Ornamental'!$AE$18=\"X\",AU259=\"X\"),1,0)","v":0},null,{"$f":"IF(AND('Step 2 - Ornamental'!$AA$17=\"X\",AW259=\"X\"),1,0)","v":0},null,{"$f":"IF(AND('Step 2 - Ornamental'!$AB$17=\"X\",AY259=\"X\"),1,0)","v":0},"X",{"$f":"IF(AND('Step 2 - Ornamental'!$AC$17=\"X\",BA259=\"X\"),1,0)","v":0},"X",{"$f":"IF(AND('Step 2 - Ornamental'!$AA$22=\"X\",BC259=\"X\"),1,0)","v":0},null,{"$f":"IF(AND('Step 2 - Ornamental'!$AB$22=\"X\",BE259=\"X\"),1,0)","v":0},null,{"$f":"IF(AND('Step 2 - Ornamental'!$AC$22=\"X\",BG259=\"X\"),1,0)","v":0},"X",{"$f":"IF(AND('Step 2 - Ornamental'!$AD$22=\"X\",BI259=\"X\"),1,0)","v":0},"X",null,null,null,null,null,"Dark Purplish-red / 2.0'-4.0'"]
[null,1,"AS XA","Astilbe x arendsii 'White Gloria'","White Gloria False Goat's Beard","18\" O.C.","Prefers consistently moist, rich soils, white plumes to 24\" high in May-June","X",null,null,"X","X",null,0,null,{"$f":"IF(AND('Step 2 - Ornamental'!$AA$21=\"X\",Q260=\"X\"),1,0)","v":0},"X",{"$f":"IF(AND('Step 2 - Ornamental'!$AB$21=\"X\",S260=\"X\"),1,0)","v":0},"X",{"$f":"IF(AND('Step 2 - Ornamental'!$AC$21=\"X\",U260=\"X\"),1,0)","v":0},null,{"$f":"IF(AND('Step 2 - Ornamental'!$AA$19=\"X\",W260=\"X\"),1,0)","v":0},null,{"$f":"IF(AND('Step 2 - Ornamental'!$AA$19=\"X\",Y260=\"X\"),1,0)","v":0},"X",{"$f":"IF(AND('Step 2 - Ornamental'!$AB$19=\"X\",AA260=\"X\"),1,0)","v":0},null,{"$f":"IF(AND('Step 2 - Ornamental'!$AC$19=\"X\",AC260=\"X\"),1,0)","v":0},null,{"$f":"IF(AND('Step 2 - Ornamental'!$AA$20=\"X\",AE260=\"X\"),1,0)","v":0},"X",{"$f":"IF(AND('Step 2 - Ornamental'!$AA$20=\"X\",AG260=\"X\"),1,0)","v":0},null,{"$f":"IF(AND('Step 2 - Ornamental'!$AB$20=\"X\",AI260=\"X\"),1,0)","v":0},null,{"$f":"IF(AND('Step 2 - Ornamental'!$AC$20=\"X\",AK260=\"X\"),1,0)","v":0},null,{"$f":"IF(AND('Step 2 - Ornamental'!$AA$18=\"X\",AM260=\"X\"),1,0)","v":0},null,{"$f":"IF(AND('Step 2 - Ornamental'!$AB$18=\"X\",AO260=\"X\"),1,0)","v":0},"X",{"$f":"IF(AND('Step 2 - Ornamental'!$AC$18=\"X\",AQ260=\"X\"),1,0)","v":0}," ",{"$f":"IF(AND('Step 2 - Ornamental'!$AD$18=\"X\",AS260=\"X\"),1,0)","v":0},null,{"$f":"IF(AND('Step 2 - Ornamental'!$AE$18=\"X\",AU260=\"X\"),1,0)","v":0},null,{"$f":"IF(AND('Step 2 - Ornamental'!$AA$17=\"X\",AW260=\"X\"),1,0)","v":0},null,{"$f":"IF(AND('Step 2 - Ornamental'!$AB$17=\"X\",AY260=\"X\"),1,0)","v":0},"X",{"$f":"IF(AND('Step 2 - Ornamental'!$AC$17=\"X\",BA260=\"X\"),1,0)","v":0},"X",{"$f":"IF(AND('Step 2 - Ornamental'!$AA$22=\"X\",BC260=\"X\"),1,0)","v":0},null,{"$f":"IF(AND('Step 2 - Ornamental'!$AB$22=\"X\",BE260=\"X\"),1,0)","v":0},null,{"$f":"IF(AND('Step 2 - Ornamental'!$AC$22=\"X\",BG260=\"X\"),1,0)","v":0},"X",{"$f":"IF(AND('Step 2 - Ornamental'!$AD$22=\"X\",BI260=\"X\"),1,0)","v":0},"X",null,null,null,null,"White / 2.0'"]
[null,1,"BA AU","Baptisia australis","False Indigo","36\" O.C.","Indigo blue flowers to 42\" tall in May-June",null,"X",null,null,"X",null,0,null,{"$f":"IF(AND('Step 2 - Ornamental'!$AA$21=\"X\",Q261=\"X\"),1,0)","v":0},"X",{"$f":"IF(AND('Step 2 - Ornamental'!$AB$21=\"X\",S261=\"X\"),1,0)","v":0},"X",{"$f":"IF(AND('Step 2 - Ornamental'!$AC$21=\"X\",U261=\"X\"),1,0)","v":0},null,{"$f":"IF(AND('Step 2 - Ornamental'!$AA$19=\"X\",W261=\"X\"),1,0)","v":0},null,{"$f":"IF(AND('Step 2 - Ornamental'!$AA$19=\"X\",Y261=\"X\"),1,0)","v":0},"X",{"$f":"IF(AND('Step 2 - Ornamental'!$AB$19=\"X\",AA261=\"X\"),1,0)","v":0},null,{"$f":"IF(AND('Step 2 - Ornamental'!$AC$19=\"X\",AC261=\"X\"),1,0)","v":0},null,{"$f":"IF(AND('Step 2 - Ornamental'!$AA$20=\"X\",AE261=\"X\"),1,0)","v":0},"X",{"$f":"IF(AND('Step 2 - Ornamental'!$AA$20=\"X\",AG261=\"X\"),1,0)","v":0},null,{"$f":"IF(AND('Step 2 - Ornamental'!$AB$20=\"X\",AI261=\"X\"),1,0)","v":0},null,{"$f":"IF(AND('Step 2 - Ornamental'!$AC$20=\"X\",AK261=\"X\"),1,0)","v":0},null,{"$f":"IF(AND('Step 2 - Ornamental'!$AA$18=\"X\",AM261=\"X\"),1,0)","v":0},"X",{"$f":"IF(AND('Step 2 - Ornamental'!$AB$18=\"X\",AO261=\"X\"),1,0)","v":0},"X",{"$f":"IF(AND('Step 2 - Ornamental'!$AC$18=\"X\",AQ261=\"X\"),1,0)","v":0},null,{"$f":"IF(AND('Step 2 - Ornamental'!$AD$18=\"X\",AS261=\"X\"),1,0)","v":0},null,{"$f":"IF(AND('Step 2 - Ornamental'!$AE$18=\"X\",AU261=\"X\"),1,0)","v":0},null,{"$f":"IF(AND('Step 2 - Ornamental'!$AA$17=\"X\",AW261=\"X\"),1,0)","v":0},"X",{"$f":"IF(AND('Step 2 - Ornamental'!$AB$17=\"X\",AY261=\"X\"),1,0)","v":0},"X",{"$f":"IF(AND('Step 2 - Ornamental'!$AC$17=\"X\",BA261=\"X\"),1,0)","v":0},null,{"$f":"IF(AND('Step 2 - Ornamental'!$AA$22=\"X\",BC261=\"X\"),1,0)","v":0},null,{"$f":"IF(AND('Step 2 - Ornamental'!$AB$22=\"X\",BE261=\"X\"),1,0)","v":0},"X",{"$f":"IF(AND('Step 2 - Ornamental'!$AC$22=\"X\",BG261=\"X\"),1,0)","v":0},"X",{"$f":"IF(AND('Step 2 - Ornamental'!$AD$22=\"X\",BI261=\"X\"),1,0)","v":0},"X",null,null,null,null,"Indigo-Blue / 3.0'-4.0'"]
[null,1,"BA LE","Baptisia leucantha (Baptisia alba)","White Wild Indigo","24\" O.C.","Creamy-white, pea-like flowers to 42\" tall in April-May",null,"X","X",null,null,null,0,null,{"$f":"IF(AND('Step 2 - Ornamental'!$AA$21=\"X\",Q262=\"X\"),1,0)","v":0},"X",{"$f":"IF(AND('Step 2 - Ornamental'!$AB$21=\"X\",S262=\"X\"),1,0)","v":0},"X",{"$f":"IF(AND('Step 2 - Ornamental'!$AC$21=\"X\",U262=\"X\"),1,0)","v":0},null,{"$f":"IF(AND('Step 2 - Ornamental'!$AA$19=\"X\",W262=\"X\"),1,0)","v":0},null,{"$f":"IF(AND('Step 2 - Ornamental'!$AA$19=\"X\",Y262=\"X\"),1,0)","v":0},"X",{"$f":"IF(AND('Step 2 - Ornamental'!$AB$19=\"X\",AA262=\"X\"),1,0)","v":0},null,{"$f":"IF(AND('Step 2 - Ornamental'!$AC$19=\"X\",AC262=\"X\"),1,0)","v":0},null,{"$f":"IF(AND('Step 2 - Ornamental'!$AA$20=\"X\",AE262=\"X\"),1,0)","v":0},"X",{"$f":"IF(AND('Step 2 - Ornamental'!$AA$20=\"X\",AG262=\"X\"),1,0)","v":0},null,{"$f":"IF(AND('Step 2 - Ornamental'!$AB$20=\"X\",AI262=\"X\"),1,0)","v":0},null,{"$f":"IF(AND('Step 2 - Ornamental'!$AC$20=\"X\",AK262=\"X\"),1,0)","v":0},null,{"$f":"IF(AND('Step 2 - Ornamental'!$AA$18=\"X\",AM262=\"X\"),1,0)","v":0},"X",{"$f":"IF(AND('Step 2 - Ornamental'!$AB$18=\"X\",AO262=\"X\"),1,0)","v":0},"X",{"$f":"IF(AND('Step 2 - Ornamental'!$AC$18=\"X\",AQ262=\"X\"),1,0)","v":0},null,{"$f":"IF(AND('Step 2 - Ornamental'!$AD$18=\"X\",AS262=\"X\"),1,0)","v":0},null,{"$f":"IF(AND('Step 2 - Ornamental'!$AE$18=\"X\",AU262=\"X\"),1,0)","v":0},null,{"$f":"IF(AND('Step 2 - Ornamental'!$AA$17=\"X\",AW262=\"X\"),1,0)","v":0},"X",{"$f":"IF(AND('Step 2 - Ornamental'!$AB$17=\"X\",AY262=\"X\"),1,0)","v":0},"X",{"$f":"IF(AND('Step 2 - Ornamental'!$AC$17=\"X\",BA262=\"X\"),1,0)","v":0},null,{"$f":"IF(AND('Step 2 - Ornamental'!$AA$22=\"X\",BC262=\"X\"),1,0)","v":0},null,{"$f":"IF(AND('Step 2 - Ornamental'!$AB$22=\"X\",BE262=\"X\"),1,0)","v":0},null,{"$f":"IF(AND('Step 2 - Ornamental'!$AC$22=\"X\",BG262=\"X\"),1,0)","v":0},"X",{"$f":"IF(AND('Step 2 - Ornamental'!$AD$22=\"X\",BI262=\"X\"),1,0)","v":0},"X",null,null,null,"White / 2.0'-4.0'"]
[null,1,"BA PS","Baptisia x 'Purple Smoke'","Purple Smoke False Indigo","36\" O.C.","Violet flowers, dark stems to 42\"  tall in April-May",null,"X",null,null,null,null,0,null,{"$f":"IF(AND('Step 2 - Ornamental'!$AA$21=\"X\",Q263=\"X\"),1,0)","v":0},"X",{"$f":"IF(AND('Step 2 - Ornamental'!$AB$21=\"X\",S263=\"X\"),1,0)","v":0},"X",{"$f":"IF(AND('Step 2 - Ornamental'!$AC$21=\"X\",U263=\"X\"),1,0)","v":0},null,{"$f":"IF(AND('Step 2 - Ornamental'!$AA$19=\"X\",W263=\"X\"),1,0)","v":0},null,{"$f":"IF(AND('Step 2 - Ornamental'!$AA$19=\"X\",Y263=\"X\"),1,0)","v":0},"X",{"$f":"IF(AND('Step 2 - Ornamental'!$AB$19=\"X\",AA263=\"X\"),1,0)","v":0},null,{"$f":"IF(AND('Step 2 - Ornamental'!$AC$19=\"X\",AC263=\"X\"),1,0)","v":0},null,{"$f":"IF(AND('Step 2 - Ornamental'!$AA$20=\"X\",AE263=\"X\"),1,0)","v":0},"X",{"$f":"IF(AND('Step 2 - Ornamental'!$AA$20=\"X\",AG263=\"X\"),1,0)","v":0},null,{"$f":"IF(AND('Step 2 - Ornamental'!$AB$20=\"X\",AI263=\"X\"),1,0)","v":0},null,{"$f":"IF(AND('Step 2 - Ornamental'!$AC$20=\"X\",AK263=\"X\"),1,0)","v":0},null,{"$f":"IF(AND('Step 2 - Ornamental'!$AA$18=\"X\",AM263=\"X\"),1,0)","v":0},"X",{"$f":"IF(AND('Step 2 - Ornamental'!$AB$18=\"X\",AO263=\"X\"),1,0)","v":0},"X",{"$f":"IF(AND('Step 2 - Ornamental'!$AC$18=\"X\",AQ263=\"X\"),1,0)","v":0},null,{"$f":"IF(AND('Step 2 - Ornamental'!$AD$18=\"X\",AS263=\"X\"),1,0)","v":0},null,{"$f":"IF(AND('Step 2 - Ornamental'!$AE$18=\"X\",AU263=\"X\"),1,0)","v":0},null,{"$f":"IF(AND('Step 2 - Ornamental'!$AA$17=\"X\",AW263=\"X\"),1,0)","v":0},"X",{"$f":"IF(AND('Step 2 - Ornamental'!$AB$17=\"X\",AY263=\"X\"),1,0)","v":0},"X",{"$f":"IF(AND('Step 2 - Ornamental'!$AC$17=\"X\",BA263=\"X\"),1,0)","v":0},null,{"$f":"IF(AND('Step 2 - Ornamental'!$AA$22=\"X\",BC263=\"X\"),1,0)","v":0},null,{"$f":"IF(AND('Step 2 - Ornamental'!$AB$22=\"X\",BE263=\"X\"),1,0)","v":0},null,{"$f":"IF(AND('Step 2 - Ornamental'!$AC$22=\"X\",BG263=\"X\"),1,0)","v":0},"X",{"$f":"IF(AND('Step 2 - Ornamental'!$AD$22=\"X\",BI263=\"X\"),1,0)","v":0},"X",null,null,null,"Smoky-blue / 3.0'-4.0'"]
[null,1,"BA SA","Baptisia sphaerocarpa","Yellow Wild Indigo","30\" O.C.","Yellow flowers to 3' tall in May-June, tolerates poor soils",null,"X",null,null,null,null,1,"X",{"$f":"IF(AND('Step 2 - Ornamental'!$AA$21=\"X\",Q264=\"X\"),1,0)","v":0},null,{"$f":"IF(AND('Step 2 - Ornamental'!$AB$21=\"X\",S264=\"X\"),1,0)","v":0},null,{"$f":"IF(AND('Step 2 - Ornamental'!$AC$21=\"X\",U264=\"X\"),1,0)","v":0},null,{"$f":"IF(AND('Step 2 - Ornamental'!$AA$19=\"X\",W264=\"X\"),1,0)","v":0},null,{"$f":"IF(AND('Step 2 - Ornamental'!$AA$19=\"X\",Y264=\"X\"),1,0)","v":0},"X",{"$f":"IF(AND('Step 2 - Ornamental'!$AB$19=\"X\",AA264=\"X\"),1,0)","v":0},null,{"$f":"IF(AND('Step 2 - Ornamental'!$AC$19=\"X\",AC264=\"X\"),1,0)","v":0},null,{"$f":"IF(AND('Step 2 - Ornamental'!$AA$20=\"X\",AE264=\"X\"),1,0)","v":0},"X",{"$f":"IF(AND('Step 2 - Ornamental'!$AA$20=\"X\",AG264=\"X\"),1,0)","v":0},null,{"$f":"IF(AND('Step 2 - Ornamental'!$AB$20=\"X\",AI264=\"X\"),1,0)","v":0},null,{"$f":"IF(AND('Step 2 - Ornamental'!$AC$20=\"X\",AK264=\"X\"),1,0)","v":0},null,{"$f":"IF(AND('Step 2 - Ornamental'!$AA$18=\"X\",AM264=\"X\"),1,0)","v":0},"X",{"$f":"IF(AND('Step 2 - Ornamental'!$AB$18=\"X\",AO264=\"X\"),1,0)","v":0},"X",{"$f":"IF(AND('Step 2 - Ornamental'!$AC$18=\"X\",AQ264=\"X\"),1,0)","v":0},null,{"$f":"IF(AND('Step 2 - Ornamental'!$AD$18=\"X\",AS264=\"X\"),1,0)","v":0},null,{"$f":"IF(AND('Step 2 - Ornamental'!$AE$18=\"X\",AU264=\"X\"),1,0)","v":0},null,{"$f":"IF(AND('Step 2 - Ornamental'!$AA$17=\"X\",AW264=\"X\"),1,0)","v":0},"X",{"$f":"IF(AND('Step 2 - Ornamental'!$AB$17=\"X\",AY264=\"X\"),1,0)","v":0},"X",{"$f":"IF(AND('Step 2 - Ornamental'!$AC$17=\"X\",BA264=\"X\"),1,0)","v":0},null,{"$f":"IF(AND('Step 2 - Ornamental'!$AA$22=\"X\",BC264=\"X\"),1,0)","v":0},null,{"$f":"IF(AND('Step 2 - Ornamental'!$AB$22=\"X\",BE264=\"X\"),1,0)","v":0},null,{"$f":"IF(AND('Step 2 - Ornamental'!$AC$22=\"X\",BG264=\"X\"),1,0)","v":0},"X",{"$f":"IF(AND('Step 2 - Ornamental'!$AD$22=\"X\",BI264=\"X\"),1,0)","v":0},"X",null,null,null,null,"Yellow / 2.0'-3.0'"]
[null,1,"BE CO","Bergenia cordifolia 'Winterglut' WINTER GLOW","Winter Glow Pigsqueak","12\" O.C.","12\"-18\" tall magenta-red flowers in April/May, mostly a foliage plant for shade gardens","X",null,null,"X","X",null,0,null,{"$f":"IF(AND('Step 2 - Ornamental'!$AA$21=\"X\",Q265=\"X\"),1,0)","v":0},"X",{"$f":"IF(AND('Step 2 - Ornamental'!$AB$21=\"X\",S265=\"X\"),1,0)","v":0},"X",{"$f":"IF(AND('Step 2 - Ornamental'!$AC$21=\"X\",U265=\"X\"),1,0)","v":0},"X",{"$f":"IF(AND('Step 2 - Ornamental'!$AA$19=\"X\",W265=\"X\"),1,0)","v":0},"X",{"$f":"IF(AND('Step 2 - Ornamental'!$AA$19=\"X\",Y265=\"X\"),1,0)","v":0},null,{"$f":"IF(AND('Step 2 - Ornamental'!$AB$19=\"X\",AA265=\"X\"),1,0)","v":0},null,{"$f":"IF(AND('Step 2 - Ornamental'!$AC$19=\"X\",AC265=\"X\"),1,0)","v":0},null,{"$f":"IF(AND('Step 2 - Ornamental'!$AA$20=\"X\",AE265=\"X\"),1,0)","v":0},"X",{"$f":"IF(AND('Step 2 - Ornamental'!$AA$20=\"X\",AG265=\"X\"),1,0)","v":0},null,{"$f":"IF(AND('Step 2 - Ornamental'!$AB$20=\"X\",AI265=\"X\"),1,0)","v":0},null,{"$f":"IF(AND('Step 2 - Ornamental'!$AC$20=\"X\",AK265=\"X\"),1,0)","v":0},null,{"$f":"IF(AND('Step 2 - Ornamental'!$AA$18=\"X\",AM265=\"X\"),1,0)","v":0},null,{"$f":"IF(AND('Step 2 - Ornamental'!$AB$18=\"X\",AO265=\"X\"),1,0)","v":0},"X",{"$f":"IF(AND('Step 2 - Ornamental'!$AC$18=\"X\",AQ265=\"X\"),1,0)","v":0},null,{"$f":"IF(AND('Step 2 - Ornamental'!$AD$18=\"X\",AS265=\"X\"),1,0)","v":0},null,{"$f":"IF(AND('Step 2 - Ornamental'!$AE$18=\"X\",AU265=\"X\"),1,0)","v":0},null,{"$f":"IF(AND('Step 2 - Ornamental'!$AA$17=\"X\",AW265=\"X\"),1,0)","v":0},null,{"$f":"IF(AND('Step 2 - Ornamental'!$AB$17=\"X\",AY265=\"X\"),1,0)","v":0},"X",{"$f":"IF(AND('Step 2 - Ornamental'!$AC$17=\"X\",BA265=\"X\"),1,0)","v":0},"X",{"$f":"IF(AND('Step 2 - Ornamental'!$AA$22=\"X\",BC265=\"X\"),1,0)","v":0},null,{"$f":"IF(AND('Step 2 - Ornamental'!$AB$22=\"X\",BE265=\"X\"),1,0)","v":0},null,{"$f":"IF(AND('Step 2 - Ornamental'!$AC$22=\"X\",BG265=\"X\"),1,0)","v":0},"X",{"$f":"IF(AND('Step 2 - Ornamental'!$AD$22=\"X\",BI265=\"X\"),1,0)","v":0},"X",null,null,null,"Magenta -red / 1.0'-1.5'"]
[null,1,"BL HI","Blephilia hirsuta","Wood Mint","12\" O.C.","Blue, purple flowers May-Sept., good for moist shade",null,"X","X",null,null,null,1,"X",{"$f":"IF(AND('Step 2 - Ornamental'!$AA$21=\"X\",Q266=\"X\"),1,0)","v":0},null,{"$f":"IF(AND('Step 2 - Ornamental'!$AB$21=\"X\",S266=\"X\"),1,0)","v":0},null,{"$f":"IF(AND('Step 2 - Ornamental'!$AC$21=\"X\",U266=\"X\"),1,0)","v":0},null,{"$f":"IF(AND('Step 2 - Ornamental'!$AA$19=\"X\",W266=\"X\"),1,0)","v":0},"X",{"$f":"IF(AND('Step 2 - Ornamental'!$AA$19=\"X\",Y266=\"X\"),1,0)","v":0},null,{"$f":"IF(AND('Step 2 - Ornamental'!$AB$19=\"X\",AA266=\"X\"),1,0)","v":0},null,{"$f":"IF(AND('Step 2 - Ornamental'!$AC$19=\"X\",AC266=\"X\"),1,0)","v":0},null,{"$f":"IF(AND('Step 2 - Ornamental'!$AA$20=\"X\",AE266=\"X\"),1,0)","v":0},"X",{"$f":"IF(AND('Step 2 - Ornamental'!$AA$20=\"X\",AG266=\"X\"),1,0)","v":0},null,{"$f":"IF(AND('Step 2 - Ornamental'!$AB$20=\"X\",AI266=\"X\"),1,0)","v":0},null,{"$f":"IF(AND('Step 2 - Ornamental'!$AC$20=\"X\",AK266=\"X\"),1,0)","v":0},null,{"$f":"IF(AND('Step 2 - Ornamental'!$AA$18=\"X\",AM266=\"X\"),1,0)","v":0},null,{"$f":"IF(AND('Step 2 - Ornamental'!$AB$18=\"X\",AO266=\"X\"),1,0)","v":0},"X",{"$f":"IF(AND('Step 2 - Ornamental'!$AC$18=\"X\",AQ266=\"X\"),1,0)","v":0},null,{"$f":"IF(AND('Step 2 - Ornamental'!$AD$18=\"X\",AS266=\"X\"),1,0)","v":0},null,{"$f":"IF(AND('Step 2 - Ornamental'!$AE$18=\"X\",AU266=\"X\"),1,0)","v":0},null,{"$f":"IF(AND('Step 2 - Ornamental'!$AA$17=\"X\",AW266=\"X\"),1,0)","v":0},"X",{"$f":"IF(AND('Step 2 - Ornamental'!$AB$17=\"X\",AY266=\"X\"),1,0)","v":0},"X",{"$f":"IF(AND('Step 2 - Ornamental'!$AC$17=\"X\",BA266=\"X\"),1,0)","v":0},null,{"$f":"IF(AND('Step 2 - Ornamental'!$AA$22=\"X\",BC266=\"X\"),1,0)","v":0},null,{"$f":"IF(AND('Step 2 - Ornamental'!$AB$22=\"X\",BE266=\"X\"),1,0)","v":0},null,{"$f":"IF(AND('Step 2 - Ornamental'!$AC$22=\"X\",BG266=\"X\"),1,0)","v":0},"X",{"$f":"IF(AND('Step 2 - Ornamental'!$AD$22=\"X\",BI266=\"X\"),1,0)","v":0},"X",null,null,null,null,"Blue,Purple / 1.0'-2.5'"]
[null,1,"BO AS","Boltonia asteroides var. latisquama 'Masbolimket' JIM CROCKETT","Thousand Flower Aster","24\" O.C.","Sttracts butterflies, Violet daisies with yellow centers to 2' tall in Aug-Sept, compact var., spreads slowy by rhizomes"," ","X","X","X",null,null,0,null,{"$f":"IF(AND('Step 2 - Ornamental'!$AA$21=\"X\",Q267=\"X\"),1,0)","v":0},"X",{"$f":"IF(AND('Step 2 - Ornamental'!$AB$21=\"X\",S267=\"X\"),1,0)","v":0},"X",{"$f":"IF(AND('Step 2 - Ornamental'!$AC$21=\"X\",U267=\"X\"),1,0)","v":0},null,{"$f":"IF(AND('Step 2 - Ornamental'!$AA$19=\"X\",W267=\"X\"),1,0)","v":0},null,{"$f":"IF(AND('Step 2 - Ornamental'!$AA$19=\"X\",Y267=\"X\"),1,0)","v":0},"X",{"$f":"IF(AND('Step 2 - Ornamental'!$AB$19=\"X\",AA267=\"X\"),1,0)","v":0},null,{"$f":"IF(AND('Step 2 - Ornamental'!$AC$19=\"X\",AC267=\"X\"),1,0)","v":0},null,{"$f":"IF(AND('Step 2 - Ornamental'!$AA$20=\"X\",AE267=\"X\"),1,0)","v":0},null,{"$f":"IF(AND('Step 2 - Ornamental'!$AA$20=\"X\",AG267=\"X\"),1,0)","v":0},"X",{"$f":"IF(AND('Step 2 - Ornamental'!$AB$20=\"X\",AI267=\"X\"),1,0)","v":0},"X",{"$f":"IF(AND('Step 2 - Ornamental'!$AC$20=\"X\",AK267=\"X\"),1,0)","v":0},null,{"$f":"IF(AND('Step 2 - Ornamental'!$AA$18=\"X\",AM267=\"X\"),1,0)","v":0},"X",{"$f":"IF(AND('Step 2 - Ornamental'!$AB$18=\"X\",AO267=\"X\"),1,0)","v":0},"X",{"$f":"IF(AND('Step 2 - Ornamental'!$AC$18=\"X\",AQ267=\"X\"),1,0)","v":0},"X",{"$f":"IF(AND('Step 2 - Ornamental'!$AD$18=\"X\",AS267=\"X\"),1,0)","v":0},null,{"$f":"IF(AND('Step 2 - Ornamental'!$AE$18=\"X\",AU267=\"X\"),1,0)","v":0},null,{"$f":"IF(AND('Step 2 - Ornamental'!$AA$17=\"X\",AW267=\"X\"),1,0)","v":0},"X",{"$f":"IF(AND('Step 2 - Ornamental'!$AB$17=\"X\",AY267=\"X\"),1,0)","v":0},null,{"$f":"IF(AND('Step 2 - Ornamental'!$AC$17=\"X\",BA267=\"X\"),1,0)","v":0},null,{"$f":"IF(AND('Step 2 - Ornamental'!$AA$22=\"X\",BC267=\"X\"),1,0)","v":0},null,{"$f":"IF(AND('Step 2 - Ornamental'!$AB$22=\"X\",BE267=\"X\"),1,0)","v":0},null,{"$f":"IF(AND('Step 2 - Ornamental'!$AC$22=\"X\",BG267=\"X\"),1,0)","v":0},"X",{"$f":"IF(AND('Step 2 - Ornamental'!$AD$22=\"X\",BI267=\"X\"),1,0)","v":0},"X",null,null,null,null,null,null,null,"Violet rays, yllw center / 1.5'-2.0'"]
[null,1,"BR MA","Brunnera macrophylla 'Jack Frost'","Jack Frost Siberian Bugloss","18\" O.C.","Rhizatomous perennial for moist, rich soils in shade, foliage plant","X",null,null,null,"X",null,0,null,{"$f":"IF(AND('Step 2 - Ornamental'!$AA$21=\"X\",Q268=\"X\"),1,0)","v":0},"X",{"$f":"IF(AND('Step 2 - Ornamental'!$AB$21=\"X\",S268=\"X\"),1,0)","v":0},"X",{"$f":"IF(AND('Step 2 - Ornamental'!$AC$21=\"X\",U268=\"X\"),1,0)","v":0},null,{"$f":"IF(AND('Step 2 - Ornamental'!$AA$19=\"X\",W268=\"X\"),1,0)","v":0},null,{"$f":"IF(AND('Step 2 - Ornamental'!$AA$19=\"X\",Y268=\"X\"),1,0)","v":0},"X",{"$f":"IF(AND('Step 2 - Ornamental'!$AB$19=\"X\",AA268=\"X\"),1,0)","v":0},null,{"$f":"IF(AND('Step 2 - Ornamental'!$AC$19=\"X\",AC268=\"X\"),1,0)","v":0},null,{"$f":"IF(AND('Step 2 - Ornamental'!$AA$20=\"X\",AE268=\"X\"),1,0)","v":0},"X",{"$f":"IF(AND('Step 2 - Ornamental'!$AA$20=\"X\",AG268=\"X\"),1,0)","v":0},null,{"$f":"IF(AND('Step 2 - Ornamental'!$AB$20=\"X\",AI268=\"X\"),1,0)","v":0},null,{"$f":"IF(AND('Step 2 - Ornamental'!$AC$20=\"X\",AK268=\"X\"),1,0)","v":0},null,{"$f":"IF(AND('Step 2 - Ornamental'!$AA$18=\"X\",AM268=\"X\"),1,0)","v":0},null,{"$f":"IF(AND('Step 2 - Ornamental'!$AB$18=\"X\",AO268=\"X\"),1,0)","v":0},"X",{"$f":"IF(AND('Step 2 - Ornamental'!$AC$18=\"X\",AQ268=\"X\"),1,0)","v":0},"X",{"$f":"IF(AND('Step 2 - Ornamental'!$AD$18=\"X\",AS268=\"X\"),1,0)","v":0},null,{"$f":"IF(AND('Step 2 - Ornamental'!$AE$18=\"X\",AU268=\"X\"),1,0)","v":0},null,{"$f":"IF(AND('Step 2 - Ornamental'!$AA$17=\"X\",AW268=\"X\"),1,0)","v":0},null,{"$f":"IF(AND('Step 2 - Ornamental'!$AB$17=\"X\",AY268=\"X\"),1,0)","v":0},"X",{"$f":"IF(AND('Step 2 - Ornamental'!$AC$17=\"X\",BA268=\"X\"),1,0)","v":0},null,{"$f":"IF(AND('Step 2 - Ornamental'!$AA$22=\"X\",BC268=\"X\"),1,0)","v":0},null,{"$f":"IF(AND('Step 2 - Ornamental'!$AB$22=\"X\",BE268=\"X\"),1,0)","v":0},null,{"$f":"IF(AND('Step 2 - Ornamental'!$AC$22=\"X\",BG268=\"X\"),1,0)","v":0},"X",{"$f":"IF(AND('Step 2 - Ornamental'!$AD$22=\"X\",BI268=\"X\"),1,0)","v":0},"X",null,null,null,"Blue / 1.0'-1.5'"]
[null,1,"BU DA","Buddleia davidii 'attraction'","Attraction Butterfly Bush","36\" O.C.","Tall reddish-purple flowers to 6' in Jun-Sept","X",null,null," ","X",null,0,null,{"$f":"IF(AND('Step 2 - Ornamental'!$AA$21=\"X\",Q269=\"X\"),1,0)","v":0},"X",{"$f":"IF(AND('Step 2 - Ornamental'!$AB$21=\"X\",S269=\"X\"),1,0)","v":0},"X",{"$f":"IF(AND('Step 2 - Ornamental'!$AC$21=\"X\",U269=\"X\"),1,0)","v":0},"X",{"$f":"IF(AND('Step 2 - Ornamental'!$AA$19=\"X\",W269=\"X\"),1,0)","v":0},null,{"$f":"IF(AND('Step 2 - Ornamental'!$AA$19=\"X\",Y269=\"X\"),1,0)","v":0},"X",{"$f":"IF(AND('Step 2 - Ornamental'!$AB$19=\"X\",AA269=\"X\"),1,0)","v":0},null,{"$f":"IF(AND('Step 2 - Ornamental'!$AC$19=\"X\",AC269=\"X\"),1,0)","v":0},null,{"$f":"IF(AND('Step 2 - Ornamental'!$AA$20=\"X\",AE269=\"X\"),1,0)","v":0},"X",{"$f":"IF(AND('Step 2 - Ornamental'!$AA$20=\"X\",AG269=\"X\"),1,0)","v":0},null,{"$f":"IF(AND('Step 2 - Ornamental'!$AB$20=\"X\",AI269=\"X\"),1,0)","v":0},null,{"$f":"IF(AND('Step 2 - Ornamental'!$AC$20=\"X\",AK269=\"X\"),1,0)","v":0},null,{"$f":"IF(AND('Step 2 - Ornamental'!$AA$18=\"X\",AM269=\"X\"),1,0)","v":0},null,{"$f":"IF(AND('Step 2 - Ornamental'!$AB$18=\"X\",AO269=\"X\"),1,0)","v":0},"X",{"$f":"IF(AND('Step 2 - Ornamental'!$AC$18=\"X\",AQ269=\"X\"),1,0)","v":0},null,{"$f":"IF(AND('Step 2 - Ornamental'!$AD$18=\"X\",AS269=\"X\"),1,0)","v":0},null,{"$f":"IF(AND('Step 2 - Ornamental'!$AE$18=\"X\",AU269=\"X\"),1,0)","v":0},null,{"$f":"IF(AND('Step 2 - Ornamental'!$AA$17=\"X\",AW269=\"X\"),1,0)","v":0},"X",{"$f":"IF(AND('Step 2 - Ornamental'!$AB$17=\"X\",AY269=\"X\"),1,0)","v":0},null,{"$f":"IF(AND('Step 2 - Ornamental'!$AC$17=\"X\",BA269=\"X\"),1,0)","v":0},null,{"$f":"IF(AND('Step 2 - Ornamental'!$AA$22=\"X\",BC269=\"X\"),1,0)","v":0},null,{"$f":"IF(AND('Step 2 - Ornamental'!$AB$22=\"X\",BE269=\"X\"),1,0)","v":0},null,{"$f":"IF(AND('Step 2 - Ornamental'!$AC$22=\"X\",BG269=\"X\"),1,0)","v":0},"X",{"$f":"IF(AND('Step 2 - Ornamental'!$AD$22=\"X\",BI269=\"X\"),1,0)","v":0},"X",null,null,null,null,null,"Purplish-red / 4.0'-6.0'"]
[null,{"$f":"SUM((N270+P270+R270+T270)*(V270+X270+Z270+AB270)*(AD270+AF270+AH270+AJ270)*(AL270+AN270+AP270+AR270+AT270)*(AV270+AX270+AZ270)*(BB270+BD270+BF270+BH270))+1","v":1},"CA NN","Calamintha nepeta ssp. Nepeta (Clinopodium nepeta)","Calamint","18\" O.C.","Tolerates afternoon shade, spreads, white flowers to 18\" in June-Sept","X",null,null,null,null,null,{"$f":"IF(O270=\"X\",1,0)","v":0},null,{"$f":"IF(AND('Step 2 - Ornamental'!$AA$21=\"X\",Q270=\"X\"),1,0)","v":0},null,{"$f":"IF(AND('Step 2 - Ornamental'!$AB$21=\"X\",S270=\"X\"),1,0)","v":0},"X",{"$f":"IF(AND('Step 2 - Ornamental'!$AC$21=\"X\",U270=\"X\"),1,0)","v":0},"X",{"$f":"IF(AND('Step 2 - Ornamental'!$AA$19=\"X\",W270=\"X\"),1,0)","v":0},null,{"$f":"IF(AND('Step 2 - Ornamental'!$AA$19=\"X\",Y270=\"X\"),1,0)","v":0},"X",{"$f":"IF(AND('Step 2 - Ornamental'!$AB$19=\"X\",AA270=\"X\"),1,0)","v":0},null,{"$f":"IF(AND('Step 2 - Ornamental'!$AC$19=\"X\",AC270=\"X\"),1,0)","v":0},null,{"$f":"IF(AND('Step 2 - Ornamental'!$AA$20=\"X\",AE270=\"X\"),1,0)","v":0},"X",{"$f":"IF(AND('Step 2 - Ornamental'!$AA$20=\"X\",AG270=\"X\"),1,0)","v":0},null,{"$f":"IF(AND('Step 2 - Ornamental'!$AB$20=\"X\",AI270=\"X\"),1,0)","v":0},null,{"$f":"IF(AND('Step 2 - Ornamental'!$AC$20=\"X\",AK270=\"X\"),1,0)","v":0},null,{"$f":"IF(AND('Step 2 - Ornamental'!$AA$18=\"X\",AM270=\"X\"),1,0)","v":0},"X",{"$f":"IF(AND('Step 2 - Ornamental'!$AB$18=\"X\",AO270=\"X\"),1,0)","v":0},"X",{"$f":"IF(AND('Step 2 - Ornamental'!$AC$18=\"X\",AQ270=\"X\"),1,0)","v":0},null,{"$f":"IF(AND('Step 2 - Ornamental'!$AD$18=\"X\",AS270=\"X\"),1,0)","v":0},null,{"$f":"IF(AND('Step 2 - Ornamental'!$AE$18=\"X\",AU270=\"X\"),1,0)","v":0},null,{"$f":"IF(AND('Step 2 - Ornamental'!$AA$17=\"X\",AW270=\"X\"),1,0)","v":0},"X",{"$f":"IF(AND('Step 2 - Ornamental'!$AB$17=\"X\",AY270=\"X\"),1,0)","v":0},null,{"$f":"IF(AND('Step 2 - Ornamental'!$AC$17=\"X\",BA270=\"X\"),1,0)","v":0},null,{"$f":"IF(AND('Step 2 - Ornamental'!$AA$22=\"X\",BC270=\"X\"),1,0)","v":0},null,{"$f":"IF(AND('Step 2 - Ornamental'!$AB$22=\"X\",BE270=\"X\"),1,0)","v":0},null,{"$f":"IF(AND('Step 2 - Ornamental'!$AC$22=\"X\",BG270=\"X\"),1,0)","v":0},"X",{"$f":"IF(AND('Step 2 - Ornamental'!$AD$22=\"X\",BI270=\"X\"),1,0)","v":0},"X",null,null,null,null,null,"Lilac-white / 1.0'-1.5"]
[null,1,"CA NW","Calamintha nepeta 'Montrose White' (Clinopodium nepeta)","Montrose White Calamint","12\" O.C.","Smaller, sterile version of calamint selected in Wisconsin, white flowers to 18\" in June-Oct","X",null,null,null,null,null,0,null,{"$f":"IF(AND('Step 2 - Ornamental'!$AA$21=\"X\",Q271=\"X\"),1,0)","v":0},null,{"$f":"IF(AND('Step 2 - Ornamental'!$AB$21=\"X\",S271=\"X\"),1,0)","v":0},"X",{"$f":"IF(AND('Step 2 - Ornamental'!$AC$21=\"X\",U271=\"X\"),1,0)","v":0},"X",{"$f":"IF(AND('Step 2 - Ornamental'!$AA$19=\"X\",W271=\"X\"),1,0)","v":0},null,{"$f":"IF(AND('Step 2 - Ornamental'!$AA$19=\"X\",Y271=\"X\"),1,0)","v":0},"X",{"$f":"IF(AND('Step 2 - Ornamental'!$AB$19=\"X\",AA271=\"X\"),1,0)","v":0},null,{"$f":"IF(AND('Step 2 - Ornamental'!$AC$19=\"X\",AC271=\"X\"),1,0)","v":0},null,{"$f":"IF(AND('Step 2 - Ornamental'!$AA$20=\"X\",AE271=\"X\"),1,0)","v":0},"X",{"$f":"IF(AND('Step 2 - Ornamental'!$AA$20=\"X\",AG271=\"X\"),1,0)","v":0},null,{"$f":"IF(AND('Step 2 - Ornamental'!$AB$20=\"X\",AI271=\"X\"),1,0)","v":0},null,{"$f":"IF(AND('Step 2 - Ornamental'!$AC$20=\"X\",AK271=\"X\"),1,0)","v":0},null,{"$f":"IF(AND('Step 2 - Ornamental'!$AA$18=\"X\",AM271=\"X\"),1,0)","v":0},"X",{"$f":"IF(AND('Step 2 - Ornamental'!$AB$18=\"X\",AO271=\"X\"),1,0)","v":0},"X",{"$f":"IF(AND('Step 2 - Ornamental'!$AC$18=\"X\",AQ271=\"X\"),1,0)","v":0},null,{"$f":"IF(AND('Step 2 - Ornamental'!$AD$18=\"X\",AS271=\"X\"),1,0)","v":0},null,{"$f":"IF(AND('Step 2 - Ornamental'!$AE$18=\"X\",AU271=\"X\"),1,0)","v":0},null,{"$f":"IF(AND('Step 2 - Ornamental'!$AA$17=\"X\",AW271=\"X\"),1,0)","v":0},"X",{"$f":"IF(AND('Step 2 - Ornamental'!$AB$17=\"X\",AY271=\"X\"),1,0)","v":0},null,{"$f":"IF(AND('Step 2 - Ornamental'!$AC$17=\"X\",BA271=\"X\"),1,0)","v":0},null,{"$f":"IF(AND('Step 2 - Ornamental'!$AA$22=\"X\",BC271=\"X\"),1,0)","v":0},null,{"$f":"IF(AND('Step 2 - Ornamental'!$AB$22=\"X\",BE271=\"X\"),1,0)","v":0},"X",{"$f":"IF(AND('Step 2 - Ornamental'!$AC$22=\"X\",BG271=\"X\"),1,0)","v":0},"X",{"$f":"IF(AND('Step 2 - Ornamental'!$AD$22=\"X\",BI271=\"X\"),1,0)","v":0},"X",null,null,null,null,null,"White / 1.0'-1.5'"]
[null,1,"CA TH","Caulophyllum thalictroides","Blue Cohosh","12\" O.C.","Perennial with showy fruit for moist shade, spreads by rhizomes",null,"X","X",null,null,null,0,null,{"$f":"IF(AND('Step 2 - Ornamental'!$AA$21=\"X\",Q272=\"X\"),1,0)","v":0},"X",{"$f":"IF(AND('Step 2 - Ornamental'!$AB$21=\"X\",S272=\"X\"),1,0)","v":0},"X",{"$f":"IF(AND('Step 2 - Ornamental'!$AC$21=\"X\",U272=\"X\"),1,0)","v":0},null,{"$f":"IF(AND('Step 2 - Ornamental'!$AA$19=\"X\",W272=\"X\"),1,0)","v":0},"X",{"$f":"IF(AND('Step 2 - Ornamental'!$AA$19=\"X\",Y272=\"X\"),1,0)","v":0},null,{"$f":"IF(AND('Step 2 - Ornamental'!$AB$19=\"X\",AA272=\"X\"),1,0)","v":0},null,{"$f":"IF(AND('Step 2 - Ornamental'!$AC$19=\"X\",AC272=\"X\"),1,0)","v":0},null,{"$f":"IF(AND('Step 2 - Ornamental'!$AA$20=\"X\",AE272=\"X\"),1,0)","v":0},"X",{"$f":"IF(AND('Step 2 - Ornamental'!$AA$20=\"X\",AG272=\"X\"),1,0)","v":0},null,{"$f":"IF(AND('Step 2 - Ornamental'!$AB$20=\"X\",AI272=\"X\"),1,0)","v":0},null,{"$f":"IF(AND('Step 2 - Ornamental'!$AC$20=\"X\",AK272=\"X\"),1,0)","v":0},null,{"$f":"IF(AND('Step 2 - Ornamental'!$AA$18=\"X\",AM272=\"X\"),1,0)","v":0},null,{"$f":"IF(AND('Step 2 - Ornamental'!$AB$18=\"X\",AO272=\"X\"),1,0)","v":0},"X",{"$f":"IF(AND('Step 2 - Ornamental'!$AC$18=\"X\",AQ272=\"X\"),1,0)","v":0},null,{"$f":"IF(AND('Step 2 - Ornamental'!$AD$18=\"X\",AS272=\"X\"),1,0)","v":0},null,{"$f":"IF(AND('Step 2 - Ornamental'!$AE$18=\"X\",AU272=\"X\"),1,0)","v":0},null,{"$f":"IF(AND('Step 2 - Ornamental'!$AA$17=\"X\",AW272=\"X\"),1,0)","v":0},null,{"$f":"IF(AND('Step 2 - Ornamental'!$AB$17=\"X\",AY272=\"X\"),1,0)","v":0},"X",{"$f":"IF(AND('Step 2 - Ornamental'!$AC$17=\"X\",BA272=\"X\"),1,0)","v":0},"X",{"$f":"IF(AND('Step 2 - Ornamental'!$AA$22=\"X\",BC272=\"X\"),1,0)","v":0},null,{"$f":"IF(AND('Step 2 - Ornamental'!$AB$22=\"X\",BE272=\"X\"),1,0)","v":0},null,{"$f":"IF(AND('Step 2 - Ornamental'!$AC$22=\"X\",BG272=\"X\"),1,0)","v":0},"X",{"$f":"IF(AND('Step 2 - Ornamental'!$AD$22=\"X\",BI272=\"X\"),1,0)","v":0},"X","Flowers Insignificant"]
[null,1,"CE AM","Ceanothus americanus","New Jersey Tea","36\" O.C.","White flowers May-July, tea substitute",null,"X","X",null,null,null,0,null,{"$f":"IF(AND('Step 2 - Ornamental'!$AA$21=\"X\",Q273=\"X\"),1,0)","v":0},null,{"$f":"IF(AND('Step 2 - Ornamental'!$AB$21=\"X\",S273=\"X\"),1,0)","v":0},"X",{"$f":"IF(AND('Step 2 - Ornamental'!$AC$21=\"X\",U273=\"X\"),1,0)","v":0},null,{"$f":"IF(AND('Step 2 - Ornamental'!$AA$19=\"X\",W273=\"X\"),1,0)","v":0},null,{"$f":"IF(AND('Step 2 - Ornamental'!$AA$19=\"X\",Y273=\"X\"),1,0)","v":0},"X",{"$f":"IF(AND('Step 2 - Ornamental'!$AB$19=\"X\",AA273=\"X\"),1,0)","v":0},null,{"$f":"IF(AND('Step 2 - Ornamental'!$AC$19=\"X\",AC273=\"X\"),1,0)","v":0},null,{"$f":"IF(AND('Step 2 - Ornamental'!$AA$20=\"X\",AE273=\"X\"),1,0)","v":0},"X",{"$f":"IF(AND('Step 2 - Ornamental'!$AA$20=\"X\",AG273=\"X\"),1,0)","v":0},null,{"$f":"IF(AND('Step 2 - Ornamental'!$AB$20=\"X\",AI273=\"X\"),1,0)","v":0},null,{"$f":"IF(AND('Step 2 - Ornamental'!$AC$20=\"X\",AK273=\"X\"),1,0)","v":0},null,{"$f":"IF(AND('Step 2 - Ornamental'!$AA$18=\"X\",AM273=\"X\"),1,0)","v":0},"X",{"$f":"IF(AND('Step 2 - Ornamental'!$AB$18=\"X\",AO273=\"X\"),1,0)","v":0},"X",{"$f":"IF(AND('Step 2 - Ornamental'!$AC$18=\"X\",AQ273=\"X\"),1,0)","v":0},null,{"$f":"IF(AND('Step 2 - Ornamental'!$AD$18=\"X\",AS273=\"X\"),1,0)","v":0},null,{"$f":"IF(AND('Step 2 - Ornamental'!$AE$18=\"X\",AU273=\"X\"),1,0)","v":0},null,{"$f":"IF(AND('Step 2 - Ornamental'!$AA$17=\"X\",AW273=\"X\"),1,0)","v":0},"X",{"$f":"IF(AND('Step 2 - Ornamental'!$AB$17=\"X\",AY273=\"X\"),1,0)","v":0},"X",{"$f":"IF(AND('Step 2 - Ornamental'!$AC$17=\"X\",BA273=\"X\"),1,0)","v":0},null,{"$f":"IF(AND('Step 2 - Ornamental'!$AA$22=\"X\",BC273=\"X\"),1,0)","v":0},null,{"$f":"IF(AND('Step 2 - Ornamental'!$AB$22=\"X\",BE273=\"X\"),1,0)","v":0},"X",{"$f":"IF(AND('Step 2 - Ornamental'!$AC$22=\"X\",BG273=\"X\"),1,0)","v":0},"X",{"$f":"IF(AND('Step 2 - Ornamental'!$AD$22=\"X\",BI273=\"X\"),1,0)","v":0},"X",null,null,null,null,"White / 3.0'-4.0'"]
[null,1,"CE MO","Centaurea montana","Mountain Bluet","12\" O.C.","Likes lean soil, spreads, pair with dark purple/yellow foliage, blue flowers 24\" tall in May-June","X",null,null,null,null,null,0,null,{"$f":"IF(AND('Step 2 - Ornamental'!$AA$21=\"X\",Q274=\"X\"),1,0)","v":0},"X",{"$f":"IF(AND('Step 2 - Ornamental'!$AB$21=\"X\",S274=\"X\"),1,0)","v":0},"X",{"$f":"IF(AND('Step 2 - Ornamental'!$AC$21=\"X\",U274=\"X\"),1,0)","v":0},"X",{"$f":"IF(AND('Step 2 - Ornamental'!$AA$19=\"X\",W274=\"X\"),1,0)","v":0},"X",{"$f":"IF(AND('Step 2 - Ornamental'!$AA$19=\"X\",Y274=\"X\"),1,0)","v":0},null,{"$f":"IF(AND('Step 2 - Ornamental'!$AB$19=\"X\",AA274=\"X\"),1,0)","v":0},null,{"$f":"IF(AND('Step 2 - Ornamental'!$AC$19=\"X\",AC274=\"X\"),1,0)","v":0},null,{"$f":"IF(AND('Step 2 - Ornamental'!$AA$20=\"X\",AE274=\"X\"),1,0)","v":0},"X",{"$f":"IF(AND('Step 2 - Ornamental'!$AA$20=\"X\",AG274=\"X\"),1,0)","v":0},null,{"$f":"IF(AND('Step 2 - Ornamental'!$AB$20=\"X\",AI274=\"X\"),1,0)","v":0},null,{"$f":"IF(AND('Step 2 - Ornamental'!$AC$20=\"X\",AK274=\"X\"),1,0)","v":0},null,{"$f":"IF(AND('Step 2 - Ornamental'!$AA$18=\"X\",AM274=\"X\"),1,0)","v":0},"X",{"$f":"IF(AND('Step 2 - Ornamental'!$AB$18=\"X\",AO274=\"X\"),1,0)","v":0},"X",{"$f":"IF(AND('Step 2 - Ornamental'!$AC$18=\"X\",AQ274=\"X\"),1,0)","v":0},null,{"$f":"IF(AND('Step 2 - Ornamental'!$AD$18=\"X\",AS274=\"X\"),1,0)","v":0},null,{"$f":"IF(AND('Step 2 - Ornamental'!$AE$18=\"X\",AU274=\"X\"),1,0)","v":0},null,{"$f":"IF(AND('Step 2 - Ornamental'!$AA$17=\"X\",AW274=\"X\"),1,0)","v":0},"X",{"$f":"IF(AND('Step 2 - Ornamental'!$AB$17=\"X\",AY274=\"X\"),1,0)","v":0},null,{"$f":"IF(AND('Step 2 - Ornamental'!$AC$17=\"X\",BA274=\"X\"),1,0)","v":0},null,{"$f":"IF(AND('Step 2 - Ornamental'!$AA$22=\"X\",BC274=\"X\"),1,0)","v":0},null,{"$f":"IF(AND('Step 2 - Ornamental'!$AB$22=\"X\",BE274=\"X\"),1,0)","v":0},"X",{"$f":"IF(AND('Step 2 - Ornamental'!$AC$22=\"X\",BG274=\"X\"),1,0)","v":0},"X",{"$f":"IF(AND('Step 2 - Ornamental'!$AD$22=\"X\",BI274=\"X\"),1,0)","v":0},"X",null,null,null,null,null,"Blue / 1.0'-3.0'"]
[null,1,"CE MS","Centaurea montana 'Amethyst in Snow'","Amethyst in Snow Mountain Bluet","12\" O.C.","Likes lean soil, spreads,  white/blue flowers 24\" tall in May-June","X",null,null,null,null,null,0,null,{"$f":"IF(AND('Step 2 - Ornamental'!$AA$21=\"X\",Q275=\"X\"),1,0)","v":0},"X",{"$f":"IF(AND('Step 2 - Ornamental'!$AB$21=\"X\",S275=\"X\"),1,0)","v":0},"X",{"$f":"IF(AND('Step 2 - Ornamental'!$AC$21=\"X\",U275=\"X\"),1,0)","v":0},"X",{"$f":"IF(AND('Step 2 - Ornamental'!$AA$19=\"X\",W275=\"X\"),1,0)","v":0},"X",{"$f":"IF(AND('Step 2 - Ornamental'!$AA$19=\"X\",Y275=\"X\"),1,0)","v":0},null,{"$f":"IF(AND('Step 2 - Ornamental'!$AB$19=\"X\",AA275=\"X\"),1,0)","v":0},null,{"$f":"IF(AND('Step 2 - Ornamental'!$AC$19=\"X\",AC275=\"X\"),1,0)","v":0},null,{"$f":"IF(AND('Step 2 - Ornamental'!$AA$20=\"X\",AE275=\"X\"),1,0)","v":0},"X",{"$f":"IF(AND('Step 2 - Ornamental'!$AA$20=\"X\",AG275=\"X\"),1,0)","v":0},null,{"$f":"IF(AND('Step 2 - Ornamental'!$AB$20=\"X\",AI275=\"X\"),1,0)","v":0},null,{"$f":"IF(AND('Step 2 - Ornamental'!$AC$20=\"X\",AK275=\"X\"),1,0)","v":0},null,{"$f":"IF(AND('Step 2 - Ornamental'!$AA$18=\"X\",AM275=\"X\"),1,0)","v":0},"X",{"$f":"IF(AND('Step 2 - Ornamental'!$AB$18=\"X\",AO275=\"X\"),1,0)","v":0},"X",{"$f":"IF(AND('Step 2 - Ornamental'!$AC$18=\"X\",AQ275=\"X\"),1,0)","v":0},null,{"$f":"IF(AND('Step 2 - Ornamental'!$AD$18=\"X\",AS275=\"X\"),1,0)","v":0},null,{"$f":"IF(AND('Step 2 - Ornamental'!$AE$18=\"X\",AU275=\"X\"),1,0)","v":0},null,{"$f":"IF(AND('Step 2 - Ornamental'!$AA$17=\"X\",AW275=\"X\"),1,0)","v":0},"X",{"$f":"IF(AND('Step 2 - Ornamental'!$AB$17=\"X\",AY275=\"X\"),1,0)","v":0},null,{"$f":"IF(AND('Step 2 - Ornamental'!$AC$17=\"X\",BA275=\"X\"),1,0)","v":0},null,{"$f":"IF(AND('Step 2 - Ornamental'!$AA$22=\"X\",BC275=\"X\"),1,0)","v":0},null,{"$f":"IF(AND('Step 2 - Ornamental'!$AB$22=\"X\",BE275=\"X\"),1,0)","v":0},null,{"$f":"IF(AND('Step 2 - Ornamental'!$AC$22=\"X\",BG275=\"X\"),1,0)","v":0},"X",{"$f":"IF(AND('Step 2 - Ornamental'!$AD$22=\"X\",BI275=\"X\"),1,0)","v":0},"X",null,null,null,null,"White -Purple / 0.75'-1.5'"]
[null,1,"CE GI","Cephalaria gigantea","Yellow Scabious","36\" O.C.","Plant in behind salvia/nepeta, and in front/between panicum, butterflies, primrose yellow flowers to 5' in June/August","X",null,null,null,null,null,1,"X",{"$f":"IF(AND('Step 2 - Ornamental'!$AA$21=\"X\",Q276=\"X\"),1,0)","v":0},null,{"$f":"IF(AND('Step 2 - Ornamental'!$AB$21=\"X\",S276=\"X\"),1,0)","v":0},null,{"$f":"IF(AND('Step 2 - Ornamental'!$AC$21=\"X\",U276=\"X\"),1,0)","v":0},null,{"$f":"IF(AND('Step 2 - Ornamental'!$AA$19=\"X\",W276=\"X\"),1,0)","v":0},"X",{"$f":"IF(AND('Step 2 - Ornamental'!$AA$19=\"X\",Y276=\"X\"),1,0)","v":0},null,{"$f":"IF(AND('Step 2 - Ornamental'!$AB$19=\"X\",AA276=\"X\"),1,0)","v":0},null,{"$f":"IF(AND('Step 2 - Ornamental'!$AC$19=\"X\",AC276=\"X\"),1,0)","v":0},null,{"$f":"IF(AND('Step 2 - Ornamental'!$AA$20=\"X\",AE276=\"X\"),1,0)","v":0},"X",{"$f":"IF(AND('Step 2 - Ornamental'!$AA$20=\"X\",AG276=\"X\"),1,0)","v":0},null,{"$f":"IF(AND('Step 2 - Ornamental'!$AB$20=\"X\",AI276=\"X\"),1,0)","v":0},null,{"$f":"IF(AND('Step 2 - Ornamental'!$AC$20=\"X\",AK276=\"X\"),1,0)","v":0},null,{"$f":"IF(AND('Step 2 - Ornamental'!$AA$18=\"X\",AM276=\"X\"),1,0)","v":0},null,{"$f":"IF(AND('Step 2 - Ornamental'!$AB$18=\"X\",AO276=\"X\"),1,0)","v":0},"X",{"$f":"IF(AND('Step 2 - Ornamental'!$AC$18=\"X\",AQ276=\"X\"),1,0)","v":0},null,{"$f":"IF(AND('Step 2 - Ornamental'!$AD$18=\"X\",AS276=\"X\"),1,0)","v":0},null,{"$f":"IF(AND('Step 2 - Ornamental'!$AE$18=\"X\",AU276=\"X\"),1,0)","v":0},null,{"$f":"IF(AND('Step 2 - Ornamental'!$AA$17=\"X\",AW276=\"X\"),1,0)","v":0},"X",{"$f":"IF(AND('Step 2 - Ornamental'!$AB$17=\"X\",AY276=\"X\"),1,0)","v":0},null,{"$f":"IF(AND('Step 2 - Ornamental'!$AC$17=\"X\",BA276=\"X\"),1,0)","v":0},null,{"$f":"IF(AND('Step 2 - Ornamental'!$AA$22=\"X\",BC276=\"X\"),1,0)","v":0},null,{"$f":"IF(AND('Step 2 - Ornamental'!$AB$22=\"X\",BE276=\"X\"),1,0)","v":0},null,{"$f":"IF(AND('Step 2 - Ornamental'!$AC$22=\"X\",BG276=\"X\"),1,0)","v":0},"X",{"$f":"IF(AND('Step 2 - Ornamental'!$AD$22=\"X\",BI276=\"X\"),1,0)","v":0},"X",null,null,null,null,null,"Primrose yellow / 4.0'-6.0'"]
[null,1,"CH GL","Chelone glabra","Turtlehead","18\" O.C.","Whitish/pink flowers in Aug-Oct., needs consistently moist soil",null,"X","X",null,null,null,0,null,{"$f":"IF(AND('Step 2 - Ornamental'!$AA$21=\"X\",Q277=\"X\"),1,0)","v":0},"X",{"$f":"IF(AND('Step 2 - Ornamental'!$AB$21=\"X\",S277=\"X\"),1,0)","v":0},null,{"$f":"IF(AND('Step 2 - Ornamental'!$AC$21=\"X\",U277=\"X\"),1,0)","v":0},null,{"$f":"IF(AND('Step 2 - Ornamental'!$AA$19=\"X\",W277=\"X\"),1,0)","v":0},"X",{"$f":"IF(AND('Step 2 - Ornamental'!$AA$19=\"X\",Y277=\"X\"),1,0)","v":0},null,{"$f":"IF(AND('Step 2 - Ornamental'!$AB$19=\"X\",AA277=\"X\"),1,0)","v":0},null,{"$f":"IF(AND('Step 2 - Ornamental'!$AC$19=\"X\",AC277=\"X\"),1,0)","v":0},null,{"$f":"IF(AND('Step 2 - Ornamental'!$AA$20=\"X\",AE277=\"X\"),1,0)","v":0},null,{"$f":"IF(AND('Step 2 - Ornamental'!$AA$20=\"X\",AG277=\"X\"),1,0)","v":0},"X",{"$f":"IF(AND('Step 2 - Ornamental'!$AB$20=\"X\",AI277=\"X\"),1,0)","v":0},null,{"$f":"IF(AND('Step 2 - Ornamental'!$AC$20=\"X\",AK277=\"X\"),1,0)","v":0},null,{"$f":"IF(AND('Step 2 - Ornamental'!$AA$18=\"X\",AM277=\"X\"),1,0)","v":0},null,{"$f":"IF(AND('Step 2 - Ornamental'!$AB$18=\"X\",AO277=\"X\"),1,0)","v":0},"X",{"$f":"IF(AND('Step 2 - Ornamental'!$AC$18=\"X\",AQ277=\"X\"),1,0)","v":0},"X",{"$f":"IF(AND('Step 2 - Ornamental'!$AD$18=\"X\",AS277=\"X\"),1,0)","v":0},null,{"$f":"IF(AND('Step 2 - Ornamental'!$AE$18=\"X\",AU277=\"X\"),1,0)","v":0},null,{"$f":"IF(AND('Step 2 - Ornamental'!$AA$17=\"X\",AW277=\"X\"),1,0)","v":0},null,{"$f":"IF(AND('Step 2 - Ornamental'!$AB$17=\"X\",AY277=\"X\"),1,0)","v":0},"X",{"$f":"IF(AND('Step 2 - Ornamental'!$AC$17=\"X\",BA277=\"X\"),1,0)","v":0},null,{"$f":"IF(AND('Step 2 - Ornamental'!$AA$22=\"X\",BC277=\"X\"),1,0)","v":0},null,{"$f":"IF(AND('Step 2 - Ornamental'!$AB$22=\"X\",BE277=\"X\"),1,0)","v":0},null,{"$f":"IF(AND('Step 2 - Ornamental'!$AC$22=\"X\",BG277=\"X\"),1,0)","v":0},"X",{"$f":"IF(AND('Step 2 - Ornamental'!$AD$22=\"X\",BI277=\"X\"),1,0)","v":0},"X",null,null,null,null,null,null,null,"White with pink tinge / 2.0'-3.0'"]
[null,1,"CH LY","Chelone lyonii 'Hot Lips'","Hot Lips Pink Turtlehead","24\" O.C.","Pair with bowles golden, lt-yellow heuchera, Alchemilla, needs consistently moist soil","X",null,null,null,null,null,0,null,{"$f":"IF(AND('Step 2 - Ornamental'!$AA$21=\"X\",Q278=\"X\"),1,0)","v":0},"X",{"$f":"IF(AND('Step 2 - Ornamental'!$AB$21=\"X\",S278=\"X\"),1,0)","v":0},"X",{"$f":"IF(AND('Step 2 - Ornamental'!$AC$21=\"X\",U278=\"X\"),1,0)","v":0},null,{"$f":"IF(AND('Step 2 - Ornamental'!$AA$19=\"X\",W278=\"X\"),1,0)","v":0},null,{"$f":"IF(AND('Step 2 - Ornamental'!$AA$19=\"X\",Y278=\"X\"),1,0)","v":0},"X",{"$f":"IF(AND('Step 2 - Ornamental'!$AB$19=\"X\",AA278=\"X\"),1,0)","v":0},null,{"$f":"IF(AND('Step 2 - Ornamental'!$AC$19=\"X\",AC278=\"X\"),1,0)","v":0},null,{"$f":"IF(AND('Step 2 - Ornamental'!$AA$20=\"X\",AE278=\"X\"),1,0)","v":0},"X",{"$f":"IF(AND('Step 2 - Ornamental'!$AA$20=\"X\",AG278=\"X\"),1,0)","v":0},null,{"$f":"IF(AND('Step 2 - Ornamental'!$AB$20=\"X\",AI278=\"X\"),1,0)","v":0},null,{"$f":"IF(AND('Step 2 - Ornamental'!$AC$20=\"X\",AK278=\"X\"),1,0)","v":0},null,{"$f":"IF(AND('Step 2 - Ornamental'!$AA$18=\"X\",AM278=\"X\"),1,0)","v":0},null,{"$f":"IF(AND('Step 2 - Ornamental'!$AB$18=\"X\",AO278=\"X\"),1,0)","v":0},"X",{"$f":"IF(AND('Step 2 - Ornamental'!$AC$18=\"X\",AQ278=\"X\"),1,0)","v":0},"X",{"$f":"IF(AND('Step 2 - Ornamental'!$AD$18=\"X\",AS278=\"X\"),1,0)","v":0},null,{"$f":"IF(AND('Step 2 - Ornamental'!$AE$18=\"X\",AU278=\"X\"),1,0)","v":0},null,{"$f":"IF(AND('Step 2 - Ornamental'!$AA$17=\"X\",AW278=\"X\"),1,0)","v":0},null,{"$f":"IF(AND('Step 2 - Ornamental'!$AB$17=\"X\",AY278=\"X\"),1,0)","v":0},"X",{"$f":"IF(AND('Step 2 - Ornamental'!$AC$17=\"X\",BA278=\"X\"),1,0)","v":0},null,{"$f":"IF(AND('Step 2 - Ornamental'!$AA$22=\"X\",BC278=\"X\"),1,0)","v":0},null,{"$f":"IF(AND('Step 2 - Ornamental'!$AB$22=\"X\",BE278=\"X\"),1,0)","v":0},null,{"$f":"IF(AND('Step 2 - Ornamental'!$AC$22=\"X\",BG278=\"X\"),1,0)","v":0},"X",{"$f":"IF(AND('Step 2 - Ornamental'!$AD$22=\"X\",BI278=\"X\"),1,0)","v":0},"X",null,null,null,null,null,null,"Rose Pink / 2.0'-4.0'"]
[null,1,"CO GR","Coreopsis grandiflora 'Sunray'","Large Flowered Tickseed","18\" O.C.","Well-rooted, orange-yellow flowers, likes poor soil, freely self-seeds",null,"X",null,"X",null,null,1,"X",{"$f":"IF(AND('Step 2 - Ornamental'!$AA$21=\"X\",Q279=\"X\"),1,0)","v":0},null,{"$f":"IF(AND('Step 2 - Ornamental'!$AB$21=\"X\",S279=\"X\"),1,0)","v":0},null,{"$f":"IF(AND('Step 2 - Ornamental'!$AC$21=\"X\",U279=\"X\"),1,0)","v":0},null,{"$f":"IF(AND('Step 2 - Ornamental'!$AA$19=\"X\",W279=\"X\"),1,0)","v":0},"X",{"$f":"IF(AND('Step 2 - Ornamental'!$AA$19=\"X\",Y279=\"X\"),1,0)","v":0},null,{"$f":"IF(AND('Step 2 - Ornamental'!$AB$19=\"X\",AA279=\"X\"),1,0)","v":0},null,{"$f":"IF(AND('Step 2 - Ornamental'!$AC$19=\"X\",AC279=\"X\"),1,0)","v":0},null,{"$f":"IF(AND('Step 2 - Ornamental'!$AA$20=\"X\",AE279=\"X\"),1,0)","v":0},"X",{"$f":"IF(AND('Step 2 - Ornamental'!$AA$20=\"X\",AG279=\"X\"),1,0)","v":0},null,{"$f":"IF(AND('Step 2 - Ornamental'!$AB$20=\"X\",AI279=\"X\"),1,0)","v":0},null,{"$f":"IF(AND('Step 2 - Ornamental'!$AC$20=\"X\",AK279=\"X\"),1,0)","v":0},null,{"$f":"IF(AND('Step 2 - Ornamental'!$AA$18=\"X\",AM279=\"X\"),1,0)","v":0},"X",{"$f":"IF(AND('Step 2 - Ornamental'!$AB$18=\"X\",AO279=\"X\"),1,0)","v":0},"X",{"$f":"IF(AND('Step 2 - Ornamental'!$AC$18=\"X\",AQ279=\"X\"),1,0)","v":0},null,{"$f":"IF(AND('Step 2 - Ornamental'!$AD$18=\"X\",AS279=\"X\"),1,0)","v":0},null,{"$f":"IF(AND('Step 2 - Ornamental'!$AE$18=\"X\",AU279=\"X\"),1,0)","v":0},null,{"$f":"IF(AND('Step 2 - Ornamental'!$AA$17=\"X\",AW279=\"X\"),1,0)","v":0},"X",{"$f":"IF(AND('Step 2 - Ornamental'!$AB$17=\"X\",AY279=\"X\"),1,0)","v":0},null,{"$f":"IF(AND('Step 2 - Ornamental'!$AC$17=\"X\",BA279=\"X\"),1,0)","v":0},null,{"$f":"IF(AND('Step 2 - Ornamental'!$AA$22=\"X\",BC279=\"X\"),1,0)","v":0},null,{"$f":"IF(AND('Step 2 - Ornamental'!$AB$22=\"X\",BE279=\"X\"),1,0)","v":0},"X",{"$f":"IF(AND('Step 2 - Ornamental'!$AC$22=\"X\",BG279=\"X\"),1,0)","v":0},"X",{"$f":"IF(AND('Step 2 - Ornamental'!$AD$22=\"X\",BI279=\"X\"),1,0)","v":0},"X",null,null,null,null,null,"Gold / 1.5'-2.0'"]
[null,1,"CO PA","Coreopsis palmata","Prairie Coreopsis","12\" O.C.","Easily grown, rhizomatous, 2.5' tall yellow daisy-like flowers in May-July for dry sunny sites"," ","X","X","X",null,null,1,"X",{"$f":"IF(AND('Step 2 - Ornamental'!$AA$21=\"X\",Q280=\"X\"),1,0)","v":0},null,{"$f":"IF(AND('Step 2 - Ornamental'!$AB$21=\"X\",S280=\"X\"),1,0)","v":0},null,{"$f":"IF(AND('Step 2 - Ornamental'!$AC$21=\"X\",U280=\"X\"),1,0)","v":0},null,{"$f":"IF(AND('Step 2 - Ornamental'!$AA$19=\"X\",W280=\"X\"),1,0)","v":0},null,{"$f":"IF(AND('Step 2 - Ornamental'!$AA$19=\"X\",Y280=\"X\"),1,0)","v":0},"X",{"$f":"IF(AND('Step 2 - Ornamental'!$AB$19=\"X\",AA280=\"X\"),1,0)","v":0},"X",{"$f":"IF(AND('Step 2 - Ornamental'!$AC$19=\"X\",AC280=\"X\"),1,0)","v":0},null,{"$f":"IF(AND('Step 2 - Ornamental'!$AA$20=\"X\",AE280=\"X\"),1,0)","v":0},null,{"$f":"IF(AND('Step 2 - Ornamental'!$AA$20=\"X\",AG280=\"X\"),1,0)","v":0},"X",{"$f":"IF(AND('Step 2 - Ornamental'!$AB$20=\"X\",AI280=\"X\"),1,0)","v":0},null,{"$f":"IF(AND('Step 2 - Ornamental'!$AC$20=\"X\",AK280=\"X\"),1,0)","v":0},null,{"$f":"IF(AND('Step 2 - Ornamental'!$AA$18=\"X\",AM280=\"X\"),1,0)","v":0},"X",{"$f":"IF(AND('Step 2 - Ornamental'!$AB$18=\"X\",AO280=\"X\"),1,0)","v":0},"X",{"$f":"IF(AND('Step 2 - Ornamental'!$AC$18=\"X\",AQ280=\"X\"),1,0)","v":0},null,{"$f":"IF(AND('Step 2 - Ornamental'!$AD$18=\"X\",AS280=\"X\"),1,0)","v":0},null,{"$f":"IF(AND('Step 2 - Ornamental'!$AE$18=\"X\",AU280=\"X\"),1,0)","v":0},null,{"$f":"IF(AND('Step 2 - Ornamental'!$AA$17=\"X\",AW280=\"X\"),1,0)","v":0},"X",{"$f":"IF(AND('Step 2 - Ornamental'!$AB$17=\"X\",AY280=\"X\"),1,0)","v":0},null,{"$f":"IF(AND('Step 2 - Ornamental'!$AC$17=\"X\",BA280=\"X\"),1,0)","v":0},null,{"$f":"IF(AND('Step 2 - Ornamental'!$AA$22=\"X\",BC280=\"X\"),1,0)","v":0},null,{"$f":"IF(AND('Step 2 - Ornamental'!$AB$22=\"X\",BE280=\"X\"),1,0)","v":0},"X",{"$f":"IF(AND('Step 2 - Ornamental'!$AC$22=\"X\",BG280=\"X\"),1,0)","v":0},"X",{"$f":"IF(AND('Step 2 - Ornamental'!$AD$22=\"X\",BI280=\"X\"),1,0)","v":0},"X",null,null,null,null,"Yellow / 1.5'-2.5'"]
[null,1,"CO RO","Coreopsis rosea 'American Dream'","American Dream Pink Tickseed","18\" O.C.","Pink daisy flowers from early to late summer, can be aggressive, self-seeds, combines well with Liriope Spicata","X",null,null,"X",null,null,1,"X",{"$f":"IF(AND('Step 2 - Ornamental'!$AA$21=\"X\",Q281=\"X\"),1,0)","v":0},null,{"$f":"IF(AND('Step 2 - Ornamental'!$AB$21=\"X\",S281=\"X\"),1,0)","v":0},null,{"$f":"IF(AND('Step 2 - Ornamental'!$AC$21=\"X\",U281=\"X\"),1,0)","v":0},null,{"$f":"IF(AND('Step 2 - Ornamental'!$AA$19=\"X\",W281=\"X\"),1,0)","v":0},"X",{"$f":"IF(AND('Step 2 - Ornamental'!$AA$19=\"X\",Y281=\"X\"),1,0)","v":0},null,{"$f":"IF(AND('Step 2 - Ornamental'!$AB$19=\"X\",AA281=\"X\"),1,0)","v":0},null,{"$f":"IF(AND('Step 2 - Ornamental'!$AC$19=\"X\",AC281=\"X\"),1,0)","v":0},null,{"$f":"IF(AND('Step 2 - Ornamental'!$AA$20=\"X\",AE281=\"X\"),1,0)","v":0},"X",{"$f":"IF(AND('Step 2 - Ornamental'!$AA$20=\"X\",AG281=\"X\"),1,0)","v":0},null,{"$f":"IF(AND('Step 2 - Ornamental'!$AB$20=\"X\",AI281=\"X\"),1,0)","v":0},null,{"$f":"IF(AND('Step 2 - Ornamental'!$AC$20=\"X\",AK281=\"X\"),1,0)","v":0},null,{"$f":"IF(AND('Step 2 - Ornamental'!$AA$18=\"X\",AM281=\"X\"),1,0)","v":0},null,{"$f":"IF(AND('Step 2 - Ornamental'!$AB$18=\"X\",AO281=\"X\"),1,0)","v":0},"X",{"$f":"IF(AND('Step 2 - Ornamental'!$AC$18=\"X\",AQ281=\"X\"),1,0)","v":0},null,{"$f":"IF(AND('Step 2 - Ornamental'!$AD$18=\"X\",AS281=\"X\"),1,0)","v":0},null,{"$f":"IF(AND('Step 2 - Ornamental'!$AE$18=\"X\",AU281=\"X\"),1,0)","v":0},null,{"$f":"IF(AND('Step 2 - Ornamental'!$AA$17=\"X\",AW281=\"X\"),1,0)","v":0},"X",{"$f":"IF(AND('Step 2 - Ornamental'!$AB$17=\"X\",AY281=\"X\"),1,0)","v":0},null,{"$f":"IF(AND('Step 2 - Ornamental'!$AC$17=\"X\",BA281=\"X\"),1,0)","v":0},null,{"$f":"IF(AND('Step 2 - Ornamental'!$AA$22=\"X\",BC281=\"X\"),1,0)","v":0},null,{"$f":"IF(AND('Step 2 - Ornamental'!$AB$22=\"X\",BE281=\"X\"),1,0)","v":0},"X",{"$f":"IF(AND('Step 2 - Ornamental'!$AC$22=\"X\",BG281=\"X\"),1,0)","v":0},"X",{"$f":"IF(AND('Step 2 - Ornamental'!$AD$22=\"X\",BI281=\"X\"),1,0)","v":0},"X",null,null,null,null,null,null,"Pink / 1.0'-2.0'"]
[null,1,"CO TR","Coreopsis tripteris","Tall Coreopsis","48\" O.C.","Very tall (10'), yellow flowers in June-Sept., ",null,"X",null,"X",null,null,1,"X",{"$f":"IF(AND('Step 2 - Ornamental'!$AA$21=\"X\",Q282=\"X\"),1,0)","v":0},null,{"$f":"IF(AND('Step 2 - Ornamental'!$AB$21=\"X\",S282=\"X\"),1,0)","v":0},null,{"$f":"IF(AND('Step 2 - Ornamental'!$AC$21=\"X\",U282=\"X\"),1,0)","v":0},null,{"$f":"IF(AND('Step 2 - Ornamental'!$AA$19=\"X\",W282=\"X\"),1,0)","v":0},"X",{"$f":"IF(AND('Step 2 - Ornamental'!$AA$19=\"X\",Y282=\"X\"),1,0)","v":0},null,{"$f":"IF(AND('Step 2 - Ornamental'!$AB$19=\"X\",AA282=\"X\"),1,0)","v":0},null,{"$f":"IF(AND('Step 2 - Ornamental'!$AC$19=\"X\",AC282=\"X\"),1,0)","v":0},null,{"$f":"IF(AND('Step 2 - Ornamental'!$AA$20=\"X\",AE282=\"X\"),1,0)","v":0},"X",{"$f":"IF(AND('Step 2 - Ornamental'!$AA$20=\"X\",AG282=\"X\"),1,0)","v":0},null,{"$f":"IF(AND('Step 2 - Ornamental'!$AB$20=\"X\",AI282=\"X\"),1,0)","v":0},null,{"$f":"IF(AND('Step 2 - Ornamental'!$AC$20=\"X\",AK282=\"X\"),1,0)","v":0},null,{"$f":"IF(AND('Step 2 - Ornamental'!$AA$18=\"X\",AM282=\"X\"),1,0)","v":0},"X",{"$f":"IF(AND('Step 2 - Ornamental'!$AB$18=\"X\",AO282=\"X\"),1,0)","v":0},null,{"$f":"IF(AND('Step 2 - Ornamental'!$AC$18=\"X\",AQ282=\"X\"),1,0)","v":0},null,{"$f":"IF(AND('Step 2 - Ornamental'!$AD$18=\"X\",AS282=\"X\"),1,0)","v":0},null,{"$f":"IF(AND('Step 2 - Ornamental'!$AE$18=\"X\",AU282=\"X\"),1,0)","v":0},null,{"$f":"IF(AND('Step 2 - Ornamental'!$AA$17=\"X\",AW282=\"X\"),1,0)","v":0},"X",{"$f":"IF(AND('Step 2 - Ornamental'!$AB$17=\"X\",AY282=\"X\"),1,0)","v":0},null,{"$f":"IF(AND('Step 2 - Ornamental'!$AC$17=\"X\",BA282=\"X\"),1,0)","v":0},null,{"$f":"IF(AND('Step 2 - Ornamental'!$AA$22=\"X\",BC282=\"X\"),1,0)","v":0},null,{"$f":"IF(AND('Step 2 - Ornamental'!$AB$22=\"X\",BE282=\"X\"),1,0)","v":0},"X",{"$f":"IF(AND('Step 2 - Ornamental'!$AC$22=\"X\",BG282=\"X\"),1,0)","v":0},"X",{"$f":"IF(AND('Step 2 - Ornamental'!$AD$22=\"X\",BI282=\"X\"),1,0)","v":0},"X",null,null,null,null,null,null,"Yellow rays with brown cones / 2.0'-8.0'"]
[null,1,"CO VE","Coreopsis verticillata 'Moonbeam'","Moonbeam Threadleaf Coreopsis","18\" O.C.","24\" tall, Creamy yellow flowers, likes poor soil, sterile variety",null,"X",null,"X",null,null,1,"X",{"$f":"IF(AND('Step 2 - Ornamental'!$AA$21=\"X\",Q283=\"X\"),1,0)","v":0},null,{"$f":"IF(AND('Step 2 - Ornamental'!$AB$21=\"X\",S283=\"X\"),1,0)","v":0},null,{"$f":"IF(AND('Step 2 - Ornamental'!$AC$21=\"X\",U283=\"X\"),1,0)","v":0},null,{"$f":"IF(AND('Step 2 - Ornamental'!$AA$19=\"X\",W283=\"X\"),1,0)","v":0},null,{"$f":"IF(AND('Step 2 - Ornamental'!$AA$19=\"X\",Y283=\"X\"),1,0)","v":0},"X",{"$f":"IF(AND('Step 2 - Ornamental'!$AB$19=\"X\",AA283=\"X\"),1,0)","v":0},null,{"$f":"IF(AND('Step 2 - Ornamental'!$AC$19=\"X\",AC283=\"X\"),1,0)","v":0},null,{"$f":"IF(AND('Step 2 - Ornamental'!$AA$20=\"X\",AE283=\"X\"),1,0)","v":0},"X",{"$f":"IF(AND('Step 2 - Ornamental'!$AA$20=\"X\",AG283=\"X\"),1,0)","v":0},null,{"$f":"IF(AND('Step 2 - Ornamental'!$AB$20=\"X\",AI283=\"X\"),1,0)","v":0},null,{"$f":"IF(AND('Step 2 - Ornamental'!$AC$20=\"X\",AK283=\"X\"),1,0)","v":0},null,{"$f":"IF(AND('Step 2 - Ornamental'!$AA$18=\"X\",AM283=\"X\"),1,0)","v":0},"X",{"$f":"IF(AND('Step 2 - Ornamental'!$AB$18=\"X\",AO283=\"X\"),1,0)","v":0},"X",{"$f":"IF(AND('Step 2 - Ornamental'!$AC$18=\"X\",AQ283=\"X\"),1,0)","v":0},null,{"$f":"IF(AND('Step 2 - Ornamental'!$AD$18=\"X\",AS283=\"X\"),1,0)","v":0},null,{"$f":"IF(AND('Step 2 - Ornamental'!$AE$18=\"X\",AU283=\"X\"),1,0)","v":0},null,{"$f":"IF(AND('Step 2 - Ornamental'!$AA$17=\"X\",AW283=\"X\"),1,0)","v":0},"X",{"$f":"IF(AND('Step 2 - Ornamental'!$AB$17=\"X\",AY283=\"X\"),1,0)","v":0},null,{"$f":"IF(AND('Step 2 - Ornamental'!$AC$17=\"X\",BA283=\"X\"),1,0)","v":0},null,{"$f":"IF(AND('Step 2 - Ornamental'!$AA$22=\"X\",BC283=\"X\"),1,0)","v":0},null,{"$f":"IF(AND('Step 2 - Ornamental'!$AB$22=\"X\",BE283=\"X\"),1,0)","v":0},"X",{"$f":"IF(AND('Step 2 - Ornamental'!$AC$22=\"X\",BG283=\"X\"),1,0)","v":0},"X",{"$f":"IF(AND('Step 2 - Ornamental'!$AD$22=\"X\",BI283=\"X\"),1,0)","v":0},"X",null,null,null,null,null,"Creamy Yellow / 1.5'-2.0'"]
[null,1,"CO VG","Coreopsis verticillata 'Grandiflora' ('Golden Showers')","Threadleaf Coreopsis","24\" O.C.","30\" tall, bright yellow flowers, likes poor soil, sterile variety",null,"X",null,"X",null,null,1,"X",{"$f":"IF(AND('Step 2 - Ornamental'!$AA$21=\"X\",Q284=\"X\"),1,0)","v":0},null,{"$f":"IF(AND('Step 2 - Ornamental'!$AB$21=\"X\",S284=\"X\"),1,0)","v":0},null,{"$f":"IF(AND('Step 2 - Ornamental'!$AC$21=\"X\",U284=\"X\"),1,0)","v":0},null,{"$f":"IF(AND('Step 2 - Ornamental'!$AA$19=\"X\",W284=\"X\"),1,0)","v":0},null,{"$f":"IF(AND('Step 2 - Ornamental'!$AA$19=\"X\",Y284=\"X\"),1,0)","v":0},"X",{"$f":"IF(AND('Step 2 - Ornamental'!$AB$19=\"X\",AA284=\"X\"),1,0)","v":0},null,{"$f":"IF(AND('Step 2 - Ornamental'!$AC$19=\"X\",AC284=\"X\"),1,0)","v":0},null,{"$f":"IF(AND('Step 2 - Ornamental'!$AA$20=\"X\",AE284=\"X\"),1,0)","v":0},"X",{"$f":"IF(AND('Step 2 - Ornamental'!$AA$20=\"X\",AG284=\"X\"),1,0)","v":0},null,{"$f":"IF(AND('Step 2 - Ornamental'!$AB$20=\"X\",AI284=\"X\"),1,0)","v":0},null,{"$f":"IF(AND('Step 2 - Ornamental'!$AC$20=\"X\",AK284=\"X\"),1,0)","v":0},null,{"$f":"IF(AND('Step 2 - Ornamental'!$AA$18=\"X\",AM284=\"X\"),1,0)","v":0},"X",{"$f":"IF(AND('Step 2 - Ornamental'!$AB$18=\"X\",AO284=\"X\"),1,0)","v":0},"X",{"$f":"IF(AND('Step 2 - Ornamental'!$AC$18=\"X\",AQ284=\"X\"),1,0)","v":0},null,{"$f":"IF(AND('Step 2 - Ornamental'!$AD$18=\"X\",AS284=\"X\"),1,0)","v":0},null,{"$f":"IF(AND('Step 2 - Ornamental'!$AE$18=\"X\",AU284=\"X\"),1,0)","v":0},null,{"$f":"IF(AND('Step 2 - Ornamental'!$AA$17=\"X\",AW284=\"X\"),1,0)","v":0},"X",{"$f":"IF(AND('Step 2 - Ornamental'!$AB$17=\"X\",AY284=\"X\"),1,0)","v":0},null,{"$f":"IF(AND('Step 2 - Ornamental'!$AC$17=\"X\",BA284=\"X\"),1,0)","v":0},null,{"$f":"IF(AND('Step 2 - Ornamental'!$AA$22=\"X\",BC284=\"X\"),1,0)","v":0},null,{"$f":"IF(AND('Step 2 - Ornamental'!$AB$22=\"X\",BE284=\"X\"),1,0)","v":0},"X",{"$f":"IF(AND('Step 2 - Ornamental'!$AC$22=\"X\",BG284=\"X\"),1,0)","v":0},"X",{"$f":"IF(AND('Step 2 - Ornamental'!$AD$22=\"X\",BI284=\"X\"),1,0)","v":0},"X",null,null,null,null,null,"Yellow /  2.0'-3.0'"]
[null,1,"CO ZA","Coreopsis verticillata 'Zagreb'","Zagreb Coreopsis","18\" O.C.","18\" tall bright yellow flowers May-June",null,"X",null,"X",null,null,1,"X",{"$f":"IF(AND('Step 2 - Ornamental'!$AA$21=\"X\",Q285=\"X\"),1,0)","v":0},null,{"$f":"IF(AND('Step 2 - Ornamental'!$AB$21=\"X\",S285=\"X\"),1,0)","v":0},null,{"$f":"IF(AND('Step 2 - Ornamental'!$AC$21=\"X\",U285=\"X\"),1,0)","v":0},null,{"$f":"IF(AND('Step 2 - Ornamental'!$AA$19=\"X\",W285=\"X\"),1,0)","v":0},null,{"$f":"IF(AND('Step 2 - Ornamental'!$AA$19=\"X\",Y285=\"X\"),1,0)","v":0},"X",{"$f":"IF(AND('Step 2 - Ornamental'!$AB$19=\"X\",AA285=\"X\"),1,0)","v":0},null,{"$f":"IF(AND('Step 2 - Ornamental'!$AC$19=\"X\",AC285=\"X\"),1,0)","v":0},null,{"$f":"IF(AND('Step 2 - Ornamental'!$AA$20=\"X\",AE285=\"X\"),1,0)","v":0},"X",{"$f":"IF(AND('Step 2 - Ornamental'!$AA$20=\"X\",AG285=\"X\"),1,0)","v":0},null,{"$f":"IF(AND('Step 2 - Ornamental'!$AB$20=\"X\",AI285=\"X\"),1,0)","v":0},null,{"$f":"IF(AND('Step 2 - Ornamental'!$AC$20=\"X\",AK285=\"X\"),1,0)","v":0},null,{"$f":"IF(AND('Step 2 - Ornamental'!$AA$18=\"X\",AM285=\"X\"),1,0)","v":0},"X",{"$f":"IF(AND('Step 2 - Ornamental'!$AB$18=\"X\",AO285=\"X\"),1,0)","v":0},"X",{"$f":"IF(AND('Step 2 - Ornamental'!$AC$18=\"X\",AQ285=\"X\"),1,0)","v":0},null,{"$f":"IF(AND('Step 2 - Ornamental'!$AD$18=\"X\",AS285=\"X\"),1,0)","v":0},null,{"$f":"IF(AND('Step 2 - Ornamental'!$AE$18=\"X\",AU285=\"X\"),1,0)","v":0},null,{"$f":"IF(AND('Step 2 - Ornamental'!$AA$17=\"X\",AW285=\"X\"),1,0)","v":0},"X",{"$f":"IF(AND('Step 2 - Ornamental'!$AB$17=\"X\",AY285=\"X\"),1,0)","v":0},null,{"$f":"IF(AND('Step 2 - Ornamental'!$AC$17=\"X\",BA285=\"X\"),1,0)","v":0},null,{"$f":"IF(AND('Step 2 - Ornamental'!$AA$22=\"X\",BC285=\"X\"),1,0)","v":0},null,{"$f":"IF(AND('Step 2 - Ornamental'!$AB$22=\"X\",BE285=\"X\"),1,0)","v":0},"X",{"$f":"IF(AND('Step 2 - Ornamental'!$AC$22=\"X\",BG285=\"X\"),1,0)","v":0},"X",{"$f":"IF(AND('Step 2 - Ornamental'!$AD$22=\"X\",BI285=\"X\"),1,0)","v":0},"X",null,null,null,null,"Yellow / 1.5'-2.5'"]
["Legume",1,"DA PU","Dalea purpurea (Petalostemum purpureum)","Prairie Clover","12\" O.C.","Nitrogen fixer, rose/purple blooms June-Aug, good with pale purple coneflower and sporobolus"," ","X","X",null,null,null,0,null,{"$f":"IF(AND('Step 2 - Ornamental'!$AA$21=\"X\",Q286=\"X\"),1,0)","v":0},null,{"$f":"IF(AND('Step 2 - Ornamental'!$AB$21=\"X\",S286=\"X\"),1,0)","v":0},"X",{"$f":"IF(AND('Step 2 - Ornamental'!$AC$21=\"X\",U286=\"X\"),1,0)","v":0},"X",{"$f":"IF(AND('Step 2 - Ornamental'!$AA$19=\"X\",W286=\"X\"),1,0)","v":0},null,{"$f":"IF(AND('Step 2 - Ornamental'!$AA$19=\"X\",Y286=\"X\"),1,0)","v":0},"X",{"$f":"IF(AND('Step 2 - Ornamental'!$AB$19=\"X\",AA286=\"X\"),1,0)","v":0},"X",{"$f":"IF(AND('Step 2 - Ornamental'!$AC$19=\"X\",AC286=\"X\"),1,0)","v":0},null,{"$f":"IF(AND('Step 2 - Ornamental'!$AA$20=\"X\",AE286=\"X\"),1,0)","v":0},"X",{"$f":"IF(AND('Step 2 - Ornamental'!$AA$20=\"X\",AG286=\"X\"),1,0)","v":0},null,{"$f":"IF(AND('Step 2 - Ornamental'!$AB$20=\"X\",AI286=\"X\"),1,0)","v":0},null,{"$f":"IF(AND('Step 2 - Ornamental'!$AC$20=\"X\",AK286=\"X\"),1,0)","v":0},null,{"$f":"IF(AND('Step 2 - Ornamental'!$AA$18=\"X\",AM286=\"X\"),1,0)","v":0},null,{"$f":"IF(AND('Step 2 - Ornamental'!$AB$18=\"X\",AO286=\"X\"),1,0)","v":0},"X",{"$f":"IF(AND('Step 2 - Ornamental'!$AC$18=\"X\",AQ286=\"X\"),1,0)","v":0},null,{"$f":"IF(AND('Step 2 - Ornamental'!$AD$18=\"X\",AS286=\"X\"),1,0)","v":0},null,{"$f":"IF(AND('Step 2 - Ornamental'!$AE$18=\"X\",AU286=\"X\"),1,0)","v":0},null,{"$f":"IF(AND('Step 2 - Ornamental'!$AA$17=\"X\",AW286=\"X\"),1,0)","v":0},"X",{"$f":"IF(AND('Step 2 - Ornamental'!$AB$17=\"X\",AY286=\"X\"),1,0)","v":0},null,{"$f":"IF(AND('Step 2 - Ornamental'!$AC$17=\"X\",BA286=\"X\"),1,0)","v":0},null,{"$f":"IF(AND('Step 2 - Ornamental'!$AA$22=\"X\",BC286=\"X\"),1,0)","v":0},null,{"$f":"IF(AND('Step 2 - Ornamental'!$AB$22=\"X\",BE286=\"X\"),1,0)","v":0},null,{"$f":"IF(AND('Step 2 - Ornamental'!$AC$22=\"X\",BG286=\"X\"),1,0)","v":0},"X",{"$f":"IF(AND('Step 2 - Ornamental'!$AD$22=\"X\",BI286=\"X\"),1,0)","v":0},"X",null,null,null,null,null,"Rose-purple / 1.0'-3.0'"]
[null,1,"DI AR","Dianthus arenarius f. nanus 'Little Maiden'","Sand Pinks","10\" O.C.","short grass-like foliage with fragrant fringed flowers","X",null,null,"X",null,null,0,null,{"$f":"IF(AND('Step 2 - Ornamental'!$AA$21=\"X\",Q287=\"X\"),1,0)","v":0},"X",{"$f":"IF(AND('Step 2 - Ornamental'!$AB$21=\"X\",S287=\"X\"),1,0)","v":0},"X",{"$f":"IF(AND('Step 2 - Ornamental'!$AC$21=\"X\",U287=\"X\"),1,0)","v":0},"X",{"$f":"IF(AND('Step 2 - Ornamental'!$AA$19=\"X\",W287=\"X\"),1,0)","v":0},null,{"$f":"IF(AND('Step 2 - Ornamental'!$AA$19=\"X\",Y287=\"X\"),1,0)","v":0},"X",{"$f":"IF(AND('Step 2 - Ornamental'!$AB$19=\"X\",AA287=\"X\"),1,0)","v":0},null,{"$f":"IF(AND('Step 2 - Ornamental'!$AC$19=\"X\",AC287=\"X\"),1,0)","v":0},null,{"$f":"IF(AND('Step 2 - Ornamental'!$AA$20=\"X\",AE287=\"X\"),1,0)","v":0},"X",{"$f":"IF(AND('Step 2 - Ornamental'!$AA$20=\"X\",AG287=\"X\"),1,0)","v":0},null,{"$f":"IF(AND('Step 2 - Ornamental'!$AB$20=\"X\",AI287=\"X\"),1,0)","v":0},null,{"$f":"IF(AND('Step 2 - Ornamental'!$AC$20=\"X\",AK287=\"X\"),1,0)","v":0},null,{"$f":"IF(AND('Step 2 - Ornamental'!$AA$18=\"X\",AM287=\"X\"),1,0)","v":0},"X",{"$f":"IF(AND('Step 2 - Ornamental'!$AB$18=\"X\",AO287=\"X\"),1,0)","v":0},null,{"$f":"IF(AND('Step 2 - Ornamental'!$AC$18=\"X\",AQ287=\"X\"),1,0)","v":0},null,{"$f":"IF(AND('Step 2 - Ornamental'!$AD$18=\"X\",AS287=\"X\"),1,0)","v":0},null,{"$f":"IF(AND('Step 2 - Ornamental'!$AE$18=\"X\",AU287=\"X\"),1,0)","v":0},null,{"$f":"IF(AND('Step 2 - Ornamental'!$AA$17=\"X\",AW287=\"X\"),1,0)","v":0},"X",{"$f":"IF(AND('Step 2 - Ornamental'!$AB$17=\"X\",AY287=\"X\"),1,0)","v":0},null,{"$f":"IF(AND('Step 2 - Ornamental'!$AC$17=\"X\",BA287=\"X\"),1,0)","v":0},null,{"$f":"IF(AND('Step 2 - Ornamental'!$AA$22=\"X\",BC287=\"X\"),1,0)","v":0},"X",{"$f":"IF(AND('Step 2 - Ornamental'!$AB$22=\"X\",BE287=\"X\"),1,0)","v":0},"X",{"$f":"IF(AND('Step 2 - Ornamental'!$AC$22=\"X\",BG287=\"X\"),1,0)","v":0},"X",{"$f":"IF(AND('Step 2 - Ornamental'!$AD$22=\"X\",BI287=\"X\"),1,0)","v":0},"X",null,null,null,null,"White / 6\""]
[null,1,"DI DE","Dianthus deltoides 'Brilliant'","Brilliant Maiden Pinks","10\" O.C.","Scarlet flowers; foliage formssemi-evergreen mat","X",null,null,"X",null,null,0,null,{"$f":"IF(AND('Step 2 - Ornamental'!$AA$21=\"X\",Q288=\"X\"),1,0)","v":0},null,{"$f":"IF(AND('Step 2 - Ornamental'!$AB$21=\"X\",S288=\"X\"),1,0)","v":0},"X",{"$f":"IF(AND('Step 2 - Ornamental'!$AC$21=\"X\",U288=\"X\"),1,0)","v":0},"X",{"$f":"IF(AND('Step 2 - Ornamental'!$AA$19=\"X\",W288=\"X\"),1,0)","v":0},null,{"$f":"IF(AND('Step 2 - Ornamental'!$AA$19=\"X\",Y288=\"X\"),1,0)","v":0},"X",{"$f":"IF(AND('Step 2 - Ornamental'!$AB$19=\"X\",AA288=\"X\"),1,0)","v":0},null,{"$f":"IF(AND('Step 2 - Ornamental'!$AC$19=\"X\",AC288=\"X\"),1,0)","v":0},null,{"$f":"IF(AND('Step 2 - Ornamental'!$AA$20=\"X\",AE288=\"X\"),1,0)","v":0},"X",{"$f":"IF(AND('Step 2 - Ornamental'!$AA$20=\"X\",AG288=\"X\"),1,0)","v":0},null,{"$f":"IF(AND('Step 2 - Ornamental'!$AB$20=\"X\",AI288=\"X\"),1,0)","v":0},null,{"$f":"IF(AND('Step 2 - Ornamental'!$AC$20=\"X\",AK288=\"X\"),1,0)","v":0},null,{"$f":"IF(AND('Step 2 - Ornamental'!$AA$18=\"X\",AM288=\"X\"),1,0)","v":0},"X",{"$f":"IF(AND('Step 2 - Ornamental'!$AB$18=\"X\",AO288=\"X\"),1,0)","v":0},null,{"$f":"IF(AND('Step 2 - Ornamental'!$AC$18=\"X\",AQ288=\"X\"),1,0)","v":0},null,{"$f":"IF(AND('Step 2 - Ornamental'!$AD$18=\"X\",AS288=\"X\"),1,0)","v":0},null,{"$f":"IF(AND('Step 2 - Ornamental'!$AE$18=\"X\",AU288=\"X\"),1,0)","v":0},null,{"$f":"IF(AND('Step 2 - Ornamental'!$AA$17=\"X\",AW288=\"X\"),1,0)","v":0},"X",{"$f":"IF(AND('Step 2 - Ornamental'!$AB$17=\"X\",AY288=\"X\"),1,0)","v":0},null,{"$f":"IF(AND('Step 2 - Ornamental'!$AC$17=\"X\",BA288=\"X\"),1,0)","v":0},null,{"$f":"IF(AND('Step 2 - Ornamental'!$AA$22=\"X\",BC288=\"X\"),1,0)","v":0},"X",{"$f":"IF(AND('Step 2 - Ornamental'!$AB$22=\"X\",BE288=\"X\"),1,0)","v":0},"X",{"$f":"IF(AND('Step 2 - Ornamental'!$AC$22=\"X\",BG288=\"X\"),1,0)","v":0},"X",{"$f":"IF(AND('Step 2 - Ornamental'!$AD$22=\"X\",BI288=\"X\"),1,0)","v":0},"X",null,null,null,null,"Scarlet / 6\""]
[null,1,"DI SP","Dicentra spectabilis (Lamprocapnos spectabilis)","Bleeding Heart","24\" O.C.","Prefers moist soils in part shade, showing pink flowers to 36\" in april-may","X",null,null,null,"X",null,0,null,{"$f":"IF(AND('Step 2 - Ornamental'!$AA$21=\"X\",Q289=\"X\"),1,0)","v":0},null,{"$f":"IF(AND('Step 2 - Ornamental'!$AB$21=\"X\",S289=\"X\"),1,0)","v":0},"X",{"$f":"IF(AND('Step 2 - Ornamental'!$AC$21=\"X\",U289=\"X\"),1,0)","v":0},"X",{"$f":"IF(AND('Step 2 - Ornamental'!$AA$19=\"X\",W289=\"X\"),1,0)","v":0},null,{"$f":"IF(AND('Step 2 - Ornamental'!$AA$19=\"X\",Y289=\"X\"),1,0)","v":0},"X",{"$f":"IF(AND('Step 2 - Ornamental'!$AB$19=\"X\",AA289=\"X\"),1,0)","v":0},null,{"$f":"IF(AND('Step 2 - Ornamental'!$AC$19=\"X\",AC289=\"X\"),1,0)","v":0},null,{"$f":"IF(AND('Step 2 - Ornamental'!$AA$20=\"X\",AE289=\"X\"),1,0)","v":0},"X",{"$f":"IF(AND('Step 2 - Ornamental'!$AA$20=\"X\",AG289=\"X\"),1,0)","v":0},null,{"$f":"IF(AND('Step 2 - Ornamental'!$AB$20=\"X\",AI289=\"X\"),1,0)","v":0},null,{"$f":"IF(AND('Step 2 - Ornamental'!$AC$20=\"X\",AK289=\"X\"),1,0)","v":0},null,{"$f":"IF(AND('Step 2 - Ornamental'!$AA$18=\"X\",AM289=\"X\"),1,0)","v":0},null,{"$f":"IF(AND('Step 2 - Ornamental'!$AB$18=\"X\",AO289=\"X\"),1,0)","v":0},"X",{"$f":"IF(AND('Step 2 - Ornamental'!$AC$18=\"X\",AQ289=\"X\"),1,0)","v":0},null,{"$f":"IF(AND('Step 2 - Ornamental'!$AD$18=\"X\",AS289=\"X\"),1,0)","v":0},null,{"$f":"IF(AND('Step 2 - Ornamental'!$AE$18=\"X\",AU289=\"X\"),1,0)","v":0},null,{"$f":"IF(AND('Step 2 - Ornamental'!$AA$17=\"X\",AW289=\"X\"),1,0)","v":0},null,{"$f":"IF(AND('Step 2 - Ornamental'!$AB$17=\"X\",AY289=\"X\"),1,0)","v":0},"X",{"$f":"IF(AND('Step 2 - Ornamental'!$AC$17=\"X\",BA289=\"X\"),1,0)","v":0},"X",{"$f":"IF(AND('Step 2 - Ornamental'!$AA$22=\"X\",BC289=\"X\"),1,0)","v":0},null,{"$f":"IF(AND('Step 2 - Ornamental'!$AB$22=\"X\",BE289=\"X\"),1,0)","v":0},null,{"$f":"IF(AND('Step 2 - Ornamental'!$AC$22=\"X\",BG289=\"X\"),1,0)","v":0},"X",{"$f":"IF(AND('Step 2 - Ornamental'!$AD$22=\"X\",BI289=\"X\"),1,0)","v":0},"X",null,null,null,"Pink / 2.0'-3.0'"]
[null,1,"DI SA","Dicentra spectabilis alba (Laprocapnos spectabilis)","White Flowered Bleeding Heart","24\" O.C.","Prefers moist soils in part shade, showing white flowers to 36\" in april-may","X",null,null,null,"X",null,0,null,{"$f":"IF(AND('Step 2 - Ornamental'!$AA$21=\"X\",Q290=\"X\"),1,0)","v":0},"X",{"$f":"IF(AND('Step 2 - Ornamental'!$AB$21=\"X\",S290=\"X\"),1,0)","v":0},"X",{"$f":"IF(AND('Step 2 - Ornamental'!$AC$21=\"X\",U290=\"X\"),1,0)","v":0},null,{"$f":"IF(AND('Step 2 - Ornamental'!$AA$19=\"X\",W290=\"X\"),1,0)","v":0},null,{"$f":"IF(AND('Step 2 - Ornamental'!$AA$19=\"X\",Y290=\"X\"),1,0)","v":0},"X",{"$f":"IF(AND('Step 2 - Ornamental'!$AB$19=\"X\",AA290=\"X\"),1,0)","v":0},null,{"$f":"IF(AND('Step 2 - Ornamental'!$AC$19=\"X\",AC290=\"X\"),1,0)","v":0},null,{"$f":"IF(AND('Step 2 - Ornamental'!$AA$20=\"X\",AE290=\"X\"),1,0)","v":0},"X",{"$f":"IF(AND('Step 2 - Ornamental'!$AA$20=\"X\",AG290=\"X\"),1,0)","v":0},null,{"$f":"IF(AND('Step 2 - Ornamental'!$AB$20=\"X\",AI290=\"X\"),1,0)","v":0},null,{"$f":"IF(AND('Step 2 - Ornamental'!$AC$20=\"X\",AK290=\"X\"),1,0)","v":0},null,{"$f":"IF(AND('Step 2 - Ornamental'!$AA$18=\"X\",AM290=\"X\"),1,0)","v":0},null,{"$f":"IF(AND('Step 2 - Ornamental'!$AB$18=\"X\",AO290=\"X\"),1,0)","v":0},"X",{"$f":"IF(AND('Step 2 - Ornamental'!$AC$18=\"X\",AQ290=\"X\"),1,0)","v":0},null,{"$f":"IF(AND('Step 2 - Ornamental'!$AD$18=\"X\",AS290=\"X\"),1,0)","v":0},null,{"$f":"IF(AND('Step 2 - Ornamental'!$AE$18=\"X\",AU290=\"X\"),1,0)","v":0},null,{"$f":"IF(AND('Step 2 - Ornamental'!$AA$17=\"X\",AW290=\"X\"),1,0)","v":0},null,{"$f":"IF(AND('Step 2 - Ornamental'!$AB$17=\"X\",AY290=\"X\"),1,0)","v":0},"X",{"$f":"IF(AND('Step 2 - Ornamental'!$AC$17=\"X\",BA290=\"X\"),1,0)","v":0},"X",{"$f":"IF(AND('Step 2 - Ornamental'!$AA$22=\"X\",BC290=\"X\"),1,0)","v":0},null,{"$f":"IF(AND('Step 2 - Ornamental'!$AB$22=\"X\",BE290=\"X\"),1,0)","v":0},null,{"$f":"IF(AND('Step 2 - Ornamental'!$AC$22=\"X\",BG290=\"X\"),1,0)","v":0},"X",{"$f":"IF(AND('Step 2 - Ornamental'!$AD$22=\"X\",BI290=\"X\"),1,0)","v":0},"X",null,null,null,"White / 2.0'-3.0'"]
[null,1,"DO ME","Dodecatheon meadia","Shooting Star","10\" O.C.","Prefers moist, rich soils in part shade, tolerates clay soil, white/pink/purple flowers to 18\" in May"," ","X","X",null,null,null,0,null,{"$f":"IF(AND('Step 2 - Ornamental'!$AA$21=\"X\",Q291=\"X\"),1,0)","v":0},"X",{"$f":"IF(AND('Step 2 - Ornamental'!$AB$21=\"X\",S291=\"X\"),1,0)","v":0},null,{"$f":"IF(AND('Step 2 - Ornamental'!$AC$21=\"X\",U291=\"X\"),1,0)","v":0},null,{"$f":"IF(AND('Step 2 - Ornamental'!$AA$19=\"X\",W291=\"X\"),1,0)","v":0},null,{"$f":"IF(AND('Step 2 - Ornamental'!$AA$19=\"X\",Y291=\"X\"),1,0)","v":0},"X",{"$f":"IF(AND('Step 2 - Ornamental'!$AB$19=\"X\",AA291=\"X\"),1,0)","v":0},null,{"$f":"IF(AND('Step 2 - Ornamental'!$AC$19=\"X\",AC291=\"X\"),1,0)","v":0},null,{"$f":"IF(AND('Step 2 - Ornamental'!$AA$20=\"X\",AE291=\"X\"),1,0)","v":0},"X",{"$f":"IF(AND('Step 2 - Ornamental'!$AA$20=\"X\",AG291=\"X\"),1,0)","v":0},null,{"$f":"IF(AND('Step 2 - Ornamental'!$AB$20=\"X\",AI291=\"X\"),1,0)","v":0},null,{"$f":"IF(AND('Step 2 - Ornamental'!$AC$20=\"X\",AK291=\"X\"),1,0)","v":0},null,{"$f":"IF(AND('Step 2 - Ornamental'!$AA$18=\"X\",AM291=\"X\"),1,0)","v":0},null,{"$f":"IF(AND('Step 2 - Ornamental'!$AB$18=\"X\",AO291=\"X\"),1,0)","v":0},"X",{"$f":"IF(AND('Step 2 - Ornamental'!$AC$18=\"X\",AQ291=\"X\"),1,0)","v":0},null,{"$f":"IF(AND('Step 2 - Ornamental'!$AD$18=\"X\",AS291=\"X\"),1,0)","v":0},null,{"$f":"IF(AND('Step 2 - Ornamental'!$AE$18=\"X\",AU291=\"X\"),1,0)","v":0},null,{"$f":"IF(AND('Step 2 - Ornamental'!$AA$17=\"X\",AW291=\"X\"),1,0)","v":0},null,{"$f":"IF(AND('Step 2 - Ornamental'!$AB$17=\"X\",AY291=\"X\"),1,0)","v":0},"X",{"$f":"IF(AND('Step 2 - Ornamental'!$AC$17=\"X\",BA291=\"X\"),1,0)","v":0},"X",{"$f":"IF(AND('Step 2 - Ornamental'!$AA$22=\"X\",BC291=\"X\"),1,0)","v":0},null,{"$f":"IF(AND('Step 2 - Ornamental'!$AB$22=\"X\",BE291=\"X\"),1,0)","v":0},null,{"$f":"IF(AND('Step 2 - Ornamental'!$AC$22=\"X\",BG291=\"X\"),1,0)","v":0},"X",{"$f":"IF(AND('Step 2 - Ornamental'!$AD$22=\"X\",BI291=\"X\"),1,0)","v":0},"X",null,null,null,null,"White,Pink, or Light Purple/0.75'-1'"]
[null,1,"EC BS","Echinacea purpurea 'Baby Swan White'","White Coneflower","18\" O.C.","White flowers with gold cone",null,"X",null,"X",null,null,0,null,{"$f":"IF(AND('Step 2 - Ornamental'!$AA$21=\"X\",Q292=\"X\"),1,0)","v":0},"X",{"$f":"IF(AND('Step 2 - Ornamental'!$AB$21=\"X\",S292=\"X\"),1,0)","v":0},"X",{"$f":"IF(AND('Step 2 - Ornamental'!$AC$21=\"X\",U292=\"X\"),1,0)","v":0},"X",{"$f":"IF(AND('Step 2 - Ornamental'!$AA$19=\"X\",W292=\"X\"),1,0)","v":0},null,{"$f":"IF(AND('Step 2 - Ornamental'!$AA$19=\"X\",Y292=\"X\"),1,0)","v":0},"X",{"$f":"IF(AND('Step 2 - Ornamental'!$AB$19=\"X\",AA292=\"X\"),1,0)","v":0},null,{"$f":"IF(AND('Step 2 - Ornamental'!$AC$19=\"X\",AC292=\"X\"),1,0)","v":0},null,{"$f":"IF(AND('Step 2 - Ornamental'!$AA$20=\"X\",AE292=\"X\"),1,0)","v":0},"X",{"$f":"IF(AND('Step 2 - Ornamental'!$AA$20=\"X\",AG292=\"X\"),1,0)","v":0},null,{"$f":"IF(AND('Step 2 - Ornamental'!$AB$20=\"X\",AI292=\"X\"),1,0)","v":0},null,{"$f":"IF(AND('Step 2 - Ornamental'!$AC$20=\"X\",AK292=\"X\"),1,0)","v":0},null,{"$f":"IF(AND('Step 2 - Ornamental'!$AA$18=\"X\",AM292=\"X\"),1,0)","v":0},"X",{"$f":"IF(AND('Step 2 - Ornamental'!$AB$18=\"X\",AO292=\"X\"),1,0)","v":0},"X",{"$f":"IF(AND('Step 2 - Ornamental'!$AC$18=\"X\",AQ292=\"X\"),1,0)","v":0}," ",{"$f":"IF(AND('Step 2 - Ornamental'!$AD$18=\"X\",AS292=\"X\"),1,0)","v":0},null,{"$f":"IF(AND('Step 2 - Ornamental'!$AE$18=\"X\",AU292=\"X\"),1,0)","v":0},null,{"$f":"IF(AND('Step 2 - Ornamental'!$AA$17=\"X\",AW292=\"X\"),1,0)","v":0},"X",{"$f":"IF(AND('Step 2 - Ornamental'!$AB$17=\"X\",AY292=\"X\"),1,0)","v":0},"X",{"$f":"IF(AND('Step 2 - Ornamental'!$AC$17=\"X\",BA292=\"X\"),1,0)","v":0},null,{"$f":"IF(AND('Step 2 - Ornamental'!$AA$22=\"X\",BC292=\"X\"),1,0)","v":0},null,{"$f":"IF(AND('Step 2 - Ornamental'!$AB$22=\"X\",BE292=\"X\"),1,0)","v":0},"X",{"$f":"IF(AND('Step 2 - Ornamental'!$AC$22=\"X\",BG292=\"X\"),1,0)","v":0},"X",{"$f":"IF(AND('Step 2 - Ornamental'!$AD$22=\"X\",BI292=\"X\"),1,0)","v":0},"X",null,null,null,null,null,"White with yell-grn cone / 1.5'-2.0'"]
[null,1,"EC MA","Echinacea purpurea 'Magnus'","Purple Coneflower","18\" O.C.","Tall (2-3') purple flowers",null,"X",null,"X",null,null,0,null,{"$f":"IF(AND('Step 2 - Ornamental'!$AA$21=\"X\",Q293=\"X\"),1,0)","v":0},"X",{"$f":"IF(AND('Step 2 - Ornamental'!$AB$21=\"X\",S293=\"X\"),1,0)","v":0},"X",{"$f":"IF(AND('Step 2 - Ornamental'!$AC$21=\"X\",U293=\"X\"),1,0)","v":0},"X",{"$f":"IF(AND('Step 2 - Ornamental'!$AA$19=\"X\",W293=\"X\"),1,0)","v":0},null,{"$f":"IF(AND('Step 2 - Ornamental'!$AA$19=\"X\",Y293=\"X\"),1,0)","v":0},"X",{"$f":"IF(AND('Step 2 - Ornamental'!$AB$19=\"X\",AA293=\"X\"),1,0)","v":0},null,{"$f":"IF(AND('Step 2 - Ornamental'!$AC$19=\"X\",AC293=\"X\"),1,0)","v":0},null,{"$f":"IF(AND('Step 2 - Ornamental'!$AA$20=\"X\",AE293=\"X\"),1,0)","v":0},"X",{"$f":"IF(AND('Step 2 - Ornamental'!$AA$20=\"X\",AG293=\"X\"),1,0)","v":0},null,{"$f":"IF(AND('Step 2 - Ornamental'!$AB$20=\"X\",AI293=\"X\"),1,0)","v":0},null,{"$f":"IF(AND('Step 2 - Ornamental'!$AC$20=\"X\",AK293=\"X\"),1,0)","v":0},null,{"$f":"IF(AND('Step 2 - Ornamental'!$AA$18=\"X\",AM293=\"X\"),1,0)","v":0},"X",{"$f":"IF(AND('Step 2 - Ornamental'!$AB$18=\"X\",AO293=\"X\"),1,0)","v":0},"X",{"$f":"IF(AND('Step 2 - Ornamental'!$AC$18=\"X\",AQ293=\"X\"),1,0)","v":0},null,{"$f":"IF(AND('Step 2 - Ornamental'!$AD$18=\"X\",AS293=\"X\"),1,0)","v":0},null,{"$f":"IF(AND('Step 2 - Ornamental'!$AE$18=\"X\",AU293=\"X\"),1,0)","v":0},null,{"$f":"IF(AND('Step 2 - Ornamental'!$AA$17=\"X\",AW293=\"X\"),1,0)","v":0},"X",{"$f":"IF(AND('Step 2 - Ornamental'!$AB$17=\"X\",AY293=\"X\"),1,0)","v":0},"X",{"$f":"IF(AND('Step 2 - Ornamental'!$AC$17=\"X\",BA293=\"X\"),1,0)","v":0},null,{"$f":"IF(AND('Step 2 - Ornamental'!$AA$22=\"X\",BC293=\"X\"),1,0)","v":0},null,{"$f":"IF(AND('Step 2 - Ornamental'!$AB$22=\"X\",BE293=\"X\"),1,0)","v":0},"X",{"$f":"IF(AND('Step 2 - Ornamental'!$AC$22=\"X\",BG293=\"X\"),1,0)","v":0},"X",{"$f":"IF(AND('Step 2 - Ornamental'!$AD$22=\"X\",BI293=\"X\"),1,0)","v":0},"X",null,null,null,null,null,"Rose-purple / 2.5'-3.0'"]
[null,1,"EC RG","Echinacea purpurea 'Rubin's Glow'","Rubin's Glow Coneflower","18\" O.C.","Darker reddish-purple, horizontal petals",null,"X",null,"X",null,null,0,null,{"$f":"IF(AND('Step 2 - Ornamental'!$AA$21=\"X\",Q294=\"X\"),1,0)","v":0},"X",{"$f":"IF(AND('Step 2 - Ornamental'!$AB$21=\"X\",S294=\"X\"),1,0)","v":0},"X",{"$f":"IF(AND('Step 2 - Ornamental'!$AC$21=\"X\",U294=\"X\"),1,0)","v":0},"X",{"$f":"IF(AND('Step 2 - Ornamental'!$AA$19=\"X\",W294=\"X\"),1,0)","v":0},null,{"$f":"IF(AND('Step 2 - Ornamental'!$AA$19=\"X\",Y294=\"X\"),1,0)","v":0},"X",{"$f":"IF(AND('Step 2 - Ornamental'!$AB$19=\"X\",AA294=\"X\"),1,0)","v":0},null,{"$f":"IF(AND('Step 2 - Ornamental'!$AC$19=\"X\",AC294=\"X\"),1,0)","v":0},null,{"$f":"IF(AND('Step 2 - Ornamental'!$AA$20=\"X\",AE294=\"X\"),1,0)","v":0},"X",{"$f":"IF(AND('Step 2 - Ornamental'!$AA$20=\"X\",AG294=\"X\"),1,0)","v":0},null,{"$f":"IF(AND('Step 2 - Ornamental'!$AB$20=\"X\",AI294=\"X\"),1,0)","v":0},null,{"$f":"IF(AND('Step 2 - Ornamental'!$AC$20=\"X\",AK294=\"X\"),1,0)","v":0},null,{"$f":"IF(AND('Step 2 - Ornamental'!$AA$18=\"X\",AM294=\"X\"),1,0)","v":0},"X",{"$f":"IF(AND('Step 2 - Ornamental'!$AB$18=\"X\",AO294=\"X\"),1,0)","v":0},"X",{"$f":"IF(AND('Step 2 - Ornamental'!$AC$18=\"X\",AQ294=\"X\"),1,0)","v":0},null,{"$f":"IF(AND('Step 2 - Ornamental'!$AD$18=\"X\",AS294=\"X\"),1,0)","v":0},null,{"$f":"IF(AND('Step 2 - Ornamental'!$AE$18=\"X\",AU294=\"X\"),1,0)","v":0},null,{"$f":"IF(AND('Step 2 - Ornamental'!$AA$17=\"X\",AW294=\"X\"),1,0)","v":0},"X",{"$f":"IF(AND('Step 2 - Ornamental'!$AB$17=\"X\",AY294=\"X\"),1,0)","v":0},null,{"$f":"IF(AND('Step 2 - Ornamental'!$AC$17=\"X\",BA294=\"X\"),1,0)","v":0},null,{"$f":"IF(AND('Step 2 - Ornamental'!$AA$22=\"X\",BC294=\"X\"),1,0)","v":0},null,{"$f":"IF(AND('Step 2 - Ornamental'!$AB$22=\"X\",BE294=\"X\"),1,0)","v":0},"X",{"$f":"IF(AND('Step 2 - Ornamental'!$AC$22=\"X\",BG294=\"X\"),1,0)","v":0},"X",{"$f":"IF(AND('Step 2 - Ornamental'!$AD$22=\"X\",BI294=\"X\"),1,0)","v":0},"X",null,null,null,null,null,"Carmine red to purble rays / 2.0'-3.0'"]
[null,1,"EC PS","Echinacea purpurea 'Prairie Splendor'","Prairie Splendor Coneflower","18\" O.C.","Rose magenta petals with orange cone to 24\" tall in May-Aug, early bloomer"," ","X",null,"X",null,null,0,null,{"$f":"IF(AND('Step 2 - Ornamental'!$AA$21=\"X\",Q295=\"X\"),1,0)","v":0},"X",{"$f":"IF(AND('Step 2 - Ornamental'!$AB$21=\"X\",S295=\"X\"),1,0)","v":0},"X",{"$f":"IF(AND('Step 2 - Ornamental'!$AC$21=\"X\",U295=\"X\"),1,0)","v":0},"X",{"$f":"IF(AND('Step 2 - Ornamental'!$AA$19=\"X\",W295=\"X\"),1,0)","v":0},"X",{"$f":"IF(AND('Step 2 - Ornamental'!$AA$19=\"X\",Y295=\"X\"),1,0)","v":0},null,{"$f":"IF(AND('Step 2 - Ornamental'!$AB$19=\"X\",AA295=\"X\"),1,0)","v":0},null,{"$f":"IF(AND('Step 2 - Ornamental'!$AC$19=\"X\",AC295=\"X\"),1,0)","v":0},null,{"$f":"IF(AND('Step 2 - Ornamental'!$AA$20=\"X\",AE295=\"X\"),1,0)","v":0},"X",{"$f":"IF(AND('Step 2 - Ornamental'!$AA$20=\"X\",AG295=\"X\"),1,0)","v":0},null,{"$f":"IF(AND('Step 2 - Ornamental'!$AB$20=\"X\",AI295=\"X\"),1,0)","v":0},null,{"$f":"IF(AND('Step 2 - Ornamental'!$AC$20=\"X\",AK295=\"X\"),1,0)","v":0},null,{"$f":"IF(AND('Step 2 - Ornamental'!$AA$18=\"X\",AM295=\"X\"),1,0)","v":0},"X",{"$f":"IF(AND('Step 2 - Ornamental'!$AB$18=\"X\",AO295=\"X\"),1,0)","v":0},"X",{"$f":"IF(AND('Step 2 - Ornamental'!$AC$18=\"X\",AQ295=\"X\"),1,0)","v":0},null,{"$f":"IF(AND('Step 2 - Ornamental'!$AD$18=\"X\",AS295=\"X\"),1,0)","v":0},null,{"$f":"IF(AND('Step 2 - Ornamental'!$AE$18=\"X\",AU295=\"X\"),1,0)","v":0},null,{"$f":"IF(AND('Step 2 - Ornamental'!$AA$17=\"X\",AW295=\"X\"),1,0)","v":0},"X",{"$f":"IF(AND('Step 2 - Ornamental'!$AB$17=\"X\",AY295=\"X\"),1,0)","v":0},"X",{"$f":"IF(AND('Step 2 - Ornamental'!$AC$17=\"X\",BA295=\"X\"),1,0)","v":0},null,{"$f":"IF(AND('Step 2 - Ornamental'!$AA$22=\"X\",BC295=\"X\"),1,0)","v":0},null,{"$f":"IF(AND('Step 2 - Ornamental'!$AB$22=\"X\",BE295=\"X\"),1,0)","v":0},"X",{"$f":"IF(AND('Step 2 - Ornamental'!$AC$22=\"X\",BG295=\"X\"),1,0)","v":0},"X",{"$f":"IF(AND('Step 2 - Ornamental'!$AD$22=\"X\",BI295=\"X\"),1,0)","v":0},"X",null,null,null,null,"Magenta Red / 2.0'"]
[null,1,"EC PM","Echinacea 'Pixie Meadowbright'","Pixie Meadowbright Coneflower","18\" O.C.","Short cultivar (18\")",null,"X",null,"X",null,null,0,null,{"$f":"IF(AND('Step 2 - Ornamental'!$AA$21=\"X\",Q296=\"X\"),1,0)","v":0},"X",{"$f":"IF(AND('Step 2 - Ornamental'!$AB$21=\"X\",S296=\"X\"),1,0)","v":0},"X",{"$f":"IF(AND('Step 2 - Ornamental'!$AC$21=\"X\",U296=\"X\"),1,0)","v":0},"X",{"$f":"IF(AND('Step 2 - Ornamental'!$AA$19=\"X\",W296=\"X\"),1,0)","v":0},null,{"$f":"IF(AND('Step 2 - Ornamental'!$AA$19=\"X\",Y296=\"X\"),1,0)","v":0},"X",{"$f":"IF(AND('Step 2 - Ornamental'!$AB$19=\"X\",AA296=\"X\"),1,0)","v":0},null,{"$f":"IF(AND('Step 2 - Ornamental'!$AC$19=\"X\",AC296=\"X\"),1,0)","v":0},null,{"$f":"IF(AND('Step 2 - Ornamental'!$AA$20=\"X\",AE296=\"X\"),1,0)","v":0},"X",{"$f":"IF(AND('Step 2 - Ornamental'!$AA$20=\"X\",AG296=\"X\"),1,0)","v":0},null,{"$f":"IF(AND('Step 2 - Ornamental'!$AB$20=\"X\",AI296=\"X\"),1,0)","v":0},null,{"$f":"IF(AND('Step 2 - Ornamental'!$AC$20=\"X\",AK296=\"X\"),1,0)","v":0},null,{"$f":"IF(AND('Step 2 - Ornamental'!$AA$18=\"X\",AM296=\"X\"),1,0)","v":0},"X",{"$f":"IF(AND('Step 2 - Ornamental'!$AB$18=\"X\",AO296=\"X\"),1,0)","v":0},"X",{"$f":"IF(AND('Step 2 - Ornamental'!$AC$18=\"X\",AQ296=\"X\"),1,0)","v":0},null,{"$f":"IF(AND('Step 2 - Ornamental'!$AD$18=\"X\",AS296=\"X\"),1,0)","v":0},null,{"$f":"IF(AND('Step 2 - Ornamental'!$AE$18=\"X\",AU296=\"X\"),1,0)","v":0},null,{"$f":"IF(AND('Step 2 - Ornamental'!$AA$17=\"X\",AW296=\"X\"),1,0)","v":0},"X",{"$f":"IF(AND('Step 2 - Ornamental'!$AB$17=\"X\",AY296=\"X\"),1,0)","v":0},"X",{"$f":"IF(AND('Step 2 - Ornamental'!$AC$17=\"X\",BA296=\"X\"),1,0)","v":0},null,{"$f":"IF(AND('Step 2 - Ornamental'!$AA$22=\"X\",BC296=\"X\"),1,0)","v":0},null,{"$f":"IF(AND('Step 2 - Ornamental'!$AB$22=\"X\",BE296=\"X\"),1,0)","v":0},"X",{"$f":"IF(AND('Step 2 - Ornamental'!$AC$22=\"X\",BG296=\"X\"),1,0)","v":0},"X",{"$f":"IF(AND('Step 2 - Ornamental'!$AD$22=\"X\",BI296=\"X\"),1,0)","v":0},"X",null,null,null,null,null,"Pink / 1'-2'"]
[null,1,"EC TS","Echinacea 'Tomato Soup'","Tomato Soup Coneflower","24\" O.C.","Tall (2-3'), bright red coneflower in June/Aug",null,"X",null,"X",null,null,0,null,{"$f":"IF(AND('Step 2 - Ornamental'!$AA$21=\"X\",Q297=\"X\"),1,0)","v":0},"X",{"$f":"IF(AND('Step 2 - Ornamental'!$AB$21=\"X\",S297=\"X\"),1,0)","v":0},"X",{"$f":"IF(AND('Step 2 - Ornamental'!$AC$21=\"X\",U297=\"X\"),1,0)","v":0},"X",{"$f":"IF(AND('Step 2 - Ornamental'!$AA$19=\"X\",W297=\"X\"),1,0)","v":0},null,{"$f":"IF(AND('Step 2 - Ornamental'!$AA$19=\"X\",Y297=\"X\"),1,0)","v":0},"X",{"$f":"IF(AND('Step 2 - Ornamental'!$AB$19=\"X\",AA297=\"X\"),1,0)","v":0},null,{"$f":"IF(AND('Step 2 - Ornamental'!$AC$19=\"X\",AC297=\"X\"),1,0)","v":0},null,{"$f":"IF(AND('Step 2 - Ornamental'!$AA$20=\"X\",AE297=\"X\"),1,0)","v":0},"X",{"$f":"IF(AND('Step 2 - Ornamental'!$AA$20=\"X\",AG297=\"X\"),1,0)","v":0},null,{"$f":"IF(AND('Step 2 - Ornamental'!$AB$20=\"X\",AI297=\"X\"),1,0)","v":0},null,{"$f":"IF(AND('Step 2 - Ornamental'!$AC$20=\"X\",AK297=\"X\"),1,0)","v":0},null,{"$f":"IF(AND('Step 2 - Ornamental'!$AA$18=\"X\",AM297=\"X\"),1,0)","v":0},"X",{"$f":"IF(AND('Step 2 - Ornamental'!$AB$18=\"X\",AO297=\"X\"),1,0)","v":0},"X",{"$f":"IF(AND('Step 2 - Ornamental'!$AC$18=\"X\",AQ297=\"X\"),1,0)","v":0},null,{"$f":"IF(AND('Step 2 - Ornamental'!$AD$18=\"X\",AS297=\"X\"),1,0)","v":0},null,{"$f":"IF(AND('Step 2 - Ornamental'!$AE$18=\"X\",AU297=\"X\"),1,0)","v":0},null,{"$f":"IF(AND('Step 2 - Ornamental'!$AA$17=\"X\",AW297=\"X\"),1,0)","v":0},"X",{"$f":"IF(AND('Step 2 - Ornamental'!$AB$17=\"X\",AY297=\"X\"),1,0)","v":0},"X",{"$f":"IF(AND('Step 2 - Ornamental'!$AC$17=\"X\",BA297=\"X\"),1,0)","v":0},null,{"$f":"IF(AND('Step 2 - Ornamental'!$AA$22=\"X\",BC297=\"X\"),1,0)","v":0},null,{"$f":"IF(AND('Step 2 - Ornamental'!$AB$22=\"X\",BE297=\"X\"),1,0)","v":0},"X",{"$f":"IF(AND('Step 2 - Ornamental'!$AC$22=\"X\",BG297=\"X\"),1,0)","v":0},"X",{"$f":"IF(AND('Step 2 - Ornamental'!$AD$22=\"X\",BI297=\"X\"),1,0)","v":0},"X",null,null,null,null,null,"Tomato Red Rays w/ yellow brown cone / 2'-3'"]
[null,1,"EC VI","Echinacea purpurea 'virgin'","Virgin Coneflower","18\" O.C.","Medium height (1.5-2') with white flowers with green cone in June/Aug"," ","X",null,"X",null,null,0,null,{"$f":"IF(AND('Step 2 - Ornamental'!$AA$21=\"X\",Q298=\"X\"),1,0)","v":0},"X",{"$f":"IF(AND('Step 2 - Ornamental'!$AB$21=\"X\",S298=\"X\"),1,0)","v":0},"X",{"$f":"IF(AND('Step 2 - Ornamental'!$AC$21=\"X\",U298=\"X\"),1,0)","v":0},"X",{"$f":"IF(AND('Step 2 - Ornamental'!$AA$19=\"X\",W298=\"X\"),1,0)","v":0},null,{"$f":"IF(AND('Step 2 - Ornamental'!$AA$19=\"X\",Y298=\"X\"),1,0)","v":0},"X",{"$f":"IF(AND('Step 2 - Ornamental'!$AB$19=\"X\",AA298=\"X\"),1,0)","v":0},null,{"$f":"IF(AND('Step 2 - Ornamental'!$AC$19=\"X\",AC298=\"X\"),1,0)","v":0},null,{"$f":"IF(AND('Step 2 - Ornamental'!$AA$20=\"X\",AE298=\"X\"),1,0)","v":0},"X",{"$f":"IF(AND('Step 2 - Ornamental'!$AA$20=\"X\",AG298=\"X\"),1,0)","v":0},null,{"$f":"IF(AND('Step 2 - Ornamental'!$AB$20=\"X\",AI298=\"X\"),1,0)","v":0},null,{"$f":"IF(AND('Step 2 - Ornamental'!$AC$20=\"X\",AK298=\"X\"),1,0)","v":0},null,{"$f":"IF(AND('Step 2 - Ornamental'!$AA$18=\"X\",AM298=\"X\"),1,0)","v":0},"X",{"$f":"IF(AND('Step 2 - Ornamental'!$AB$18=\"X\",AO298=\"X\"),1,0)","v":0},"X",{"$f":"IF(AND('Step 2 - Ornamental'!$AC$18=\"X\",AQ298=\"X\"),1,0)","v":0},null,{"$f":"IF(AND('Step 2 - Ornamental'!$AD$18=\"X\",AS298=\"X\"),1,0)","v":0},null,{"$f":"IF(AND('Step 2 - Ornamental'!$AE$18=\"X\",AU298=\"X\"),1,0)","v":0},null,{"$f":"IF(AND('Step 2 - Ornamental'!$AA$17=\"X\",AW298=\"X\"),1,0)","v":0},"X",{"$f":"IF(AND('Step 2 - Ornamental'!$AB$17=\"X\",AY298=\"X\"),1,0)","v":0},"X",{"$f":"IF(AND('Step 2 - Ornamental'!$AC$17=\"X\",BA298=\"X\"),1,0)","v":0},null,{"$f":"IF(AND('Step 2 - Ornamental'!$AA$22=\"X\",BC298=\"X\"),1,0)","v":0},null,{"$f":"IF(AND('Step 2 - Ornamental'!$AB$22=\"X\",BE298=\"X\"),1,0)","v":0},"X",{"$f":"IF(AND('Step 2 - Ornamental'!$AC$22=\"X\",BG298=\"X\"),1,0)","v":0},"X",{"$f":"IF(AND('Step 2 - Ornamental'!$AD$22=\"X\",BI298=\"X\"),1,0)","v":0},"X",null,null,null,null,null,"White w/ Green cone / 1.5'-2'"]
[null,1,"EP XR","Epimedium x 'rubrum'","Red Barrenwort","12\" O.C.","Reddish flower, rhizatomous, faster spreading than other Epimediums, ","X",null,null,"X","X",null,0,null,{"$f":"IF(AND('Step 2 - Ornamental'!$AA$21=\"X\",Q299=\"X\"),1,0)","v":0},"X",{"$f":"IF(AND('Step 2 - Ornamental'!$AB$21=\"X\",S299=\"X\"),1,0)","v":0},"X",{"$f":"IF(AND('Step 2 - Ornamental'!$AC$21=\"X\",U299=\"X\"),1,0)","v":0},"X",{"$f":"IF(AND('Step 2 - Ornamental'!$AA$19=\"X\",W299=\"X\"),1,0)","v":0},null,{"$f":"IF(AND('Step 2 - Ornamental'!$AA$19=\"X\",Y299=\"X\"),1,0)","v":0},"X",{"$f":"IF(AND('Step 2 - Ornamental'!$AB$19=\"X\",AA299=\"X\"),1,0)","v":0},null,{"$f":"IF(AND('Step 2 - Ornamental'!$AC$19=\"X\",AC299=\"X\"),1,0)","v":0},null,{"$f":"IF(AND('Step 2 - Ornamental'!$AA$20=\"X\",AE299=\"X\"),1,0)","v":0},"X",{"$f":"IF(AND('Step 2 - Ornamental'!$AA$20=\"X\",AG299=\"X\"),1,0)","v":0},null,{"$f":"IF(AND('Step 2 - Ornamental'!$AB$20=\"X\",AI299=\"X\"),1,0)","v":0},null,{"$f":"IF(AND('Step 2 - Ornamental'!$AC$20=\"X\",AK299=\"X\"),1,0)","v":0},null,{"$f":"IF(AND('Step 2 - Ornamental'!$AA$18=\"X\",AM299=\"X\"),1,0)","v":0},"X",{"$f":"IF(AND('Step 2 - Ornamental'!$AB$18=\"X\",AO299=\"X\"),1,0)","v":0},"X",{"$f":"IF(AND('Step 2 - Ornamental'!$AC$18=\"X\",AQ299=\"X\"),1,0)","v":0},null,{"$f":"IF(AND('Step 2 - Ornamental'!$AD$18=\"X\",AS299=\"X\"),1,0)","v":0},null,{"$f":"IF(AND('Step 2 - Ornamental'!$AE$18=\"X\",AU299=\"X\"),1,0)","v":0},null,{"$f":"IF(AND('Step 2 - Ornamental'!$AA$17=\"X\",AW299=\"X\"),1,0)","v":0},null,{"$f":"IF(AND('Step 2 - Ornamental'!$AB$17=\"X\",AY299=\"X\"),1,0)","v":0},"X",{"$f":"IF(AND('Step 2 - Ornamental'!$AC$17=\"X\",BA299=\"X\"),1,0)","v":0},"X",{"$f":"IF(AND('Step 2 - Ornamental'!$AA$22=\"X\",BC299=\"X\"),1,0)","v":0},null,{"$f":"IF(AND('Step 2 - Ornamental'!$AB$22=\"X\",BE299=\"X\"),1,0)","v":0},"X",{"$f":"IF(AND('Step 2 - Ornamental'!$AC$22=\"X\",BG299=\"X\"),1,0)","v":0},"X",{"$f":"IF(AND('Step 2 - Ornamental'!$AD$22=\"X\",BI299=\"X\"),1,0)","v":0},"X",null,null,null,"Red w/ yellow veins / 0.5'-1'"]
[null,1,"EP XV","Epimedium x versicolor 'Sulphureum'","Bicolor Barrenwort","12\" O.C.","Yellow flower, rhizatomous","X",null,null,"X","X",null,0,null,{"$f":"IF(AND('Step 2 - Ornamental'!$AA$21=\"X\",Q300=\"X\"),1,0)","v":0},"X",{"$f":"IF(AND('Step 2 - Ornamental'!$AB$21=\"X\",S300=\"X\"),1,0)","v":0},"X",{"$f":"IF(AND('Step 2 - Ornamental'!$AC$21=\"X\",U300=\"X\"),1,0)","v":0},"X",{"$f":"IF(AND('Step 2 - Ornamental'!$AA$19=\"X\",W300=\"X\"),1,0)","v":0},null,{"$f":"IF(AND('Step 2 - Ornamental'!$AA$19=\"X\",Y300=\"X\"),1,0)","v":0},"X",{"$f":"IF(AND('Step 2 - Ornamental'!$AB$19=\"X\",AA300=\"X\"),1,0)","v":0},null,{"$f":"IF(AND('Step 2 - Ornamental'!$AC$19=\"X\",AC300=\"X\"),1,0)","v":0},null,{"$f":"IF(AND('Step 2 - Ornamental'!$AA$20=\"X\",AE300=\"X\"),1,0)","v":0},"X",{"$f":"IF(AND('Step 2 - Ornamental'!$AA$20=\"X\",AG300=\"X\"),1,0)","v":0},null,{"$f":"IF(AND('Step 2 - Ornamental'!$AB$20=\"X\",AI300=\"X\"),1,0)","v":0},null,{"$f":"IF(AND('Step 2 - Ornamental'!$AC$20=\"X\",AK300=\"X\"),1,0)","v":0},null,{"$f":"IF(AND('Step 2 - Ornamental'!$AA$18=\"X\",AM300=\"X\"),1,0)","v":0},"X",{"$f":"IF(AND('Step 2 - Ornamental'!$AB$18=\"X\",AO300=\"X\"),1,0)","v":0},"X",{"$f":"IF(AND('Step 2 - Ornamental'!$AC$18=\"X\",AQ300=\"X\"),1,0)","v":0},null,{"$f":"IF(AND('Step 2 - Ornamental'!$AD$18=\"X\",AS300=\"X\"),1,0)","v":0},null,{"$f":"IF(AND('Step 2 - Ornamental'!$AE$18=\"X\",AU300=\"X\"),1,0)","v":0},null,{"$f":"IF(AND('Step 2 - Ornamental'!$AA$17=\"X\",AW300=\"X\"),1,0)","v":0},null,{"$f":"IF(AND('Step 2 - Ornamental'!$AB$17=\"X\",AY300=\"X\"),1,0)","v":0},"X",{"$f":"IF(AND('Step 2 - Ornamental'!$AC$17=\"X\",BA300=\"X\"),1,0)","v":0},"X",{"$f":"IF(AND('Step 2 - Ornamental'!$AA$22=\"X\",BC300=\"X\"),1,0)","v":0},null,{"$f":"IF(AND('Step 2 - Ornamental'!$AB$22=\"X\",BE300=\"X\"),1,0)","v":0},"X",{"$f":"IF(AND('Step 2 - Ornamental'!$AC$22=\"X\",BG300=\"X\"),1,0)","v":0},"X",{"$f":"IF(AND('Step 2 - Ornamental'!$AD$22=\"X\",BI300=\"X\"),1,0)","v":0},"X",null,null,null,"Yellow w/ white pedioles / 0.5' - 1.0'"]
[null,1,"EQ HY","Equisetum hyemale","Winter Scouring Rush ","36\" O.C.","very aggressive spreader, good for contained planters",null,"X","X",null,null,null,0,null,{"$f":"IF(AND('Step 2 - Ornamental'!$AA$21=\"X\",Q301=\"X\"),1,0)","v":0},"X",{"$f":"IF(AND('Step 2 - Ornamental'!$AB$21=\"X\",S301=\"X\"),1,0)","v":0},"X",{"$f":"IF(AND('Step 2 - Ornamental'!$AC$21=\"X\",U301=\"X\"),1,0)","v":0},null,{"$f":"IF(AND('Step 2 - Ornamental'!$AA$19=\"X\",W301=\"X\"),1,0)","v":0},"X",{"$f":"IF(AND('Step 2 - Ornamental'!$AA$19=\"X\",Y301=\"X\"),1,0)","v":0},null,{"$f":"IF(AND('Step 2 - Ornamental'!$AB$19=\"X\",AA301=\"X\"),1,0)","v":0},null,{"$f":"IF(AND('Step 2 - Ornamental'!$AC$19=\"X\",AC301=\"X\"),1,0)","v":0},null,{"$f":"IF(AND('Step 2 - Ornamental'!$AA$20=\"X\",AE301=\"X\"),1,0)","v":0},null,{"$f":"IF(AND('Step 2 - Ornamental'!$AA$20=\"X\",AG301=\"X\"),1,0)","v":0},"X",{"$f":"IF(AND('Step 2 - Ornamental'!$AB$20=\"X\",AI301=\"X\"),1,0)","v":0},"X",{"$f":"IF(AND('Step 2 - Ornamental'!$AC$20=\"X\",AK301=\"X\"),1,0)","v":0},"X",{"$f":"IF(AND('Step 2 - Ornamental'!$AA$18=\"X\",AM301=\"X\"),1,0)","v":0},null,{"$f":"IF(AND('Step 2 - Ornamental'!$AB$18=\"X\",AO301=\"X\"),1,0)","v":0},"X",{"$f":"IF(AND('Step 2 - Ornamental'!$AC$18=\"X\",AQ301=\"X\"),1,0)","v":0},"X",{"$f":"IF(AND('Step 2 - Ornamental'!$AD$18=\"X\",AS301=\"X\"),1,0)","v":0},"X",{"$f":"IF(AND('Step 2 - Ornamental'!$AE$18=\"X\",AU301=\"X\"),1,0)","v":0},null,{"$f":"IF(AND('Step 2 - Ornamental'!$AA$17=\"X\",AW301=\"X\"),1,0)","v":0},"X",{"$f":"IF(AND('Step 2 - Ornamental'!$AB$17=\"X\",AY301=\"X\"),1,0)","v":0},"X",{"$f":"IF(AND('Step 2 - Ornamental'!$AC$17=\"X\",BA301=\"X\"),1,0)","v":0},"X",{"$f":"IF(AND('Step 2 - Ornamental'!$AA$22=\"X\",BC301=\"X\"),1,0)","v":0},null,{"$f":"IF(AND('Step 2 - Ornamental'!$AB$22=\"X\",BE301=\"X\"),1,0)","v":0},null,{"$f":"IF(AND('Step 2 - Ornamental'!$AC$22=\"X\",BG301=\"X\"),1,0)","v":0},"X",{"$f":"IF(AND('Step 2 - Ornamental'!$AD$22=\"X\",BI301=\"X\"),1,0)","v":0},"X","Does Not flower / 3.0'-6.0'"]
[null,1,"ER YU","Eryngium yuccifolium","Rattlesnake Master","30\" O.C.","Showy spiked-ball  flower heads and yucca like leaves,  likes lean soil, 4-5' tall  "," ","X","X",null,null,null,0,null,{"$f":"IF(AND('Step 2 - Ornamental'!$AA$21=\"X\",Q302=\"X\"),1,0)","v":0},null,{"$f":"IF(AND('Step 2 - Ornamental'!$AB$21=\"X\",S302=\"X\"),1,0)","v":0},"X",{"$f":"IF(AND('Step 2 - Ornamental'!$AC$21=\"X\",U302=\"X\"),1,0)","v":0},null,{"$f":"IF(AND('Step 2 - Ornamental'!$AA$19=\"X\",W302=\"X\"),1,0)","v":0},null,{"$f":"IF(AND('Step 2 - Ornamental'!$AA$19=\"X\",Y302=\"X\"),1,0)","v":0},"X",{"$f":"IF(AND('Step 2 - Ornamental'!$AB$19=\"X\",AA302=\"X\"),1,0)","v":0},"X",{"$f":"IF(AND('Step 2 - Ornamental'!$AC$19=\"X\",AC302=\"X\"),1,0)","v":0},null,{"$f":"IF(AND('Step 2 - Ornamental'!$AA$20=\"X\",AE302=\"X\"),1,0)","v":0},null,{"$f":"IF(AND('Step 2 - Ornamental'!$AA$20=\"X\",AG302=\"X\"),1,0)","v":0},"X",{"$f":"IF(AND('Step 2 - Ornamental'!$AB$20=\"X\",AI302=\"X\"),1,0)","v":0},null,{"$f":"IF(AND('Step 2 - Ornamental'!$AC$20=\"X\",AK302=\"X\"),1,0)","v":0},null,{"$f":"IF(AND('Step 2 - Ornamental'!$AA$18=\"X\",AM302=\"X\"),1,0)","v":0},"X",{"$f":"IF(AND('Step 2 - Ornamental'!$AB$18=\"X\",AO302=\"X\"),1,0)","v":0}," ",{"$f":"IF(AND('Step 2 - Ornamental'!$AC$18=\"X\",AQ302=\"X\"),1,0)","v":0},null,{"$f":"IF(AND('Step 2 - Ornamental'!$AD$18=\"X\",AS302=\"X\"),1,0)","v":0},null,{"$f":"IF(AND('Step 2 - Ornamental'!$AE$18=\"X\",AU302=\"X\"),1,0)","v":0},null,{"$f":"IF(AND('Step 2 - Ornamental'!$AA$17=\"X\",AW302=\"X\"),1,0)","v":0},"X",{"$f":"IF(AND('Step 2 - Ornamental'!$AB$17=\"X\",AY302=\"X\"),1,0)","v":0},null,{"$f":"IF(AND('Step 2 - Ornamental'!$AC$17=\"X\",BA302=\"X\"),1,0)","v":0},null,{"$f":"IF(AND('Step 2 - Ornamental'!$AA$22=\"X\",BC302=\"X\"),1,0)","v":0},null,{"$f":"IF(AND('Step 2 - Ornamental'!$AB$22=\"X\",BE302=\"X\"),1,0)","v":0},null,{"$f":"IF(AND('Step 2 - Ornamental'!$AC$22=\"X\",BG302=\"X\"),1,0)","v":0},"X",{"$f":"IF(AND('Step 2 - Ornamental'!$AD$22=\"X\",BI302=\"X\"),1,0)","v":0},"X",null,null,null,null,"White / 4.0' - 6.0'"]
[null,1,"ER PL","Eryngium planum 'Blue Glitter'","Sea Holly","18\" O.C.","Showy glittering steel blue flower heads throughout summer, likes lean soil","X",null,null,null,null,null,0,null,{"$f":"IF(AND('Step 2 - Ornamental'!$AA$21=\"X\",Q303=\"X\"),1,0)","v":0},"X",{"$f":"IF(AND('Step 2 - Ornamental'!$AB$21=\"X\",S303=\"X\"),1,0)","v":0},"X",{"$f":"IF(AND('Step 2 - Ornamental'!$AC$21=\"X\",U303=\"X\"),1,0)","v":0},"X",{"$f":"IF(AND('Step 2 - Ornamental'!$AA$19=\"X\",W303=\"X\"),1,0)","v":0},"X",{"$f":"IF(AND('Step 2 - Ornamental'!$AA$19=\"X\",Y303=\"X\"),1,0)","v":0},null,{"$f":"IF(AND('Step 2 - Ornamental'!$AB$19=\"X\",AA303=\"X\"),1,0)","v":0},null,{"$f":"IF(AND('Step 2 - Ornamental'!$AC$19=\"X\",AC303=\"X\"),1,0)","v":0},null,{"$f":"IF(AND('Step 2 - Ornamental'!$AA$20=\"X\",AE303=\"X\"),1,0)","v":0},"X",{"$f":"IF(AND('Step 2 - Ornamental'!$AA$20=\"X\",AG303=\"X\"),1,0)","v":0},null,{"$f":"IF(AND('Step 2 - Ornamental'!$AB$20=\"X\",AI303=\"X\"),1,0)","v":0},null,{"$f":"IF(AND('Step 2 - Ornamental'!$AC$20=\"X\",AK303=\"X\"),1,0)","v":0},null,{"$f":"IF(AND('Step 2 - Ornamental'!$AA$18=\"X\",AM303=\"X\"),1,0)","v":0},"X",{"$f":"IF(AND('Step 2 - Ornamental'!$AB$18=\"X\",AO303=\"X\"),1,0)","v":0},null,{"$f":"IF(AND('Step 2 - Ornamental'!$AC$18=\"X\",AQ303=\"X\"),1,0)","v":0},null,{"$f":"IF(AND('Step 2 - Ornamental'!$AD$18=\"X\",AS303=\"X\"),1,0)","v":0},null,{"$f":"IF(AND('Step 2 - Ornamental'!$AE$18=\"X\",AU303=\"X\"),1,0)","v":0},null,{"$f":"IF(AND('Step 2 - Ornamental'!$AA$17=\"X\",AW303=\"X\"),1,0)","v":0},"X",{"$f":"IF(AND('Step 2 - Ornamental'!$AB$17=\"X\",AY303=\"X\"),1,0)","v":0},null,{"$f":"IF(AND('Step 2 - Ornamental'!$AC$17=\"X\",BA303=\"X\"),1,0)","v":0},null,{"$f":"IF(AND('Step 2 - Ornamental'!$AA$22=\"X\",BC303=\"X\"),1,0)","v":0},null,{"$f":"IF(AND('Step 2 - Ornamental'!$AB$22=\"X\",BE303=\"X\"),1,0)","v":0},null,{"$f":"IF(AND('Step 2 - Ornamental'!$AC$22=\"X\",BG303=\"X\"),1,0)","v":0},"X",{"$f":"IF(AND('Step 2 - Ornamental'!$AD$22=\"X\",BI303=\"X\"),1,0)","v":0},"X",null,null,null,null,null,"\"steel blue\" /  2.0' - 3.0'"]
[null,1,"EU DU","Eutrochium dubium 'Little Joe' (Eupatorium dubium)","Little Joe Joe Pye Weed","30\" O.C.","Dwarf variety (2-3'), mauve-purple flowers to 4' in Jul-Sept","X",null,null,"X",null,null,1,"X",{"$f":"IF(AND('Step 2 - Ornamental'!$AA$21=\"X\",Q304=\"X\"),1,0)","v":0},null,{"$f":"IF(AND('Step 2 - Ornamental'!$AB$21=\"X\",S304=\"X\"),1,0)","v":0},null,{"$f":"IF(AND('Step 2 - Ornamental'!$AC$21=\"X\",U304=\"X\"),1,0)","v":0},null,{"$f":"IF(AND('Step 2 - Ornamental'!$AA$19=\"X\",W304=\"X\"),1,0)","v":0},null,{"$f":"IF(AND('Step 2 - Ornamental'!$AA$19=\"X\",Y304=\"X\"),1,0)","v":0},"X",{"$f":"IF(AND('Step 2 - Ornamental'!$AB$19=\"X\",AA304=\"X\"),1,0)","v":0},null,{"$f":"IF(AND('Step 2 - Ornamental'!$AC$19=\"X\",AC304=\"X\"),1,0)","v":0},null,{"$f":"IF(AND('Step 2 - Ornamental'!$AA$20=\"X\",AE304=\"X\"),1,0)","v":0},"X",{"$f":"IF(AND('Step 2 - Ornamental'!$AA$20=\"X\",AG304=\"X\"),1,0)","v":0},null,{"$f":"IF(AND('Step 2 - Ornamental'!$AB$20=\"X\",AI304=\"X\"),1,0)","v":0},null,{"$f":"IF(AND('Step 2 - Ornamental'!$AC$20=\"X\",AK304=\"X\"),1,0)","v":0},null,{"$f":"IF(AND('Step 2 - Ornamental'!$AA$18=\"X\",AM304=\"X\"),1,0)","v":0},null,{"$f":"IF(AND('Step 2 - Ornamental'!$AB$18=\"X\",AO304=\"X\"),1,0)","v":0},"X",{"$f":"IF(AND('Step 2 - Ornamental'!$AC$18=\"X\",AQ304=\"X\"),1,0)","v":0},"X",{"$f":"IF(AND('Step 2 - Ornamental'!$AD$18=\"X\",AS304=\"X\"),1,0)","v":0},null,{"$f":"IF(AND('Step 2 - Ornamental'!$AE$18=\"X\",AU304=\"X\"),1,0)","v":0},null,{"$f":"IF(AND('Step 2 - Ornamental'!$AA$17=\"X\",AW304=\"X\"),1,0)","v":0},"X",{"$f":"IF(AND('Step 2 - Ornamental'!$AB$17=\"X\",AY304=\"X\"),1,0)","v":0},"X",{"$f":"IF(AND('Step 2 - Ornamental'!$AC$17=\"X\",BA304=\"X\"),1,0)","v":0},null,{"$f":"IF(AND('Step 2 - Ornamental'!$AA$22=\"X\",BC304=\"X\"),1,0)","v":0},null,{"$f":"IF(AND('Step 2 - Ornamental'!$AB$22=\"X\",BE304=\"X\"),1,0)","v":0},null,{"$f":"IF(AND('Step 2 - Ornamental'!$AC$22=\"X\",BG304=\"X\"),1,0)","v":0},"X",{"$f":"IF(AND('Step 2 - Ornamental'!$AD$22=\"X\",BI304=\"X\"),1,0)","v":0},"X",null,null,null,null,null,null,"Mauve / Pink / 4.0'-5.0'"]
[null,1,"EU IT","Eutrochium fistulosum f. albidum 'Ivory Towers' (Eupatorium fistulosum)","Hollow Joe-Pye Weed","36\" O.C.","Very tall (4'-7'), ivory white flowers in Jul-Sept",null,"X",null,"X",null,null,0,null,{"$f":"IF(AND('Step 2 - Ornamental'!$AA$21=\"X\",Q305=\"X\"),1,0)","v":0},"X",{"$f":"IF(AND('Step 2 - Ornamental'!$AB$21=\"X\",S305=\"X\"),1,0)","v":0},"X",{"$f":"IF(AND('Step 2 - Ornamental'!$AC$21=\"X\",U305=\"X\"),1,0)","v":0},"X",{"$f":"IF(AND('Step 2 - Ornamental'!$AA$19=\"X\",W305=\"X\"),1,0)","v":0},null,{"$f":"IF(AND('Step 2 - Ornamental'!$AA$19=\"X\",Y305=\"X\"),1,0)","v":0},"X",{"$f":"IF(AND('Step 2 - Ornamental'!$AB$19=\"X\",AA305=\"X\"),1,0)","v":0},null,{"$f":"IF(AND('Step 2 - Ornamental'!$AC$19=\"X\",AC305=\"X\"),1,0)","v":0},null,{"$f":"IF(AND('Step 2 - Ornamental'!$AA$20=\"X\",AE305=\"X\"),1,0)","v":0},null,{"$f":"IF(AND('Step 2 - Ornamental'!$AA$20=\"X\",AG305=\"X\"),1,0)","v":0},"X",{"$f":"IF(AND('Step 2 - Ornamental'!$AB$20=\"X\",AI305=\"X\"),1,0)","v":0},"X",{"$f":"IF(AND('Step 2 - Ornamental'!$AC$20=\"X\",AK305=\"X\"),1,0)","v":0},null,{"$f":"IF(AND('Step 2 - Ornamental'!$AA$18=\"X\",AM305=\"X\"),1,0)","v":0},null,{"$f":"IF(AND('Step 2 - Ornamental'!$AB$18=\"X\",AO305=\"X\"),1,0)","v":0},"X",{"$f":"IF(AND('Step 2 - Ornamental'!$AC$18=\"X\",AQ305=\"X\"),1,0)","v":0},"X",{"$f":"IF(AND('Step 2 - Ornamental'!$AD$18=\"X\",AS305=\"X\"),1,0)","v":0},null,{"$f":"IF(AND('Step 2 - Ornamental'!$AE$18=\"X\",AU305=\"X\"),1,0)","v":0},null,{"$f":"IF(AND('Step 2 - Ornamental'!$AA$17=\"X\",AW305=\"X\"),1,0)","v":0},"X",{"$f":"IF(AND('Step 2 - Ornamental'!$AB$17=\"X\",AY305=\"X\"),1,0)","v":0},"X",{"$f":"IF(AND('Step 2 - Ornamental'!$AC$17=\"X\",BA305=\"X\"),1,0)","v":0},null,{"$f":"IF(AND('Step 2 - Ornamental'!$AA$22=\"X\",BC305=\"X\"),1,0)","v":0},null,{"$f":"IF(AND('Step 2 - Ornamental'!$AB$22=\"X\",BE305=\"X\"),1,0)","v":0},null,{"$f":"IF(AND('Step 2 - Ornamental'!$AC$22=\"X\",BG305=\"X\"),1,0)","v":0},"X",{"$f":"IF(AND('Step 2 - Ornamental'!$AD$22=\"X\",BI305=\"X\"),1,0)","v":0},"X",null,null,null,null,null,null,"Dusky Rose / 4.0'-7.0'"]
[null,1,"EU MA","Eutrochium maculatum 'Gateway' (Eupatorium purpureum)","Gateway Joe-Pye","36\" O.C.","shorter variety (4-5') and bushier, mauve-pink flowers to 5' in Jul-Sept"," ","X","X","X",null,null,0,null,{"$f":"IF(AND('Step 2 - Ornamental'!$AA$21=\"X\",Q306=\"X\"),1,0)","v":0},"X",{"$f":"IF(AND('Step 2 - Ornamental'!$AB$21=\"X\",S306=\"X\"),1,0)","v":0},"X",{"$f":"IF(AND('Step 2 - Ornamental'!$AC$21=\"X\",U306=\"X\"),1,0)","v":0},"X",{"$f":"IF(AND('Step 2 - Ornamental'!$AA$19=\"X\",W306=\"X\"),1,0)","v":0},null,{"$f":"IF(AND('Step 2 - Ornamental'!$AA$19=\"X\",Y306=\"X\"),1,0)","v":0},"X",{"$f":"IF(AND('Step 2 - Ornamental'!$AB$19=\"X\",AA306=\"X\"),1,0)","v":0},null,{"$f":"IF(AND('Step 2 - Ornamental'!$AC$19=\"X\",AC306=\"X\"),1,0)","v":0},null,{"$f":"IF(AND('Step 2 - Ornamental'!$AA$20=\"X\",AE306=\"X\"),1,0)","v":0},null,{"$f":"IF(AND('Step 2 - Ornamental'!$AA$20=\"X\",AG306=\"X\"),1,0)","v":0},"X",{"$f":"IF(AND('Step 2 - Ornamental'!$AB$20=\"X\",AI306=\"X\"),1,0)","v":0},"X",{"$f":"IF(AND('Step 2 - Ornamental'!$AC$20=\"X\",AK306=\"X\"),1,0)","v":0},null,{"$f":"IF(AND('Step 2 - Ornamental'!$AA$18=\"X\",AM306=\"X\"),1,0)","v":0},null,{"$f":"IF(AND('Step 2 - Ornamental'!$AB$18=\"X\",AO306=\"X\"),1,0)","v":0},"X",{"$f":"IF(AND('Step 2 - Ornamental'!$AC$18=\"X\",AQ306=\"X\"),1,0)","v":0},"X",{"$f":"IF(AND('Step 2 - Ornamental'!$AD$18=\"X\",AS306=\"X\"),1,0)","v":0},null,{"$f":"IF(AND('Step 2 - Ornamental'!$AE$18=\"X\",AU306=\"X\"),1,0)","v":0},null,{"$f":"IF(AND('Step 2 - Ornamental'!$AA$17=\"X\",AW306=\"X\"),1,0)","v":0},"X",{"$f":"IF(AND('Step 2 - Ornamental'!$AB$17=\"X\",AY306=\"X\"),1,0)","v":0},"X",{"$f":"IF(AND('Step 2 - Ornamental'!$AC$17=\"X\",BA306=\"X\"),1,0)","v":0},null,{"$f":"IF(AND('Step 2 - Ornamental'!$AA$22=\"X\",BC306=\"X\"),1,0)","v":0},null,{"$f":"IF(AND('Step 2 - Ornamental'!$AB$22=\"X\",BE306=\"X\"),1,0)","v":0},null,{"$f":"IF(AND('Step 2 - Ornamental'!$AC$22=\"X\",BG306=\"X\"),1,0)","v":0},"X",{"$f":"IF(AND('Step 2 - Ornamental'!$AD$22=\"X\",BI306=\"X\"),1,0)","v":0},"X",null,null,null,null,null,null,"Mauve / Pink / 4.0'-5.0'"]
[null,1,"EU BJ","Eutrochium x 'Baby Joe' (Eupatorium x)","Baby Joe-Pye","24\" O.C.","Dwarf variety (2-3'), grayed purple flowers to 4' in Jul-Sept","X",null,null,"X",null,null,1,"X",{"$f":"IF(AND('Step 2 - Ornamental'!$AA$21=\"X\",Q307=\"X\"),1,0)","v":0},null,{"$f":"IF(AND('Step 2 - Ornamental'!$AB$21=\"X\",S307=\"X\"),1,0)","v":0},null,{"$f":"IF(AND('Step 2 - Ornamental'!$AC$21=\"X\",U307=\"X\"),1,0)","v":0},null,{"$f":"IF(AND('Step 2 - Ornamental'!$AA$19=\"X\",W307=\"X\"),1,0)","v":0},null,{"$f":"IF(AND('Step 2 - Ornamental'!$AA$19=\"X\",Y307=\"X\"),1,0)","v":0},"X",{"$f":"IF(AND('Step 2 - Ornamental'!$AB$19=\"X\",AA307=\"X\"),1,0)","v":0},null,{"$f":"IF(AND('Step 2 - Ornamental'!$AC$19=\"X\",AC307=\"X\"),1,0)","v":0},null,{"$f":"IF(AND('Step 2 - Ornamental'!$AA$20=\"X\",AE307=\"X\"),1,0)","v":0},"X",{"$f":"IF(AND('Step 2 - Ornamental'!$AA$20=\"X\",AG307=\"X\"),1,0)","v":0},null,{"$f":"IF(AND('Step 2 - Ornamental'!$AB$20=\"X\",AI307=\"X\"),1,0)","v":0},null,{"$f":"IF(AND('Step 2 - Ornamental'!$AC$20=\"X\",AK307=\"X\"),1,0)","v":0},null,{"$f":"IF(AND('Step 2 - Ornamental'!$AA$18=\"X\",AM307=\"X\"),1,0)","v":0},null,{"$f":"IF(AND('Step 2 - Ornamental'!$AB$18=\"X\",AO307=\"X\"),1,0)","v":0},"X",{"$f":"IF(AND('Step 2 - Ornamental'!$AC$18=\"X\",AQ307=\"X\"),1,0)","v":0},"X",{"$f":"IF(AND('Step 2 - Ornamental'!$AD$18=\"X\",AS307=\"X\"),1,0)","v":0},null,{"$f":"IF(AND('Step 2 - Ornamental'!$AE$18=\"X\",AU307=\"X\"),1,0)","v":0},null,{"$f":"IF(AND('Step 2 - Ornamental'!$AA$17=\"X\",AW307=\"X\"),1,0)","v":0},"X",{"$f":"IF(AND('Step 2 - Ornamental'!$AB$17=\"X\",AY307=\"X\"),1,0)","v":0},"X",{"$f":"IF(AND('Step 2 - Ornamental'!$AC$17=\"X\",BA307=\"X\"),1,0)","v":0},null,{"$f":"IF(AND('Step 2 - Ornamental'!$AA$22=\"X\",BC307=\"X\"),1,0)","v":0},null,{"$f":"IF(AND('Step 2 - Ornamental'!$AB$22=\"X\",BE307=\"X\"),1,0)","v":0},null,{"$f":"IF(AND('Step 2 - Ornamental'!$AC$22=\"X\",BG307=\"X\"),1,0)","v":0},"X",{"$f":"IF(AND('Step 2 - Ornamental'!$AD$22=\"X\",BI307=\"X\"),1,0)","v":0},"X",null,null,null,null,null,null,"Purple / 2.0'-3.0'"]
[null,1,"EU MY","Euphorbia myrsinites","Myrtle Spurge","10\" O.C.","Drought tolerant evergreen, self seeds, ","X",null,null,"X","X",null,0,null,{"$f":"IF(AND('Step 2 - Ornamental'!$AA$21=\"X\",Q308=\"X\"),1,0)","v":0},"X",{"$f":"IF(AND('Step 2 - Ornamental'!$AB$21=\"X\",S308=\"X\"),1,0)","v":0},"X",{"$f":"IF(AND('Step 2 - Ornamental'!$AC$21=\"X\",U308=\"X\"),1,0)","v":0},"X",{"$f":"IF(AND('Step 2 - Ornamental'!$AA$19=\"X\",W308=\"X\"),1,0)","v":0},null,{"$f":"IF(AND('Step 2 - Ornamental'!$AA$19=\"X\",Y308=\"X\"),1,0)","v":0},"X",{"$f":"IF(AND('Step 2 - Ornamental'!$AB$19=\"X\",AA308=\"X\"),1,0)","v":0},null,{"$f":"IF(AND('Step 2 - Ornamental'!$AC$19=\"X\",AC308=\"X\"),1,0)","v":0},null,{"$f":"IF(AND('Step 2 - Ornamental'!$AA$20=\"X\",AE308=\"X\"),1,0)","v":0},"X",{"$f":"IF(AND('Step 2 - Ornamental'!$AA$20=\"X\",AG308=\"X\"),1,0)","v":0},null,{"$f":"IF(AND('Step 2 - Ornamental'!$AB$20=\"X\",AI308=\"X\"),1,0)","v":0},null,{"$f":"IF(AND('Step 2 - Ornamental'!$AC$20=\"X\",AK308=\"X\"),1,0)","v":0},null,{"$f":"IF(AND('Step 2 - Ornamental'!$AA$18=\"X\",AM308=\"X\"),1,0)","v":0},"X",{"$f":"IF(AND('Step 2 - Ornamental'!$AB$18=\"X\",AO308=\"X\"),1,0)","v":0},null,{"$f":"IF(AND('Step 2 - Ornamental'!$AC$18=\"X\",AQ308=\"X\"),1,0)","v":0},null,{"$f":"IF(AND('Step 2 - Ornamental'!$AD$18=\"X\",AS308=\"X\"),1,0)","v":0},null,{"$f":"IF(AND('Step 2 - Ornamental'!$AE$18=\"X\",AU308=\"X\"),1,0)","v":0},null,{"$f":"IF(AND('Step 2 - Ornamental'!$AA$17=\"X\",AW308=\"X\"),1,0)","v":0},"X",{"$f":"IF(AND('Step 2 - Ornamental'!$AB$17=\"X\",AY308=\"X\"),1,0)","v":0},null,{"$f":"IF(AND('Step 2 - Ornamental'!$AC$17=\"X\",BA308=\"X\"),1,0)","v":0},null,{"$f":"IF(AND('Step 2 - Ornamental'!$AA$22=\"X\",BC308=\"X\"),1,0)","v":0},"X",{"$f":"IF(AND('Step 2 - Ornamental'!$AB$22=\"X\",BE308=\"X\"),1,0)","v":0},"X",{"$f":"IF(AND('Step 2 - Ornamental'!$AC$22=\"X\",BG308=\"X\"),1,0)","v":0},"X",{"$f":"IF(AND('Step 2 - Ornamental'!$AD$22=\"X\",BI308=\"X\"),1,0)","v":0},"X",null,null,null,null,"Sulphur Yellow / 10\""]
[null,1,"EB PO","Euphorbia polychroma 'Bonfire'","Bonfire Cushion Spurge","18\" O.C.","pair w/ blue spring bulbs","X",null,null,"X","X",null,0,null,{"$f":"IF(AND('Step 2 - Ornamental'!$AA$21=\"X\",Q309=\"X\"),1,0)","v":0},"X",{"$f":"IF(AND('Step 2 - Ornamental'!$AB$21=\"X\",S309=\"X\"),1,0)","v":0},"X",{"$f":"IF(AND('Step 2 - Ornamental'!$AC$21=\"X\",U309=\"X\"),1,0)","v":0},"X",{"$f":"IF(AND('Step 2 - Ornamental'!$AA$19=\"X\",W309=\"X\"),1,0)","v":0},null,{"$f":"IF(AND('Step 2 - Ornamental'!$AA$19=\"X\",Y309=\"X\"),1,0)","v":0},"X",{"$f":"IF(AND('Step 2 - Ornamental'!$AB$19=\"X\",AA309=\"X\"),1,0)","v":0},null,{"$f":"IF(AND('Step 2 - Ornamental'!$AC$19=\"X\",AC309=\"X\"),1,0)","v":0},null,{"$f":"IF(AND('Step 2 - Ornamental'!$AA$20=\"X\",AE309=\"X\"),1,0)","v":0},"X",{"$f":"IF(AND('Step 2 - Ornamental'!$AA$20=\"X\",AG309=\"X\"),1,0)","v":0},null,{"$f":"IF(AND('Step 2 - Ornamental'!$AB$20=\"X\",AI309=\"X\"),1,0)","v":0},null,{"$f":"IF(AND('Step 2 - Ornamental'!$AC$20=\"X\",AK309=\"X\"),1,0)","v":0},null,{"$f":"IF(AND('Step 2 - Ornamental'!$AA$18=\"X\",AM309=\"X\"),1,0)","v":0},null,{"$f":"IF(AND('Step 2 - Ornamental'!$AB$18=\"X\",AO309=\"X\"),1,0)","v":0},"X",{"$f":"IF(AND('Step 2 - Ornamental'!$AC$18=\"X\",AQ309=\"X\"),1,0)","v":0},null,{"$f":"IF(AND('Step 2 - Ornamental'!$AD$18=\"X\",AS309=\"X\"),1,0)","v":0},null,{"$f":"IF(AND('Step 2 - Ornamental'!$AE$18=\"X\",AU309=\"X\"),1,0)","v":0},null,{"$f":"IF(AND('Step 2 - Ornamental'!$AA$17=\"X\",AW309=\"X\"),1,0)","v":0},"X",{"$f":"IF(AND('Step 2 - Ornamental'!$AB$17=\"X\",AY309=\"X\"),1,0)","v":0},null,{"$f":"IF(AND('Step 2 - Ornamental'!$AC$17=\"X\",BA309=\"X\"),1,0)","v":0},null,{"$f":"IF(AND('Step 2 - Ornamental'!$AA$22=\"X\",BC309=\"X\"),1,0)","v":0},null,{"$f":"IF(AND('Step 2 - Ornamental'!$AB$22=\"X\",BE309=\"X\"),1,0)","v":0},"X",{"$f":"IF(AND('Step 2 - Ornamental'!$AC$22=\"X\",BG309=\"X\"),1,0)","v":0},"X",{"$f":"IF(AND('Step 2 - Ornamental'!$AD$22=\"X\",BI309=\"X\"),1,0)","v":0},"X",null,null,null,"Chartreuse / 1.5'-2.0'"]
[null,1,"FI RU","Filipendula rubra","Queen of the Prairie","36\" O.C.","Cotton candy pink blooms to 6' to 8', use in back on border in moist soils, threatened in IL - confirm seed source"," ","X",null,"X",null,null,0,null,{"$f":"IF(AND('Step 2 - Ornamental'!$AA$21=\"X\",Q310=\"X\"),1,0)","v":0},"X",{"$f":"IF(AND('Step 2 - Ornamental'!$AB$21=\"X\",S310=\"X\"),1,0)","v":0},null,{"$f":"IF(AND('Step 2 - Ornamental'!$AC$21=\"X\",U310=\"X\"),1,0)","v":0},null,{"$f":"IF(AND('Step 2 - Ornamental'!$AA$19=\"X\",W310=\"X\"),1,0)","v":0},"X",{"$f":"IF(AND('Step 2 - Ornamental'!$AA$19=\"X\",Y310=\"X\"),1,0)","v":0},null,{"$f":"IF(AND('Step 2 - Ornamental'!$AB$19=\"X\",AA310=\"X\"),1,0)","v":0},null,{"$f":"IF(AND('Step 2 - Ornamental'!$AC$19=\"X\",AC310=\"X\"),1,0)","v":0},null,{"$f":"IF(AND('Step 2 - Ornamental'!$AA$20=\"X\",AE310=\"X\"),1,0)","v":0},null,{"$f":"IF(AND('Step 2 - Ornamental'!$AA$20=\"X\",AG310=\"X\"),1,0)","v":0},"X",{"$f":"IF(AND('Step 2 - Ornamental'!$AB$20=\"X\",AI310=\"X\"),1,0)","v":0},"X",{"$f":"IF(AND('Step 2 - Ornamental'!$AC$20=\"X\",AK310=\"X\"),1,0)","v":0},null,{"$f":"IF(AND('Step 2 - Ornamental'!$AA$18=\"X\",AM310=\"X\"),1,0)","v":0},null,{"$f":"IF(AND('Step 2 - Ornamental'!$AB$18=\"X\",AO310=\"X\"),1,0)","v":0},"X",{"$f":"IF(AND('Step 2 - Ornamental'!$AC$18=\"X\",AQ310=\"X\"),1,0)","v":0},"X",{"$f":"IF(AND('Step 2 - Ornamental'!$AD$18=\"X\",AS310=\"X\"),1,0)","v":0},null,{"$f":"IF(AND('Step 2 - Ornamental'!$AE$18=\"X\",AU310=\"X\"),1,0)","v":0},null,{"$f":"IF(AND('Step 2 - Ornamental'!$AA$17=\"X\",AW310=\"X\"),1,0)","v":0},"X",{"$f":"IF(AND('Step 2 - Ornamental'!$AB$17=\"X\",AY310=\"X\"),1,0)","v":0},"X",{"$f":"IF(AND('Step 2 - Ornamental'!$AC$17=\"X\",BA310=\"X\"),1,0)","v":0},null,{"$f":"IF(AND('Step 2 - Ornamental'!$AA$22=\"X\",BC310=\"X\"),1,0)","v":0},null,{"$f":"IF(AND('Step 2 - Ornamental'!$AB$22=\"X\",BE310=\"X\"),1,0)","v":0},null,{"$f":"IF(AND('Step 2 - Ornamental'!$AC$22=\"X\",BG310=\"X\"),1,0)","v":0},null,{"$f":"IF(AND('Step 2 - Ornamental'!$AD$22=\"X\",BI310=\"X\"),1,0)","v":0},"X",null,null,null,null,null,"Cotton Candy / 6'-8'"]
[null,1,"FR LP","Fragaria 'Lipstick'","Ornamental Strawberry","18\" O.C.","flowers April-October, spreads by rhizomes, but seed is infertile","X",null,null,"X",null,null,0,null,{"$f":"IF(AND('Step 2 - Ornamental'!$AA$21=\"X\",Q311=\"X\"),1,0)","v":0},"X",{"$f":"IF(AND('Step 2 - Ornamental'!$AB$21=\"X\",S311=\"X\"),1,0)","v":0},null,{"$f":"IF(AND('Step 2 - Ornamental'!$AC$21=\"X\",U311=\"X\"),1,0)","v":0},null,{"$f":"IF(AND('Step 2 - Ornamental'!$AA$19=\"X\",W311=\"X\"),1,0)","v":0},null,{"$f":"IF(AND('Step 2 - Ornamental'!$AA$19=\"X\",Y311=\"X\"),1,0)","v":0},"X",{"$f":"IF(AND('Step 2 - Ornamental'!$AB$19=\"X\",AA311=\"X\"),1,0)","v":0},null,{"$f":"IF(AND('Step 2 - Ornamental'!$AC$19=\"X\",AC311=\"X\"),1,0)","v":0},null,{"$f":"IF(AND('Step 2 - Ornamental'!$AA$20=\"X\",AE311=\"X\"),1,0)","v":0},"X",{"$f":"IF(AND('Step 2 - Ornamental'!$AA$20=\"X\",AG311=\"X\"),1,0)","v":0},null,{"$f":"IF(AND('Step 2 - Ornamental'!$AB$20=\"X\",AI311=\"X\"),1,0)","v":0},null,{"$f":"IF(AND('Step 2 - Ornamental'!$AC$20=\"X\",AK311=\"X\"),1,0)","v":0},null,{"$f":"IF(AND('Step 2 - Ornamental'!$AA$18=\"X\",AM311=\"X\"),1,0)","v":0},null,{"$f":"IF(AND('Step 2 - Ornamental'!$AB$18=\"X\",AO311=\"X\"),1,0)","v":0},"X",{"$f":"IF(AND('Step 2 - Ornamental'!$AC$18=\"X\",AQ311=\"X\"),1,0)","v":0},null,{"$f":"IF(AND('Step 2 - Ornamental'!$AD$18=\"X\",AS311=\"X\"),1,0)","v":0},null,{"$f":"IF(AND('Step 2 - Ornamental'!$AE$18=\"X\",AU311=\"X\"),1,0)","v":0},null,{"$f":"IF(AND('Step 2 - Ornamental'!$AA$17=\"X\",AW311=\"X\"),1,0)","v":0},"X",{"$f":"IF(AND('Step 2 - Ornamental'!$AB$17=\"X\",AY311=\"X\"),1,0)","v":0},"X",{"$f":"IF(AND('Step 2 - Ornamental'!$AC$17=\"X\",BA311=\"X\"),1,0)","v":0},null,{"$f":"IF(AND('Step 2 - Ornamental'!$AA$22=\"X\",BC311=\"X\"),1,0)","v":0},null,{"$f":"IF(AND('Step 2 - Ornamental'!$AB$22=\"X\",BE311=\"X\"),1,0)","v":0},"X",{"$f":"IF(AND('Step 2 - Ornamental'!$AC$22=\"X\",BG311=\"X\"),1,0)","v":0},"X",{"$f":"IF(AND('Step 2 - Ornamental'!$AD$22=\"X\",BI311=\"X\"),1,0)","v":0},"X",null,null,null,"Deep Rose Red w/ yellow Centers / 0.5'-2.0'"]
[null,1,"GA BO","Galium boreale","Northern Bedstraw","12\" O.C.","white flowers in June-July",null,"X","X",null,null,null,1,"X",{"$f":"IF(AND('Step 2 - Ornamental'!$AA$21=\"X\",Q312=\"X\"),1,0)","v":0},null,{"$f":"IF(AND('Step 2 - Ornamental'!$AB$21=\"X\",S312=\"X\"),1,0)","v":0},null,{"$f":"IF(AND('Step 2 - Ornamental'!$AC$21=\"X\",U312=\"X\"),1,0)","v":0},null,{"$f":"IF(AND('Step 2 - Ornamental'!$AA$19=\"X\",W312=\"X\"),1,0)","v":0},"X",{"$f":"IF(AND('Step 2 - Ornamental'!$AA$19=\"X\",Y312=\"X\"),1,0)","v":0},null,{"$f":"IF(AND('Step 2 - Ornamental'!$AB$19=\"X\",AA312=\"X\"),1,0)","v":0},null,{"$f":"IF(AND('Step 2 - Ornamental'!$AC$19=\"X\",AC312=\"X\"),1,0)","v":0},null,{"$f":"IF(AND('Step 2 - Ornamental'!$AA$20=\"X\",AE312=\"X\"),1,0)","v":0},null,{"$f":"IF(AND('Step 2 - Ornamental'!$AA$20=\"X\",AG312=\"X\"),1,0)","v":0},"X",{"$f":"IF(AND('Step 2 - Ornamental'!$AB$20=\"X\",AI312=\"X\"),1,0)","v":0},null,{"$f":"IF(AND('Step 2 - Ornamental'!$AC$20=\"X\",AK312=\"X\"),1,0)","v":0},null,{"$f":"IF(AND('Step 2 - Ornamental'!$AA$18=\"X\",AM312=\"X\"),1,0)","v":0},null,{"$f":"IF(AND('Step 2 - Ornamental'!$AB$18=\"X\",AO312=\"X\"),1,0)","v":0},"X",{"$f":"IF(AND('Step 2 - Ornamental'!$AC$18=\"X\",AQ312=\"X\"),1,0)","v":0},"X",{"$f":"IF(AND('Step 2 - Ornamental'!$AD$18=\"X\",AS312=\"X\"),1,0)","v":0},null,{"$f":"IF(AND('Step 2 - Ornamental'!$AE$18=\"X\",AU312=\"X\"),1,0)","v":0},null,{"$f":"IF(AND('Step 2 - Ornamental'!$AA$17=\"X\",AW312=\"X\"),1,0)","v":0},null,{"$f":"IF(AND('Step 2 - Ornamental'!$AB$17=\"X\",AY312=\"X\"),1,0)","v":0},"X",{"$f":"IF(AND('Step 2 - Ornamental'!$AC$17=\"X\",BA312=\"X\"),1,0)","v":0}," ",{"$f":"IF(AND('Step 2 - Ornamental'!$AA$22=\"X\",BC312=\"X\"),1,0)","v":0},null,{"$f":"IF(AND('Step 2 - Ornamental'!$AB$22=\"X\",BE312=\"X\"),1,0)","v":0},null,{"$f":"IF(AND('Step 2 - Ornamental'!$AC$22=\"X\",BG312=\"X\"),1,0)","v":0},"X",{"$f":"IF(AND('Step 2 - Ornamental'!$AD$22=\"X\",BI312=\"X\"),1,0)","v":0},"X",null,null,null,null,null,"White / 1.0' - 3.0'"]
[null,1,"GA OD","Galium odoratum","Sweet Woodruff","12\" O.C.","low groundcover perennial for medium to wet soils in part to full shade, spreading","X",null,null,null,null,null,0,null,{"$f":"IF(AND('Step 2 - Ornamental'!$AA$21=\"X\",Q313=\"X\"),1,0)","v":0},"X",{"$f":"IF(AND('Step 2 - Ornamental'!$AB$21=\"X\",S313=\"X\"),1,0)","v":0},"X",{"$f":"IF(AND('Step 2 - Ornamental'!$AC$21=\"X\",U313=\"X\"),1,0)","v":0},null,{"$f":"IF(AND('Step 2 - Ornamental'!$AA$19=\"X\",W313=\"X\"),1,0)","v":0},null,{"$f":"IF(AND('Step 2 - Ornamental'!$AA$19=\"X\",Y313=\"X\"),1,0)","v":0},"X",{"$f":"IF(AND('Step 2 - Ornamental'!$AB$19=\"X\",AA313=\"X\"),1,0)","v":0},null,{"$f":"IF(AND('Step 2 - Ornamental'!$AC$19=\"X\",AC313=\"X\"),1,0)","v":0},null,{"$f":"IF(AND('Step 2 - Ornamental'!$AA$20=\"X\",AE313=\"X\"),1,0)","v":0},"X",{"$f":"IF(AND('Step 2 - Ornamental'!$AA$20=\"X\",AG313=\"X\"),1,0)","v":0},null,{"$f":"IF(AND('Step 2 - Ornamental'!$AB$20=\"X\",AI313=\"X\"),1,0)","v":0},null,{"$f":"IF(AND('Step 2 - Ornamental'!$AC$20=\"X\",AK313=\"X\"),1,0)","v":0},null,{"$f":"IF(AND('Step 2 - Ornamental'!$AA$18=\"X\",AM313=\"X\"),1,0)","v":0},null,{"$f":"IF(AND('Step 2 - Ornamental'!$AB$18=\"X\",AO313=\"X\"),1,0)","v":0},"X",{"$f":"IF(AND('Step 2 - Ornamental'!$AC$18=\"X\",AQ313=\"X\"),1,0)","v":0},"X",{"$f":"IF(AND('Step 2 - Ornamental'!$AD$18=\"X\",AS313=\"X\"),1,0)","v":0},null,{"$f":"IF(AND('Step 2 - Ornamental'!$AE$18=\"X\",AU313=\"X\"),1,0)","v":0},null,{"$f":"IF(AND('Step 2 - Ornamental'!$AA$17=\"X\",AW313=\"X\"),1,0)","v":0},null,{"$f":"IF(AND('Step 2 - Ornamental'!$AB$17=\"X\",AY313=\"X\"),1,0)","v":0},"X",{"$f":"IF(AND('Step 2 - Ornamental'!$AC$17=\"X\",BA313=\"X\"),1,0)","v":0},"X",{"$f":"IF(AND('Step 2 - Ornamental'!$AA$22=\"X\",BC313=\"X\"),1,0)","v":0},null,{"$f":"IF(AND('Step 2 - Ornamental'!$AB$22=\"X\",BE313=\"X\"),1,0)","v":0},null,{"$f":"IF(AND('Step 2 - Ornamental'!$AC$22=\"X\",BG313=\"X\"),1,0)","v":0},"X",{"$f":"IF(AND('Step 2 - Ornamental'!$AD$22=\"X\",BI313=\"X\"),1,0)","v":0},"X",null,null,null,"White / 0.5'-1.0'"]
[null,1,"GE BR","Geranium x 'Brookside'","Brookside Geranium","18\" O.C.","blue flowering variety","X",null,null,"X","X",null,0,null,{"$f":"IF(AND('Step 2 - Ornamental'!$AA$21=\"X\",Q314=\"X\"),1,0)","v":0},"X",{"$f":"IF(AND('Step 2 - Ornamental'!$AB$21=\"X\",S314=\"X\"),1,0)","v":0},"X",{"$f":"IF(AND('Step 2 - Ornamental'!$AC$21=\"X\",U314=\"X\"),1,0)","v":0},"X",{"$f":"IF(AND('Step 2 - Ornamental'!$AA$19=\"X\",W314=\"X\"),1,0)","v":0},null,{"$f":"IF(AND('Step 2 - Ornamental'!$AA$19=\"X\",Y314=\"X\"),1,0)","v":0},"X",{"$f":"IF(AND('Step 2 - Ornamental'!$AB$19=\"X\",AA314=\"X\"),1,0)","v":0},null,{"$f":"IF(AND('Step 2 - Ornamental'!$AC$19=\"X\",AC314=\"X\"),1,0)","v":0},null,{"$f":"IF(AND('Step 2 - Ornamental'!$AA$20=\"X\",AE314=\"X\"),1,0)","v":0},"X",{"$f":"IF(AND('Step 2 - Ornamental'!$AA$20=\"X\",AG314=\"X\"),1,0)","v":0},null,{"$f":"IF(AND('Step 2 - Ornamental'!$AB$20=\"X\",AI314=\"X\"),1,0)","v":0},null,{"$f":"IF(AND('Step 2 - Ornamental'!$AC$20=\"X\",AK314=\"X\"),1,0)","v":0},null,{"$f":"IF(AND('Step 2 - Ornamental'!$AA$18=\"X\",AM314=\"X\"),1,0)","v":0},null,{"$f":"IF(AND('Step 2 - Ornamental'!$AB$18=\"X\",AO314=\"X\"),1,0)","v":0},"X",{"$f":"IF(AND('Step 2 - Ornamental'!$AC$18=\"X\",AQ314=\"X\"),1,0)","v":0},null,{"$f":"IF(AND('Step 2 - Ornamental'!$AD$18=\"X\",AS314=\"X\"),1,0)","v":0},null,{"$f":"IF(AND('Step 2 - Ornamental'!$AE$18=\"X\",AU314=\"X\"),1,0)","v":0},null,{"$f":"IF(AND('Step 2 - Ornamental'!$AA$17=\"X\",AW314=\"X\"),1,0)","v":0},"X",{"$f":"IF(AND('Step 2 - Ornamental'!$AB$17=\"X\",AY314=\"X\"),1,0)","v":0},"X",{"$f":"IF(AND('Step 2 - Ornamental'!$AC$17=\"X\",BA314=\"X\"),1,0)","v":0},null,{"$f":"IF(AND('Step 2 - Ornamental'!$AA$22=\"X\",BC314=\"X\"),1,0)","v":0},null,{"$f":"IF(AND('Step 2 - Ornamental'!$AB$22=\"X\",BE314=\"X\"),1,0)","v":0},null,{"$f":"IF(AND('Step 2 - Ornamental'!$AC$22=\"X\",BG314=\"X\"),1,0)","v":0},"X",{"$f":"IF(AND('Step 2 - Ornamental'!$AD$22=\"X\",BI314=\"X\"),1,0)","v":0},"X",null,null,null,null,"Pale Lavender Blue / 1.5'-2.0'"]
[null,1,"GE OR","Geranium x 'Orion'","Orion Geranium","24\" O.C.","Large, vigorous, long-blooming hybrid Cranesbill, large (2\") deep violet-purple blooms to 3' tall in Jun-Aug","X",null,null,"X","X",null,0,null,{"$f":"IF(AND('Step 2 - Ornamental'!$AA$21=\"X\",Q315=\"X\"),1,0)","v":0},"X",{"$f":"IF(AND('Step 2 - Ornamental'!$AB$21=\"X\",S315=\"X\"),1,0)","v":0},"X",{"$f":"IF(AND('Step 2 - Ornamental'!$AC$21=\"X\",U315=\"X\"),1,0)","v":0},"X",{"$f":"IF(AND('Step 2 - Ornamental'!$AA$19=\"X\",W315=\"X\"),1,0)","v":0},null,{"$f":"IF(AND('Step 2 - Ornamental'!$AA$19=\"X\",Y315=\"X\"),1,0)","v":0},"X",{"$f":"IF(AND('Step 2 - Ornamental'!$AB$19=\"X\",AA315=\"X\"),1,0)","v":0},null,{"$f":"IF(AND('Step 2 - Ornamental'!$AC$19=\"X\",AC315=\"X\"),1,0)","v":0},null,{"$f":"IF(AND('Step 2 - Ornamental'!$AA$20=\"X\",AE315=\"X\"),1,0)","v":0},"X",{"$f":"IF(AND('Step 2 - Ornamental'!$AA$20=\"X\",AG315=\"X\"),1,0)","v":0},null,{"$f":"IF(AND('Step 2 - Ornamental'!$AB$20=\"X\",AI315=\"X\"),1,0)","v":0},null,{"$f":"IF(AND('Step 2 - Ornamental'!$AC$20=\"X\",AK315=\"X\"),1,0)","v":0},null,{"$f":"IF(AND('Step 2 - Ornamental'!$AA$18=\"X\",AM315=\"X\"),1,0)","v":0},null,{"$f":"IF(AND('Step 2 - Ornamental'!$AB$18=\"X\",AO315=\"X\"),1,0)","v":0},"X",{"$f":"IF(AND('Step 2 - Ornamental'!$AC$18=\"X\",AQ315=\"X\"),1,0)","v":0},null,{"$f":"IF(AND('Step 2 - Ornamental'!$AD$18=\"X\",AS315=\"X\"),1,0)","v":0},null,{"$f":"IF(AND('Step 2 - Ornamental'!$AE$18=\"X\",AU315=\"X\"),1,0)","v":0},null,{"$f":"IF(AND('Step 2 - Ornamental'!$AA$17=\"X\",AW315=\"X\"),1,0)","v":0},"X",{"$f":"IF(AND('Step 2 - Ornamental'!$AB$17=\"X\",AY315=\"X\"),1,0)","v":0},"X",{"$f":"IF(AND('Step 2 - Ornamental'!$AC$17=\"X\",BA315=\"X\"),1,0)","v":0},null,{"$f":"IF(AND('Step 2 - Ornamental'!$AA$22=\"X\",BC315=\"X\"),1,0)","v":0},null,{"$f":"IF(AND('Step 2 - Ornamental'!$AB$22=\"X\",BE315=\"X\"),1,0)","v":0},null,{"$f":"IF(AND('Step 2 - Ornamental'!$AC$22=\"X\",BG315=\"X\"),1,0)","v":0},"X",{"$f":"IF(AND('Step 2 - Ornamental'!$AD$22=\"X\",BI315=\"X\"),1,0)","v":0},"X",null,null,null,null,"Purple-violet / 2.0'-3.0'"]
[null,1,"GE CA","Geranium x cantabrigiense 'Biokovo'","Biokovo Cranesbill","10\" O.C.","Pale-pink flowers, smaller species, rhizatomous,","X",null,null,"X","X",null,0,null,{"$f":"IF(AND('Step 2 - Ornamental'!$AA$21=\"X\",Q316=\"X\"),1,0)","v":0},"X",{"$f":"IF(AND('Step 2 - Ornamental'!$AB$21=\"X\",S316=\"X\"),1,0)","v":0},"X",{"$f":"IF(AND('Step 2 - Ornamental'!$AC$21=\"X\",U316=\"X\"),1,0)","v":0},"X",{"$f":"IF(AND('Step 2 - Ornamental'!$AA$19=\"X\",W316=\"X\"),1,0)","v":0},null,{"$f":"IF(AND('Step 2 - Ornamental'!$AA$19=\"X\",Y316=\"X\"),1,0)","v":0},"X",{"$f":"IF(AND('Step 2 - Ornamental'!$AB$19=\"X\",AA316=\"X\"),1,0)","v":0},null,{"$f":"IF(AND('Step 2 - Ornamental'!$AC$19=\"X\",AC316=\"X\"),1,0)","v":0},null,{"$f":"IF(AND('Step 2 - Ornamental'!$AA$20=\"X\",AE316=\"X\"),1,0)","v":0},"X",{"$f":"IF(AND('Step 2 - Ornamental'!$AA$20=\"X\",AG316=\"X\"),1,0)","v":0},null,{"$f":"IF(AND('Step 2 - Ornamental'!$AB$20=\"X\",AI316=\"X\"),1,0)","v":0},null,{"$f":"IF(AND('Step 2 - Ornamental'!$AC$20=\"X\",AK316=\"X\"),1,0)","v":0},null,{"$f":"IF(AND('Step 2 - Ornamental'!$AA$18=\"X\",AM316=\"X\"),1,0)","v":0},"X",{"$f":"IF(AND('Step 2 - Ornamental'!$AB$18=\"X\",AO316=\"X\"),1,0)","v":0},"X",{"$f":"IF(AND('Step 2 - Ornamental'!$AC$18=\"X\",AQ316=\"X\"),1,0)","v":0},null,{"$f":"IF(AND('Step 2 - Ornamental'!$AD$18=\"X\",AS316=\"X\"),1,0)","v":0},null,{"$f":"IF(AND('Step 2 - Ornamental'!$AE$18=\"X\",AU316=\"X\"),1,0)","v":0},null,{"$f":"IF(AND('Step 2 - Ornamental'!$AA$17=\"X\",AW316=\"X\"),1,0)","v":0},"X",{"$f":"IF(AND('Step 2 - Ornamental'!$AB$17=\"X\",AY316=\"X\"),1,0)","v":0},"X",{"$f":"IF(AND('Step 2 - Ornamental'!$AC$17=\"X\",BA316=\"X\"),1,0)","v":0},null,{"$f":"IF(AND('Step 2 - Ornamental'!$AA$22=\"X\",BC316=\"X\"),1,0)","v":0},null,{"$f":"IF(AND('Step 2 - Ornamental'!$AB$22=\"X\",BE316=\"X\"),1,0)","v":0},null,{"$f":"IF(AND('Step 2 - Ornamental'!$AC$22=\"X\",BG316=\"X\"),1,0)","v":0},"X",{"$f":"IF(AND('Step 2 - Ornamental'!$AD$22=\"X\",BI316=\"X\"),1,0)","v":0},"X",null,null,null,null,"White w/ pink tinge / 0.5'-1.0'"]
[null,1,"GE MA","Geranium maculatum","Wild Geranium","18\" O.C.","native species, tolerates poor soil, will spread",null,"X","X","X","X",null,0,null,{"$f":"IF(AND('Step 2 - Ornamental'!$AA$21=\"X\",Q317=\"X\"),1,0)","v":0},"X",{"$f":"IF(AND('Step 2 - Ornamental'!$AB$21=\"X\",S317=\"X\"),1,0)","v":0},"X",{"$f":"IF(AND('Step 2 - Ornamental'!$AC$21=\"X\",U317=\"X\"),1,0)","v":0},"X",{"$f":"IF(AND('Step 2 - Ornamental'!$AA$19=\"X\",W317=\"X\"),1,0)","v":0},null,{"$f":"IF(AND('Step 2 - Ornamental'!$AA$19=\"X\",Y317=\"X\"),1,0)","v":0},"X",{"$f":"IF(AND('Step 2 - Ornamental'!$AB$19=\"X\",AA317=\"X\"),1,0)","v":0},null,{"$f":"IF(AND('Step 2 - Ornamental'!$AC$19=\"X\",AC317=\"X\"),1,0)","v":0},null,{"$f":"IF(AND('Step 2 - Ornamental'!$AA$20=\"X\",AE317=\"X\"),1,0)","v":0},null,{"$f":"IF(AND('Step 2 - Ornamental'!$AA$20=\"X\",AG317=\"X\"),1,0)","v":0},"X",{"$f":"IF(AND('Step 2 - Ornamental'!$AB$20=\"X\",AI317=\"X\"),1,0)","v":0},null,{"$f":"IF(AND('Step 2 - Ornamental'!$AC$20=\"X\",AK317=\"X\"),1,0)","v":0},null,{"$f":"IF(AND('Step 2 - Ornamental'!$AA$18=\"X\",AM317=\"X\"),1,0)","v":0},null,{"$f":"IF(AND('Step 2 - Ornamental'!$AB$18=\"X\",AO317=\"X\"),1,0)","v":0},"X",{"$f":"IF(AND('Step 2 - Ornamental'!$AC$18=\"X\",AQ317=\"X\"),1,0)","v":0},null,{"$f":"IF(AND('Step 2 - Ornamental'!$AD$18=\"X\",AS317=\"X\"),1,0)","v":0},null,{"$f":"IF(AND('Step 2 - Ornamental'!$AE$18=\"X\",AU317=\"X\"),1,0)","v":0},null,{"$f":"IF(AND('Step 2 - Ornamental'!$AA$17=\"X\",AW317=\"X\"),1,0)","v":0},"X",{"$f":"IF(AND('Step 2 - Ornamental'!$AB$17=\"X\",AY317=\"X\"),1,0)","v":0},"X",{"$f":"IF(AND('Step 2 - Ornamental'!$AC$17=\"X\",BA317=\"X\"),1,0)","v":0},null,{"$f":"IF(AND('Step 2 - Ornamental'!$AA$22=\"X\",BC317=\"X\"),1,0)","v":0},null,{"$f":"IF(AND('Step 2 - Ornamental'!$AB$22=\"X\",BE317=\"X\"),1,0)","v":0},null,{"$f":"IF(AND('Step 2 - Ornamental'!$AC$22=\"X\",BG317=\"X\"),1,0)","v":0},"X",{"$f":"IF(AND('Step 2 - Ornamental'!$AD$22=\"X\",BI317=\"X\"),1,0)","v":0},"X",null,null,null,"Pale Pink / 1.5'-2.0'"]
[null,1,"GE BV","Geranium macrorrhizum 'Bevan's Variety'","Bevan's Variety Bigroot Geranium","18\" O.C.","Deep magenta flowers, large leaves, rhizatomous, good fall color","X",null,null,"X","X",null,0,null,{"$f":"IF(AND('Step 2 - Ornamental'!$AA$21=\"X\",Q318=\"X\"),1,0)","v":0},"X",{"$f":"IF(AND('Step 2 - Ornamental'!$AB$21=\"X\",S318=\"X\"),1,0)","v":0},"X",{"$f":"IF(AND('Step 2 - Ornamental'!$AC$21=\"X\",U318=\"X\"),1,0)","v":0},"X",{"$f":"IF(AND('Step 2 - Ornamental'!$AA$19=\"X\",W318=\"X\"),1,0)","v":0},null,{"$f":"IF(AND('Step 2 - Ornamental'!$AA$19=\"X\",Y318=\"X\"),1,0)","v":0},"X",{"$f":"IF(AND('Step 2 - Ornamental'!$AB$19=\"X\",AA318=\"X\"),1,0)","v":0},null,{"$f":"IF(AND('Step 2 - Ornamental'!$AC$19=\"X\",AC318=\"X\"),1,0)","v":0},null,{"$f":"IF(AND('Step 2 - Ornamental'!$AA$20=\"X\",AE318=\"X\"),1,0)","v":0},"X",{"$f":"IF(AND('Step 2 - Ornamental'!$AA$20=\"X\",AG318=\"X\"),1,0)","v":0},null,{"$f":"IF(AND('Step 2 - Ornamental'!$AB$20=\"X\",AI318=\"X\"),1,0)","v":0},null,{"$f":"IF(AND('Step 2 - Ornamental'!$AC$20=\"X\",AK318=\"X\"),1,0)","v":0},null,{"$f":"IF(AND('Step 2 - Ornamental'!$AA$18=\"X\",AM318=\"X\"),1,0)","v":0},"X",{"$f":"IF(AND('Step 2 - Ornamental'!$AB$18=\"X\",AO318=\"X\"),1,0)","v":0},"X",{"$f":"IF(AND('Step 2 - Ornamental'!$AC$18=\"X\",AQ318=\"X\"),1,0)","v":0},null,{"$f":"IF(AND('Step 2 - Ornamental'!$AD$18=\"X\",AS318=\"X\"),1,0)","v":0},null,{"$f":"IF(AND('Step 2 - Ornamental'!$AE$18=\"X\",AU318=\"X\"),1,0)","v":0},null,{"$f":"IF(AND('Step 2 - Ornamental'!$AA$17=\"X\",AW318=\"X\"),1,0)","v":0},"X",{"$f":"IF(AND('Step 2 - Ornamental'!$AB$17=\"X\",AY318=\"X\"),1,0)","v":0},"X",{"$f":"IF(AND('Step 2 - Ornamental'!$AC$17=\"X\",BA318=\"X\"),1,0)","v":0},null,{"$f":"IF(AND('Step 2 - Ornamental'!$AA$22=\"X\",BC318=\"X\"),1,0)","v":0},null,{"$f":"IF(AND('Step 2 - Ornamental'!$AB$22=\"X\",BE318=\"X\"),1,0)","v":0},"X",{"$f":"IF(AND('Step 2 - Ornamental'!$AC$22=\"X\",BG318=\"X\"),1,0)","v":0},"X",{"$f":"IF(AND('Step 2 - Ornamental'!$AD$22=\"X\",BI318=\"X\"),1,0)","v":0},"X",null,null,null,"Deep Magenta / 0.75'-1.0'"]
[null,1,"GE SA","Geranium sanguineum 'album'","White Bloody Cranesbill","18\" O.C.","white flowers, finely dissected leaves, fall color","X",null,null,"X","X",null,0,null,{"$f":"IF(AND('Step 2 - Ornamental'!$AA$21=\"X\",Q319=\"X\"),1,0)","v":0},"X",{"$f":"IF(AND('Step 2 - Ornamental'!$AB$21=\"X\",S319=\"X\"),1,0)","v":0},"X",{"$f":"IF(AND('Step 2 - Ornamental'!$AC$21=\"X\",U319=\"X\"),1,0)","v":0},"X",{"$f":"IF(AND('Step 2 - Ornamental'!$AA$19=\"X\",W319=\"X\"),1,0)","v":0},null,{"$f":"IF(AND('Step 2 - Ornamental'!$AA$19=\"X\",Y319=\"X\"),1,0)","v":0},"X",{"$f":"IF(AND('Step 2 - Ornamental'!$AB$19=\"X\",AA319=\"X\"),1,0)","v":0},null,{"$f":"IF(AND('Step 2 - Ornamental'!$AC$19=\"X\",AC319=\"X\"),1,0)","v":0},null,{"$f":"IF(AND('Step 2 - Ornamental'!$AA$20=\"X\",AE319=\"X\"),1,0)","v":0},"X",{"$f":"IF(AND('Step 2 - Ornamental'!$AA$20=\"X\",AG319=\"X\"),1,0)","v":0},null,{"$f":"IF(AND('Step 2 - Ornamental'!$AB$20=\"X\",AI319=\"X\"),1,0)","v":0},null,{"$f":"IF(AND('Step 2 - Ornamental'!$AC$20=\"X\",AK319=\"X\"),1,0)","v":0},null,{"$f":"IF(AND('Step 2 - Ornamental'!$AA$18=\"X\",AM319=\"X\"),1,0)","v":0},null,{"$f":"IF(AND('Step 2 - Ornamental'!$AB$18=\"X\",AO319=\"X\"),1,0)","v":0},"X",{"$f":"IF(AND('Step 2 - Ornamental'!$AC$18=\"X\",AQ319=\"X\"),1,0)","v":0},null,{"$f":"IF(AND('Step 2 - Ornamental'!$AD$18=\"X\",AS319=\"X\"),1,0)","v":0},null,{"$f":"IF(AND('Step 2 - Ornamental'!$AE$18=\"X\",AU319=\"X\"),1,0)","v":0},null,{"$f":"IF(AND('Step 2 - Ornamental'!$AA$17=\"X\",AW319=\"X\"),1,0)","v":0},"X",{"$f":"IF(AND('Step 2 - Ornamental'!$AB$17=\"X\",AY319=\"X\"),1,0)","v":0},"X",{"$f":"IF(AND('Step 2 - Ornamental'!$AC$17=\"X\",BA319=\"X\"),1,0)","v":0},null,{"$f":"IF(AND('Step 2 - Ornamental'!$AA$22=\"X\",BC319=\"X\"),1,0)","v":0},null,{"$f":"IF(AND('Step 2 - Ornamental'!$AB$22=\"X\",BE319=\"X\"),1,0)","v":0},null,{"$f":"IF(AND('Step 2 - Ornamental'!$AC$22=\"X\",BG319=\"X\"),1,0)","v":0},"X",{"$f":"IF(AND('Step 2 - Ornamental'!$AD$22=\"X\",BI319=\"X\"),1,0)","v":0},"X",null,null,null,null,"White / 0.75'-1.5'"]
[null,1,"GE MX","Geranium sanguineum 'max frei'","Max Frei Bloody Cranesbill","18\" O.C.","reddish-purple flowers, finely dissected leaves, fall color","X",null,null,"X","X",null,0,null,{"$f":"IF(AND('Step 2 - Ornamental'!$AA$21=\"X\",Q320=\"X\"),1,0)","v":0},"X",{"$f":"IF(AND('Step 2 - Ornamental'!$AB$21=\"X\",S320=\"X\"),1,0)","v":0},"X",{"$f":"IF(AND('Step 2 - Ornamental'!$AC$21=\"X\",U320=\"X\"),1,0)","v":0},"X",{"$f":"IF(AND('Step 2 - Ornamental'!$AA$19=\"X\",W320=\"X\"),1,0)","v":0},null,{"$f":"IF(AND('Step 2 - Ornamental'!$AA$19=\"X\",Y320=\"X\"),1,0)","v":0},"X",{"$f":"IF(AND('Step 2 - Ornamental'!$AB$19=\"X\",AA320=\"X\"),1,0)","v":0},null,{"$f":"IF(AND('Step 2 - Ornamental'!$AC$19=\"X\",AC320=\"X\"),1,0)","v":0},null,{"$f":"IF(AND('Step 2 - Ornamental'!$AA$20=\"X\",AE320=\"X\"),1,0)","v":0},"X",{"$f":"IF(AND('Step 2 - Ornamental'!$AA$20=\"X\",AG320=\"X\"),1,0)","v":0},null,{"$f":"IF(AND('Step 2 - Ornamental'!$AB$20=\"X\",AI320=\"X\"),1,0)","v":0},null,{"$f":"IF(AND('Step 2 - Ornamental'!$AC$20=\"X\",AK320=\"X\"),1,0)","v":0},null,{"$f":"IF(AND('Step 2 - Ornamental'!$AA$18=\"X\",AM320=\"X\"),1,0)","v":0},null,{"$f":"IF(AND('Step 2 - Ornamental'!$AB$18=\"X\",AO320=\"X\"),1,0)","v":0},"X",{"$f":"IF(AND('Step 2 - Ornamental'!$AC$18=\"X\",AQ320=\"X\"),1,0)","v":0},null,{"$f":"IF(AND('Step 2 - Ornamental'!$AD$18=\"X\",AS320=\"X\"),1,0)","v":0},null,{"$f":"IF(AND('Step 2 - Ornamental'!$AE$18=\"X\",AU320=\"X\"),1,0)","v":0},null,{"$f":"IF(AND('Step 2 - Ornamental'!$AA$17=\"X\",AW320=\"X\"),1,0)","v":0},"X",{"$f":"IF(AND('Step 2 - Ornamental'!$AB$17=\"X\",AY320=\"X\"),1,0)","v":0},"X",{"$f":"IF(AND('Step 2 - Ornamental'!$AC$17=\"X\",BA320=\"X\"),1,0)","v":0},null,{"$f":"IF(AND('Step 2 - Ornamental'!$AA$22=\"X\",BC320=\"X\"),1,0)","v":0},null,{"$f":"IF(AND('Step 2 - Ornamental'!$AB$22=\"X\",BE320=\"X\"),1,0)","v":0},null,{"$f":"IF(AND('Step 2 - Ornamental'!$AC$22=\"X\",BG320=\"X\"),1,0)","v":0},"X",{"$f":"IF(AND('Step 2 - Ornamental'!$AD$22=\"X\",BI320=\"X\"),1,0)","v":0},"X",null,null,null,null,"reddish-purple / 0.5'-0.75'"]
[null,1,"GE ST","Geranium sanguineum 'striatum'","Striatum Bloody Cranesbill","18\" O.C.","pale-pink flowers, finely dissected leaves, fall color","X",null,null,"X","X",null,0,null,{"$f":"IF(AND('Step 2 - Ornamental'!$AA$21=\"X\",Q321=\"X\"),1,0)","v":0},"X",{"$f":"IF(AND('Step 2 - Ornamental'!$AB$21=\"X\",S321=\"X\"),1,0)","v":0},"X",{"$f":"IF(AND('Step 2 - Ornamental'!$AC$21=\"X\",U321=\"X\"),1,0)","v":0},"X",{"$f":"IF(AND('Step 2 - Ornamental'!$AA$19=\"X\",W321=\"X\"),1,0)","v":0},null,{"$f":"IF(AND('Step 2 - Ornamental'!$AA$19=\"X\",Y321=\"X\"),1,0)","v":0},"X",{"$f":"IF(AND('Step 2 - Ornamental'!$AB$19=\"X\",AA321=\"X\"),1,0)","v":0},null,{"$f":"IF(AND('Step 2 - Ornamental'!$AC$19=\"X\",AC321=\"X\"),1,0)","v":0},null,{"$f":"IF(AND('Step 2 - Ornamental'!$AA$20=\"X\",AE321=\"X\"),1,0)","v":0},"X",{"$f":"IF(AND('Step 2 - Ornamental'!$AA$20=\"X\",AG321=\"X\"),1,0)","v":0},null,{"$f":"IF(AND('Step 2 - Ornamental'!$AB$20=\"X\",AI321=\"X\"),1,0)","v":0},null,{"$f":"IF(AND('Step 2 - Ornamental'!$AC$20=\"X\",AK321=\"X\"),1,0)","v":0},null,{"$f":"IF(AND('Step 2 - Ornamental'!$AA$18=\"X\",AM321=\"X\"),1,0)","v":0},null,{"$f":"IF(AND('Step 2 - Ornamental'!$AB$18=\"X\",AO321=\"X\"),1,0)","v":0},"X",{"$f":"IF(AND('Step 2 - Ornamental'!$AC$18=\"X\",AQ321=\"X\"),1,0)","v":0},null,{"$f":"IF(AND('Step 2 - Ornamental'!$AD$18=\"X\",AS321=\"X\"),1,0)","v":0},null,{"$f":"IF(AND('Step 2 - Ornamental'!$AE$18=\"X\",AU321=\"X\"),1,0)","v":0},null,{"$f":"IF(AND('Step 2 - Ornamental'!$AA$17=\"X\",AW321=\"X\"),1,0)","v":0},"X",{"$f":"IF(AND('Step 2 - Ornamental'!$AB$17=\"X\",AY321=\"X\"),1,0)","v":0},"X",{"$f":"IF(AND('Step 2 - Ornamental'!$AC$17=\"X\",BA321=\"X\"),1,0)","v":0},null,{"$f":"IF(AND('Step 2 - Ornamental'!$AA$22=\"X\",BC321=\"X\"),1,0)","v":0},null,{"$f":"IF(AND('Step 2 - Ornamental'!$AB$22=\"X\",BE321=\"X\"),1,0)","v":0},null,{"$f":"IF(AND('Step 2 - Ornamental'!$AC$22=\"X\",BG321=\"X\"),1,0)","v":0},"X",{"$f":"IF(AND('Step 2 - Ornamental'!$AD$22=\"X\",BI321=\"X\"),1,0)","v":0},"X",null,null,null,null,"Pink / 0.5' - 0.75'"]
[null,1,"GE TM","Geranium sanguineum 'Tiny Monster'","Tiny Monster Bloody Cranesbill","18\" O.C.","Vigorous, sprawline, compact growth - 10\" tallby 24\" wide, pink flowers in May/June, foliage turns purple bronze in autumn","X",null,null,"X","X",null,0,null,{"$f":"IF(AND('Step 2 - Ornamental'!$AA$21=\"X\",Q322=\"X\"),1,0)","v":0},"X",{"$f":"IF(AND('Step 2 - Ornamental'!$AB$21=\"X\",S322=\"X\"),1,0)","v":0},"X",{"$f":"IF(AND('Step 2 - Ornamental'!$AC$21=\"X\",U322=\"X\"),1,0)","v":0},"X",{"$f":"IF(AND('Step 2 - Ornamental'!$AA$19=\"X\",W322=\"X\"),1,0)","v":0},null,{"$f":"IF(AND('Step 2 - Ornamental'!$AA$19=\"X\",Y322=\"X\"),1,0)","v":0},"X",{"$f":"IF(AND('Step 2 - Ornamental'!$AB$19=\"X\",AA322=\"X\"),1,0)","v":0},null,{"$f":"IF(AND('Step 2 - Ornamental'!$AC$19=\"X\",AC322=\"X\"),1,0)","v":0},null,{"$f":"IF(AND('Step 2 - Ornamental'!$AA$20=\"X\",AE322=\"X\"),1,0)","v":0},"X",{"$f":"IF(AND('Step 2 - Ornamental'!$AA$20=\"X\",AG322=\"X\"),1,0)","v":0},null,{"$f":"IF(AND('Step 2 - Ornamental'!$AB$20=\"X\",AI322=\"X\"),1,0)","v":0},null,{"$f":"IF(AND('Step 2 - Ornamental'!$AC$20=\"X\",AK322=\"X\"),1,0)","v":0},null,{"$f":"IF(AND('Step 2 - Ornamental'!$AA$18=\"X\",AM322=\"X\"),1,0)","v":0},null,{"$f":"IF(AND('Step 2 - Ornamental'!$AB$18=\"X\",AO322=\"X\"),1,0)","v":0},"X",{"$f":"IF(AND('Step 2 - Ornamental'!$AC$18=\"X\",AQ322=\"X\"),1,0)","v":0},null,{"$f":"IF(AND('Step 2 - Ornamental'!$AD$18=\"X\",AS322=\"X\"),1,0)","v":0},null,{"$f":"IF(AND('Step 2 - Ornamental'!$AE$18=\"X\",AU322=\"X\"),1,0)","v":0},null,{"$f":"IF(AND('Step 2 - Ornamental'!$AA$17=\"X\",AW322=\"X\"),1,0)","v":0},"X",{"$f":"IF(AND('Step 2 - Ornamental'!$AB$17=\"X\",AY322=\"X\"),1,0)","v":0},"X",{"$f":"IF(AND('Step 2 - Ornamental'!$AC$17=\"X\",BA322=\"X\"),1,0)","v":0},null,{"$f":"IF(AND('Step 2 - Ornamental'!$AA$22=\"X\",BC322=\"X\"),1,0)","v":0},null,{"$f":"IF(AND('Step 2 - Ornamental'!$AB$22=\"X\",BE322=\"X\"),1,0)","v":0},null,{"$f":"IF(AND('Step 2 - Ornamental'!$AC$22=\"X\",BG322=\"X\"),1,0)","v":0},"X",{"$f":"IF(AND('Step 2 - Ornamental'!$AD$22=\"X\",BI322=\"X\"),1,0)","v":0},"X",null,null,null,null,"Pink / 0.5 - 1.0'"]
[null,1,"GE SO","Geranium sobliferum","Japanese Cranesbill","18\" O.C.","Pink/Rose flowers in Jun-Aug to 12\" high","X",null,null,null,null,null,1,"X",{"$f":"IF(AND('Step 2 - Ornamental'!$AA$21=\"X\",Q323=\"X\"),1,0)","v":0},null,{"$f":"IF(AND('Step 2 - Ornamental'!$AB$21=\"X\",S323=\"X\"),1,0)","v":0},null,{"$f":"IF(AND('Step 2 - Ornamental'!$AC$21=\"X\",U323=\"X\"),1,0)","v":0},null,{"$f":"IF(AND('Step 2 - Ornamental'!$AA$19=\"X\",W323=\"X\"),1,0)","v":0},null,{"$f":"IF(AND('Step 2 - Ornamental'!$AA$19=\"X\",Y323=\"X\"),1,0)","v":0},"X",{"$f":"IF(AND('Step 2 - Ornamental'!$AB$19=\"X\",AA323=\"X\"),1,0)","v":0},null,{"$f":"IF(AND('Step 2 - Ornamental'!$AC$19=\"X\",AC323=\"X\"),1,0)","v":0},null,{"$f":"IF(AND('Step 2 - Ornamental'!$AA$20=\"X\",AE323=\"X\"),1,0)","v":0},"X",{"$f":"IF(AND('Step 2 - Ornamental'!$AA$20=\"X\",AG323=\"X\"),1,0)","v":0},null,{"$f":"IF(AND('Step 2 - Ornamental'!$AB$20=\"X\",AI323=\"X\"),1,0)","v":0},null,{"$f":"IF(AND('Step 2 - Ornamental'!$AC$20=\"X\",AK323=\"X\"),1,0)","v":0},null,{"$f":"IF(AND('Step 2 - Ornamental'!$AA$18=\"X\",AM323=\"X\"),1,0)","v":0},null,{"$f":"IF(AND('Step 2 - Ornamental'!$AB$18=\"X\",AO323=\"X\"),1,0)","v":0},"X",{"$f":"IF(AND('Step 2 - Ornamental'!$AC$18=\"X\",AQ323=\"X\"),1,0)","v":0},null,{"$f":"IF(AND('Step 2 - Ornamental'!$AD$18=\"X\",AS323=\"X\"),1,0)","v":0},null,{"$f":"IF(AND('Step 2 - Ornamental'!$AE$18=\"X\",AU323=\"X\"),1,0)","v":0},null,{"$f":"IF(AND('Step 2 - Ornamental'!$AA$17=\"X\",AW323=\"X\"),1,0)","v":0},"X",{"$f":"IF(AND('Step 2 - Ornamental'!$AB$17=\"X\",AY323=\"X\"),1,0)","v":0},null,{"$f":"IF(AND('Step 2 - Ornamental'!$AC$17=\"X\",BA323=\"X\"),1,0)","v":0},null,{"$f":"IF(AND('Step 2 - Ornamental'!$AA$22=\"X\",BC323=\"X\"),1,0)","v":0},null,{"$f":"IF(AND('Step 2 - Ornamental'!$AB$22=\"X\",BE323=\"X\"),1,0)","v":0},null,{"$f":"IF(AND('Step 2 - Ornamental'!$AC$22=\"X\",BG323=\"X\"),1,0)","v":0},"X",{"$f":"IF(AND('Step 2 - Ornamental'!$AD$22=\"X\",BI323=\"X\"),1,0)","v":0},"X",null,null,null,null,"Pink-rose / 0.5'-1.0'"]
[null,1,"GU TR","Geum triflorum","Prairie Smoke","10\" O.C.","Provide afternoon shade, for dry soils, interesting reddish pink fruiting heads, in June/July"," ","X","X","X",null,null,1,"X",{"$f":"IF(AND('Step 2 - Ornamental'!$AA$21=\"X\",Q324=\"X\"),1,0)","v":0},null,{"$f":"IF(AND('Step 2 - Ornamental'!$AB$21=\"X\",S324=\"X\"),1,0)","v":0},null,{"$f":"IF(AND('Step 2 - Ornamental'!$AC$21=\"X\",U324=\"X\"),1,0)","v":0},null,{"$f":"IF(AND('Step 2 - Ornamental'!$AA$19=\"X\",W324=\"X\"),1,0)","v":0},null,{"$f":"IF(AND('Step 2 - Ornamental'!$AA$19=\"X\",Y324=\"X\"),1,0)","v":0},"X",{"$f":"IF(AND('Step 2 - Ornamental'!$AB$19=\"X\",AA324=\"X\"),1,0)","v":0},"X",{"$f":"IF(AND('Step 2 - Ornamental'!$AC$19=\"X\",AC324=\"X\"),1,0)","v":0},null,{"$f":"IF(AND('Step 2 - Ornamental'!$AA$20=\"X\",AE324=\"X\"),1,0)","v":0},null,{"$f":"IF(AND('Step 2 - Ornamental'!$AA$20=\"X\",AG324=\"X\"),1,0)","v":0},"X",{"$f":"IF(AND('Step 2 - Ornamental'!$AB$20=\"X\",AI324=\"X\"),1,0)","v":0},null,{"$f":"IF(AND('Step 2 - Ornamental'!$AC$20=\"X\",AK324=\"X\"),1,0)","v":0},null,{"$f":"IF(AND('Step 2 - Ornamental'!$AA$18=\"X\",AM324=\"X\"),1,0)","v":0},"X",{"$f":"IF(AND('Step 2 - Ornamental'!$AB$18=\"X\",AO324=\"X\"),1,0)","v":0},"X",{"$f":"IF(AND('Step 2 - Ornamental'!$AC$18=\"X\",AQ324=\"X\"),1,0)","v":0},null,{"$f":"IF(AND('Step 2 - Ornamental'!$AD$18=\"X\",AS324=\"X\"),1,0)","v":0},null,{"$f":"IF(AND('Step 2 - Ornamental'!$AE$18=\"X\",AU324=\"X\"),1,0)","v":0},null,{"$f":"IF(AND('Step 2 - Ornamental'!$AA$17=\"X\",AW324=\"X\"),1,0)","v":0},"X",{"$f":"IF(AND('Step 2 - Ornamental'!$AB$17=\"X\",AY324=\"X\"),1,0)","v":0},"X",{"$f":"IF(AND('Step 2 - Ornamental'!$AC$17=\"X\",BA324=\"X\"),1,0)","v":0},null,{"$f":"IF(AND('Step 2 - Ornamental'!$AA$22=\"X\",BC324=\"X\"),1,0)","v":0},null,{"$f":"IF(AND('Step 2 - Ornamental'!$AB$22=\"X\",BE324=\"X\"),1,0)","v":0},"X",{"$f":"IF(AND('Step 2 - Ornamental'!$AC$22=\"X\",BG324=\"X\"),1,0)","v":0},"X",{"$f":"IF(AND('Step 2 - Ornamental'!$AD$22=\"X\",BI324=\"X\"),1,0)","v":0},"X",null,null,null,null,"Red-Pink / 0.5'-1.5'"]
[null,1,"GI TR","Gillenia trifoliata (Porteranthus trifoliata)","Indian Psychic","24\" O.C.","Prefers rich soil, can be difficult to establish, good fall leaf",null,"X",null,null,null,null,0,null,{"$f":"IF(AND('Step 2 - Ornamental'!$AA$21=\"X\",Q325=\"X\"),1,0)","v":0},"X",{"$f":"IF(AND('Step 2 - Ornamental'!$AB$21=\"X\",S325=\"X\"),1,0)","v":0},"X",{"$f":"IF(AND('Step 2 - Ornamental'!$AC$21=\"X\",U325=\"X\"),1,0)","v":0},null,{"$f":"IF(AND('Step 2 - Ornamental'!$AA$19=\"X\",W325=\"X\"),1,0)","v":0},"X",{"$f":"IF(AND('Step 2 - Ornamental'!$AA$19=\"X\",Y325=\"X\"),1,0)","v":0},null,{"$f":"IF(AND('Step 2 - Ornamental'!$AB$19=\"X\",AA325=\"X\"),1,0)","v":0},null,{"$f":"IF(AND('Step 2 - Ornamental'!$AC$19=\"X\",AC325=\"X\"),1,0)","v":0},null,{"$f":"IF(AND('Step 2 - Ornamental'!$AA$20=\"X\",AE325=\"X\"),1,0)","v":0},"X",{"$f":"IF(AND('Step 2 - Ornamental'!$AA$20=\"X\",AG325=\"X\"),1,0)","v":0},null,{"$f":"IF(AND('Step 2 - Ornamental'!$AB$20=\"X\",AI325=\"X\"),1,0)","v":0},null,{"$f":"IF(AND('Step 2 - Ornamental'!$AC$20=\"X\",AK325=\"X\"),1,0)","v":0},null,{"$f":"IF(AND('Step 2 - Ornamental'!$AA$18=\"X\",AM325=\"X\"),1,0)","v":0},null,{"$f":"IF(AND('Step 2 - Ornamental'!$AB$18=\"X\",AO325=\"X\"),1,0)","v":0},"X",{"$f":"IF(AND('Step 2 - Ornamental'!$AC$18=\"X\",AQ325=\"X\"),1,0)","v":0},null,{"$f":"IF(AND('Step 2 - Ornamental'!$AD$18=\"X\",AS325=\"X\"),1,0)","v":0},null,{"$f":"IF(AND('Step 2 - Ornamental'!$AE$18=\"X\",AU325=\"X\"),1,0)","v":0},null,{"$f":"IF(AND('Step 2 - Ornamental'!$AA$17=\"X\",AW325=\"X\"),1,0)","v":0},"X",{"$f":"IF(AND('Step 2 - Ornamental'!$AB$17=\"X\",AY325=\"X\"),1,0)","v":0},"X",{"$f":"IF(AND('Step 2 - Ornamental'!$AC$17=\"X\",BA325=\"X\"),1,0)","v":0},null,{"$f":"IF(AND('Step 2 - Ornamental'!$AA$22=\"X\",BC325=\"X\"),1,0)","v":0},null,{"$f":"IF(AND('Step 2 - Ornamental'!$AB$22=\"X\",BE325=\"X\"),1,0)","v":0},null,{"$f":"IF(AND('Step 2 - Ornamental'!$AC$22=\"X\",BG325=\"X\"),1,0)","v":0},"X",{"$f":"IF(AND('Step 2 - Ornamental'!$AD$22=\"X\",BI325=\"X\"),1,0)","v":0},"X",null,null,null,null,"White / 2.0'-4.0'"]
[null,1,"GY RE","Gypsophila repens 'Rosea'","Creeping Baby's Breath ","10\" O.C.","Delicate flowers cover gray foliage, blooms throughout summer","X",null,null,null,null,null,0,null,{"$f":"IF(AND('Step 2 - Ornamental'!$AA$21=\"X\",Q326=\"X\"),1,0)","v":0},"X",{"$f":"IF(AND('Step 2 - Ornamental'!$AB$21=\"X\",S326=\"X\"),1,0)","v":0},"X",{"$f":"IF(AND('Step 2 - Ornamental'!$AC$21=\"X\",U326=\"X\"),1,0)","v":0},"X",{"$f":"IF(AND('Step 2 - Ornamental'!$AA$19=\"X\",W326=\"X\"),1,0)","v":0},"X",{"$f":"IF(AND('Step 2 - Ornamental'!$AA$19=\"X\",Y326=\"X\"),1,0)","v":0},null,{"$f":"IF(AND('Step 2 - Ornamental'!$AB$19=\"X\",AA326=\"X\"),1,0)","v":0},null,{"$f":"IF(AND('Step 2 - Ornamental'!$AC$19=\"X\",AC326=\"X\"),1,0)","v":0},null,{"$f":"IF(AND('Step 2 - Ornamental'!$AA$20=\"X\",AE326=\"X\"),1,0)","v":0},"X",{"$f":"IF(AND('Step 2 - Ornamental'!$AA$20=\"X\",AG326=\"X\"),1,0)","v":0},null,{"$f":"IF(AND('Step 2 - Ornamental'!$AB$20=\"X\",AI326=\"X\"),1,0)","v":0},null,{"$f":"IF(AND('Step 2 - Ornamental'!$AC$20=\"X\",AK326=\"X\"),1,0)","v":0},null,{"$f":"IF(AND('Step 2 - Ornamental'!$AA$18=\"X\",AM326=\"X\"),1,0)","v":0},"X",{"$f":"IF(AND('Step 2 - Ornamental'!$AB$18=\"X\",AO326=\"X\"),1,0)","v":0},"X",{"$f":"IF(AND('Step 2 - Ornamental'!$AC$18=\"X\",AQ326=\"X\"),1,0)","v":0},null,{"$f":"IF(AND('Step 2 - Ornamental'!$AD$18=\"X\",AS326=\"X\"),1,0)","v":0},null,{"$f":"IF(AND('Step 2 - Ornamental'!$AE$18=\"X\",AU326=\"X\"),1,0)","v":0},null,{"$f":"IF(AND('Step 2 - Ornamental'!$AA$17=\"X\",AW326=\"X\"),1,0)","v":0},"X",{"$f":"IF(AND('Step 2 - Ornamental'!$AB$17=\"X\",AY326=\"X\"),1,0)","v":0},null,{"$f":"IF(AND('Step 2 - Ornamental'!$AC$17=\"X\",BA326=\"X\"),1,0)","v":0},null,{"$f":"IF(AND('Step 2 - Ornamental'!$AA$22=\"X\",BC326=\"X\"),1,0)","v":0},null,{"$f":"IF(AND('Step 2 - Ornamental'!$AB$22=\"X\",BE326=\"X\"),1,0)","v":0},null,{"$f":"IF(AND('Step 2 - Ornamental'!$AC$22=\"X\",BG326=\"X\"),1,0)","v":0},"X",{"$f":"IF(AND('Step 2 - Ornamental'!$AD$22=\"X\",BI326=\"X\"),1,0)","v":0},"X",null,null,null,null,null,"Blush Pink / 4\""]
[null,1,"HE AR","Helenium autumnale 'Rubinzwerg'","Sneezeweed","18\" O.C.","plant in spring, dwarf with dark burnt-red flowers,",null,"X","X",null,null,null,0,null,{"$f":"IF(AND('Step 2 - Ornamental'!$AA$21=\"X\",Q327=\"X\"),1,0)","v":0},"X",{"$f":"IF(AND('Step 2 - Ornamental'!$AB$21=\"X\",S327=\"X\"),1,0)","v":0},"X",{"$f":"IF(AND('Step 2 - Ornamental'!$AC$21=\"X\",U327=\"X\"),1,0)","v":0},"X",{"$f":"IF(AND('Step 2 - Ornamental'!$AA$19=\"X\",W327=\"X\"),1,0)","v":0},null,{"$f":"IF(AND('Step 2 - Ornamental'!$AA$19=\"X\",Y327=\"X\"),1,0)","v":0},"X",{"$f":"IF(AND('Step 2 - Ornamental'!$AB$19=\"X\",AA327=\"X\"),1,0)","v":0},"X",{"$f":"IF(AND('Step 2 - Ornamental'!$AC$19=\"X\",AC327=\"X\"),1,0)","v":0},null,{"$f":"IF(AND('Step 2 - Ornamental'!$AA$20=\"X\",AE327=\"X\"),1,0)","v":0},null,{"$f":"IF(AND('Step 2 - Ornamental'!$AA$20=\"X\",AG327=\"X\"),1,0)","v":0},"X",{"$f":"IF(AND('Step 2 - Ornamental'!$AB$20=\"X\",AI327=\"X\"),1,0)","v":0},"X",{"$f":"IF(AND('Step 2 - Ornamental'!$AC$20=\"X\",AK327=\"X\"),1,0)","v":0},null,{"$f":"IF(AND('Step 2 - Ornamental'!$AA$18=\"X\",AM327=\"X\"),1,0)","v":0},null,{"$f":"IF(AND('Step 2 - Ornamental'!$AB$18=\"X\",AO327=\"X\"),1,0)","v":0},"X",{"$f":"IF(AND('Step 2 - Ornamental'!$AC$18=\"X\",AQ327=\"X\"),1,0)","v":0},"X",{"$f":"IF(AND('Step 2 - Ornamental'!$AD$18=\"X\",AS327=\"X\"),1,0)","v":0},null,{"$f":"IF(AND('Step 2 - Ornamental'!$AE$18=\"X\",AU327=\"X\"),1,0)","v":0},null,{"$f":"IF(AND('Step 2 - Ornamental'!$AA$17=\"X\",AW327=\"X\"),1,0)","v":0},"X",{"$f":"IF(AND('Step 2 - Ornamental'!$AB$17=\"X\",AY327=\"X\"),1,0)","v":0},null,{"$f":"IF(AND('Step 2 - Ornamental'!$AC$17=\"X\",BA327=\"X\"),1,0)","v":0},null,{"$f":"IF(AND('Step 2 - Ornamental'!$AA$22=\"X\",BC327=\"X\"),1,0)","v":0},null,{"$f":"IF(AND('Step 2 - Ornamental'!$AB$22=\"X\",BE327=\"X\"),1,0)","v":0},null,{"$f":"IF(AND('Step 2 - Ornamental'!$AC$22=\"X\",BG327=\"X\"),1,0)","v":0},"X",{"$f":"IF(AND('Step 2 - Ornamental'!$AD$22=\"X\",BI327=\"X\"),1,0)","v":0},"X",null,null,null,null,null,null,"Orangey Red / 2.0'-3.0'"]
[null,1,"HE AM","Helenium autumnale 'Mardi Gras'","Mardi Gras Sneezeweed","24\" O.C.","plant in spring, yellow-orange flower",null,"X","X",null,null,null,0,null,{"$f":"IF(AND('Step 2 - Ornamental'!$AA$21=\"X\",Q328=\"X\"),1,0)","v":0},"X",{"$f":"IF(AND('Step 2 - Ornamental'!$AB$21=\"X\",S328=\"X\"),1,0)","v":0},"X",{"$f":"IF(AND('Step 2 - Ornamental'!$AC$21=\"X\",U328=\"X\"),1,0)","v":0},"X",{"$f":"IF(AND('Step 2 - Ornamental'!$AA$19=\"X\",W328=\"X\"),1,0)","v":0},null,{"$f":"IF(AND('Step 2 - Ornamental'!$AA$19=\"X\",Y328=\"X\"),1,0)","v":0},"X",{"$f":"IF(AND('Step 2 - Ornamental'!$AB$19=\"X\",AA328=\"X\"),1,0)","v":0},"X",{"$f":"IF(AND('Step 2 - Ornamental'!$AC$19=\"X\",AC328=\"X\"),1,0)","v":0},null,{"$f":"IF(AND('Step 2 - Ornamental'!$AA$20=\"X\",AE328=\"X\"),1,0)","v":0},null,{"$f":"IF(AND('Step 2 - Ornamental'!$AA$20=\"X\",AG328=\"X\"),1,0)","v":0},"X",{"$f":"IF(AND('Step 2 - Ornamental'!$AB$20=\"X\",AI328=\"X\"),1,0)","v":0},"X",{"$f":"IF(AND('Step 2 - Ornamental'!$AC$20=\"X\",AK328=\"X\"),1,0)","v":0},null,{"$f":"IF(AND('Step 2 - Ornamental'!$AA$18=\"X\",AM328=\"X\"),1,0)","v":0},null,{"$f":"IF(AND('Step 2 - Ornamental'!$AB$18=\"X\",AO328=\"X\"),1,0)","v":0},"X",{"$f":"IF(AND('Step 2 - Ornamental'!$AC$18=\"X\",AQ328=\"X\"),1,0)","v":0},"X",{"$f":"IF(AND('Step 2 - Ornamental'!$AD$18=\"X\",AS328=\"X\"),1,0)","v":0},null,{"$f":"IF(AND('Step 2 - Ornamental'!$AE$18=\"X\",AU328=\"X\"),1,0)","v":0},null,{"$f":"IF(AND('Step 2 - Ornamental'!$AA$17=\"X\",AW328=\"X\"),1,0)","v":0},"X",{"$f":"IF(AND('Step 2 - Ornamental'!$AB$17=\"X\",AY328=\"X\"),1,0)","v":0},null,{"$f":"IF(AND('Step 2 - Ornamental'!$AC$17=\"X\",BA328=\"X\"),1,0)","v":0},null,{"$f":"IF(AND('Step 2 - Ornamental'!$AA$22=\"X\",BC328=\"X\"),1,0)","v":0},null,{"$f":"IF(AND('Step 2 - Ornamental'!$AB$22=\"X\",BE328=\"X\"),1,0)","v":0},null,{"$f":"IF(AND('Step 2 - Ornamental'!$AC$22=\"X\",BG328=\"X\"),1,0)","v":0},"X",{"$f":"IF(AND('Step 2 - Ornamental'!$AD$22=\"X\",BI328=\"X\"),1,0)","v":0},"X",null,null,null,null,null,null,null,"Yellow Red Rays / 2.0'-3.0'"]
[null,1,"HE MO","Helianthus mollis","Downy Sunflower","18\" O.C.","tall (3-4') plant with yellow sunflowers in Aug-Sept.",null,"X",null,null,null,null,1,"X",{"$f":"IF(AND('Step 2 - Ornamental'!$AA$21=\"X\",Q329=\"X\"),1,0)","v":0},null,{"$f":"IF(AND('Step 2 - Ornamental'!$AB$21=\"X\",S329=\"X\"),1,0)","v":0},null,{"$f":"IF(AND('Step 2 - Ornamental'!$AC$21=\"X\",U329=\"X\"),1,0)","v":0},null,{"$f":"IF(AND('Step 2 - Ornamental'!$AA$19=\"X\",W329=\"X\"),1,0)","v":0},"X",{"$f":"IF(AND('Step 2 - Ornamental'!$AA$19=\"X\",Y329=\"X\"),1,0)","v":0},null,{"$f":"IF(AND('Step 2 - Ornamental'!$AB$19=\"X\",AA329=\"X\"),1,0)","v":0},null,{"$f":"IF(AND('Step 2 - Ornamental'!$AC$19=\"X\",AC329=\"X\"),1,0)","v":0},null,{"$f":"IF(AND('Step 2 - Ornamental'!$AA$20=\"X\",AE329=\"X\"),1,0)","v":0},"X",{"$f":"IF(AND('Step 2 - Ornamental'!$AA$20=\"X\",AG329=\"X\"),1,0)","v":0},null,{"$f":"IF(AND('Step 2 - Ornamental'!$AB$20=\"X\",AI329=\"X\"),1,0)","v":0},null,{"$f":"IF(AND('Step 2 - Ornamental'!$AC$20=\"X\",AK329=\"X\"),1,0)","v":0},null,{"$f":"IF(AND('Step 2 - Ornamental'!$AA$18=\"X\",AM329=\"X\"),1,0)","v":0},"X",{"$f":"IF(AND('Step 2 - Ornamental'!$AB$18=\"X\",AO329=\"X\"),1,0)","v":0},null,{"$f":"IF(AND('Step 2 - Ornamental'!$AC$18=\"X\",AQ329=\"X\"),1,0)","v":0},null,{"$f":"IF(AND('Step 2 - Ornamental'!$AD$18=\"X\",AS329=\"X\"),1,0)","v":0},null,{"$f":"IF(AND('Step 2 - Ornamental'!$AE$18=\"X\",AU329=\"X\"),1,0)","v":0},null,{"$f":"IF(AND('Step 2 - Ornamental'!$AA$17=\"X\",AW329=\"X\"),1,0)","v":0},"X",{"$f":"IF(AND('Step 2 - Ornamental'!$AB$17=\"X\",AY329=\"X\"),1,0)","v":0},null,{"$f":"IF(AND('Step 2 - Ornamental'!$AC$17=\"X\",BA329=\"X\"),1,0)","v":0},null,{"$f":"IF(AND('Step 2 - Ornamental'!$AA$22=\"X\",BC329=\"X\"),1,0)","v":0},null,{"$f":"IF(AND('Step 2 - Ornamental'!$AB$22=\"X\",BE329=\"X\"),1,0)","v":0},"X",{"$f":"IF(AND('Step 2 - Ornamental'!$AC$22=\"X\",BG329=\"X\"),1,0)","v":0},"X",{"$f":"IF(AND('Step 2 - Ornamental'!$AD$22=\"X\",BI329=\"X\"),1,0)","v":0},"X",null,null,null,null,null,null,"Yellow/ 2.0'-4.0'"]
[null,1,"HE HE","Heliopsis helianthoides 'Prairie Sunset'","Prairie Sunset False Sunflower","30\" O.C.","purple stems/veined foliage, reddish maroon petal ring",null,"X","X",null,null,null,0,null,{"$f":"IF(AND('Step 2 - Ornamental'!$AA$21=\"X\",Q330=\"X\"),1,0)","v":0},"X",{"$f":"IF(AND('Step 2 - Ornamental'!$AB$21=\"X\",S330=\"X\"),1,0)","v":0},"X",{"$f":"IF(AND('Step 2 - Ornamental'!$AC$21=\"X\",U330=\"X\"),1,0)","v":0},"X",{"$f":"IF(AND('Step 2 - Ornamental'!$AA$19=\"X\",W330=\"X\"),1,0)","v":0},null,{"$f":"IF(AND('Step 2 - Ornamental'!$AA$19=\"X\",Y330=\"X\"),1,0)","v":0},"X",{"$f":"IF(AND('Step 2 - Ornamental'!$AB$19=\"X\",AA330=\"X\"),1,0)","v":0},"X",{"$f":"IF(AND('Step 2 - Ornamental'!$AC$19=\"X\",AC330=\"X\"),1,0)","v":0},null,{"$f":"IF(AND('Step 2 - Ornamental'!$AA$20=\"X\",AE330=\"X\"),1,0)","v":0},null,{"$f":"IF(AND('Step 2 - Ornamental'!$AA$20=\"X\",AG330=\"X\"),1,0)","v":0},"X",{"$f":"IF(AND('Step 2 - Ornamental'!$AB$20=\"X\",AI330=\"X\"),1,0)","v":0},null,{"$f":"IF(AND('Step 2 - Ornamental'!$AC$20=\"X\",AK330=\"X\"),1,0)","v":0},null,{"$f":"IF(AND('Step 2 - Ornamental'!$AA$18=\"X\",AM330=\"X\"),1,0)","v":0},"X",{"$f":"IF(AND('Step 2 - Ornamental'!$AB$18=\"X\",AO330=\"X\"),1,0)","v":0},"X",{"$f":"IF(AND('Step 2 - Ornamental'!$AC$18=\"X\",AQ330=\"X\"),1,0)","v":0},null,{"$f":"IF(AND('Step 2 - Ornamental'!$AD$18=\"X\",AS330=\"X\"),1,0)","v":0},null,{"$f":"IF(AND('Step 2 - Ornamental'!$AE$18=\"X\",AU330=\"X\"),1,0)","v":0},null,{"$f":"IF(AND('Step 2 - Ornamental'!$AA$17=\"X\",AW330=\"X\"),1,0)","v":0},"X",{"$f":"IF(AND('Step 2 - Ornamental'!$AB$17=\"X\",AY330=\"X\"),1,0)","v":0},null,{"$f":"IF(AND('Step 2 - Ornamental'!$AC$17=\"X\",BA330=\"X\"),1,0)","v":0},null,{"$f":"IF(AND('Step 2 - Ornamental'!$AA$22=\"X\",BC330=\"X\"),1,0)","v":0},null,{"$f":"IF(AND('Step 2 - Ornamental'!$AB$22=\"X\",BE330=\"X\"),1,0)","v":0},"X",{"$f":"IF(AND('Step 2 - Ornamental'!$AC$22=\"X\",BG330=\"X\"),1,0)","v":0},"X",{"$f":"IF(AND('Step 2 - Ornamental'!$AD$22=\"X\",BI330=\"X\"),1,0)","v":0},"X",null,null,null,null,null,"Yellow w/ Maroon Basal / 3.0'-5.0'"]
[null,1,"HM CA","Hemerocallis 'Chicago Apache'","Chicago Apache Day Lily","24\" O.C.","red flowering, 24\" high","X",null,null,null,"X",null,0,null,{"$f":"IF(AND('Step 2 - Ornamental'!$AA$21=\"X\",Q331=\"X\"),1,0)","v":0},"X",{"$f":"IF(AND('Step 2 - Ornamental'!$AB$21=\"X\",S331=\"X\"),1,0)","v":0},"X",{"$f":"IF(AND('Step 2 - Ornamental'!$AC$21=\"X\",U331=\"X\"),1,0)","v":0},"X",{"$f":"IF(AND('Step 2 - Ornamental'!$AA$19=\"X\",W331=\"X\"),1,0)","v":0},null,{"$f":"IF(AND('Step 2 - Ornamental'!$AA$19=\"X\",Y331=\"X\"),1,0)","v":0},"X",{"$f":"IF(AND('Step 2 - Ornamental'!$AB$19=\"X\",AA331=\"X\"),1,0)","v":0},null,{"$f":"IF(AND('Step 2 - Ornamental'!$AC$19=\"X\",AC331=\"X\"),1,0)","v":0},null,{"$f":"IF(AND('Step 2 - Ornamental'!$AA$20=\"X\",AE331=\"X\"),1,0)","v":0},"X",{"$f":"IF(AND('Step 2 - Ornamental'!$AA$20=\"X\",AG331=\"X\"),1,0)","v":0},null,{"$f":"IF(AND('Step 2 - Ornamental'!$AB$20=\"X\",AI331=\"X\"),1,0)","v":0},null,{"$f":"IF(AND('Step 2 - Ornamental'!$AC$20=\"X\",AK331=\"X\"),1,0)","v":0},null,{"$f":"IF(AND('Step 2 - Ornamental'!$AA$18=\"X\",AM331=\"X\"),1,0)","v":0}," ",{"$f":"IF(AND('Step 2 - Ornamental'!$AB$18=\"X\",AO331=\"X\"),1,0)","v":0},"X",{"$f":"IF(AND('Step 2 - Ornamental'!$AC$18=\"X\",AQ331=\"X\"),1,0)","v":0}," ",{"$f":"IF(AND('Step 2 - Ornamental'!$AD$18=\"X\",AS331=\"X\"),1,0)","v":0},null,{"$f":"IF(AND('Step 2 - Ornamental'!$AE$18=\"X\",AU331=\"X\"),1,0)","v":0},null,{"$f":"IF(AND('Step 2 - Ornamental'!$AA$17=\"X\",AW331=\"X\"),1,0)","v":0},"X",{"$f":"IF(AND('Step 2 - Ornamental'!$AB$17=\"X\",AY331=\"X\"),1,0)","v":0},"X",{"$f":"IF(AND('Step 2 - Ornamental'!$AC$17=\"X\",BA331=\"X\"),1,0)","v":0},null,{"$f":"IF(AND('Step 2 - Ornamental'!$AA$22=\"X\",BC331=\"X\"),1,0)","v":0},null,{"$f":"IF(AND('Step 2 - Ornamental'!$AB$22=\"X\",BE331=\"X\"),1,0)","v":0},null,{"$f":"IF(AND('Step 2 - Ornamental'!$AC$22=\"X\",BG331=\"X\"),1,0)","v":0},"X",{"$f":"IF(AND('Step 2 - Ornamental'!$AD$22=\"X\",BI331=\"X\"),1,0)","v":0},"X",null,null,null,null,null,null,"Scarlet / 2.0'-3.0'"]
[null,1,"HM HR","Hemerocallis 'Happy Returns'","Happy Returns Day Lilly","24\" O.C.","re-blooming, lemon-yellow flowers, 18\" high","X",null,null,null,"X",null,0,null,{"$f":"IF(AND('Step 2 - Ornamental'!$AA$21=\"X\",Q332=\"X\"),1,0)","v":0},"X",{"$f":"IF(AND('Step 2 - Ornamental'!$AB$21=\"X\",S332=\"X\"),1,0)","v":0},"X",{"$f":"IF(AND('Step 2 - Ornamental'!$AC$21=\"X\",U332=\"X\"),1,0)","v":0},"X",{"$f":"IF(AND('Step 2 - Ornamental'!$AA$19=\"X\",W332=\"X\"),1,0)","v":0},null,{"$f":"IF(AND('Step 2 - Ornamental'!$AA$19=\"X\",Y332=\"X\"),1,0)","v":0},"X",{"$f":"IF(AND('Step 2 - Ornamental'!$AB$19=\"X\",AA332=\"X\"),1,0)","v":0},null,{"$f":"IF(AND('Step 2 - Ornamental'!$AC$19=\"X\",AC332=\"X\"),1,0)","v":0},null,{"$f":"IF(AND('Step 2 - Ornamental'!$AA$20=\"X\",AE332=\"X\"),1,0)","v":0},"X",{"$f":"IF(AND('Step 2 - Ornamental'!$AA$20=\"X\",AG332=\"X\"),1,0)","v":0},null,{"$f":"IF(AND('Step 2 - Ornamental'!$AB$20=\"X\",AI332=\"X\"),1,0)","v":0},null,{"$f":"IF(AND('Step 2 - Ornamental'!$AC$20=\"X\",AK332=\"X\"),1,0)","v":0},null,{"$f":"IF(AND('Step 2 - Ornamental'!$AA$18=\"X\",AM332=\"X\"),1,0)","v":0}," ",{"$f":"IF(AND('Step 2 - Ornamental'!$AB$18=\"X\",AO332=\"X\"),1,0)","v":0},"X",{"$f":"IF(AND('Step 2 - Ornamental'!$AC$18=\"X\",AQ332=\"X\"),1,0)","v":0}," ",{"$f":"IF(AND('Step 2 - Ornamental'!$AD$18=\"X\",AS332=\"X\"),1,0)","v":0},null,{"$f":"IF(AND('Step 2 - Ornamental'!$AE$18=\"X\",AU332=\"X\"),1,0)","v":0},null,{"$f":"IF(AND('Step 2 - Ornamental'!$AA$17=\"X\",AW332=\"X\"),1,0)","v":0},"X",{"$f":"IF(AND('Step 2 - Ornamental'!$AB$17=\"X\",AY332=\"X\"),1,0)","v":0},"X",{"$f":"IF(AND('Step 2 - Ornamental'!$AC$17=\"X\",BA332=\"X\"),1,0)","v":0},null,{"$f":"IF(AND('Step 2 - Ornamental'!$AA$22=\"X\",BC332=\"X\"),1,0)","v":0},null,{"$f":"IF(AND('Step 2 - Ornamental'!$AB$22=\"X\",BE332=\"X\"),1,0)","v":0},null,{"$f":"IF(AND('Step 2 - Ornamental'!$AC$22=\"X\",BG332=\"X\"),1,0)","v":0},"X",{"$f":"IF(AND('Step 2 - Ornamental'!$AD$22=\"X\",BI332=\"X\"),1,0)","v":0},"X",null,null,null,null,null,"Lemon Yellow / 1.0'-1.5'"]
[null,{"$f":"SUM((N333+P333+R333+T333)*(V333+X333+Z333+AB333)*(AD333+AF333+AH333+AJ333)*(AL333+AN333+AP333+AR333+AT333)*(AV333+AX333+AZ333)*(BB333+BD333+BF333+BH333))+1","v":1},"HM JS","Hemerocallis 'Joan Senior'","Joan Senior Day Lily","24\" O.C.","near white flower with lime green throat,","X",null,null,null,"X",null,0,null,{"$f":"IF(AND('Step 2 - Ornamental'!$AA$21=\"X\",Q333=\"X\"),1,0)","v":0},"X",{"$f":"IF(AND('Step 2 - Ornamental'!$AB$21=\"X\",S333=\"X\"),1,0)","v":0},"X",{"$f":"IF(AND('Step 2 - Ornamental'!$AC$21=\"X\",U333=\"X\"),1,0)","v":0},"X",{"$f":"IF(AND('Step 2 - Ornamental'!$AA$19=\"X\",W333=\"X\"),1,0)","v":0},null,{"$f":"IF(AND('Step 2 - Ornamental'!$AA$19=\"X\",Y333=\"X\"),1,0)","v":0},"X",{"$f":"IF(AND('Step 2 - Ornamental'!$AB$19=\"X\",AA333=\"X\"),1,0)","v":0},null,{"$f":"IF(AND('Step 2 - Ornamental'!$AC$19=\"X\",AC333=\"X\"),1,0)","v":0},null,{"$f":"IF(AND('Step 2 - Ornamental'!$AA$20=\"X\",AE333=\"X\"),1,0)","v":0},"X",{"$f":"IF(AND('Step 2 - Ornamental'!$AA$20=\"X\",AG333=\"X\"),1,0)","v":0},null,{"$f":"IF(AND('Step 2 - Ornamental'!$AB$20=\"X\",AI333=\"X\"),1,0)","v":0},null,{"$f":"IF(AND('Step 2 - Ornamental'!$AC$20=\"X\",AK333=\"X\"),1,0)","v":0},null,{"$f":"IF(AND('Step 2 - Ornamental'!$AA$18=\"X\",AM333=\"X\"),1,0)","v":0},null,{"$f":"IF(AND('Step 2 - Ornamental'!$AB$18=\"X\",AO333=\"X\"),1,0)","v":0},"X",{"$f":"IF(AND('Step 2 - Ornamental'!$AC$18=\"X\",AQ333=\"X\"),1,0)","v":0},null,{"$f":"IF(AND('Step 2 - Ornamental'!$AD$18=\"X\",AS333=\"X\"),1,0)","v":0},null,{"$f":"IF(AND('Step 2 - Ornamental'!$AE$18=\"X\",AU333=\"X\"),1,0)","v":0},null,{"$f":"IF(AND('Step 2 - Ornamental'!$AA$17=\"X\",AW333=\"X\"),1,0)","v":0},"X",{"$f":"IF(AND('Step 2 - Ornamental'!$AB$17=\"X\",AY333=\"X\"),1,0)","v":0},"X",{"$f":"IF(AND('Step 2 - Ornamental'!$AC$17=\"X\",BA333=\"X\"),1,0)","v":0},null,{"$f":"IF(AND('Step 2 - Ornamental'!$AA$22=\"X\",BC333=\"X\"),1,0)","v":0},null,{"$f":"IF(AND('Step 2 - Ornamental'!$AB$22=\"X\",BE333=\"X\"),1,0)","v":0},null,{"$f":"IF(AND('Step 2 - Ornamental'!$AC$22=\"X\",BG333=\"X\"),1,0)","v":0},"X",{"$f":"IF(AND('Step 2 - Ornamental'!$AD$22=\"X\",BI333=\"X\"),1,0)","v":0},"X",null,null,null,null,"Cream White / 1.5'-2.0'"]
[null,1,"HM LG","Hemerocallis 'Little Grapette'","Little Grapette Day Lilly","12\" O.C.","dwarf with purple flowers, 16\" tall","X",null,null,null,"X",null,{"$f":"IF(O334=\"X\",1,0)","v":0},null,{"$f":"IF(AND('Step 2 - Ornamental'!$AA$21=\"X\",Q334=\"X\"),1,0)","v":0},"X",{"$f":"IF(AND('Step 2 - Ornamental'!$AB$21=\"X\",S334=\"X\"),1,0)","v":0},"X",{"$f":"IF(AND('Step 2 - Ornamental'!$AC$21=\"X\",U334=\"X\"),1,0)","v":0},"X",{"$f":"IF(AND('Step 2 - Ornamental'!$AA$19=\"X\",W334=\"X\"),1,0)","v":0},null,{"$f":"IF(AND('Step 2 - Ornamental'!$AA$19=\"X\",Y334=\"X\"),1,0)","v":0},"X",{"$f":"IF(AND('Step 2 - Ornamental'!$AB$19=\"X\",AA334=\"X\"),1,0)","v":0},null,{"$f":"IF(AND('Step 2 - Ornamental'!$AC$19=\"X\",AC334=\"X\"),1,0)","v":0},null,{"$f":"IF(AND('Step 2 - Ornamental'!$AA$20=\"X\",AE334=\"X\"),1,0)","v":0},"X",{"$f":"IF(AND('Step 2 - Ornamental'!$AA$20=\"X\",AG334=\"X\"),1,0)","v":0},null,{"$f":"IF(AND('Step 2 - Ornamental'!$AB$20=\"X\",AI334=\"X\"),1,0)","v":0},null,{"$f":"IF(AND('Step 2 - Ornamental'!$AC$20=\"X\",AK334=\"X\"),1,0)","v":0},null,{"$f":"IF(AND('Step 2 - Ornamental'!$AA$18=\"X\",AM334=\"X\"),1,0)","v":0},null,{"$f":"IF(AND('Step 2 - Ornamental'!$AB$18=\"X\",AO334=\"X\"),1,0)","v":0},"X",{"$f":"IF(AND('Step 2 - Ornamental'!$AC$18=\"X\",AQ334=\"X\"),1,0)","v":0},null,{"$f":"IF(AND('Step 2 - Ornamental'!$AD$18=\"X\",AS334=\"X\"),1,0)","v":0},null,{"$f":"IF(AND('Step 2 - Ornamental'!$AE$18=\"X\",AU334=\"X\"),1,0)","v":0},null,{"$f":"IF(AND('Step 2 - Ornamental'!$AA$17=\"X\",AW334=\"X\"),1,0)","v":0},"X",{"$f":"IF(AND('Step 2 - Ornamental'!$AB$17=\"X\",AY334=\"X\"),1,0)","v":0},"X",{"$f":"IF(AND('Step 2 - Ornamental'!$AC$17=\"X\",BA334=\"X\"),1,0)","v":0},null,{"$f":"IF(AND('Step 2 - Ornamental'!$AA$22=\"X\",BC334=\"X\"),1,0)","v":0},null,{"$f":"IF(AND('Step 2 - Ornamental'!$AB$22=\"X\",BE334=\"X\"),1,0)","v":0},null,{"$f":"IF(AND('Step 2 - Ornamental'!$AC$22=\"X\",BG334=\"X\"),1,0)","v":0},"X",{"$f":"IF(AND('Step 2 - Ornamental'!$AD$22=\"X\",BI334=\"X\"),1,0)","v":0},"X",null,null,null,null,null,"Maroon Purpler /  1.0'-1.5'"]
[null,1,"HM LA","Hemerocallis lilioasphodelus","Lemon Daylily","18\" O.C.","Early flowering, tall daylilly - 36\", with fragrant flowers","X",null,null,null,"X",null,0,null,{"$f":"IF(AND('Step 2 - Ornamental'!$AA$21=\"X\",Q335=\"X\"),1,0)","v":0},"X",{"$f":"IF(AND('Step 2 - Ornamental'!$AB$21=\"X\",S335=\"X\"),1,0)","v":0},"X",{"$f":"IF(AND('Step 2 - Ornamental'!$AC$21=\"X\",U335=\"X\"),1,0)","v":0},"X",{"$f":"IF(AND('Step 2 - Ornamental'!$AA$19=\"X\",W335=\"X\"),1,0)","v":0},null,{"$f":"IF(AND('Step 2 - Ornamental'!$AA$19=\"X\",Y335=\"X\"),1,0)","v":0},"X",{"$f":"IF(AND('Step 2 - Ornamental'!$AB$19=\"X\",AA335=\"X\"),1,0)","v":0},null,{"$f":"IF(AND('Step 2 - Ornamental'!$AC$19=\"X\",AC335=\"X\"),1,0)","v":0},null,{"$f":"IF(AND('Step 2 - Ornamental'!$AA$20=\"X\",AE335=\"X\"),1,0)","v":0},"X",{"$f":"IF(AND('Step 2 - Ornamental'!$AA$20=\"X\",AG335=\"X\"),1,0)","v":0},null,{"$f":"IF(AND('Step 2 - Ornamental'!$AB$20=\"X\",AI335=\"X\"),1,0)","v":0},null,{"$f":"IF(AND('Step 2 - Ornamental'!$AC$20=\"X\",AK335=\"X\"),1,0)","v":0},null,{"$f":"IF(AND('Step 2 - Ornamental'!$AA$18=\"X\",AM335=\"X\"),1,0)","v":0},null,{"$f":"IF(AND('Step 2 - Ornamental'!$AB$18=\"X\",AO335=\"X\"),1,0)","v":0},"X",{"$f":"IF(AND('Step 2 - Ornamental'!$AC$18=\"X\",AQ335=\"X\"),1,0)","v":0},null,{"$f":"IF(AND('Step 2 - Ornamental'!$AD$18=\"X\",AS335=\"X\"),1,0)","v":0},null,{"$f":"IF(AND('Step 2 - Ornamental'!$AE$18=\"X\",AU335=\"X\"),1,0)","v":0},null,{"$f":"IF(AND('Step 2 - Ornamental'!$AA$17=\"X\",AW335=\"X\"),1,0)","v":0},"X",{"$f":"IF(AND('Step 2 - Ornamental'!$AB$17=\"X\",AY335=\"X\"),1,0)","v":0},"X",{"$f":"IF(AND('Step 2 - Ornamental'!$AC$17=\"X\",BA335=\"X\"),1,0)","v":0},null,{"$f":"IF(AND('Step 2 - Ornamental'!$AA$22=\"X\",BC335=\"X\"),1,0)","v":0},null,{"$f":"IF(AND('Step 2 - Ornamental'!$AB$22=\"X\",BE335=\"X\"),1,0)","v":0},null,{"$f":"IF(AND('Step 2 - Ornamental'!$AC$22=\"X\",BG335=\"X\"),1,0)","v":0},"X",{"$f":"IF(AND('Step 2 - Ornamental'!$AD$22=\"X\",BI335=\"X\"),1,0)","v":0},"X",null,null,null,null,"Yellow / 2.0'-3.0'"]
[null,1,"HC PP","Heuchera micrantha var. diversifolia 'Palace Purple'","Palace Purple Coral Bell","18\" O.C.","dark purple foliage","X",null,null,null,null,null,0,null,{"$f":"IF(AND('Step 2 - Ornamental'!$AA$21=\"X\",Q336=\"X\"),1,0)","v":0},"X",{"$f":"IF(AND('Step 2 - Ornamental'!$AB$21=\"X\",S336=\"X\"),1,0)","v":0},"X",{"$f":"IF(AND('Step 2 - Ornamental'!$AC$21=\"X\",U336=\"X\"),1,0)","v":0},"X",{"$f":"IF(AND('Step 2 - Ornamental'!$AA$19=\"X\",W336=\"X\"),1,0)","v":0},null,{"$f":"IF(AND('Step 2 - Ornamental'!$AA$19=\"X\",Y336=\"X\"),1,0)","v":0},"X",{"$f":"IF(AND('Step 2 - Ornamental'!$AB$19=\"X\",AA336=\"X\"),1,0)","v":0},null,{"$f":"IF(AND('Step 2 - Ornamental'!$AC$19=\"X\",AC336=\"X\"),1,0)","v":0},null,{"$f":"IF(AND('Step 2 - Ornamental'!$AA$20=\"X\",AE336=\"X\"),1,0)","v":0},"X",{"$f":"IF(AND('Step 2 - Ornamental'!$AA$20=\"X\",AG336=\"X\"),1,0)","v":0},null,{"$f":"IF(AND('Step 2 - Ornamental'!$AB$20=\"X\",AI336=\"X\"),1,0)","v":0},null,{"$f":"IF(AND('Step 2 - Ornamental'!$AC$20=\"X\",AK336=\"X\"),1,0)","v":0},null,{"$f":"IF(AND('Step 2 - Ornamental'!$AA$18=\"X\",AM336=\"X\"),1,0)","v":0},null,{"$f":"IF(AND('Step 2 - Ornamental'!$AB$18=\"X\",AO336=\"X\"),1,0)","v":0},"X",{"$f":"IF(AND('Step 2 - Ornamental'!$AC$18=\"X\",AQ336=\"X\"),1,0)","v":0},null,{"$f":"IF(AND('Step 2 - Ornamental'!$AD$18=\"X\",AS336=\"X\"),1,0)","v":0},null,{"$f":"IF(AND('Step 2 - Ornamental'!$AE$18=\"X\",AU336=\"X\"),1,0)","v":0},null,{"$f":"IF(AND('Step 2 - Ornamental'!$AA$17=\"X\",AW336=\"X\"),1,0)","v":0},"X",{"$f":"IF(AND('Step 2 - Ornamental'!$AB$17=\"X\",AY336=\"X\"),1,0)","v":0},"X",{"$f":"IF(AND('Step 2 - Ornamental'!$AC$17=\"X\",BA336=\"X\"),1,0)","v":0},null,{"$f":"IF(AND('Step 2 - Ornamental'!$AA$22=\"X\",BC336=\"X\"),1,0)","v":0},null,{"$f":"IF(AND('Step 2 - Ornamental'!$AB$22=\"X\",BE336=\"X\"),1,0)","v":0},null,{"$f":"IF(AND('Step 2 - Ornamental'!$AC$22=\"X\",BG336=\"X\"),1,0)","v":0},"X",{"$f":"IF(AND('Step 2 - Ornamental'!$AD$22=\"X\",BI336=\"X\"),1,0)","v":0},"X",null,null,null,null,null,"bluish white / 1.0'-2.0'"]
[null,1,"HC AB","Heuchera villosa 'Autumn Bride'","Autumn Bride Coral Bell","18\" O.C.","light green leaf with showy flower",null,"X",null,null,null,null,0,null,{"$f":"IF(AND('Step 2 - Ornamental'!$AA$21=\"X\",Q337=\"X\"),1,0)","v":0},"X",{"$f":"IF(AND('Step 2 - Ornamental'!$AB$21=\"X\",S337=\"X\"),1,0)","v":0},"X",{"$f":"IF(AND('Step 2 - Ornamental'!$AC$21=\"X\",U337=\"X\"),1,0)","v":0},"X",{"$f":"IF(AND('Step 2 - Ornamental'!$AA$19=\"X\",W337=\"X\"),1,0)","v":0},null,{"$f":"IF(AND('Step 2 - Ornamental'!$AA$19=\"X\",Y337=\"X\"),1,0)","v":0},"X",{"$f":"IF(AND('Step 2 - Ornamental'!$AB$19=\"X\",AA337=\"X\"),1,0)","v":0},null,{"$f":"IF(AND('Step 2 - Ornamental'!$AC$19=\"X\",AC337=\"X\"),1,0)","v":0},null,{"$f":"IF(AND('Step 2 - Ornamental'!$AA$20=\"X\",AE337=\"X\"),1,0)","v":0},"X",{"$f":"IF(AND('Step 2 - Ornamental'!$AA$20=\"X\",AG337=\"X\"),1,0)","v":0},null,{"$f":"IF(AND('Step 2 - Ornamental'!$AB$20=\"X\",AI337=\"X\"),1,0)","v":0},null,{"$f":"IF(AND('Step 2 - Ornamental'!$AC$20=\"X\",AK337=\"X\"),1,0)","v":0},null,{"$f":"IF(AND('Step 2 - Ornamental'!$AA$18=\"X\",AM337=\"X\"),1,0)","v":0},null,{"$f":"IF(AND('Step 2 - Ornamental'!$AB$18=\"X\",AO337=\"X\"),1,0)","v":0},"X",{"$f":"IF(AND('Step 2 - Ornamental'!$AC$18=\"X\",AQ337=\"X\"),1,0)","v":0},null,{"$f":"IF(AND('Step 2 - Ornamental'!$AD$18=\"X\",AS337=\"X\"),1,0)","v":0},null,{"$f":"IF(AND('Step 2 - Ornamental'!$AE$18=\"X\",AU337=\"X\"),1,0)","v":0},null,{"$f":"IF(AND('Step 2 - Ornamental'!$AA$17=\"X\",AW337=\"X\"),1,0)","v":0},"X",{"$f":"IF(AND('Step 2 - Ornamental'!$AB$17=\"X\",AY337=\"X\"),1,0)","v":0},"X",{"$f":"IF(AND('Step 2 - Ornamental'!$AC$17=\"X\",BA337=\"X\"),1,0)","v":0},null,{"$f":"IF(AND('Step 2 - Ornamental'!$AA$22=\"X\",BC337=\"X\"),1,0)","v":0},null,{"$f":"IF(AND('Step 2 - Ornamental'!$AB$22=\"X\",BE337=\"X\"),1,0)","v":0},null,{"$f":"IF(AND('Step 2 - Ornamental'!$AC$22=\"X\",BG337=\"X\"),1,0)","v":0},"X",{"$f":"IF(AND('Step 2 - Ornamental'!$AD$22=\"X\",BI337=\"X\"),1,0)","v":0},"X",null,null,null,null,null,null,null,"White / 1.5'-3.0'"]
[null,1,"HC CM","Heuchera villosa 'Caramel'","Caramel Coral Bell","18\" O.C.","apricot colored foliage",null,"X",null,null,null,null,0,null,{"$f":"IF(AND('Step 2 - Ornamental'!$AA$21=\"X\",Q338=\"X\"),1,0)","v":0},"X",{"$f":"IF(AND('Step 2 - Ornamental'!$AB$21=\"X\",S338=\"X\"),1,0)","v":0},"X",{"$f":"IF(AND('Step 2 - Ornamental'!$AC$21=\"X\",U338=\"X\"),1,0)","v":0},"X",{"$f":"IF(AND('Step 2 - Ornamental'!$AA$19=\"X\",W338=\"X\"),1,0)","v":0},null,{"$f":"IF(AND('Step 2 - Ornamental'!$AA$19=\"X\",Y338=\"X\"),1,0)","v":0},"X",{"$f":"IF(AND('Step 2 - Ornamental'!$AB$19=\"X\",AA338=\"X\"),1,0)","v":0},null,{"$f":"IF(AND('Step 2 - Ornamental'!$AC$19=\"X\",AC338=\"X\"),1,0)","v":0},null,{"$f":"IF(AND('Step 2 - Ornamental'!$AA$20=\"X\",AE338=\"X\"),1,0)","v":0},"X",{"$f":"IF(AND('Step 2 - Ornamental'!$AA$20=\"X\",AG338=\"X\"),1,0)","v":0},null,{"$f":"IF(AND('Step 2 - Ornamental'!$AB$20=\"X\",AI338=\"X\"),1,0)","v":0},null,{"$f":"IF(AND('Step 2 - Ornamental'!$AC$20=\"X\",AK338=\"X\"),1,0)","v":0},null,{"$f":"IF(AND('Step 2 - Ornamental'!$AA$18=\"X\",AM338=\"X\"),1,0)","v":0},null,{"$f":"IF(AND('Step 2 - Ornamental'!$AB$18=\"X\",AO338=\"X\"),1,0)","v":0},"X",{"$f":"IF(AND('Step 2 - Ornamental'!$AC$18=\"X\",AQ338=\"X\"),1,0)","v":0},null,{"$f":"IF(AND('Step 2 - Ornamental'!$AD$18=\"X\",AS338=\"X\"),1,0)","v":0},null,{"$f":"IF(AND('Step 2 - Ornamental'!$AE$18=\"X\",AU338=\"X\"),1,0)","v":0},null,{"$f":"IF(AND('Step 2 - Ornamental'!$AA$17=\"X\",AW338=\"X\"),1,0)","v":0},"X",{"$f":"IF(AND('Step 2 - Ornamental'!$AB$17=\"X\",AY338=\"X\"),1,0)","v":0},"X",{"$f":"IF(AND('Step 2 - Ornamental'!$AC$17=\"X\",BA338=\"X\"),1,0)","v":0},null,{"$f":"IF(AND('Step 2 - Ornamental'!$AA$22=\"X\",BC338=\"X\"),1,0)","v":0},null,{"$f":"IF(AND('Step 2 - Ornamental'!$AB$22=\"X\",BE338=\"X\"),1,0)","v":0},null,{"$f":"IF(AND('Step 2 - Ornamental'!$AC$22=\"X\",BG338=\"X\"),1,0)","v":0},"X",{"$f":"IF(AND('Step 2 - Ornamental'!$AD$22=\"X\",BI338=\"X\"),1,0)","v":0},"X",null,null,null,null,null,"Light Pink / 0.75'-1.5'"]
[null,1,"HO GU","Hosta 'Guacamole'","Guacamole Hosta","36\" O.C.","guacamole green foliage,","X",null,null,null,null,null,0,null,{"$f":"IF(AND('Step 2 - Ornamental'!$AA$21=\"X\",Q339=\"X\"),1,0)","v":0},"X",{"$f":"IF(AND('Step 2 - Ornamental'!$AB$21=\"X\",S339=\"X\"),1,0)","v":0},"X",{"$f":"IF(AND('Step 2 - Ornamental'!$AC$21=\"X\",U339=\"X\"),1,0)","v":0},"X",{"$f":"IF(AND('Step 2 - Ornamental'!$AA$19=\"X\",W339=\"X\"),1,0)","v":0},null,{"$f":"IF(AND('Step 2 - Ornamental'!$AA$19=\"X\",Y339=\"X\"),1,0)","v":0},"X",{"$f":"IF(AND('Step 2 - Ornamental'!$AB$19=\"X\",AA339=\"X\"),1,0)","v":0},null,{"$f":"IF(AND('Step 2 - Ornamental'!$AC$19=\"X\",AC339=\"X\"),1,0)","v":0},null,{"$f":"IF(AND('Step 2 - Ornamental'!$AA$20=\"X\",AE339=\"X\"),1,0)","v":0},null,{"$f":"IF(AND('Step 2 - Ornamental'!$AA$20=\"X\",AG339=\"X\"),1,0)","v":0},"X",{"$f":"IF(AND('Step 2 - Ornamental'!$AB$20=\"X\",AI339=\"X\"),1,0)","v":0},"X",{"$f":"IF(AND('Step 2 - Ornamental'!$AC$20=\"X\",AK339=\"X\"),1,0)","v":0},null,{"$f":"IF(AND('Step 2 - Ornamental'!$AA$18=\"X\",AM339=\"X\"),1,0)","v":0},null,{"$f":"IF(AND('Step 2 - Ornamental'!$AB$18=\"X\",AO339=\"X\"),1,0)","v":0},"X",{"$f":"IF(AND('Step 2 - Ornamental'!$AC$18=\"X\",AQ339=\"X\"),1,0)","v":0},null,{"$f":"IF(AND('Step 2 - Ornamental'!$AD$18=\"X\",AS339=\"X\"),1,0)","v":0},null,{"$f":"IF(AND('Step 2 - Ornamental'!$AE$18=\"X\",AU339=\"X\"),1,0)","v":0},null,{"$f":"IF(AND('Step 2 - Ornamental'!$AA$17=\"X\",AW339=\"X\"),1,0)","v":0},null,{"$f":"IF(AND('Step 2 - Ornamental'!$AB$17=\"X\",AY339=\"X\"),1,0)","v":0},"X",{"$f":"IF(AND('Step 2 - Ornamental'!$AC$17=\"X\",BA339=\"X\"),1,0)","v":0},"X",{"$f":"IF(AND('Step 2 - Ornamental'!$AA$22=\"X\",BC339=\"X\"),1,0)","v":0},null,{"$f":"IF(AND('Step 2 - Ornamental'!$AB$22=\"X\",BE339=\"X\"),1,0)","v":0},null,{"$f":"IF(AND('Step 2 - Ornamental'!$AC$22=\"X\",BG339=\"X\"),1,0)","v":0},"X",{"$f":"IF(AND('Step 2 - Ornamental'!$AD$22=\"X\",BI339=\"X\"),1,0)","v":0},"X",null,null,null,null,null,null,"White / 1.0'-1.5'"]
[null,1,"HO KR","Hosta 'Krossa Regal'","Krossa Regal Hosta","24\" O.C.","upright vase-shaped frosty blue leaves","X",null,null,null,null,null,0,null,{"$f":"IF(AND('Step 2 - Ornamental'!$AA$21=\"X\",Q340=\"X\"),1,0)","v":0},"X",{"$f":"IF(AND('Step 2 - Ornamental'!$AB$21=\"X\",S340=\"X\"),1,0)","v":0},"X",{"$f":"IF(AND('Step 2 - Ornamental'!$AC$21=\"X\",U340=\"X\"),1,0)","v":0},"X",{"$f":"IF(AND('Step 2 - Ornamental'!$AA$19=\"X\",W340=\"X\"),1,0)","v":0},null,{"$f":"IF(AND('Step 2 - Ornamental'!$AA$19=\"X\",Y340=\"X\"),1,0)","v":0},"X",{"$f":"IF(AND('Step 2 - Ornamental'!$AB$19=\"X\",AA340=\"X\"),1,0)","v":0},null,{"$f":"IF(AND('Step 2 - Ornamental'!$AC$19=\"X\",AC340=\"X\"),1,0)","v":0},null,{"$f":"IF(AND('Step 2 - Ornamental'!$AA$20=\"X\",AE340=\"X\"),1,0)","v":0},null,{"$f":"IF(AND('Step 2 - Ornamental'!$AA$20=\"X\",AG340=\"X\"),1,0)","v":0},"X",{"$f":"IF(AND('Step 2 - Ornamental'!$AB$20=\"X\",AI340=\"X\"),1,0)","v":0},"X",{"$f":"IF(AND('Step 2 - Ornamental'!$AC$20=\"X\",AK340=\"X\"),1,0)","v":0},null,{"$f":"IF(AND('Step 2 - Ornamental'!$AA$18=\"X\",AM340=\"X\"),1,0)","v":0},null,{"$f":"IF(AND('Step 2 - Ornamental'!$AB$18=\"X\",AO340=\"X\"),1,0)","v":0},"X",{"$f":"IF(AND('Step 2 - Ornamental'!$AC$18=\"X\",AQ340=\"X\"),1,0)","v":0},null,{"$f":"IF(AND('Step 2 - Ornamental'!$AD$18=\"X\",AS340=\"X\"),1,0)","v":0},null,{"$f":"IF(AND('Step 2 - Ornamental'!$AE$18=\"X\",AU340=\"X\"),1,0)","v":0},null,{"$f":"IF(AND('Step 2 - Ornamental'!$AA$17=\"X\",AW340=\"X\"),1,0)","v":0},null,{"$f":"IF(AND('Step 2 - Ornamental'!$AB$17=\"X\",AY340=\"X\"),1,0)","v":0},"X",{"$f":"IF(AND('Step 2 - Ornamental'!$AC$17=\"X\",BA340=\"X\"),1,0)","v":0},"X",{"$f":"IF(AND('Step 2 - Ornamental'!$AA$22=\"X\",BC340=\"X\"),1,0)","v":0},null,{"$f":"IF(AND('Step 2 - Ornamental'!$AB$22=\"X\",BE340=\"X\"),1,0)","v":0},null,{"$f":"IF(AND('Step 2 - Ornamental'!$AC$22=\"X\",BG340=\"X\"),1,0)","v":0},"X",{"$f":"IF(AND('Step 2 - Ornamental'!$AD$22=\"X\",BI340=\"X\"),1,0)","v":0},"X",null,null,null,null,null,null,"Lavender / 3.0'-6.0'"]
[null,1,"HO MA","Hosta 'May'","May Hosta","24\" O.C.","All Golden-yellow foliage,  slug resistant","X",null,null,null,null,null,0,null,{"$f":"IF(AND('Step 2 - Ornamental'!$AA$21=\"X\",Q341=\"X\"),1,0)","v":0},"X",{"$f":"IF(AND('Step 2 - Ornamental'!$AB$21=\"X\",S341=\"X\"),1,0)","v":0},"X",{"$f":"IF(AND('Step 2 - Ornamental'!$AC$21=\"X\",U341=\"X\"),1,0)","v":0},"X",{"$f":"IF(AND('Step 2 - Ornamental'!$AA$19=\"X\",W341=\"X\"),1,0)","v":0},null,{"$f":"IF(AND('Step 2 - Ornamental'!$AA$19=\"X\",Y341=\"X\"),1,0)","v":0},"X",{"$f":"IF(AND('Step 2 - Ornamental'!$AB$19=\"X\",AA341=\"X\"),1,0)","v":0},null,{"$f":"IF(AND('Step 2 - Ornamental'!$AC$19=\"X\",AC341=\"X\"),1,0)","v":0},null,{"$f":"IF(AND('Step 2 - Ornamental'!$AA$20=\"X\",AE341=\"X\"),1,0)","v":0},null,{"$f":"IF(AND('Step 2 - Ornamental'!$AA$20=\"X\",AG341=\"X\"),1,0)","v":0},"X",{"$f":"IF(AND('Step 2 - Ornamental'!$AB$20=\"X\",AI341=\"X\"),1,0)","v":0},"X",{"$f":"IF(AND('Step 2 - Ornamental'!$AC$20=\"X\",AK341=\"X\"),1,0)","v":0},null,{"$f":"IF(AND('Step 2 - Ornamental'!$AA$18=\"X\",AM341=\"X\"),1,0)","v":0},null,{"$f":"IF(AND('Step 2 - Ornamental'!$AB$18=\"X\",AO341=\"X\"),1,0)","v":0},"X",{"$f":"IF(AND('Step 2 - Ornamental'!$AC$18=\"X\",AQ341=\"X\"),1,0)","v":0}," ",{"$f":"IF(AND('Step 2 - Ornamental'!$AD$18=\"X\",AS341=\"X\"),1,0)","v":0},null,{"$f":"IF(AND('Step 2 - Ornamental'!$AE$18=\"X\",AU341=\"X\"),1,0)","v":0},null,{"$f":"IF(AND('Step 2 - Ornamental'!$AA$17=\"X\",AW341=\"X\"),1,0)","v":0},null,{"$f":"IF(AND('Step 2 - Ornamental'!$AB$17=\"X\",AY341=\"X\"),1,0)","v":0},"X",{"$f":"IF(AND('Step 2 - Ornamental'!$AC$17=\"X\",BA341=\"X\"),1,0)","v":0},"X",{"$f":"IF(AND('Step 2 - Ornamental'!$AA$22=\"X\",BC341=\"X\"),1,0)","v":0},null,{"$f":"IF(AND('Step 2 - Ornamental'!$AB$22=\"X\",BE341=\"X\"),1,0)","v":0},null,{"$f":"IF(AND('Step 2 - Ornamental'!$AC$22=\"X\",BG341=\"X\"),1,0)","v":0},"X",{"$f":"IF(AND('Step 2 - Ornamental'!$AD$22=\"X\",BI341=\"X\"),1,0)","v":0},"X",null,null,null,null,null,null,"Lavender / 1.0'-1.5'"]
[null,1,"HO PA","Hosta 'Patriot'","Patriot Hosta","24\" O.C.","white margin with green center,","X",null,null,null,null,null,0,null,{"$f":"IF(AND('Step 2 - Ornamental'!$AA$21=\"X\",Q342=\"X\"),1,0)","v":0},"X",{"$f":"IF(AND('Step 2 - Ornamental'!$AB$21=\"X\",S342=\"X\"),1,0)","v":0},"X",{"$f":"IF(AND('Step 2 - Ornamental'!$AC$21=\"X\",U342=\"X\"),1,0)","v":0},"X",{"$f":"IF(AND('Step 2 - Ornamental'!$AA$19=\"X\",W342=\"X\"),1,0)","v":0},null,{"$f":"IF(AND('Step 2 - Ornamental'!$AA$19=\"X\",Y342=\"X\"),1,0)","v":0},"X",{"$f":"IF(AND('Step 2 - Ornamental'!$AB$19=\"X\",AA342=\"X\"),1,0)","v":0},null,{"$f":"IF(AND('Step 2 - Ornamental'!$AC$19=\"X\",AC342=\"X\"),1,0)","v":0},null,{"$f":"IF(AND('Step 2 - Ornamental'!$AA$20=\"X\",AE342=\"X\"),1,0)","v":0},null,{"$f":"IF(AND('Step 2 - Ornamental'!$AA$20=\"X\",AG342=\"X\"),1,0)","v":0},"X",{"$f":"IF(AND('Step 2 - Ornamental'!$AB$20=\"X\",AI342=\"X\"),1,0)","v":0},"X",{"$f":"IF(AND('Step 2 - Ornamental'!$AC$20=\"X\",AK342=\"X\"),1,0)","v":0},null,{"$f":"IF(AND('Step 2 - Ornamental'!$AA$18=\"X\",AM342=\"X\"),1,0)","v":0},null,{"$f":"IF(AND('Step 2 - Ornamental'!$AB$18=\"X\",AO342=\"X\"),1,0)","v":0},"X",{"$f":"IF(AND('Step 2 - Ornamental'!$AC$18=\"X\",AQ342=\"X\"),1,0)","v":0}," ",{"$f":"IF(AND('Step 2 - Ornamental'!$AD$18=\"X\",AS342=\"X\"),1,0)","v":0},null,{"$f":"IF(AND('Step 2 - Ornamental'!$AE$18=\"X\",AU342=\"X\"),1,0)","v":0},null,{"$f":"IF(AND('Step 2 - Ornamental'!$AA$17=\"X\",AW342=\"X\"),1,0)","v":0},null,{"$f":"IF(AND('Step 2 - Ornamental'!$AB$17=\"X\",AY342=\"X\"),1,0)","v":0},"X",{"$f":"IF(AND('Step 2 - Ornamental'!$AC$17=\"X\",BA342=\"X\"),1,0)","v":0},"X",{"$f":"IF(AND('Step 2 - Ornamental'!$AA$22=\"X\",BC342=\"X\"),1,0)","v":0},null,{"$f":"IF(AND('Step 2 - Ornamental'!$AB$22=\"X\",BE342=\"X\"),1,0)","v":0},null,{"$f":"IF(AND('Step 2 - Ornamental'!$AC$22=\"X\",BG342=\"X\"),1,0)","v":0},"X",{"$f":"IF(AND('Step 2 - Ornamental'!$AD$22=\"X\",BI342=\"X\"),1,0)","v":0},"X",null,null,null,null,null,null,"Lavender / 1.0'-1.5'"]
[null,1,"HO RS","Hosta 'Royal Standard'","Royal Standard Hosta","36\" O.C.","green foliage, good white flowers","X",null,null,null,null,null,0,null,{"$f":"IF(AND('Step 2 - Ornamental'!$AA$21=\"X\",Q343=\"X\"),1,0)","v":0},"X",{"$f":"IF(AND('Step 2 - Ornamental'!$AB$21=\"X\",S343=\"X\"),1,0)","v":0},"X",{"$f":"IF(AND('Step 2 - Ornamental'!$AC$21=\"X\",U343=\"X\"),1,0)","v":0},"X",{"$f":"IF(AND('Step 2 - Ornamental'!$AA$19=\"X\",W343=\"X\"),1,0)","v":0},null,{"$f":"IF(AND('Step 2 - Ornamental'!$AA$19=\"X\",Y343=\"X\"),1,0)","v":0},"X",{"$f":"IF(AND('Step 2 - Ornamental'!$AB$19=\"X\",AA343=\"X\"),1,0)","v":0},null,{"$f":"IF(AND('Step 2 - Ornamental'!$AC$19=\"X\",AC343=\"X\"),1,0)","v":0},null,{"$f":"IF(AND('Step 2 - Ornamental'!$AA$20=\"X\",AE343=\"X\"),1,0)","v":0},null,{"$f":"IF(AND('Step 2 - Ornamental'!$AA$20=\"X\",AG343=\"X\"),1,0)","v":0},"X",{"$f":"IF(AND('Step 2 - Ornamental'!$AB$20=\"X\",AI343=\"X\"),1,0)","v":0},"X",{"$f":"IF(AND('Step 2 - Ornamental'!$AC$20=\"X\",AK343=\"X\"),1,0)","v":0},null,{"$f":"IF(AND('Step 2 - Ornamental'!$AA$18=\"X\",AM343=\"X\"),1,0)","v":0},null,{"$f":"IF(AND('Step 2 - Ornamental'!$AB$18=\"X\",AO343=\"X\"),1,0)","v":0},"X",{"$f":"IF(AND('Step 2 - Ornamental'!$AC$18=\"X\",AQ343=\"X\"),1,0)","v":0},null,{"$f":"IF(AND('Step 2 - Ornamental'!$AD$18=\"X\",AS343=\"X\"),1,0)","v":0},null,{"$f":"IF(AND('Step 2 - Ornamental'!$AE$18=\"X\",AU343=\"X\"),1,0)","v":0},null,{"$f":"IF(AND('Step 2 - Ornamental'!$AA$17=\"X\",AW343=\"X\"),1,0)","v":0},null,{"$f":"IF(AND('Step 2 - Ornamental'!$AB$17=\"X\",AY343=\"X\"),1,0)","v":0},"X",{"$f":"IF(AND('Step 2 - Ornamental'!$AC$17=\"X\",BA343=\"X\"),1,0)","v":0},"X",{"$f":"IF(AND('Step 2 - Ornamental'!$AA$22=\"X\",BC343=\"X\"),1,0)","v":0},null,{"$f":"IF(AND('Step 2 - Ornamental'!$AB$22=\"X\",BE343=\"X\"),1,0)","v":0},null,{"$f":"IF(AND('Step 2 - Ornamental'!$AC$22=\"X\",BG343=\"X\"),1,0)","v":0},"X",{"$f":"IF(AND('Step 2 - Ornamental'!$AD$22=\"X\",BI343=\"X\"),1,0)","v":0},"X",null,null,null,null,null,null,"White / 1.5'-2.0'"]
[null,1,"HO SI","Hosta sieboldiana 'Elegans'","Giant Blue Hosta","36\" O.C.","blue-green foliage","X",null,null,null,null,null,0,null,{"$f":"IF(AND('Step 2 - Ornamental'!$AA$21=\"X\",Q344=\"X\"),1,0)","v":0},"X",{"$f":"IF(AND('Step 2 - Ornamental'!$AB$21=\"X\",S344=\"X\"),1,0)","v":0},"X",{"$f":"IF(AND('Step 2 - Ornamental'!$AC$21=\"X\",U344=\"X\"),1,0)","v":0},"X",{"$f":"IF(AND('Step 2 - Ornamental'!$AA$19=\"X\",W344=\"X\"),1,0)","v":0},null,{"$f":"IF(AND('Step 2 - Ornamental'!$AA$19=\"X\",Y344=\"X\"),1,0)","v":0},"X",{"$f":"IF(AND('Step 2 - Ornamental'!$AB$19=\"X\",AA344=\"X\"),1,0)","v":0},null,{"$f":"IF(AND('Step 2 - Ornamental'!$AC$19=\"X\",AC344=\"X\"),1,0)","v":0},null,{"$f":"IF(AND('Step 2 - Ornamental'!$AA$20=\"X\",AE344=\"X\"),1,0)","v":0},null,{"$f":"IF(AND('Step 2 - Ornamental'!$AA$20=\"X\",AG344=\"X\"),1,0)","v":0},"X",{"$f":"IF(AND('Step 2 - Ornamental'!$AB$20=\"X\",AI344=\"X\"),1,0)","v":0},"X",{"$f":"IF(AND('Step 2 - Ornamental'!$AC$20=\"X\",AK344=\"X\"),1,0)","v":0},null,{"$f":"IF(AND('Step 2 - Ornamental'!$AA$18=\"X\",AM344=\"X\"),1,0)","v":0},null,{"$f":"IF(AND('Step 2 - Ornamental'!$AB$18=\"X\",AO344=\"X\"),1,0)","v":0},"X",{"$f":"IF(AND('Step 2 - Ornamental'!$AC$18=\"X\",AQ344=\"X\"),1,0)","v":0},null,{"$f":"IF(AND('Step 2 - Ornamental'!$AD$18=\"X\",AS344=\"X\"),1,0)","v":0},null,{"$f":"IF(AND('Step 2 - Ornamental'!$AE$18=\"X\",AU344=\"X\"),1,0)","v":0},null,{"$f":"IF(AND('Step 2 - Ornamental'!$AA$17=\"X\",AW344=\"X\"),1,0)","v":0},null,{"$f":"IF(AND('Step 2 - Ornamental'!$AB$17=\"X\",AY344=\"X\"),1,0)","v":0},"X",{"$f":"IF(AND('Step 2 - Ornamental'!$AC$17=\"X\",BA344=\"X\"),1,0)","v":0},"X",{"$f":"IF(AND('Step 2 - Ornamental'!$AA$22=\"X\",BC344=\"X\"),1,0)","v":0},null,{"$f":"IF(AND('Step 2 - Ornamental'!$AB$22=\"X\",BE344=\"X\"),1,0)","v":0},null,{"$f":"IF(AND('Step 2 - Ornamental'!$AC$22=\"X\",BG344=\"X\"),1,0)","v":0},"X",{"$f":"IF(AND('Step 2 - Ornamental'!$AD$22=\"X\",BI344=\"X\"),1,0)","v":0},"X",null,null,null,null,"White w/ Lavender Tinge / 2.0'-3.0'"]
[null,1,"HO SS","Hosta 'Sum and Substance'","Sum and Substance Hosta","48\" O.C.","Yellow-leaved, Shade Tolerant, very large, green-yellow leaves","X",null,null,null,null,null,0,null,{"$f":"IF(AND('Step 2 - Ornamental'!$AA$21=\"X\",Q345=\"X\"),1,0)","v":0},"X",{"$f":"IF(AND('Step 2 - Ornamental'!$AB$21=\"X\",S345=\"X\"),1,0)","v":0},"X",{"$f":"IF(AND('Step 2 - Ornamental'!$AC$21=\"X\",U345=\"X\"),1,0)","v":0},"X",{"$f":"IF(AND('Step 2 - Ornamental'!$AA$19=\"X\",W345=\"X\"),1,0)","v":0},null,{"$f":"IF(AND('Step 2 - Ornamental'!$AA$19=\"X\",Y345=\"X\"),1,0)","v":0},"X",{"$f":"IF(AND('Step 2 - Ornamental'!$AB$19=\"X\",AA345=\"X\"),1,0)","v":0},null,{"$f":"IF(AND('Step 2 - Ornamental'!$AC$19=\"X\",AC345=\"X\"),1,0)","v":0},null,{"$f":"IF(AND('Step 2 - Ornamental'!$AA$20=\"X\",AE345=\"X\"),1,0)","v":0},null,{"$f":"IF(AND('Step 2 - Ornamental'!$AA$20=\"X\",AG345=\"X\"),1,0)","v":0},"X",{"$f":"IF(AND('Step 2 - Ornamental'!$AB$20=\"X\",AI345=\"X\"),1,0)","v":0},"X",{"$f":"IF(AND('Step 2 - Ornamental'!$AC$20=\"X\",AK345=\"X\"),1,0)","v":0},null,{"$f":"IF(AND('Step 2 - Ornamental'!$AA$18=\"X\",AM345=\"X\"),1,0)","v":0},null,{"$f":"IF(AND('Step 2 - Ornamental'!$AB$18=\"X\",AO345=\"X\"),1,0)","v":0},"X",{"$f":"IF(AND('Step 2 - Ornamental'!$AC$18=\"X\",AQ345=\"X\"),1,0)","v":0},null,{"$f":"IF(AND('Step 2 - Ornamental'!$AD$18=\"X\",AS345=\"X\"),1,0)","v":0},null,{"$f":"IF(AND('Step 2 - Ornamental'!$AE$18=\"X\",AU345=\"X\"),1,0)","v":0},null,{"$f":"IF(AND('Step 2 - Ornamental'!$AA$17=\"X\",AW345=\"X\"),1,0)","v":0},null,{"$f":"IF(AND('Step 2 - Ornamental'!$AB$17=\"X\",AY345=\"X\"),1,0)","v":0},"X",{"$f":"IF(AND('Step 2 - Ornamental'!$AC$17=\"X\",BA345=\"X\"),1,0)","v":0},"X",{"$f":"IF(AND('Step 2 - Ornamental'!$AA$22=\"X\",BC345=\"X\"),1,0)","v":0},null,{"$f":"IF(AND('Step 2 - Ornamental'!$AB$22=\"X\",BE345=\"X\"),1,0)","v":0},null,{"$f":"IF(AND('Step 2 - Ornamental'!$AC$22=\"X\",BG345=\"X\"),1,0)","v":0},"X",{"$f":"IF(AND('Step 2 - Ornamental'!$AD$22=\"X\",BI345=\"X\"),1,0)","v":0},"X",null,null,null,null,null,null,null,"Lavender / 2.0'-3.0'"]
[null,1,"HO HL","Hosta tardiana 'Halcyon'","Halcyon Hosta","24\" O.C.","blue-green, spear tipped foliage,","X",null,null,null,null,null,0,null,{"$f":"IF(AND('Step 2 - Ornamental'!$AA$21=\"X\",Q346=\"X\"),1,0)","v":0},"X",{"$f":"IF(AND('Step 2 - Ornamental'!$AB$21=\"X\",S346=\"X\"),1,0)","v":0},"X",{"$f":"IF(AND('Step 2 - Ornamental'!$AC$21=\"X\",U346=\"X\"),1,0)","v":0},"X",{"$f":"IF(AND('Step 2 - Ornamental'!$AA$19=\"X\",W346=\"X\"),1,0)","v":0},null,{"$f":"IF(AND('Step 2 - Ornamental'!$AA$19=\"X\",Y346=\"X\"),1,0)","v":0},"X",{"$f":"IF(AND('Step 2 - Ornamental'!$AB$19=\"X\",AA346=\"X\"),1,0)","v":0},null,{"$f":"IF(AND('Step 2 - Ornamental'!$AC$19=\"X\",AC346=\"X\"),1,0)","v":0},null,{"$f":"IF(AND('Step 2 - Ornamental'!$AA$20=\"X\",AE346=\"X\"),1,0)","v":0},null,{"$f":"IF(AND('Step 2 - Ornamental'!$AA$20=\"X\",AG346=\"X\"),1,0)","v":0},"X",{"$f":"IF(AND('Step 2 - Ornamental'!$AB$20=\"X\",AI346=\"X\"),1,0)","v":0},"X",{"$f":"IF(AND('Step 2 - Ornamental'!$AC$20=\"X\",AK346=\"X\"),1,0)","v":0},null,{"$f":"IF(AND('Step 2 - Ornamental'!$AA$18=\"X\",AM346=\"X\"),1,0)","v":0},null,{"$f":"IF(AND('Step 2 - Ornamental'!$AB$18=\"X\",AO346=\"X\"),1,0)","v":0},"X",{"$f":"IF(AND('Step 2 - Ornamental'!$AC$18=\"X\",AQ346=\"X\"),1,0)","v":0},null,{"$f":"IF(AND('Step 2 - Ornamental'!$AD$18=\"X\",AS346=\"X\"),1,0)","v":0},null,{"$f":"IF(AND('Step 2 - Ornamental'!$AE$18=\"X\",AU346=\"X\"),1,0)","v":0},null,{"$f":"IF(AND('Step 2 - Ornamental'!$AA$17=\"X\",AW346=\"X\"),1,0)","v":0},null,{"$f":"IF(AND('Step 2 - Ornamental'!$AB$17=\"X\",AY346=\"X\"),1,0)","v":0},"X",{"$f":"IF(AND('Step 2 - Ornamental'!$AC$17=\"X\",BA346=\"X\"),1,0)","v":0},"X",{"$f":"IF(AND('Step 2 - Ornamental'!$AA$22=\"X\",BC346=\"X\"),1,0)","v":0},null,{"$f":"IF(AND('Step 2 - Ornamental'!$AB$22=\"X\",BE346=\"X\"),1,0)","v":0},null,{"$f":"IF(AND('Step 2 - Ornamental'!$AC$22=\"X\",BG346=\"X\"),1,0)","v":0},"X",{"$f":"IF(AND('Step 2 - Ornamental'!$AD$22=\"X\",BI346=\"X\"),1,0)","v":0},"X",null,null,null,null,null,null,null,"Lilac Blue / 1.5'-2.0'"]
[null,1,"HO JU","Hosta tardiana 'June'","June Hosta","24\" O.C.","variegated leaves with gold center, blue-green margin","X",null,null,null,null,null,0,null,{"$f":"IF(AND('Step 2 - Ornamental'!$AA$21=\"X\",Q347=\"X\"),1,0)","v":0},"X",{"$f":"IF(AND('Step 2 - Ornamental'!$AB$21=\"X\",S347=\"X\"),1,0)","v":0},"X",{"$f":"IF(AND('Step 2 - Ornamental'!$AC$21=\"X\",U347=\"X\"),1,0)","v":0},"X",{"$f":"IF(AND('Step 2 - Ornamental'!$AA$19=\"X\",W347=\"X\"),1,0)","v":0},null,{"$f":"IF(AND('Step 2 - Ornamental'!$AA$19=\"X\",Y347=\"X\"),1,0)","v":0},"X",{"$f":"IF(AND('Step 2 - Ornamental'!$AB$19=\"X\",AA347=\"X\"),1,0)","v":0},null,{"$f":"IF(AND('Step 2 - Ornamental'!$AC$19=\"X\",AC347=\"X\"),1,0)","v":0},null,{"$f":"IF(AND('Step 2 - Ornamental'!$AA$20=\"X\",AE347=\"X\"),1,0)","v":0},null,{"$f":"IF(AND('Step 2 - Ornamental'!$AA$20=\"X\",AG347=\"X\"),1,0)","v":0},"X",{"$f":"IF(AND('Step 2 - Ornamental'!$AB$20=\"X\",AI347=\"X\"),1,0)","v":0},"X",{"$f":"IF(AND('Step 2 - Ornamental'!$AC$20=\"X\",AK347=\"X\"),1,0)","v":0},null,{"$f":"IF(AND('Step 2 - Ornamental'!$AA$18=\"X\",AM347=\"X\"),1,0)","v":0},null,{"$f":"IF(AND('Step 2 - Ornamental'!$AB$18=\"X\",AO347=\"X\"),1,0)","v":0},"X",{"$f":"IF(AND('Step 2 - Ornamental'!$AC$18=\"X\",AQ347=\"X\"),1,0)","v":0},null,{"$f":"IF(AND('Step 2 - Ornamental'!$AD$18=\"X\",AS347=\"X\"),1,0)","v":0},null,{"$f":"IF(AND('Step 2 - Ornamental'!$AE$18=\"X\",AU347=\"X\"),1,0)","v":0},null,{"$f":"IF(AND('Step 2 - Ornamental'!$AA$17=\"X\",AW347=\"X\"),1,0)","v":0},null,{"$f":"IF(AND('Step 2 - Ornamental'!$AB$17=\"X\",AY347=\"X\"),1,0)","v":0},"X",{"$f":"IF(AND('Step 2 - Ornamental'!$AC$17=\"X\",BA347=\"X\"),1,0)","v":0},"X",{"$f":"IF(AND('Step 2 - Ornamental'!$AA$22=\"X\",BC347=\"X\"),1,0)","v":0},null,{"$f":"IF(AND('Step 2 - Ornamental'!$AB$22=\"X\",BE347=\"X\"),1,0)","v":0},null,{"$f":"IF(AND('Step 2 - Ornamental'!$AC$22=\"X\",BG347=\"X\"),1,0)","v":0},"X",{"$f":"IF(AND('Step 2 - Ornamental'!$AD$22=\"X\",BI347=\"X\"),1,0)","v":0},"X",null,null,null,null,null,null,"Lavender / 1.0'-1.5'"]
[null,1,"IN MA","Inula magnifica 'Sonnenstrahl'","Fleabane","48\" O.C.","very tall (6-8') w/ lacy yellow petals, large leaves","X",null,null,null,null,null,0,null,{"$f":"IF(AND('Step 2 - Ornamental'!$AA$21=\"X\",Q348=\"X\"),1,0)","v":0},"X",{"$f":"IF(AND('Step 2 - Ornamental'!$AB$21=\"X\",S348=\"X\"),1,0)","v":0},"X",{"$f":"IF(AND('Step 2 - Ornamental'!$AC$21=\"X\",U348=\"X\"),1,0)","v":0},null,{"$f":"IF(AND('Step 2 - Ornamental'!$AA$19=\"X\",W348=\"X\"),1,0)","v":0},"X",{"$f":"IF(AND('Step 2 - Ornamental'!$AA$19=\"X\",Y348=\"X\"),1,0)","v":0},null,{"$f":"IF(AND('Step 2 - Ornamental'!$AB$19=\"X\",AA348=\"X\"),1,0)","v":0},null,{"$f":"IF(AND('Step 2 - Ornamental'!$AC$19=\"X\",AC348=\"X\"),1,0)","v":0},null,{"$f":"IF(AND('Step 2 - Ornamental'!$AA$20=\"X\",AE348=\"X\"),1,0)","v":0},"X",{"$f":"IF(AND('Step 2 - Ornamental'!$AA$20=\"X\",AG348=\"X\"),1,0)","v":0},null,{"$f":"IF(AND('Step 2 - Ornamental'!$AB$20=\"X\",AI348=\"X\"),1,0)","v":0},null,{"$f":"IF(AND('Step 2 - Ornamental'!$AC$20=\"X\",AK348=\"X\"),1,0)","v":0},null,{"$f":"IF(AND('Step 2 - Ornamental'!$AA$18=\"X\",AM348=\"X\"),1,0)","v":0},null,{"$f":"IF(AND('Step 2 - Ornamental'!$AB$18=\"X\",AO348=\"X\"),1,0)","v":0},"X",{"$f":"IF(AND('Step 2 - Ornamental'!$AC$18=\"X\",AQ348=\"X\"),1,0)","v":0},null,{"$f":"IF(AND('Step 2 - Ornamental'!$AD$18=\"X\",AS348=\"X\"),1,0)","v":0},null,{"$f":"IF(AND('Step 2 - Ornamental'!$AE$18=\"X\",AU348=\"X\"),1,0)","v":0},null,{"$f":"IF(AND('Step 2 - Ornamental'!$AA$17=\"X\",AW348=\"X\"),1,0)","v":0},null,{"$f":"IF(AND('Step 2 - Ornamental'!$AB$17=\"X\",AY348=\"X\"),1,0)","v":0},"X",{"$f":"IF(AND('Step 2 - Ornamental'!$AC$17=\"X\",BA348=\"X\"),1,0)","v":0},null,{"$f":"IF(AND('Step 2 - Ornamental'!$AA$22=\"X\",BC348=\"X\"),1,0)","v":0},null,{"$f":"IF(AND('Step 2 - Ornamental'!$AB$22=\"X\",BE348=\"X\"),1,0)","v":0},null,{"$f":"IF(AND('Step 2 - Ornamental'!$AC$22=\"X\",BG348=\"X\"),1,0)","v":0},"X",{"$f":"IF(AND('Step 2 - Ornamental'!$AD$22=\"X\",BI348=\"X\"),1,0)","v":0},"X",null,null,null,null,null,null,"Yellow Orange / 3.0'-7.0'"]
[null,1,"IR CR","Iris cristata","Crested Iris","10\" O.C.","dwarf with pale blue flowers, spreads",null,"X",null,"X",null,null,0,null,{"$f":"IF(AND('Step 2 - Ornamental'!$AA$21=\"X\",Q349=\"X\"),1,0)","v":0},"X",{"$f":"IF(AND('Step 2 - Ornamental'!$AB$21=\"X\",S349=\"X\"),1,0)","v":0},"X",{"$f":"IF(AND('Step 2 - Ornamental'!$AC$21=\"X\",U349=\"X\"),1,0)","v":0},null,{"$f":"IF(AND('Step 2 - Ornamental'!$AA$19=\"X\",W349=\"X\"),1,0)","v":0},null,{"$f":"IF(AND('Step 2 - Ornamental'!$AA$19=\"X\",Y349=\"X\"),1,0)","v":0},"X",{"$f":"IF(AND('Step 2 - Ornamental'!$AB$19=\"X\",AA349=\"X\"),1,0)","v":0},null,{"$f":"IF(AND('Step 2 - Ornamental'!$AC$19=\"X\",AC349=\"X\"),1,0)","v":0},null,{"$f":"IF(AND('Step 2 - Ornamental'!$AA$20=\"X\",AE349=\"X\"),1,0)","v":0},"X",{"$f":"IF(AND('Step 2 - Ornamental'!$AA$20=\"X\",AG349=\"X\"),1,0)","v":0},null,{"$f":"IF(AND('Step 2 - Ornamental'!$AB$20=\"X\",AI349=\"X\"),1,0)","v":0},null,{"$f":"IF(AND('Step 2 - Ornamental'!$AC$20=\"X\",AK349=\"X\"),1,0)","v":0},null,{"$f":"IF(AND('Step 2 - Ornamental'!$AA$18=\"X\",AM349=\"X\"),1,0)","v":0},null,{"$f":"IF(AND('Step 2 - Ornamental'!$AB$18=\"X\",AO349=\"X\"),1,0)","v":0},"X",{"$f":"IF(AND('Step 2 - Ornamental'!$AC$18=\"X\",AQ349=\"X\"),1,0)","v":0},null,{"$f":"IF(AND('Step 2 - Ornamental'!$AD$18=\"X\",AS349=\"X\"),1,0)","v":0},null,{"$f":"IF(AND('Step 2 - Ornamental'!$AE$18=\"X\",AU349=\"X\"),1,0)","v":0},null,{"$f":"IF(AND('Step 2 - Ornamental'!$AA$17=\"X\",AW349=\"X\"),1,0)","v":0}," ",{"$f":"IF(AND('Step 2 - Ornamental'!$AB$17=\"X\",AY349=\"X\"),1,0)","v":0},"X",{"$f":"IF(AND('Step 2 - Ornamental'!$AC$17=\"X\",BA349=\"X\"),1,0)","v":0},null,{"$f":"IF(AND('Step 2 - Ornamental'!$AA$22=\"X\",BC349=\"X\"),1,0)","v":0},null,{"$f":"IF(AND('Step 2 - Ornamental'!$AB$22=\"X\",BE349=\"X\"),1,0)","v":0},"X",{"$f":"IF(AND('Step 2 - Ornamental'!$AC$22=\"X\",BG349=\"X\"),1,0)","v":0},"X",{"$f":"IF(AND('Step 2 - Ornamental'!$AD$22=\"X\",BI349=\"X\"),1,0)","v":0},"X",null,null,null,"Blue / 0.5'-0.75'"]
[null,1,"IR SI","Iris sibirica 'Caesar's Brother'","Ceasar's Brother Siberian Iris","36\" O.C.","Deep purple flowers,","X",null,null,"X","X",null,0,null,{"$f":"IF(AND('Step 2 - Ornamental'!$AA$21=\"X\",Q350=\"X\"),1,0)","v":0},"X",{"$f":"IF(AND('Step 2 - Ornamental'!$AB$21=\"X\",S350=\"X\"),1,0)","v":0},"X",{"$f":"IF(AND('Step 2 - Ornamental'!$AC$21=\"X\",U350=\"X\"),1,0)","v":0},null,{"$f":"IF(AND('Step 2 - Ornamental'!$AA$19=\"X\",W350=\"X\"),1,0)","v":0},null,{"$f":"IF(AND('Step 2 - Ornamental'!$AA$19=\"X\",Y350=\"X\"),1,0)","v":0},"X",{"$f":"IF(AND('Step 2 - Ornamental'!$AB$19=\"X\",AA350=\"X\"),1,0)","v":0},"X",{"$f":"IF(AND('Step 2 - Ornamental'!$AC$19=\"X\",AC350=\"X\"),1,0)","v":0},"X",{"$f":"IF(AND('Step 2 - Ornamental'!$AA$20=\"X\",AE350=\"X\"),1,0)","v":0},null,{"$f":"IF(AND('Step 2 - Ornamental'!$AA$20=\"X\",AG350=\"X\"),1,0)","v":0},"X",{"$f":"IF(AND('Step 2 - Ornamental'!$AB$20=\"X\",AI350=\"X\"),1,0)","v":0},"X",{"$f":"IF(AND('Step 2 - Ornamental'!$AC$20=\"X\",AK350=\"X\"),1,0)","v":0},null,{"$f":"IF(AND('Step 2 - Ornamental'!$AA$18=\"X\",AM350=\"X\"),1,0)","v":0},null,{"$f":"IF(AND('Step 2 - Ornamental'!$AB$18=\"X\",AO350=\"X\"),1,0)","v":0},"X",{"$f":"IF(AND('Step 2 - Ornamental'!$AC$18=\"X\",AQ350=\"X\"),1,0)","v":0},"X",{"$f":"IF(AND('Step 2 - Ornamental'!$AD$18=\"X\",AS350=\"X\"),1,0)","v":0},null,{"$f":"IF(AND('Step 2 - Ornamental'!$AE$18=\"X\",AU350=\"X\"),1,0)","v":0},null,{"$f":"IF(AND('Step 2 - Ornamental'!$AA$17=\"X\",AW350=\"X\"),1,0)","v":0},"X",{"$f":"IF(AND('Step 2 - Ornamental'!$AB$17=\"X\",AY350=\"X\"),1,0)","v":0},"X",{"$f":"IF(AND('Step 2 - Ornamental'!$AC$17=\"X\",BA350=\"X\"),1,0)","v":0},null,{"$f":"IF(AND('Step 2 - Ornamental'!$AA$22=\"X\",BC350=\"X\"),1,0)","v":0},null,{"$f":"IF(AND('Step 2 - Ornamental'!$AB$22=\"X\",BE350=\"X\"),1,0)","v":0},null,{"$f":"IF(AND('Step 2 - Ornamental'!$AC$22=\"X\",BG350=\"X\"),1,0)","v":0},"X",{"$f":"IF(AND('Step 2 - Ornamental'!$AD$22=\"X\",BI350=\"X\"),1,0)","v":0},"X",null,null,null,null,"Purple / 3.0'-4.0'"]
[null,1,"IR VI","Iris vigrinica var. shrevei","Blue Flag Iris","18\" O.C.","violet blue with yellow/white crested, ",null,"X","X","X",null,null,0,null,{"$f":"IF(AND('Step 2 - Ornamental'!$AA$21=\"X\",Q351=\"X\"),1,0)","v":0},"X",{"$f":"IF(AND('Step 2 - Ornamental'!$AB$21=\"X\",S351=\"X\"),1,0)","v":0},"X",{"$f":"IF(AND('Step 2 - Ornamental'!$AC$21=\"X\",U351=\"X\"),1,0)","v":0},null,{"$f":"IF(AND('Step 2 - Ornamental'!$AA$19=\"X\",W351=\"X\"),1,0)","v":0},null,{"$f":"IF(AND('Step 2 - Ornamental'!$AA$19=\"X\",Y351=\"X\"),1,0)","v":0},"X",{"$f":"IF(AND('Step 2 - Ornamental'!$AB$19=\"X\",AA351=\"X\"),1,0)","v":0},null,{"$f":"IF(AND('Step 2 - Ornamental'!$AC$19=\"X\",AC351=\"X\"),1,0)","v":0},null,{"$f":"IF(AND('Step 2 - Ornamental'!$AA$20=\"X\",AE351=\"X\"),1,0)","v":0},null,{"$f":"IF(AND('Step 2 - Ornamental'!$AA$20=\"X\",AG351=\"X\"),1,0)","v":0},"X",{"$f":"IF(AND('Step 2 - Ornamental'!$AB$20=\"X\",AI351=\"X\"),1,0)","v":0},"X",{"$f":"IF(AND('Step 2 - Ornamental'!$AC$20=\"X\",AK351=\"X\"),1,0)","v":0},null,{"$f":"IF(AND('Step 2 - Ornamental'!$AA$18=\"X\",AM351=\"X\"),1,0)","v":0},null,{"$f":"IF(AND('Step 2 - Ornamental'!$AB$18=\"X\",AO351=\"X\"),1,0)","v":0},"X",{"$f":"IF(AND('Step 2 - Ornamental'!$AC$18=\"X\",AQ351=\"X\"),1,0)","v":0},"X",{"$f":"IF(AND('Step 2 - Ornamental'!$AD$18=\"X\",AS351=\"X\"),1,0)","v":0},null,{"$f":"IF(AND('Step 2 - Ornamental'!$AE$18=\"X\",AU351=\"X\"),1,0)","v":0},null,{"$f":"IF(AND('Step 2 - Ornamental'!$AA$17=\"X\",AW351=\"X\"),1,0)","v":0},"X",{"$f":"IF(AND('Step 2 - Ornamental'!$AB$17=\"X\",AY351=\"X\"),1,0)","v":0},null,{"$f":"IF(AND('Step 2 - Ornamental'!$AC$17=\"X\",BA351=\"X\"),1,0)","v":0},null,{"$f":"IF(AND('Step 2 - Ornamental'!$AA$22=\"X\",BC351=\"X\"),1,0)","v":0},null,{"$f":"IF(AND('Step 2 - Ornamental'!$AB$22=\"X\",BE351=\"X\"),1,0)","v":0},null,{"$f":"IF(AND('Step 2 - Ornamental'!$AC$22=\"X\",BG351=\"X\"),1,0)","v":0},"X",{"$f":"IF(AND('Step 2 - Ornamental'!$AD$22=\"X\",BI351=\"X\"),1,0)","v":0},"X",null,null,null,null,null,"Blue / 1.5'-2.0'"]
[null,1,"KA IN","Kalimeris incisa 'Blue Star' (Blotonia incisa 'Blue Star)","Blue Star Daisy","18\"  O.C.","Aster-like flowers","X",null,null,null,null,null,0,null,{"$f":"IF(AND('Step 2 - Ornamental'!$AA$21=\"X\",Q352=\"X\"),1,0)","v":0},"X",{"$f":"IF(AND('Step 2 - Ornamental'!$AB$21=\"X\",S352=\"X\"),1,0)","v":0},"X",{"$f":"IF(AND('Step 2 - Ornamental'!$AC$21=\"X\",U352=\"X\"),1,0)","v":0},null,{"$f":"IF(AND('Step 2 - Ornamental'!$AA$19=\"X\",W352=\"X\"),1,0)","v":0},"X",{"$f":"IF(AND('Step 2 - Ornamental'!$AA$19=\"X\",Y352=\"X\"),1,0)","v":0},null,{"$f":"IF(AND('Step 2 - Ornamental'!$AB$19=\"X\",AA352=\"X\"),1,0)","v":0},null,{"$f":"IF(AND('Step 2 - Ornamental'!$AC$19=\"X\",AC352=\"X\"),1,0)","v":0},null,{"$f":"IF(AND('Step 2 - Ornamental'!$AA$20=\"X\",AE352=\"X\"),1,0)","v":0},"X",{"$f":"IF(AND('Step 2 - Ornamental'!$AA$20=\"X\",AG352=\"X\"),1,0)","v":0},null,{"$f":"IF(AND('Step 2 - Ornamental'!$AB$20=\"X\",AI352=\"X\"),1,0)","v":0},null,{"$f":"IF(AND('Step 2 - Ornamental'!$AC$20=\"X\",AK352=\"X\"),1,0)","v":0},null,{"$f":"IF(AND('Step 2 - Ornamental'!$AA$18=\"X\",AM352=\"X\"),1,0)","v":0},null,{"$f":"IF(AND('Step 2 - Ornamental'!$AB$18=\"X\",AO352=\"X\"),1,0)","v":0},"X",{"$f":"IF(AND('Step 2 - Ornamental'!$AC$18=\"X\",AQ352=\"X\"),1,0)","v":0},null,{"$f":"IF(AND('Step 2 - Ornamental'!$AD$18=\"X\",AS352=\"X\"),1,0)","v":0},null,{"$f":"IF(AND('Step 2 - Ornamental'!$AE$18=\"X\",AU352=\"X\"),1,0)","v":0},null,{"$f":"IF(AND('Step 2 - Ornamental'!$AA$17=\"X\",AW352=\"X\"),1,0)","v":0},"X",{"$f":"IF(AND('Step 2 - Ornamental'!$AB$17=\"X\",AY352=\"X\"),1,0)","v":0},"X",{"$f":"IF(AND('Step 2 - Ornamental'!$AC$17=\"X\",BA352=\"X\"),1,0)","v":0},null,{"$f":"IF(AND('Step 2 - Ornamental'!$AA$22=\"X\",BC352=\"X\"),1,0)","v":0},null,{"$f":"IF(AND('Step 2 - Ornamental'!$AB$22=\"X\",BE352=\"X\"),1,0)","v":0},null,{"$f":"IF(AND('Step 2 - Ornamental'!$AC$22=\"X\",BG352=\"X\"),1,0)","v":0},"X",{"$f":"IF(AND('Step 2 - Ornamental'!$AD$22=\"X\",BI352=\"X\"),1,0)","v":0},"X",null,null,null,null,null,"Light Blue / 1.0'-1.5'"]
[null,1,"KN MA","Knautia macedonica 'Mars Midget'","Mars Midget Knautia ","16\" O.C.","Short lived, but may self-seed, ruby button flowers, dwarf variety to 18\" tall, mix with Deschampsia or Sporobolus","X",null,null,null,null,null,0,null,{"$f":"IF(AND('Step 2 - Ornamental'!$AA$21=\"X\",Q353=\"X\"),1,0)","v":0},null,{"$f":"IF(AND('Step 2 - Ornamental'!$AB$21=\"X\",S353=\"X\"),1,0)","v":0},"X",{"$f":"IF(AND('Step 2 - Ornamental'!$AC$21=\"X\",U353=\"X\"),1,0)","v":0},"X",{"$f":"IF(AND('Step 2 - Ornamental'!$AA$19=\"X\",W353=\"X\"),1,0)","v":0},"X",{"$f":"IF(AND('Step 2 - Ornamental'!$AA$19=\"X\",Y353=\"X\"),1,0)","v":0},null,{"$f":"IF(AND('Step 2 - Ornamental'!$AB$19=\"X\",AA353=\"X\"),1,0)","v":0},null,{"$f":"IF(AND('Step 2 - Ornamental'!$AC$19=\"X\",AC353=\"X\"),1,0)","v":0},null,{"$f":"IF(AND('Step 2 - Ornamental'!$AA$20=\"X\",AE353=\"X\"),1,0)","v":0},"X",{"$f":"IF(AND('Step 2 - Ornamental'!$AA$20=\"X\",AG353=\"X\"),1,0)","v":0},null,{"$f":"IF(AND('Step 2 - Ornamental'!$AB$20=\"X\",AI353=\"X\"),1,0)","v":0},null,{"$f":"IF(AND('Step 2 - Ornamental'!$AC$20=\"X\",AK353=\"X\"),1,0)","v":0},null,{"$f":"IF(AND('Step 2 - Ornamental'!$AA$18=\"X\",AM353=\"X\"),1,0)","v":0},"X",{"$f":"IF(AND('Step 2 - Ornamental'!$AB$18=\"X\",AO353=\"X\"),1,0)","v":0},"X",{"$f":"IF(AND('Step 2 - Ornamental'!$AC$18=\"X\",AQ353=\"X\"),1,0)","v":0},null,{"$f":"IF(AND('Step 2 - Ornamental'!$AD$18=\"X\",AS353=\"X\"),1,0)","v":0},null,{"$f":"IF(AND('Step 2 - Ornamental'!$AE$18=\"X\",AU353=\"X\"),1,0)","v":0},null,{"$f":"IF(AND('Step 2 - Ornamental'!$AA$17=\"X\",AW353=\"X\"),1,0)","v":0},"X",{"$f":"IF(AND('Step 2 - Ornamental'!$AB$17=\"X\",AY353=\"X\"),1,0)","v":0},null,{"$f":"IF(AND('Step 2 - Ornamental'!$AC$17=\"X\",BA353=\"X\"),1,0)","v":0},null,{"$f":"IF(AND('Step 2 - Ornamental'!$AA$22=\"X\",BC353=\"X\"),1,0)","v":0},null,{"$f":"IF(AND('Step 2 - Ornamental'!$AB$22=\"X\",BE353=\"X\"),1,0)","v":0},null,{"$f":"IF(AND('Step 2 - Ornamental'!$AC$22=\"X\",BG353=\"X\"),1,0)","v":0},"X",{"$f":"IF(AND('Step 2 - Ornamental'!$AD$22=\"X\",BI353=\"X\"),1,0)","v":0},"X",null,null,null,null,null,null,"Ruby Red / 1.0'-1.5'"]
[null,1,"LV HI","Lavandula angustifolia 'Hidcote'","English Lavender","18\"  O.C.","Rounded, Deep blue-purple, fragrant flowers","X",null,null,"X","X",null,0,null,{"$f":"IF(AND('Step 2 - Ornamental'!$AA$21=\"X\",Q354=\"X\"),1,0)","v":0},null,{"$f":"IF(AND('Step 2 - Ornamental'!$AB$21=\"X\",S354=\"X\"),1,0)","v":0},"X",{"$f":"IF(AND('Step 2 - Ornamental'!$AC$21=\"X\",U354=\"X\"),1,0)","v":0},"X",{"$f":"IF(AND('Step 2 - Ornamental'!$AA$19=\"X\",W354=\"X\"),1,0)","v":0},null,{"$f":"IF(AND('Step 2 - Ornamental'!$AA$19=\"X\",Y354=\"X\"),1,0)","v":0},"X",{"$f":"IF(AND('Step 2 - Ornamental'!$AB$19=\"X\",AA354=\"X\"),1,0)","v":0},null,{"$f":"IF(AND('Step 2 - Ornamental'!$AC$19=\"X\",AC354=\"X\"),1,0)","v":0},null,{"$f":"IF(AND('Step 2 - Ornamental'!$AA$20=\"X\",AE354=\"X\"),1,0)","v":0},"X",{"$f":"IF(AND('Step 2 - Ornamental'!$AA$20=\"X\",AG354=\"X\"),1,0)","v":0},null,{"$f":"IF(AND('Step 2 - Ornamental'!$AB$20=\"X\",AI354=\"X\"),1,0)","v":0},null,{"$f":"IF(AND('Step 2 - Ornamental'!$AC$20=\"X\",AK354=\"X\"),1,0)","v":0},null,{"$f":"IF(AND('Step 2 - Ornamental'!$AA$18=\"X\",AM354=\"X\"),1,0)","v":0},"X",{"$f":"IF(AND('Step 2 - Ornamental'!$AB$18=\"X\",AO354=\"X\"),1,0)","v":0}," ",{"$f":"IF(AND('Step 2 - Ornamental'!$AC$18=\"X\",AQ354=\"X\"),1,0)","v":0},null,{"$f":"IF(AND('Step 2 - Ornamental'!$AD$18=\"X\",AS354=\"X\"),1,0)","v":0},null,{"$f":"IF(AND('Step 2 - Ornamental'!$AE$18=\"X\",AU354=\"X\"),1,0)","v":0},null,{"$f":"IF(AND('Step 2 - Ornamental'!$AA$17=\"X\",AW354=\"X\"),1,0)","v":0},"X",{"$f":"IF(AND('Step 2 - Ornamental'!$AB$17=\"X\",AY354=\"X\"),1,0)","v":0},null,{"$f":"IF(AND('Step 2 - Ornamental'!$AC$17=\"X\",BA354=\"X\"),1,0)","v":0},null,{"$f":"IF(AND('Step 2 - Ornamental'!$AA$22=\"X\",BC354=\"X\"),1,0)","v":0},null,{"$f":"IF(AND('Step 2 - Ornamental'!$AB$22=\"X\",BE354=\"X\"),1,0)","v":0},"X",{"$f":"IF(AND('Step 2 - Ornamental'!$AC$22=\"X\",BG354=\"X\"),1,0)","v":0},"X",{"$f":"IF(AND('Step 2 - Ornamental'!$AD$22=\"X\",BI354=\"X\"),1,0)","v":0},"X",null,null,null,null,null," ","Blue-purple / 18\""]
[null,1,"LV AN","Lavandula angustifolia 'Munstead'","Lavender","18\"  O.C.","compact, early flowering variety","X",null,null,"X","X",null,0,null,{"$f":"IF(AND('Step 2 - Ornamental'!$AA$21=\"X\",Q355=\"X\"),1,0)","v":0},null,{"$f":"IF(AND('Step 2 - Ornamental'!$AB$21=\"X\",S355=\"X\"),1,0)","v":0},"X",{"$f":"IF(AND('Step 2 - Ornamental'!$AC$21=\"X\",U355=\"X\"),1,0)","v":0},"X",{"$f":"IF(AND('Step 2 - Ornamental'!$AA$19=\"X\",W355=\"X\"),1,0)","v":0},null,{"$f":"IF(AND('Step 2 - Ornamental'!$AA$19=\"X\",Y355=\"X\"),1,0)","v":0},"X",{"$f":"IF(AND('Step 2 - Ornamental'!$AB$19=\"X\",AA355=\"X\"),1,0)","v":0},null,{"$f":"IF(AND('Step 2 - Ornamental'!$AC$19=\"X\",AC355=\"X\"),1,0)","v":0},null,{"$f":"IF(AND('Step 2 - Ornamental'!$AA$20=\"X\",AE355=\"X\"),1,0)","v":0},"X",{"$f":"IF(AND('Step 2 - Ornamental'!$AA$20=\"X\",AG355=\"X\"),1,0)","v":0},null,{"$f":"IF(AND('Step 2 - Ornamental'!$AB$20=\"X\",AI355=\"X\"),1,0)","v":0},null,{"$f":"IF(AND('Step 2 - Ornamental'!$AC$20=\"X\",AK355=\"X\"),1,0)","v":0},null,{"$f":"IF(AND('Step 2 - Ornamental'!$AA$18=\"X\",AM355=\"X\"),1,0)","v":0},"X",{"$f":"IF(AND('Step 2 - Ornamental'!$AB$18=\"X\",AO355=\"X\"),1,0)","v":0},"X",{"$f":"IF(AND('Step 2 - Ornamental'!$AC$18=\"X\",AQ355=\"X\"),1,0)","v":0},null,{"$f":"IF(AND('Step 2 - Ornamental'!$AD$18=\"X\",AS355=\"X\"),1,0)","v":0},null,{"$f":"IF(AND('Step 2 - Ornamental'!$AE$18=\"X\",AU355=\"X\"),1,0)","v":0},null,{"$f":"IF(AND('Step 2 - Ornamental'!$AA$17=\"X\",AW355=\"X\"),1,0)","v":0},"X",{"$f":"IF(AND('Step 2 - Ornamental'!$AB$17=\"X\",AY355=\"X\"),1,0)","v":0},null,{"$f":"IF(AND('Step 2 - Ornamental'!$AC$17=\"X\",BA355=\"X\"),1,0)","v":0},null,{"$f":"IF(AND('Step 2 - Ornamental'!$AA$22=\"X\",BC355=\"X\"),1,0)","v":0},null,{"$f":"IF(AND('Step 2 - Ornamental'!$AB$22=\"X\",BE355=\"X\"),1,0)","v":0},"X",{"$f":"IF(AND('Step 2 - Ornamental'!$AC$22=\"X\",BG355=\"X\"),1,0)","v":0},"X",{"$f":"IF(AND('Step 2 - Ornamental'!$AD$22=\"X\",BI355=\"X\"),1,0)","v":0},"X",null,null,null,null,null,"Lavender Blue / 1.0'-1.5'"]
[null,1,"LT AS","Liatris aspera","Rough Blazing Star","18” O.C.","tolerates dry soil",null,"X","X",null,null,null,0,null,{"$f":"IF(AND('Step 2 - Ornamental'!$AA$21=\"X\",Q356=\"X\"),1,0)","v":0},null,{"$f":"IF(AND('Step 2 - Ornamental'!$AB$21=\"X\",S356=\"X\"),1,0)","v":0},"X",{"$f":"IF(AND('Step 2 - Ornamental'!$AC$21=\"X\",U356=\"X\"),1,0)","v":0},null,{"$f":"IF(AND('Step 2 - Ornamental'!$AA$19=\"X\",W356=\"X\"),1,0)","v":0},null,{"$f":"IF(AND('Step 2 - Ornamental'!$AA$19=\"X\",Y356=\"X\"),1,0)","v":0},"X",{"$f":"IF(AND('Step 2 - Ornamental'!$AB$19=\"X\",AA356=\"X\"),1,0)","v":0},"X",{"$f":"IF(AND('Step 2 - Ornamental'!$AC$19=\"X\",AC356=\"X\"),1,0)","v":0},null,{"$f":"IF(AND('Step 2 - Ornamental'!$AA$20=\"X\",AE356=\"X\"),1,0)","v":0},null,{"$f":"IF(AND('Step 2 - Ornamental'!$AA$20=\"X\",AG356=\"X\"),1,0)","v":0},"X",{"$f":"IF(AND('Step 2 - Ornamental'!$AB$20=\"X\",AI356=\"X\"),1,0)","v":0},null,{"$f":"IF(AND('Step 2 - Ornamental'!$AC$20=\"X\",AK356=\"X\"),1,0)","v":0},null,{"$f":"IF(AND('Step 2 - Ornamental'!$AA$18=\"X\",AM356=\"X\"),1,0)","v":0},"X",{"$f":"IF(AND('Step 2 - Ornamental'!$AB$18=\"X\",AO356=\"X\"),1,0)","v":0},"X",{"$f":"IF(AND('Step 2 - Ornamental'!$AC$18=\"X\",AQ356=\"X\"),1,0)","v":0},null,{"$f":"IF(AND('Step 2 - Ornamental'!$AD$18=\"X\",AS356=\"X\"),1,0)","v":0},null,{"$f":"IF(AND('Step 2 - Ornamental'!$AE$18=\"X\",AU356=\"X\"),1,0)","v":0},null,{"$f":"IF(AND('Step 2 - Ornamental'!$AA$17=\"X\",AW356=\"X\"),1,0)","v":0},"X",{"$f":"IF(AND('Step 2 - Ornamental'!$AB$17=\"X\",AY356=\"X\"),1,0)","v":0},null,{"$f":"IF(AND('Step 2 - Ornamental'!$AC$17=\"X\",BA356=\"X\"),1,0)","v":0},null,{"$f":"IF(AND('Step 2 - Ornamental'!$AA$22=\"X\",BC356=\"X\"),1,0)","v":0},null,{"$f":"IF(AND('Step 2 - Ornamental'!$AB$22=\"X\",BE356=\"X\"),1,0)","v":0},"X",{"$f":"IF(AND('Step 2 - Ornamental'!$AC$22=\"X\",BG356=\"X\"),1,0)","v":0},"X",{"$f":"IF(AND('Step 2 - Ornamental'!$AD$22=\"X\",BI356=\"X\"),1,0)","v":0},"X",null,null,null,null,null,null,null,"Purple / 2.0'-3.0'"]
[null,1,"LT SP","Liatris spicata","Blazing Star","18” O.C.","tolerates clay soil",null,"X","X",null,null,null,0,null,{"$f":"IF(AND('Step 2 - Ornamental'!$AA$21=\"X\",Q357=\"X\"),1,0)","v":0},null,{"$f":"IF(AND('Step 2 - Ornamental'!$AB$21=\"X\",S357=\"X\"),1,0)","v":0},"X",{"$f":"IF(AND('Step 2 - Ornamental'!$AC$21=\"X\",U357=\"X\"),1,0)","v":0},"X",{"$f":"IF(AND('Step 2 - Ornamental'!$AA$19=\"X\",W357=\"X\"),1,0)","v":0},null,{"$f":"IF(AND('Step 2 - Ornamental'!$AA$19=\"X\",Y357=\"X\"),1,0)","v":0},"X",{"$f":"IF(AND('Step 2 - Ornamental'!$AB$19=\"X\",AA357=\"X\"),1,0)","v":0},null,{"$f":"IF(AND('Step 2 - Ornamental'!$AC$19=\"X\",AC357=\"X\"),1,0)","v":0},null,{"$f":"IF(AND('Step 2 - Ornamental'!$AA$20=\"X\",AE357=\"X\"),1,0)","v":0},"X",{"$f":"IF(AND('Step 2 - Ornamental'!$AA$20=\"X\",AG357=\"X\"),1,0)","v":0},null,{"$f":"IF(AND('Step 2 - Ornamental'!$AB$20=\"X\",AI357=\"X\"),1,0)","v":0},null,{"$f":"IF(AND('Step 2 - Ornamental'!$AC$20=\"X\",AK357=\"X\"),1,0)","v":0},null,{"$f":"IF(AND('Step 2 - Ornamental'!$AA$18=\"X\",AM357=\"X\"),1,0)","v":0},null,{"$f":"IF(AND('Step 2 - Ornamental'!$AB$18=\"X\",AO357=\"X\"),1,0)","v":0},"X",{"$f":"IF(AND('Step 2 - Ornamental'!$AC$18=\"X\",AQ357=\"X\"),1,0)","v":0},null,{"$f":"IF(AND('Step 2 - Ornamental'!$AD$18=\"X\",AS357=\"X\"),1,0)","v":0},null,{"$f":"IF(AND('Step 2 - Ornamental'!$AE$18=\"X\",AU357=\"X\"),1,0)","v":0},null,{"$f":"IF(AND('Step 2 - Ornamental'!$AA$17=\"X\",AW357=\"X\"),1,0)","v":0},"X",{"$f":"IF(AND('Step 2 - Ornamental'!$AB$17=\"X\",AY357=\"X\"),1,0)","v":0},null,{"$f":"IF(AND('Step 2 - Ornamental'!$AC$17=\"X\",BA357=\"X\"),1,0)","v":0},null,{"$f":"IF(AND('Step 2 - Ornamental'!$AA$22=\"X\",BC357=\"X\"),1,0)","v":0},null,{"$f":"IF(AND('Step 2 - Ornamental'!$AB$22=\"X\",BE357=\"X\"),1,0)","v":0},null,{"$f":"IF(AND('Step 2 - Ornamental'!$AC$22=\"X\",BG357=\"X\"),1,0)","v":0},"X",{"$f":"IF(AND('Step 2 - Ornamental'!$AD$22=\"X\",BI357=\"X\"),1,0)","v":0},"X",null,null,null,null,null,null,"Purple / 2.0'-4.0'"]
[null,1,"LT SA","Liatris spicata 'alba'","White Blazing Star","18” O.C.","tolerates clay soil",null,"X","X",null,null,null,0,null,{"$f":"IF(AND('Step 2 - Ornamental'!$AA$21=\"X\",Q358=\"X\"),1,0)","v":0},null,{"$f":"IF(AND('Step 2 - Ornamental'!$AB$21=\"X\",S358=\"X\"),1,0)","v":0},"X",{"$f":"IF(AND('Step 2 - Ornamental'!$AC$21=\"X\",U358=\"X\"),1,0)","v":0},"X",{"$f":"IF(AND('Step 2 - Ornamental'!$AA$19=\"X\",W358=\"X\"),1,0)","v":0},null,{"$f":"IF(AND('Step 2 - Ornamental'!$AA$19=\"X\",Y358=\"X\"),1,0)","v":0},"X",{"$f":"IF(AND('Step 2 - Ornamental'!$AB$19=\"X\",AA358=\"X\"),1,0)","v":0},null,{"$f":"IF(AND('Step 2 - Ornamental'!$AC$19=\"X\",AC358=\"X\"),1,0)","v":0},null,{"$f":"IF(AND('Step 2 - Ornamental'!$AA$20=\"X\",AE358=\"X\"),1,0)","v":0},"X",{"$f":"IF(AND('Step 2 - Ornamental'!$AA$20=\"X\",AG358=\"X\"),1,0)","v":0},null,{"$f":"IF(AND('Step 2 - Ornamental'!$AB$20=\"X\",AI358=\"X\"),1,0)","v":0},null,{"$f":"IF(AND('Step 2 - Ornamental'!$AC$20=\"X\",AK358=\"X\"),1,0)","v":0},null,{"$f":"IF(AND('Step 2 - Ornamental'!$AA$18=\"X\",AM358=\"X\"),1,0)","v":0},null,{"$f":"IF(AND('Step 2 - Ornamental'!$AB$18=\"X\",AO358=\"X\"),1,0)","v":0},"X",{"$f":"IF(AND('Step 2 - Ornamental'!$AC$18=\"X\",AQ358=\"X\"),1,0)","v":0},null,{"$f":"IF(AND('Step 2 - Ornamental'!$AD$18=\"X\",AS358=\"X\"),1,0)","v":0},null,{"$f":"IF(AND('Step 2 - Ornamental'!$AE$18=\"X\",AU358=\"X\"),1,0)","v":0},null,{"$f":"IF(AND('Step 2 - Ornamental'!$AA$17=\"X\",AW358=\"X\"),1,0)","v":0},"X",{"$f":"IF(AND('Step 2 - Ornamental'!$AB$17=\"X\",AY358=\"X\"),1,0)","v":0},null,{"$f":"IF(AND('Step 2 - Ornamental'!$AC$17=\"X\",BA358=\"X\"),1,0)","v":0},null,{"$f":"IF(AND('Step 2 - Ornamental'!$AA$22=\"X\",BC358=\"X\"),1,0)","v":0},null,{"$f":"IF(AND('Step 2 - Ornamental'!$AB$22=\"X\",BE358=\"X\"),1,0)","v":0},null,{"$f":"IF(AND('Step 2 - Ornamental'!$AC$22=\"X\",BG358=\"X\"),1,0)","v":0},"X",{"$f":"IF(AND('Step 2 - Ornamental'!$AD$22=\"X\",BI358=\"X\"),1,0)","v":0},"X",null,null,null,null,null,null,"White / 2.0'-4.0'"]
[null,1,"LG ST","Ligularia stenocephala 'Little Rocket'","Dwarf Ligularia","24 \" O.C.","dwarf variety to 30” high, soils must stay consistently moist","X",null,null,null,null,null,0,null,{"$f":"IF(AND('Step 2 - Ornamental'!$AA$21=\"X\",Q359=\"X\"),1,0)","v":0},"X",{"$f":"IF(AND('Step 2 - Ornamental'!$AB$21=\"X\",S359=\"X\"),1,0)","v":0},"X",{"$f":"IF(AND('Step 2 - Ornamental'!$AC$21=\"X\",U359=\"X\"),1,0)","v":0},"X",{"$f":"IF(AND('Step 2 - Ornamental'!$AA$19=\"X\",W359=\"X\"),1,0)","v":0},null,{"$f":"IF(AND('Step 2 - Ornamental'!$AA$19=\"X\",Y359=\"X\"),1,0)","v":0},"X",{"$f":"IF(AND('Step 2 - Ornamental'!$AB$19=\"X\",AA359=\"X\"),1,0)","v":0},null,{"$f":"IF(AND('Step 2 - Ornamental'!$AC$19=\"X\",AC359=\"X\"),1,0)","v":0},null,{"$f":"IF(AND('Step 2 - Ornamental'!$AA$20=\"X\",AE359=\"X\"),1,0)","v":0},"X",{"$f":"IF(AND('Step 2 - Ornamental'!$AA$20=\"X\",AG359=\"X\"),1,0)","v":0},null,{"$f":"IF(AND('Step 2 - Ornamental'!$AB$20=\"X\",AI359=\"X\"),1,0)","v":0},null,{"$f":"IF(AND('Step 2 - Ornamental'!$AC$20=\"X\",AK359=\"X\"),1,0)","v":0},null,{"$f":"IF(AND('Step 2 - Ornamental'!$AA$18=\"X\",AM359=\"X\"),1,0)","v":0},null,{"$f":"IF(AND('Step 2 - Ornamental'!$AB$18=\"X\",AO359=\"X\"),1,0)","v":0},null,{"$f":"IF(AND('Step 2 - Ornamental'!$AC$18=\"X\",AQ359=\"X\"),1,0)","v":0},"X",{"$f":"IF(AND('Step 2 - Ornamental'!$AD$18=\"X\",AS359=\"X\"),1,0)","v":0},null,{"$f":"IF(AND('Step 2 - Ornamental'!$AE$18=\"X\",AU359=\"X\"),1,0)","v":0},null,{"$f":"IF(AND('Step 2 - Ornamental'!$AA$17=\"X\",AW359=\"X\"),1,0)","v":0}," ",{"$f":"IF(AND('Step 2 - Ornamental'!$AB$17=\"X\",AY359=\"X\"),1,0)","v":0},"X",{"$f":"IF(AND('Step 2 - Ornamental'!$AC$17=\"X\",BA359=\"X\"),1,0)","v":0},null,{"$f":"IF(AND('Step 2 - Ornamental'!$AA$22=\"X\",BC359=\"X\"),1,0)","v":0},null,{"$f":"IF(AND('Step 2 - Ornamental'!$AB$22=\"X\",BE359=\"X\"),1,0)","v":0},null,{"$f":"IF(AND('Step 2 - Ornamental'!$AC$22=\"X\",BG359=\"X\"),1,0)","v":0},"X",{"$f":"IF(AND('Step 2 - Ornamental'!$AD$22=\"X\",BI359=\"X\"),1,0)","v":0},"X",null,null,null,null,null,null,"Yellow / 3.0-6.0'"]
[null,1,"LG MC","Ligularia 'Britt-Marie Crawford'","Leopard Plant","24\" O.C.","showy purple leaves and orange-yellow flowers, soils must stay consistently moist","X",null,null,null,null,null,1,"X",{"$f":"IF(AND('Step 2 - Ornamental'!$AA$21=\"X\",Q360=\"X\"),1,0)","v":0},null,{"$f":"IF(AND('Step 2 - Ornamental'!$AB$21=\"X\",S360=\"X\"),1,0)","v":0},null,{"$f":"IF(AND('Step 2 - Ornamental'!$AC$21=\"X\",U360=\"X\"),1,0)","v":0},null,{"$f":"IF(AND('Step 2 - Ornamental'!$AA$19=\"X\",W360=\"X\"),1,0)","v":0},null,{"$f":"IF(AND('Step 2 - Ornamental'!$AA$19=\"X\",Y360=\"X\"),1,0)","v":0},"X",{"$f":"IF(AND('Step 2 - Ornamental'!$AB$19=\"X\",AA360=\"X\"),1,0)","v":0},null,{"$f":"IF(AND('Step 2 - Ornamental'!$AC$19=\"X\",AC360=\"X\"),1,0)","v":0},null,{"$f":"IF(AND('Step 2 - Ornamental'!$AA$20=\"X\",AE360=\"X\"),1,0)","v":0},"X",{"$f":"IF(AND('Step 2 - Ornamental'!$AA$20=\"X\",AG360=\"X\"),1,0)","v":0},null,{"$f":"IF(AND('Step 2 - Ornamental'!$AB$20=\"X\",AI360=\"X\"),1,0)","v":0},null,{"$f":"IF(AND('Step 2 - Ornamental'!$AC$20=\"X\",AK360=\"X\"),1,0)","v":0},null,{"$f":"IF(AND('Step 2 - Ornamental'!$AA$18=\"X\",AM360=\"X\"),1,0)","v":0},null,{"$f":"IF(AND('Step 2 - Ornamental'!$AB$18=\"X\",AO360=\"X\"),1,0)","v":0},null,{"$f":"IF(AND('Step 2 - Ornamental'!$AC$18=\"X\",AQ360=\"X\"),1,0)","v":0},"X",{"$f":"IF(AND('Step 2 - Ornamental'!$AD$18=\"X\",AS360=\"X\"),1,0)","v":0},null,{"$f":"IF(AND('Step 2 - Ornamental'!$AE$18=\"X\",AU360=\"X\"),1,0)","v":0},null,{"$f":"IF(AND('Step 2 - Ornamental'!$AA$17=\"X\",AW360=\"X\"),1,0)","v":0},null,{"$f":"IF(AND('Step 2 - Ornamental'!$AB$17=\"X\",AY360=\"X\"),1,0)","v":0},"X",{"$f":"IF(AND('Step 2 - Ornamental'!$AC$17=\"X\",BA360=\"X\"),1,0)","v":0},"X",{"$f":"IF(AND('Step 2 - Ornamental'!$AA$22=\"X\",BC360=\"X\"),1,0)","v":0},null,{"$f":"IF(AND('Step 2 - Ornamental'!$AB$22=\"X\",BE360=\"X\"),1,0)","v":0},null,{"$f":"IF(AND('Step 2 - Ornamental'!$AC$22=\"X\",BG360=\"X\"),1,0)","v":0},"X",{"$f":"IF(AND('Step 2 - Ornamental'!$AD$22=\"X\",BI360=\"X\"),1,0)","v":0},"X",null,null,null,null,null,"Orange Yellow / 2.0'-3.0'"]
[null,1,"LI PL","Limonium platyphyllum (L. latifolium)","Sea Lavender","24\" O.C.","cloud-like mass of lavender blue flowers in July/Aug, ","X",null,null,null,null,null,0,null,{"$f":"IF(AND('Step 2 - Ornamental'!$AA$21=\"X\",Q361=\"X\"),1,0)","v":0},"X",{"$f":"IF(AND('Step 2 - Ornamental'!$AB$21=\"X\",S361=\"X\"),1,0)","v":0},"X",{"$f":"IF(AND('Step 2 - Ornamental'!$AC$21=\"X\",U361=\"X\"),1,0)","v":0},"X",{"$f":"IF(AND('Step 2 - Ornamental'!$AA$19=\"X\",W361=\"X\"),1,0)","v":0},null,{"$f":"IF(AND('Step 2 - Ornamental'!$AA$19=\"X\",Y361=\"X\"),1,0)","v":0},"X",{"$f":"IF(AND('Step 2 - Ornamental'!$AB$19=\"X\",AA361=\"X\"),1,0)","v":0},"X",{"$f":"IF(AND('Step 2 - Ornamental'!$AC$19=\"X\",AC361=\"X\"),1,0)","v":0},"X",{"$f":"IF(AND('Step 2 - Ornamental'!$AA$20=\"X\",AE361=\"X\"),1,0)","v":0},"X",{"$f":"IF(AND('Step 2 - Ornamental'!$AA$20=\"X\",AG361=\"X\"),1,0)","v":0},null,{"$f":"IF(AND('Step 2 - Ornamental'!$AB$20=\"X\",AI361=\"X\"),1,0)","v":0},null,{"$f":"IF(AND('Step 2 - Ornamental'!$AC$20=\"X\",AK361=\"X\"),1,0)","v":0},null,{"$f":"IF(AND('Step 2 - Ornamental'!$AA$18=\"X\",AM361=\"X\"),1,0)","v":0},null,{"$f":"IF(AND('Step 2 - Ornamental'!$AB$18=\"X\",AO361=\"X\"),1,0)","v":0},"X",{"$f":"IF(AND('Step 2 - Ornamental'!$AC$18=\"X\",AQ361=\"X\"),1,0)","v":0},null,{"$f":"IF(AND('Step 2 - Ornamental'!$AD$18=\"X\",AS361=\"X\"),1,0)","v":0},null,{"$f":"IF(AND('Step 2 - Ornamental'!$AE$18=\"X\",AU361=\"X\"),1,0)","v":0},null,{"$f":"IF(AND('Step 2 - Ornamental'!$AA$17=\"X\",AW361=\"X\"),1,0)","v":0},"X",{"$f":"IF(AND('Step 2 - Ornamental'!$AB$17=\"X\",AY361=\"X\"),1,0)","v":0},null,{"$f":"IF(AND('Step 2 - Ornamental'!$AC$17=\"X\",BA361=\"X\"),1,0)","v":0},null,{"$f":"IF(AND('Step 2 - Ornamental'!$AA$22=\"X\",BC361=\"X\"),1,0)","v":0},null,{"$f":"IF(AND('Step 2 - Ornamental'!$AB$22=\"X\",BE361=\"X\"),1,0)","v":0},"X",{"$f":"IF(AND('Step 2 - Ornamental'!$AC$22=\"X\",BG361=\"X\"),1,0)","v":0},"X",{"$f":"IF(AND('Step 2 - Ornamental'!$AD$22=\"X\",BI361=\"X\"),1,0)","v":0},"X",null,null,null,null,null,null,"Lavender Blue / 2.0'-2.5'"]
[" ",1,"LI MU","Liriope muscari 'Big Blue'","Big Blue Lily-turf'","12\" O.C.","non-spreader","X",null,null,"X","X",null,0,null,{"$f":"IF(AND('Step 2 - Ornamental'!$AA$21=\"X\",Q362=\"X\"),1,0)","v":0},"X",{"$f":"IF(AND('Step 2 - Ornamental'!$AB$21=\"X\",S362=\"X\"),1,0)","v":0},null,{"$f":"IF(AND('Step 2 - Ornamental'!$AC$21=\"X\",U362=\"X\"),1,0)","v":0},null,{"$f":"IF(AND('Step 2 - Ornamental'!$AA$19=\"X\",W362=\"X\"),1,0)","v":0},null,{"$f":"IF(AND('Step 2 - Ornamental'!$AA$19=\"X\",Y362=\"X\"),1,0)","v":0},"X",{"$f":"IF(AND('Step 2 - Ornamental'!$AB$19=\"X\",AA362=\"X\"),1,0)","v":0},null,{"$f":"IF(AND('Step 2 - Ornamental'!$AC$19=\"X\",AC362=\"X\"),1,0)","v":0},null,{"$f":"IF(AND('Step 2 - Ornamental'!$AA$20=\"X\",AE362=\"X\"),1,0)","v":0},"X",{"$f":"IF(AND('Step 2 - Ornamental'!$AA$20=\"X\",AG362=\"X\"),1,0)","v":0},null,{"$f":"IF(AND('Step 2 - Ornamental'!$AB$20=\"X\",AI362=\"X\"),1,0)","v":0},null,{"$f":"IF(AND('Step 2 - Ornamental'!$AC$20=\"X\",AK362=\"X\"),1,0)","v":0},null,{"$f":"IF(AND('Step 2 - Ornamental'!$AA$18=\"X\",AM362=\"X\"),1,0)","v":0},null,{"$f":"IF(AND('Step 2 - Ornamental'!$AB$18=\"X\",AO362=\"X\"),1,0)","v":0},"X",{"$f":"IF(AND('Step 2 - Ornamental'!$AC$18=\"X\",AQ362=\"X\"),1,0)","v":0},null,{"$f":"IF(AND('Step 2 - Ornamental'!$AD$18=\"X\",AS362=\"X\"),1,0)","v":0},null,{"$f":"IF(AND('Step 2 - Ornamental'!$AE$18=\"X\",AU362=\"X\"),1,0)","v":0},null,{"$f":"IF(AND('Step 2 - Ornamental'!$AA$17=\"X\",AW362=\"X\"),1,0)","v":0},"X",{"$f":"IF(AND('Step 2 - Ornamental'!$AB$17=\"X\",AY362=\"X\"),1,0)","v":0},"X",{"$f":"IF(AND('Step 2 - Ornamental'!$AC$17=\"X\",BA362=\"X\"),1,0)","v":0},null,{"$f":"IF(AND('Step 2 - Ornamental'!$AA$22=\"X\",BC362=\"X\"),1,0)","v":0},null,{"$f":"IF(AND('Step 2 - Ornamental'!$AB$22=\"X\",BE362=\"X\"),1,0)","v":0},null,{"$f":"IF(AND('Step 2 - Ornamental'!$AC$22=\"X\",BG362=\"X\"),1,0)","v":0},"X",{"$f":"IF(AND('Step 2 - Ornamental'!$AD$22=\"X\",BI362=\"X\"),1,0)","v":0},"X",null,null,null,null,null,null,null,"Lavender / 1.0'-2.0'"]
[" ",1,"LI SP","Liriope spicata","Creeping Lilly Turf","12\" O.C.","aggressive spreader, should be in contained planters","X",null,null,"X","X",null,0,null,{"$f":"IF(AND('Step 2 - Ornamental'!$AA$21=\"X\",Q363=\"X\"),1,0)","v":0},"X",{"$f":"IF(AND('Step 2 - Ornamental'!$AB$21=\"X\",S363=\"X\"),1,0)","v":0},null,{"$f":"IF(AND('Step 2 - Ornamental'!$AC$21=\"X\",U363=\"X\"),1,0)","v":0},null,{"$f":"IF(AND('Step 2 - Ornamental'!$AA$19=\"X\",W363=\"X\"),1,0)","v":0},null,{"$f":"IF(AND('Step 2 - Ornamental'!$AA$19=\"X\",Y363=\"X\"),1,0)","v":0},"X",{"$f":"IF(AND('Step 2 - Ornamental'!$AB$19=\"X\",AA363=\"X\"),1,0)","v":0},null,{"$f":"IF(AND('Step 2 - Ornamental'!$AC$19=\"X\",AC363=\"X\"),1,0)","v":0},null,{"$f":"IF(AND('Step 2 - Ornamental'!$AA$20=\"X\",AE363=\"X\"),1,0)","v":0},"X",{"$f":"IF(AND('Step 2 - Ornamental'!$AA$20=\"X\",AG363=\"X\"),1,0)","v":0},null,{"$f":"IF(AND('Step 2 - Ornamental'!$AB$20=\"X\",AI363=\"X\"),1,0)","v":0},null,{"$f":"IF(AND('Step 2 - Ornamental'!$AC$20=\"X\",AK363=\"X\"),1,0)","v":0},null,{"$f":"IF(AND('Step 2 - Ornamental'!$AA$18=\"X\",AM363=\"X\"),1,0)","v":0},null,{"$f":"IF(AND('Step 2 - Ornamental'!$AB$18=\"X\",AO363=\"X\"),1,0)","v":0},"X",{"$f":"IF(AND('Step 2 - Ornamental'!$AC$18=\"X\",AQ363=\"X\"),1,0)","v":0},null,{"$f":"IF(AND('Step 2 - Ornamental'!$AD$18=\"X\",AS363=\"X\"),1,0)","v":0},null,{"$f":"IF(AND('Step 2 - Ornamental'!$AE$18=\"X\",AU363=\"X\"),1,0)","v":0},null,{"$f":"IF(AND('Step 2 - Ornamental'!$AA$17=\"X\",AW363=\"X\"),1,0)","v":0},"X",{"$f":"IF(AND('Step 2 - Ornamental'!$AB$17=\"X\",AY363=\"X\"),1,0)","v":0},"X",{"$f":"IF(AND('Step 2 - Ornamental'!$AC$17=\"X\",BA363=\"X\"),1,0)","v":0},null,{"$f":"IF(AND('Step 2 - Ornamental'!$AA$22=\"X\",BC363=\"X\"),1,0)","v":0},null,{"$f":"IF(AND('Step 2 - Ornamental'!$AB$22=\"X\",BE363=\"X\"),1,0)","v":0},null,{"$f":"IF(AND('Step 2 - Ornamental'!$AC$22=\"X\",BG363=\"X\"),1,0)","v":0},"X",{"$f":"IF(AND('Step 2 - Ornamental'!$AD$22=\"X\",BI363=\"X\"),1,0)","v":0},"X",null,null,null,null,null,null,null,"Lavender / 0.5'-1.0'"]
[null,1,"LO SI","Lobelia siphilitica","Great Blue Lobelia","12\" O.C.","blue flowers to 36\" tall in July/Sept.",null,"X","X","X",null,null,0,null,{"$f":"IF(AND('Step 2 - Ornamental'!$AA$21=\"X\",Q364=\"X\"),1,0)","v":0},"X",{"$f":"IF(AND('Step 2 - Ornamental'!$AB$21=\"X\",S364=\"X\"),1,0)","v":0},"X",{"$f":"IF(AND('Step 2 - Ornamental'!$AC$21=\"X\",U364=\"X\"),1,0)","v":0},null,{"$f":"IF(AND('Step 2 - Ornamental'!$AA$19=\"X\",W364=\"X\"),1,0)","v":0},null,{"$f":"IF(AND('Step 2 - Ornamental'!$AA$19=\"X\",Y364=\"X\"),1,0)","v":0},"X",{"$f":"IF(AND('Step 2 - Ornamental'!$AB$19=\"X\",AA364=\"X\"),1,0)","v":0},"X",{"$f":"IF(AND('Step 2 - Ornamental'!$AC$19=\"X\",AC364=\"X\"),1,0)","v":0},null,{"$f":"IF(AND('Step 2 - Ornamental'!$AA$20=\"X\",AE364=\"X\"),1,0)","v":0},null,{"$f":"IF(AND('Step 2 - Ornamental'!$AA$20=\"X\",AG364=\"X\"),1,0)","v":0},"X",{"$f":"IF(AND('Step 2 - Ornamental'!$AB$20=\"X\",AI364=\"X\"),1,0)","v":0},"X",{"$f":"IF(AND('Step 2 - Ornamental'!$AC$20=\"X\",AK364=\"X\"),1,0)","v":0},"X",{"$f":"IF(AND('Step 2 - Ornamental'!$AA$18=\"X\",AM364=\"X\"),1,0)","v":0},null,{"$f":"IF(AND('Step 2 - Ornamental'!$AB$18=\"X\",AO364=\"X\"),1,0)","v":0},"X",{"$f":"IF(AND('Step 2 - Ornamental'!$AC$18=\"X\",AQ364=\"X\"),1,0)","v":0},"X",{"$f":"IF(AND('Step 2 - Ornamental'!$AD$18=\"X\",AS364=\"X\"),1,0)","v":0},null,{"$f":"IF(AND('Step 2 - Ornamental'!$AE$18=\"X\",AU364=\"X\"),1,0)","v":0},null,{"$f":"IF(AND('Step 2 - Ornamental'!$AA$17=\"X\",AW364=\"X\"),1,0)","v":0},"X",{"$f":"IF(AND('Step 2 - Ornamental'!$AB$17=\"X\",AY364=\"X\"),1,0)","v":0},"X",{"$f":"IF(AND('Step 2 - Ornamental'!$AC$17=\"X\",BA364=\"X\"),1,0)","v":0},null,{"$f":"IF(AND('Step 2 - Ornamental'!$AA$22=\"X\",BC364=\"X\"),1,0)","v":0},null,{"$f":"IF(AND('Step 2 - Ornamental'!$AB$22=\"X\",BE364=\"X\"),1,0)","v":0},null,{"$f":"IF(AND('Step 2 - Ornamental'!$AC$22=\"X\",BG364=\"X\"),1,0)","v":0},"X",{"$f":"IF(AND('Step 2 - Ornamental'!$AD$22=\"X\",BI364=\"X\"),1,0)","v":0},"X",null,null,null,null,null,null,"Blue / 2.0'-3.0'"]
[null,1,"LY CH","Lychnis chalcedonica (Silene chalcedonica)","Maltese Cross","18\" O.C.","scarlet-orange flowers in May-July to 3-4' tall, ","X",null,null,null,null,null,0,null,{"$f":"IF(AND('Step 2 - Ornamental'!$AA$21=\"X\",Q365=\"X\"),1,0)","v":0},"X",{"$f":"IF(AND('Step 2 - Ornamental'!$AB$21=\"X\",S365=\"X\"),1,0)","v":0},"X",{"$f":"IF(AND('Step 2 - Ornamental'!$AC$21=\"X\",U365=\"X\"),1,0)","v":0},null,{"$f":"IF(AND('Step 2 - Ornamental'!$AA$19=\"X\",W365=\"X\"),1,0)","v":0},"X",{"$f":"IF(AND('Step 2 - Ornamental'!$AA$19=\"X\",Y365=\"X\"),1,0)","v":0},null,{"$f":"IF(AND('Step 2 - Ornamental'!$AB$19=\"X\",AA365=\"X\"),1,0)","v":0},null,{"$f":"IF(AND('Step 2 - Ornamental'!$AC$19=\"X\",AC365=\"X\"),1,0)","v":0},null,{"$f":"IF(AND('Step 2 - Ornamental'!$AA$20=\"X\",AE365=\"X\"),1,0)","v":0},"X",{"$f":"IF(AND('Step 2 - Ornamental'!$AA$20=\"X\",AG365=\"X\"),1,0)","v":0},null,{"$f":"IF(AND('Step 2 - Ornamental'!$AB$20=\"X\",AI365=\"X\"),1,0)","v":0},null,{"$f":"IF(AND('Step 2 - Ornamental'!$AC$20=\"X\",AK365=\"X\"),1,0)","v":0},null,{"$f":"IF(AND('Step 2 - Ornamental'!$AA$18=\"X\",AM365=\"X\"),1,0)","v":0},null,{"$f":"IF(AND('Step 2 - Ornamental'!$AB$18=\"X\",AO365=\"X\"),1,0)","v":0},"X",{"$f":"IF(AND('Step 2 - Ornamental'!$AC$18=\"X\",AQ365=\"X\"),1,0)","v":0},null,{"$f":"IF(AND('Step 2 - Ornamental'!$AD$18=\"X\",AS365=\"X\"),1,0)","v":0},null,{"$f":"IF(AND('Step 2 - Ornamental'!$AE$18=\"X\",AU365=\"X\"),1,0)","v":0},null,{"$f":"IF(AND('Step 2 - Ornamental'!$AA$17=\"X\",AW365=\"X\"),1,0)","v":0},"X",{"$f":"IF(AND('Step 2 - Ornamental'!$AB$17=\"X\",AY365=\"X\"),1,0)","v":0},null,{"$f":"IF(AND('Step 2 - Ornamental'!$AC$17=\"X\",BA365=\"X\"),1,0)","v":0},null,{"$f":"IF(AND('Step 2 - Ornamental'!$AA$22=\"X\",BC365=\"X\"),1,0)","v":0},null,{"$f":"IF(AND('Step 2 - Ornamental'!$AB$22=\"X\",BE365=\"X\"),1,0)","v":0},null,{"$f":"IF(AND('Step 2 - Ornamental'!$AC$22=\"X\",BG365=\"X\"),1,0)","v":0},"X",{"$f":"IF(AND('Step 2 - Ornamental'!$AD$22=\"X\",BI365=\"X\"),1,0)","v":0},"X",null,null,null,null,"Salmon Orange /  1.0'-2.0'"]
[null,1,"ME VI","Mertensia virginica","Virginia Bluebells","12\" O.C.","prefers rich soil, spring ephemeral",null,"X","X",null,"X",null,0,null,{"$f":"IF(AND('Step 2 - Ornamental'!$AA$21=\"X\",Q366=\"X\"),1,0)","v":0},"X",{"$f":"IF(AND('Step 2 - Ornamental'!$AB$21=\"X\",S366=\"X\"),1,0)","v":0},"X",{"$f":"IF(AND('Step 2 - Ornamental'!$AC$21=\"X\",U366=\"X\"),1,0)","v":0},"X",{"$f":"IF(AND('Step 2 - Ornamental'!$AA$19=\"X\",W366=\"X\"),1,0)","v":0},null,{"$f":"IF(AND('Step 2 - Ornamental'!$AA$19=\"X\",Y366=\"X\"),1,0)","v":0},"X",{"$f":"IF(AND('Step 2 - Ornamental'!$AB$19=\"X\",AA366=\"X\"),1,0)","v":0},null,{"$f":"IF(AND('Step 2 - Ornamental'!$AC$19=\"X\",AC366=\"X\"),1,0)","v":0},null,{"$f":"IF(AND('Step 2 - Ornamental'!$AA$20=\"X\",AE366=\"X\"),1,0)","v":0},null,{"$f":"IF(AND('Step 2 - Ornamental'!$AA$20=\"X\",AG366=\"X\"),1,0)","v":0},"X",{"$f":"IF(AND('Step 2 - Ornamental'!$AB$20=\"X\",AI366=\"X\"),1,0)","v":0},null,{"$f":"IF(AND('Step 2 - Ornamental'!$AC$20=\"X\",AK366=\"X\"),1,0)","v":0},null,{"$f":"IF(AND('Step 2 - Ornamental'!$AA$18=\"X\",AM366=\"X\"),1,0)","v":0},null,{"$f":"IF(AND('Step 2 - Ornamental'!$AB$18=\"X\",AO366=\"X\"),1,0)","v":0},"X",{"$f":"IF(AND('Step 2 - Ornamental'!$AC$18=\"X\",AQ366=\"X\"),1,0)","v":0},null,{"$f":"IF(AND('Step 2 - Ornamental'!$AD$18=\"X\",AS366=\"X\"),1,0)","v":0},null,{"$f":"IF(AND('Step 2 - Ornamental'!$AE$18=\"X\",AU366=\"X\"),1,0)","v":0},null,{"$f":"IF(AND('Step 2 - Ornamental'!$AA$17=\"X\",AW366=\"X\"),1,0)","v":0},null,{"$f":"IF(AND('Step 2 - Ornamental'!$AB$17=\"X\",AY366=\"X\"),1,0)","v":0},"X",{"$f":"IF(AND('Step 2 - Ornamental'!$AC$17=\"X\",BA366=\"X\"),1,0)","v":0},"X",{"$f":"IF(AND('Step 2 - Ornamental'!$AA$22=\"X\",BC366=\"X\"),1,0)","v":0},null,{"$f":"IF(AND('Step 2 - Ornamental'!$AB$22=\"X\",BE366=\"X\"),1,0)","v":0},null,{"$f":"IF(AND('Step 2 - Ornamental'!$AC$22=\"X\",BG366=\"X\"),1,0)","v":0},"X",{"$f":"IF(AND('Step 2 - Ornamental'!$AD$22=\"X\",BI366=\"X\"),1,0)","v":0},"X",null,null,"Blue / 1.5'-2.0'"]
[null,1,"MO BR","Monarda bradburiana","Eastern Bee Balm","18\" O.C.","pale purple-pink flowers, monarda for drier soils",null,"X",null,"X",null,null,0,null,{"$f":"IF(AND('Step 2 - Ornamental'!$AA$21=\"X\",Q367=\"X\"),1,0)","v":0},"X",{"$f":"IF(AND('Step 2 - Ornamental'!$AB$21=\"X\",S367=\"X\"),1,0)","v":0},"X",{"$f":"IF(AND('Step 2 - Ornamental'!$AC$21=\"X\",U367=\"X\"),1,0)","v":0},null,{"$f":"IF(AND('Step 2 - Ornamental'!$AA$19=\"X\",W367=\"X\"),1,0)","v":0},null,{"$f":"IF(AND('Step 2 - Ornamental'!$AA$19=\"X\",Y367=\"X\"),1,0)","v":0},"X",{"$f":"IF(AND('Step 2 - Ornamental'!$AB$19=\"X\",AA367=\"X\"),1,0)","v":0},null,{"$f":"IF(AND('Step 2 - Ornamental'!$AC$19=\"X\",AC367=\"X\"),1,0)","v":0},null,{"$f":"IF(AND('Step 2 - Ornamental'!$AA$20=\"X\",AE367=\"X\"),1,0)","v":0},"X",{"$f":"IF(AND('Step 2 - Ornamental'!$AA$20=\"X\",AG367=\"X\"),1,0)","v":0},null,{"$f":"IF(AND('Step 2 - Ornamental'!$AB$20=\"X\",AI367=\"X\"),1,0)","v":0},null,{"$f":"IF(AND('Step 2 - Ornamental'!$AC$20=\"X\",AK367=\"X\"),1,0)","v":0},null,{"$f":"IF(AND('Step 2 - Ornamental'!$AA$18=\"X\",AM367=\"X\"),1,0)","v":0},"X",{"$f":"IF(AND('Step 2 - Ornamental'!$AB$18=\"X\",AO367=\"X\"),1,0)","v":0},"X",{"$f":"IF(AND('Step 2 - Ornamental'!$AC$18=\"X\",AQ367=\"X\"),1,0)","v":0},null,{"$f":"IF(AND('Step 2 - Ornamental'!$AD$18=\"X\",AS367=\"X\"),1,0)","v":0},null,{"$f":"IF(AND('Step 2 - Ornamental'!$AE$18=\"X\",AU367=\"X\"),1,0)","v":0},null,{"$f":"IF(AND('Step 2 - Ornamental'!$AA$17=\"X\",AW367=\"X\"),1,0)","v":0},"X",{"$f":"IF(AND('Step 2 - Ornamental'!$AB$17=\"X\",AY367=\"X\"),1,0)","v":0},"X",{"$f":"IF(AND('Step 2 - Ornamental'!$AC$17=\"X\",BA367=\"X\"),1,0)","v":0},null,{"$f":"IF(AND('Step 2 - Ornamental'!$AA$22=\"X\",BC367=\"X\"),1,0)","v":0},null,{"$f":"IF(AND('Step 2 - Ornamental'!$AB$22=\"X\",BE367=\"X\"),1,0)","v":0},"X",{"$f":"IF(AND('Step 2 - Ornamental'!$AC$22=\"X\",BG367=\"X\"),1,0)","v":0},"X",{"$f":"IF(AND('Step 2 - Ornamental'!$AD$22=\"X\",BI367=\"X\"),1,0)","v":0},"X",null,null,null,null,"Pink / 1.0'-2.0'"]
[null,1,"MO DY","Monarda didyma 'Dark Ponticum'","Dark Ponticum Bee Balm","24\" O.C.","mildew-resistant, purple flowers, spreads, monarda for wetter soils",null,"X",null,"X","X",null,0,null,{"$f":"IF(AND('Step 2 - Ornamental'!$AA$21=\"X\",Q368=\"X\"),1,0)","v":0},"X",{"$f":"IF(AND('Step 2 - Ornamental'!$AB$21=\"X\",S368=\"X\"),1,0)","v":0},"X",{"$f":"IF(AND('Step 2 - Ornamental'!$AC$21=\"X\",U368=\"X\"),1,0)","v":0},"X",{"$f":"IF(AND('Step 2 - Ornamental'!$AA$19=\"X\",W368=\"X\"),1,0)","v":0},null,{"$f":"IF(AND('Step 2 - Ornamental'!$AA$19=\"X\",Y368=\"X\"),1,0)","v":0},"X",{"$f":"IF(AND('Step 2 - Ornamental'!$AB$19=\"X\",AA368=\"X\"),1,0)","v":0},null,{"$f":"IF(AND('Step 2 - Ornamental'!$AC$19=\"X\",AC368=\"X\"),1,0)","v":0},null,{"$f":"IF(AND('Step 2 - Ornamental'!$AA$20=\"X\",AE368=\"X\"),1,0)","v":0},"X",{"$f":"IF(AND('Step 2 - Ornamental'!$AA$20=\"X\",AG368=\"X\"),1,0)","v":0},null,{"$f":"IF(AND('Step 2 - Ornamental'!$AB$20=\"X\",AI368=\"X\"),1,0)","v":0},null,{"$f":"IF(AND('Step 2 - Ornamental'!$AC$20=\"X\",AK368=\"X\"),1,0)","v":0},null,{"$f":"IF(AND('Step 2 - Ornamental'!$AA$18=\"X\",AM368=\"X\"),1,0)","v":0}," ",{"$f":"IF(AND('Step 2 - Ornamental'!$AB$18=\"X\",AO368=\"X\"),1,0)","v":0},"X",{"$f":"IF(AND('Step 2 - Ornamental'!$AC$18=\"X\",AQ368=\"X\"),1,0)","v":0},"X",{"$f":"IF(AND('Step 2 - Ornamental'!$AD$18=\"X\",AS368=\"X\"),1,0)","v":0},null,{"$f":"IF(AND('Step 2 - Ornamental'!$AE$18=\"X\",AU368=\"X\"),1,0)","v":0},null,{"$f":"IF(AND('Step 2 - Ornamental'!$AA$17=\"X\",AW368=\"X\"),1,0)","v":0},"X",{"$f":"IF(AND('Step 2 - Ornamental'!$AB$17=\"X\",AY368=\"X\"),1,0)","v":0},"X",{"$f":"IF(AND('Step 2 - Ornamental'!$AC$17=\"X\",BA368=\"X\"),1,0)","v":0},null,{"$f":"IF(AND('Step 2 - Ornamental'!$AA$22=\"X\",BC368=\"X\"),1,0)","v":0},null,{"$f":"IF(AND('Step 2 - Ornamental'!$AB$22=\"X\",BE368=\"X\"),1,0)","v":0},null,{"$f":"IF(AND('Step 2 - Ornamental'!$AC$22=\"X\",BG368=\"X\"),1,0)","v":0},"X",{"$f":"IF(AND('Step 2 - Ornamental'!$AD$22=\"X\",BI368=\"X\"),1,0)","v":0},"X",null,null,null,null,"Purple / 3.0'-4.0'"]
[null,1,"MO CR","Monarda didyma 'Coral Reef'","Coral Reef Bee Balm","24\" O.C.","coral pink flowers, spreads,  monarda for wetter soils",null,"X",null,"X","X",null,0,null,{"$f":"IF(AND('Step 2 - Ornamental'!$AA$21=\"X\",Q369=\"X\"),1,0)","v":0},"X",{"$f":"IF(AND('Step 2 - Ornamental'!$AB$21=\"X\",S369=\"X\"),1,0)","v":0},"X",{"$f":"IF(AND('Step 2 - Ornamental'!$AC$21=\"X\",U369=\"X\"),1,0)","v":0},"X",{"$f":"IF(AND('Step 2 - Ornamental'!$AA$19=\"X\",W369=\"X\"),1,0)","v":0},null,{"$f":"IF(AND('Step 2 - Ornamental'!$AA$19=\"X\",Y369=\"X\"),1,0)","v":0},"X",{"$f":"IF(AND('Step 2 - Ornamental'!$AB$19=\"X\",AA369=\"X\"),1,0)","v":0},null,{"$f":"IF(AND('Step 2 - Ornamental'!$AC$19=\"X\",AC369=\"X\"),1,0)","v":0},null,{"$f":"IF(AND('Step 2 - Ornamental'!$AA$20=\"X\",AE369=\"X\"),1,0)","v":0},"X",{"$f":"IF(AND('Step 2 - Ornamental'!$AA$20=\"X\",AG369=\"X\"),1,0)","v":0},null,{"$f":"IF(AND('Step 2 - Ornamental'!$AB$20=\"X\",AI369=\"X\"),1,0)","v":0},null,{"$f":"IF(AND('Step 2 - Ornamental'!$AC$20=\"X\",AK369=\"X\"),1,0)","v":0},null,{"$f":"IF(AND('Step 2 - Ornamental'!$AA$18=\"X\",AM369=\"X\"),1,0)","v":0}," ",{"$f":"IF(AND('Step 2 - Ornamental'!$AB$18=\"X\",AO369=\"X\"),1,0)","v":0},"X",{"$f":"IF(AND('Step 2 - Ornamental'!$AC$18=\"X\",AQ369=\"X\"),1,0)","v":0},"X",{"$f":"IF(AND('Step 2 - Ornamental'!$AD$18=\"X\",AS369=\"X\"),1,0)","v":0},null,{"$f":"IF(AND('Step 2 - Ornamental'!$AE$18=\"X\",AU369=\"X\"),1,0)","v":0},null,{"$f":"IF(AND('Step 2 - Ornamental'!$AA$17=\"X\",AW369=\"X\"),1,0)","v":0},"X",{"$f":"IF(AND('Step 2 - Ornamental'!$AB$17=\"X\",AY369=\"X\"),1,0)","v":0},"X",{"$f":"IF(AND('Step 2 - Ornamental'!$AC$17=\"X\",BA369=\"X\"),1,0)","v":0},null,{"$f":"IF(AND('Step 2 - Ornamental'!$AA$22=\"X\",BC369=\"X\"),1,0)","v":0},null,{"$f":"IF(AND('Step 2 - Ornamental'!$AB$22=\"X\",BE369=\"X\"),1,0)","v":0},null,{"$f":"IF(AND('Step 2 - Ornamental'!$AC$22=\"X\",BG369=\"X\"),1,0)","v":0},"X",{"$f":"IF(AND('Step 2 - Ornamental'!$AD$22=\"X\",BI369=\"X\"),1,0)","v":0},"X",null,null,null,null,null,"Pink  / 3.0'-4.0'"]
[null,1,"MO FI","Monarda didyma 'Raspberry Wine'","Wild Bergamot","24\" O.C.","raspberry flowers, tolerates clay soil, likes circulation",null,"X","X","X","X",null,0,null,{"$f":"IF(AND('Step 2 - Ornamental'!$AA$21=\"X\",Q370=\"X\"),1,0)","v":0},"X",{"$f":"IF(AND('Step 2 - Ornamental'!$AB$21=\"X\",S370=\"X\"),1,0)","v":0},"X",{"$f":"IF(AND('Step 2 - Ornamental'!$AC$21=\"X\",U370=\"X\"),1,0)","v":0},"X",{"$f":"IF(AND('Step 2 - Ornamental'!$AA$19=\"X\",W370=\"X\"),1,0)","v":0},null,{"$f":"IF(AND('Step 2 - Ornamental'!$AA$19=\"X\",Y370=\"X\"),1,0)","v":0},"X",{"$f":"IF(AND('Step 2 - Ornamental'!$AB$19=\"X\",AA370=\"X\"),1,0)","v":0},null,{"$f":"IF(AND('Step 2 - Ornamental'!$AC$19=\"X\",AC370=\"X\"),1,0)","v":0},null,{"$f":"IF(AND('Step 2 - Ornamental'!$AA$20=\"X\",AE370=\"X\"),1,0)","v":0},"X",{"$f":"IF(AND('Step 2 - Ornamental'!$AA$20=\"X\",AG370=\"X\"),1,0)","v":0},null,{"$f":"IF(AND('Step 2 - Ornamental'!$AB$20=\"X\",AI370=\"X\"),1,0)","v":0},null,{"$f":"IF(AND('Step 2 - Ornamental'!$AC$20=\"X\",AK370=\"X\"),1,0)","v":0},null,{"$f":"IF(AND('Step 2 - Ornamental'!$AA$18=\"X\",AM370=\"X\"),1,0)","v":0},"X",{"$f":"IF(AND('Step 2 - Ornamental'!$AB$18=\"X\",AO370=\"X\"),1,0)","v":0},"X",{"$f":"IF(AND('Step 2 - Ornamental'!$AC$18=\"X\",AQ370=\"X\"),1,0)","v":0},"X",{"$f":"IF(AND('Step 2 - Ornamental'!$AD$18=\"X\",AS370=\"X\"),1,0)","v":0},null,{"$f":"IF(AND('Step 2 - Ornamental'!$AE$18=\"X\",AU370=\"X\"),1,0)","v":0},null,{"$f":"IF(AND('Step 2 - Ornamental'!$AA$17=\"X\",AW370=\"X\"),1,0)","v":0},"X",{"$f":"IF(AND('Step 2 - Ornamental'!$AB$17=\"X\",AY370=\"X\"),1,0)","v":0},"X",{"$f":"IF(AND('Step 2 - Ornamental'!$AC$17=\"X\",BA370=\"X\"),1,0)","v":0},null,{"$f":"IF(AND('Step 2 - Ornamental'!$AA$22=\"X\",BC370=\"X\"),1,0)","v":0},null,{"$f":"IF(AND('Step 2 - Ornamental'!$AB$22=\"X\",BE370=\"X\"),1,0)","v":0},null,{"$f":"IF(AND('Step 2 - Ornamental'!$AC$22=\"X\",BG370=\"X\"),1,0)","v":0},"X",{"$f":"IF(AND('Step 2 - Ornamental'!$AD$22=\"X\",BI370=\"X\"),1,0)","v":0},"X",null,null,null,null,null,null,"Pink / 2.0' -4.0'"]
[null,1,"MO SC","Monarda fistulosa 'Scorpion'","Scorpion Bee Balm","24\" O.C.","purple-red flowers, (4' tall), ",null,"X","X","X","X",null,0,null,{"$f":"IF(AND('Step 2 - Ornamental'!$AA$21=\"X\",Q371=\"X\"),1,0)","v":0},"X",{"$f":"IF(AND('Step 2 - Ornamental'!$AB$21=\"X\",S371=\"X\"),1,0)","v":0},"X",{"$f":"IF(AND('Step 2 - Ornamental'!$AC$21=\"X\",U371=\"X\"),1,0)","v":0},"X",{"$f":"IF(AND('Step 2 - Ornamental'!$AA$19=\"X\",W371=\"X\"),1,0)","v":0},null,{"$f":"IF(AND('Step 2 - Ornamental'!$AA$19=\"X\",Y371=\"X\"),1,0)","v":0},"X",{"$f":"IF(AND('Step 2 - Ornamental'!$AB$19=\"X\",AA371=\"X\"),1,0)","v":0},"X",{"$f":"IF(AND('Step 2 - Ornamental'!$AC$19=\"X\",AC371=\"X\"),1,0)","v":0},null,{"$f":"IF(AND('Step 2 - Ornamental'!$AA$20=\"X\",AE371=\"X\"),1,0)","v":0},null,{"$f":"IF(AND('Step 2 - Ornamental'!$AA$20=\"X\",AG371=\"X\"),1,0)","v":0},"X",{"$f":"IF(AND('Step 2 - Ornamental'!$AB$20=\"X\",AI371=\"X\"),1,0)","v":0},null,{"$f":"IF(AND('Step 2 - Ornamental'!$AC$20=\"X\",AK371=\"X\"),1,0)","v":0},null,{"$f":"IF(AND('Step 2 - Ornamental'!$AA$18=\"X\",AM371=\"X\"),1,0)","v":0},"X",{"$f":"IF(AND('Step 2 - Ornamental'!$AB$18=\"X\",AO371=\"X\"),1,0)","v":0},"X",{"$f":"IF(AND('Step 2 - Ornamental'!$AC$18=\"X\",AQ371=\"X\"),1,0)","v":0},null,{"$f":"IF(AND('Step 2 - Ornamental'!$AD$18=\"X\",AS371=\"X\"),1,0)","v":0},null,{"$f":"IF(AND('Step 2 - Ornamental'!$AE$18=\"X\",AU371=\"X\"),1,0)","v":0},null,{"$f":"IF(AND('Step 2 - Ornamental'!$AA$17=\"X\",AW371=\"X\"),1,0)","v":0},"X",{"$f":"IF(AND('Step 2 - Ornamental'!$AB$17=\"X\",AY371=\"X\"),1,0)","v":0},"X",{"$f":"IF(AND('Step 2 - Ornamental'!$AC$17=\"X\",BA371=\"X\"),1,0)","v":0},null,{"$f":"IF(AND('Step 2 - Ornamental'!$AA$22=\"X\",BC371=\"X\"),1,0)","v":0},null,{"$f":"IF(AND('Step 2 - Ornamental'!$AB$22=\"X\",BE371=\"X\"),1,0)","v":0},"X",{"$f":"IF(AND('Step 2 - Ornamental'!$AC$22=\"X\",BG371=\"X\"),1,0)","v":0},"X",{"$f":"IF(AND('Step 2 - Ornamental'!$AD$22=\"X\",BI371=\"X\"),1,0)","v":0},"X",null,null,null,null,null,null,"Pale Purple / 3.0'-4.0'"]
[null,1,"NE EB","Nepeta x faassenii 'Early Bird'","Early Bird Catmint","18\" O.C.","flowers in April/May, low variety (12\" high)","X",null,null,"X","X",null,0,null,{"$f":"IF(AND('Step 2 - Ornamental'!$AA$21=\"X\",Q372=\"X\"),1,0)","v":0},"X",{"$f":"IF(AND('Step 2 - Ornamental'!$AB$21=\"X\",S372=\"X\"),1,0)","v":0},"X",{"$f":"IF(AND('Step 2 - Ornamental'!$AC$21=\"X\",U372=\"X\"),1,0)","v":0},"X",{"$f":"IF(AND('Step 2 - Ornamental'!$AA$19=\"X\",W372=\"X\"),1,0)","v":0},null,{"$f":"IF(AND('Step 2 - Ornamental'!$AA$19=\"X\",Y372=\"X\"),1,0)","v":0},"X",{"$f":"IF(AND('Step 2 - Ornamental'!$AB$19=\"X\",AA372=\"X\"),1,0)","v":0},"X",{"$f":"IF(AND('Step 2 - Ornamental'!$AC$19=\"X\",AC372=\"X\"),1,0)","v":0},"X",{"$f":"IF(AND('Step 2 - Ornamental'!$AA$20=\"X\",AE372=\"X\"),1,0)","v":0},"X",{"$f":"IF(AND('Step 2 - Ornamental'!$AA$20=\"X\",AG372=\"X\"),1,0)","v":0},null,{"$f":"IF(AND('Step 2 - Ornamental'!$AB$20=\"X\",AI372=\"X\"),1,0)","v":0},null,{"$f":"IF(AND('Step 2 - Ornamental'!$AC$20=\"X\",AK372=\"X\"),1,0)","v":0},null,{"$f":"IF(AND('Step 2 - Ornamental'!$AA$18=\"X\",AM372=\"X\"),1,0)","v":0},null,{"$f":"IF(AND('Step 2 - Ornamental'!$AB$18=\"X\",AO372=\"X\"),1,0)","v":0},"X",{"$f":"IF(AND('Step 2 - Ornamental'!$AC$18=\"X\",AQ372=\"X\"),1,0)","v":0},null,{"$f":"IF(AND('Step 2 - Ornamental'!$AD$18=\"X\",AS372=\"X\"),1,0)","v":0},null,{"$f":"IF(AND('Step 2 - Ornamental'!$AE$18=\"X\",AU372=\"X\"),1,0)","v":0},null,{"$f":"IF(AND('Step 2 - Ornamental'!$AA$17=\"X\",AW372=\"X\"),1,0)","v":0},"X",{"$f":"IF(AND('Step 2 - Ornamental'!$AB$17=\"X\",AY372=\"X\"),1,0)","v":0},"X",{"$f":"IF(AND('Step 2 - Ornamental'!$AC$17=\"X\",BA372=\"X\"),1,0)","v":0},null,{"$f":"IF(AND('Step 2 - Ornamental'!$AA$22=\"X\",BC372=\"X\"),1,0)","v":0},null,{"$f":"IF(AND('Step 2 - Ornamental'!$AB$22=\"X\",BE372=\"X\"),1,0)","v":0},null,{"$f":"IF(AND('Step 2 - Ornamental'!$AC$22=\"X\",BG372=\"X\"),1,0)","v":0},"X",{"$f":"IF(AND('Step 2 - Ornamental'!$AD$22=\"X\",BI372=\"X\"),1,0)","v":0},"X",null,null,null,null,"Purple / 1.0'-1.5'"]
[null,1,"NE KK","Nepeta x faassenii 'Kit Cat'","Kit Cat Catmint","24\" O.C.","true-blue flowers in June-July, (18\" high)","X",null,null,"X","X",null,0,null,{"$f":"IF(AND('Step 2 - Ornamental'!$AA$21=\"X\",Q373=\"X\"),1,0)","v":0},"X",{"$f":"IF(AND('Step 2 - Ornamental'!$AB$21=\"X\",S373=\"X\"),1,0)","v":0},"X",{"$f":"IF(AND('Step 2 - Ornamental'!$AC$21=\"X\",U373=\"X\"),1,0)","v":0},"X",{"$f":"IF(AND('Step 2 - Ornamental'!$AA$19=\"X\",W373=\"X\"),1,0)","v":0},null,{"$f":"IF(AND('Step 2 - Ornamental'!$AA$19=\"X\",Y373=\"X\"),1,0)","v":0},"X",{"$f":"IF(AND('Step 2 - Ornamental'!$AB$19=\"X\",AA373=\"X\"),1,0)","v":0},"X",{"$f":"IF(AND('Step 2 - Ornamental'!$AC$19=\"X\",AC373=\"X\"),1,0)","v":0},"X",{"$f":"IF(AND('Step 2 - Ornamental'!$AA$20=\"X\",AE373=\"X\"),1,0)","v":0},"X",{"$f":"IF(AND('Step 2 - Ornamental'!$AA$20=\"X\",AG373=\"X\"),1,0)","v":0},null,{"$f":"IF(AND('Step 2 - Ornamental'!$AB$20=\"X\",AI373=\"X\"),1,0)","v":0},null,{"$f":"IF(AND('Step 2 - Ornamental'!$AC$20=\"X\",AK373=\"X\"),1,0)","v":0},null,{"$f":"IF(AND('Step 2 - Ornamental'!$AA$18=\"X\",AM373=\"X\"),1,0)","v":0},"X",{"$f":"IF(AND('Step 2 - Ornamental'!$AB$18=\"X\",AO373=\"X\"),1,0)","v":0},"X",{"$f":"IF(AND('Step 2 - Ornamental'!$AC$18=\"X\",AQ373=\"X\"),1,0)","v":0},null,{"$f":"IF(AND('Step 2 - Ornamental'!$AD$18=\"X\",AS373=\"X\"),1,0)","v":0},null,{"$f":"IF(AND('Step 2 - Ornamental'!$AE$18=\"X\",AU373=\"X\"),1,0)","v":0},null,{"$f":"IF(AND('Step 2 - Ornamental'!$AA$17=\"X\",AW373=\"X\"),1,0)","v":0},"X",{"$f":"IF(AND('Step 2 - Ornamental'!$AB$17=\"X\",AY373=\"X\"),1,0)","v":0},"X",{"$f":"IF(AND('Step 2 - Ornamental'!$AC$17=\"X\",BA373=\"X\"),1,0)","v":0},null,{"$f":"IF(AND('Step 2 - Ornamental'!$AA$22=\"X\",BC373=\"X\"),1,0)","v":0},null,{"$f":"IF(AND('Step 2 - Ornamental'!$AB$22=\"X\",BE373=\"X\"),1,0)","v":0},"X",{"$f":"IF(AND('Step 2 - Ornamental'!$AC$22=\"X\",BG373=\"X\"),1,0)","v":0},"X",{"$f":"IF(AND('Step 2 - Ornamental'!$AD$22=\"X\",BI373=\"X\"),1,0)","v":0},"X",null,null,null,null,"Blue / 1.0'-1.5'"]
[null,1,"NE RA","Nepeta racemosa 'Walker's Low'","Walker's Low Catmint","30\" O.C.","not a low variety (30\" tall), silver grey foliage, does not reseed","X",null,null,"X","X",null,0,null,{"$f":"IF(AND('Step 2 - Ornamental'!$AA$21=\"X\",Q374=\"X\"),1,0)","v":0},"X",{"$f":"IF(AND('Step 2 - Ornamental'!$AB$21=\"X\",S374=\"X\"),1,0)","v":0},"X",{"$f":"IF(AND('Step 2 - Ornamental'!$AC$21=\"X\",U374=\"X\"),1,0)","v":0},"X",{"$f":"IF(AND('Step 2 - Ornamental'!$AA$19=\"X\",W374=\"X\"),1,0)","v":0},null,{"$f":"IF(AND('Step 2 - Ornamental'!$AA$19=\"X\",Y374=\"X\"),1,0)","v":0},"X",{"$f":"IF(AND('Step 2 - Ornamental'!$AB$19=\"X\",AA374=\"X\"),1,0)","v":0},"X",{"$f":"IF(AND('Step 2 - Ornamental'!$AC$19=\"X\",AC374=\"X\"),1,0)","v":0},"X",{"$f":"IF(AND('Step 2 - Ornamental'!$AA$20=\"X\",AE374=\"X\"),1,0)","v":0},"X",{"$f":"IF(AND('Step 2 - Ornamental'!$AA$20=\"X\",AG374=\"X\"),1,0)","v":0},null,{"$f":"IF(AND('Step 2 - Ornamental'!$AB$20=\"X\",AI374=\"X\"),1,0)","v":0},null,{"$f":"IF(AND('Step 2 - Ornamental'!$AC$20=\"X\",AK374=\"X\"),1,0)","v":0},null,{"$f":"IF(AND('Step 2 - Ornamental'!$AA$18=\"X\",AM374=\"X\"),1,0)","v":0},"X",{"$f":"IF(AND('Step 2 - Ornamental'!$AB$18=\"X\",AO374=\"X\"),1,0)","v":0},"X",{"$f":"IF(AND('Step 2 - Ornamental'!$AC$18=\"X\",AQ374=\"X\"),1,0)","v":0},null,{"$f":"IF(AND('Step 2 - Ornamental'!$AD$18=\"X\",AS374=\"X\"),1,0)","v":0},null,{"$f":"IF(AND('Step 2 - Ornamental'!$AE$18=\"X\",AU374=\"X\"),1,0)","v":0},null,{"$f":"IF(AND('Step 2 - Ornamental'!$AA$17=\"X\",AW374=\"X\"),1,0)","v":0},"X",{"$f":"IF(AND('Step 2 - Ornamental'!$AB$17=\"X\",AY374=\"X\"),1,0)","v":0},"X",{"$f":"IF(AND('Step 2 - Ornamental'!$AC$17=\"X\",BA374=\"X\"),1,0)","v":0},null,{"$f":"IF(AND('Step 2 - Ornamental'!$AA$22=\"X\",BC374=\"X\"),1,0)","v":0},null,{"$f":"IF(AND('Step 2 - Ornamental'!$AB$22=\"X\",BE374=\"X\"),1,0)","v":0},null,{"$f":"IF(AND('Step 2 - Ornamental'!$AC$22=\"X\",BG374=\"X\"),1,0)","v":0},"X",{"$f":"IF(AND('Step 2 - Ornamental'!$AD$22=\"X\",BI374=\"X\"),1,0)","v":0},"X",null,null,null,"Lavender Blue / 2.0'-2.5'"]
[null,{"$f":"SUM((N375+P375+R375+T375)*(V375+X375+Z375+AB375)*(AD375+AF375+AH375+AJ375)*(AL375+AN375+AP375+AR375+AT375)*(AV375+AX375+AZ375)*(BB375+BD375+BF375+BH375))+1","v":1},"NE SN","Nepeta racemosa 'Snowflake'","Snowflake Catmint","24\" O.C.","white flowers,   ","X",null,null,"X","X",null,{"$f":"IF(O375=\"X\",1,0)","v":0},null,{"$f":"IF(AND('Step 2 - Ornamental'!$AA$21=\"X\",Q375=\"X\"),1,0)","v":0},"X",{"$f":"IF(AND('Step 2 - Ornamental'!$AB$21=\"X\",S375=\"X\"),1,0)","v":0},"X",{"$f":"IF(AND('Step 2 - Ornamental'!$AC$21=\"X\",U375=\"X\"),1,0)","v":0},"X",{"$f":"IF(AND('Step 2 - Ornamental'!$AA$19=\"X\",W375=\"X\"),1,0)","v":0},null,{"$f":"IF(AND('Step 2 - Ornamental'!$AA$19=\"X\",Y375=\"X\"),1,0)","v":0},"X",{"$f":"IF(AND('Step 2 - Ornamental'!$AB$19=\"X\",AA375=\"X\"),1,0)","v":0},"X",{"$f":"IF(AND('Step 2 - Ornamental'!$AC$19=\"X\",AC375=\"X\"),1,0)","v":0},"X",{"$f":"IF(AND('Step 2 - Ornamental'!$AA$20=\"X\",AE375=\"X\"),1,0)","v":0},"X",{"$f":"IF(AND('Step 2 - Ornamental'!$AA$20=\"X\",AG375=\"X\"),1,0)","v":0},null,{"$f":"IF(AND('Step 2 - Ornamental'!$AB$20=\"X\",AI375=\"X\"),1,0)","v":0},null,{"$f":"IF(AND('Step 2 - Ornamental'!$AC$20=\"X\",AK375=\"X\"),1,0)","v":0},null,{"$f":"IF(AND('Step 2 - Ornamental'!$AA$18=\"X\",AM375=\"X\"),1,0)","v":0},"X",{"$f":"IF(AND('Step 2 - Ornamental'!$AB$18=\"X\",AO375=\"X\"),1,0)","v":0},"X",{"$f":"IF(AND('Step 2 - Ornamental'!$AC$18=\"X\",AQ375=\"X\"),1,0)","v":0},null,{"$f":"IF(AND('Step 2 - Ornamental'!$AD$18=\"X\",AS375=\"X\"),1,0)","v":0},null,{"$f":"IF(AND('Step 2 - Ornamental'!$AE$18=\"X\",AU375=\"X\"),1,0)","v":0},null,{"$f":"IF(AND('Step 2 - Ornamental'!$AA$17=\"X\",AW375=\"X\"),1,0)","v":0},"X",{"$f":"IF(AND('Step 2 - Ornamental'!$AB$17=\"X\",AY375=\"X\"),1,0)","v":0}," ",{"$f":"IF(AND('Step 2 - Ornamental'!$AC$17=\"X\",BA375=\"X\"),1,0)","v":0},null,{"$f":"IF(AND('Step 2 - Ornamental'!$AA$22=\"X\",BC375=\"X\"),1,0)","v":0},null,{"$f":"IF(AND('Step 2 - Ornamental'!$AB$22=\"X\",BE375=\"X\"),1,0)","v":0},"X",{"$f":"IF(AND('Step 2 - Ornamental'!$AC$22=\"X\",BG375=\"X\"),1,0)","v":0},"X",{"$f":"IF(AND('Step 2 - Ornamental'!$AD$22=\"X\",BI375=\"X\"),1,0)","v":0},"X",null,null,null,"White /  0.5'-2.0'"]
[null,1,"NE SU","Nepeta subsesselis 'Sweet Dreams'","Sweet Dreams Catmint","24\" O.C.","white/pink two tone flowers, ","X",null,null,"X","X",null,0,null,{"$f":"IF(AND('Step 2 - Ornamental'!$AA$21=\"X\",Q376=\"X\"),1,0)","v":0},"X",{"$f":"IF(AND('Step 2 - Ornamental'!$AB$21=\"X\",S376=\"X\"),1,0)","v":0},"X",{"$f":"IF(AND('Step 2 - Ornamental'!$AC$21=\"X\",U376=\"X\"),1,0)","v":0},"X",{"$f":"IF(AND('Step 2 - Ornamental'!$AA$19=\"X\",W376=\"X\"),1,0)","v":0},null,{"$f":"IF(AND('Step 2 - Ornamental'!$AA$19=\"X\",Y376=\"X\"),1,0)","v":0},"X",{"$f":"IF(AND('Step 2 - Ornamental'!$AB$19=\"X\",AA376=\"X\"),1,0)","v":0},"X",{"$f":"IF(AND('Step 2 - Ornamental'!$AC$19=\"X\",AC376=\"X\"),1,0)","v":0},"X",{"$f":"IF(AND('Step 2 - Ornamental'!$AA$20=\"X\",AE376=\"X\"),1,0)","v":0},"X",{"$f":"IF(AND('Step 2 - Ornamental'!$AA$20=\"X\",AG376=\"X\"),1,0)","v":0},null,{"$f":"IF(AND('Step 2 - Ornamental'!$AB$20=\"X\",AI376=\"X\"),1,0)","v":0},null,{"$f":"IF(AND('Step 2 - Ornamental'!$AC$20=\"X\",AK376=\"X\"),1,0)","v":0},null,{"$f":"IF(AND('Step 2 - Ornamental'!$AA$18=\"X\",AM376=\"X\"),1,0)","v":0},"X",{"$f":"IF(AND('Step 2 - Ornamental'!$AB$18=\"X\",AO376=\"X\"),1,0)","v":0},"X",{"$f":"IF(AND('Step 2 - Ornamental'!$AC$18=\"X\",AQ376=\"X\"),1,0)","v":0},null,{"$f":"IF(AND('Step 2 - Ornamental'!$AD$18=\"X\",AS376=\"X\"),1,0)","v":0},null,{"$f":"IF(AND('Step 2 - Ornamental'!$AE$18=\"X\",AU376=\"X\"),1,0)","v":0},null,{"$f":"IF(AND('Step 2 - Ornamental'!$AA$17=\"X\",AW376=\"X\"),1,0)","v":0},"X",{"$f":"IF(AND('Step 2 - Ornamental'!$AB$17=\"X\",AY376=\"X\"),1,0)","v":0},"X",{"$f":"IF(AND('Step 2 - Ornamental'!$AC$17=\"X\",BA376=\"X\"),1,0)","v":0},null,{"$f":"IF(AND('Step 2 - Ornamental'!$AA$22=\"X\",BC376=\"X\"),1,0)","v":0},null,{"$f":"IF(AND('Step 2 - Ornamental'!$AB$22=\"X\",BE376=\"X\"),1,0)","v":0},"X",{"$f":"IF(AND('Step 2 - Ornamental'!$AC$22=\"X\",BG376=\"X\"),1,0)","v":0},"X",{"$f":"IF(AND('Step 2 - Ornamental'!$AD$22=\"X\",BI376=\"X\"),1,0)","v":0},"X",null,null,null,null,"Pale Lavender Blue / 1.5'-2.0'"]
[null,1,"NE JW","Nepeta x faassenii 'Novanepjun' JUNIOR WALKER","Junior Walker Catmint","24\" O.C.","lower variety (18\" tall), blue flowers in May-Sept, does not reseed","X",null,null,null,null,null,0,null,{"$f":"IF(AND('Step 2 - Ornamental'!$AA$21=\"X\",Q377=\"X\"),1,0)","v":0},"X",{"$f":"IF(AND('Step 2 - Ornamental'!$AB$21=\"X\",S377=\"X\"),1,0)","v":0},"X",{"$f":"IF(AND('Step 2 - Ornamental'!$AC$21=\"X\",U377=\"X\"),1,0)","v":0},"X",{"$f":"IF(AND('Step 2 - Ornamental'!$AA$19=\"X\",W377=\"X\"),1,0)","v":0},null,{"$f":"IF(AND('Step 2 - Ornamental'!$AA$19=\"X\",Y377=\"X\"),1,0)","v":0},"X",{"$f":"IF(AND('Step 2 - Ornamental'!$AB$19=\"X\",AA377=\"X\"),1,0)","v":0},"X",{"$f":"IF(AND('Step 2 - Ornamental'!$AC$19=\"X\",AC377=\"X\"),1,0)","v":0},"X",{"$f":"IF(AND('Step 2 - Ornamental'!$AA$20=\"X\",AE377=\"X\"),1,0)","v":0},"X",{"$f":"IF(AND('Step 2 - Ornamental'!$AA$20=\"X\",AG377=\"X\"),1,0)","v":0},null,{"$f":"IF(AND('Step 2 - Ornamental'!$AB$20=\"X\",AI377=\"X\"),1,0)","v":0},null,{"$f":"IF(AND('Step 2 - Ornamental'!$AC$20=\"X\",AK377=\"X\"),1,0)","v":0},null,{"$f":"IF(AND('Step 2 - Ornamental'!$AA$18=\"X\",AM377=\"X\"),1,0)","v":0},"X",{"$f":"IF(AND('Step 2 - Ornamental'!$AB$18=\"X\",AO377=\"X\"),1,0)","v":0},"X",{"$f":"IF(AND('Step 2 - Ornamental'!$AC$18=\"X\",AQ377=\"X\"),1,0)","v":0},null,{"$f":"IF(AND('Step 2 - Ornamental'!$AD$18=\"X\",AS377=\"X\"),1,0)","v":0},null,{"$f":"IF(AND('Step 2 - Ornamental'!$AE$18=\"X\",AU377=\"X\"),1,0)","v":0},null,{"$f":"IF(AND('Step 2 - Ornamental'!$AA$17=\"X\",AW377=\"X\"),1,0)","v":0},"X",{"$f":"IF(AND('Step 2 - Ornamental'!$AB$17=\"X\",AY377=\"X\"),1,0)","v":0},null,{"$f":"IF(AND('Step 2 - Ornamental'!$AC$17=\"X\",BA377=\"X\"),1,0)","v":0},null,{"$f":"IF(AND('Step 2 - Ornamental'!$AA$22=\"X\",BC377=\"X\"),1,0)","v":0},null,{"$f":"IF(AND('Step 2 - Ornamental'!$AB$22=\"X\",BE377=\"X\"),1,0)","v":0},"X",{"$f":"IF(AND('Step 2 - Ornamental'!$AC$22=\"X\",BG377=\"X\"),1,0)","v":0},"X",{"$f":"IF(AND('Step 2 - Ornamental'!$AD$22=\"X\",BI377=\"X\"),1,0)","v":0},"X",null,null,null,null,"Blue / 1.0'-1.5'"]
[" ",1,"OE PI","Oenothera pilosella 'Yella Fella'","Yella Fella Prairie Sundrops","18\" O.C.","Can spread, but shallow rooted allows control, profuse yellow flowers from June to July, 24\" high"," ","X",null,null,null,null,0,null,{"$f":"IF(AND('Step 2 - Ornamental'!$AA$21=\"X\",Q378=\"X\"),1,0)","v":0},"X",{"$f":"IF(AND('Step 2 - Ornamental'!$AB$21=\"X\",S378=\"X\"),1,0)","v":0},"X",{"$f":"IF(AND('Step 2 - Ornamental'!$AC$21=\"X\",U378=\"X\"),1,0)","v":0},null,{"$f":"IF(AND('Step 2 - Ornamental'!$AA$19=\"X\",W378=\"X\"),1,0)","v":0},"X",{"$f":"IF(AND('Step 2 - Ornamental'!$AA$19=\"X\",Y378=\"X\"),1,0)","v":0},null,{"$f":"IF(AND('Step 2 - Ornamental'!$AB$19=\"X\",AA378=\"X\"),1,0)","v":0},null,{"$f":"IF(AND('Step 2 - Ornamental'!$AC$19=\"X\",AC378=\"X\"),1,0)","v":0},null,{"$f":"IF(AND('Step 2 - Ornamental'!$AA$20=\"X\",AE378=\"X\"),1,0)","v":0},"X",{"$f":"IF(AND('Step 2 - Ornamental'!$AA$20=\"X\",AG378=\"X\"),1,0)","v":0},null,{"$f":"IF(AND('Step 2 - Ornamental'!$AB$20=\"X\",AI378=\"X\"),1,0)","v":0},null,{"$f":"IF(AND('Step 2 - Ornamental'!$AC$20=\"X\",AK378=\"X\"),1,0)","v":0},null,{"$f":"IF(AND('Step 2 - Ornamental'!$AA$18=\"X\",AM378=\"X\"),1,0)","v":0},null,{"$f":"IF(AND('Step 2 - Ornamental'!$AB$18=\"X\",AO378=\"X\"),1,0)","v":0},"X",{"$f":"IF(AND('Step 2 - Ornamental'!$AC$18=\"X\",AQ378=\"X\"),1,0)","v":0},"X",{"$f":"IF(AND('Step 2 - Ornamental'!$AD$18=\"X\",AS378=\"X\"),1,0)","v":0},null,{"$f":"IF(AND('Step 2 - Ornamental'!$AE$18=\"X\",AU378=\"X\"),1,0)","v":0},null,{"$f":"IF(AND('Step 2 - Ornamental'!$AA$17=\"X\",AW378=\"X\"),1,0)","v":0},"X",{"$f":"IF(AND('Step 2 - Ornamental'!$AB$17=\"X\",AY378=\"X\"),1,0)","v":0},null,{"$f":"IF(AND('Step 2 - Ornamental'!$AC$17=\"X\",BA378=\"X\"),1,0)","v":0},null,{"$f":"IF(AND('Step 2 - Ornamental'!$AA$22=\"X\",BC378=\"X\"),1,0)","v":0},null,{"$f":"IF(AND('Step 2 - Ornamental'!$AB$22=\"X\",BE378=\"X\"),1,0)","v":0},null,{"$f":"IF(AND('Step 2 - Ornamental'!$AC$22=\"X\",BG378=\"X\"),1,0)","v":0},"X",{"$f":"IF(AND('Step 2 - Ornamental'!$AD$22=\"X\",BI378=\"X\"),1,0)","v":0},"X",null,null,null,null,null,"Yellow / 1.0'-2.0'"]
[null,1,"OP HU","Opuntia humifusa (Opuntia compressa)","Eastern Prickly Pear","18\" O.C.","Cactus, sharp spines",null,"X","X",null,"X",null,0,null,{"$f":"IF(AND('Step 2 - Ornamental'!$AA$21=\"X\",Q379=\"X\"),1,0)","v":0},"X",{"$f":"IF(AND('Step 2 - Ornamental'!$AB$21=\"X\",S379=\"X\"),1,0)","v":0},"X",{"$f":"IF(AND('Step 2 - Ornamental'!$AC$21=\"X\",U379=\"X\"),1,0)","v":0},"X",{"$f":"IF(AND('Step 2 - Ornamental'!$AA$19=\"X\",W379=\"X\"),1,0)","v":0},"X",{"$f":"IF(AND('Step 2 - Ornamental'!$AA$19=\"X\",Y379=\"X\"),1,0)","v":0},null,{"$f":"IF(AND('Step 2 - Ornamental'!$AB$19=\"X\",AA379=\"X\"),1,0)","v":0},null,{"$f":"IF(AND('Step 2 - Ornamental'!$AC$19=\"X\",AC379=\"X\"),1,0)","v":0},null,{"$f":"IF(AND('Step 2 - Ornamental'!$AA$20=\"X\",AE379=\"X\"),1,0)","v":0},"X",{"$f":"IF(AND('Step 2 - Ornamental'!$AA$20=\"X\",AG379=\"X\"),1,0)","v":0},null,{"$f":"IF(AND('Step 2 - Ornamental'!$AB$20=\"X\",AI379=\"X\"),1,0)","v":0},null,{"$f":"IF(AND('Step 2 - Ornamental'!$AC$20=\"X\",AK379=\"X\"),1,0)","v":0},null,{"$f":"IF(AND('Step 2 - Ornamental'!$AA$18=\"X\",AM379=\"X\"),1,0)","v":0},"X",{"$f":"IF(AND('Step 2 - Ornamental'!$AB$18=\"X\",AO379=\"X\"),1,0)","v":0},null,{"$f":"IF(AND('Step 2 - Ornamental'!$AC$18=\"X\",AQ379=\"X\"),1,0)","v":0},null,{"$f":"IF(AND('Step 2 - Ornamental'!$AD$18=\"X\",AS379=\"X\"),1,0)","v":0},null,{"$f":"IF(AND('Step 2 - Ornamental'!$AE$18=\"X\",AU379=\"X\"),1,0)","v":0},null,{"$f":"IF(AND('Step 2 - Ornamental'!$AA$17=\"X\",AW379=\"X\"),1,0)","v":0},"X",{"$f":"IF(AND('Step 2 - Ornamental'!$AB$17=\"X\",AY379=\"X\"),1,0)","v":0},null,{"$f":"IF(AND('Step 2 - Ornamental'!$AC$17=\"X\",BA379=\"X\"),1,0)","v":0},null,{"$f":"IF(AND('Step 2 - Ornamental'!$AA$22=\"X\",BC379=\"X\"),1,0)","v":0},"X",{"$f":"IF(AND('Step 2 - Ornamental'!$AB$22=\"X\",BE379=\"X\"),1,0)","v":0},"X",{"$f":"IF(AND('Step 2 - Ornamental'!$AC$22=\"X\",BG379=\"X\"),1,0)","v":0},"X",{"$f":"IF(AND('Step 2 - Ornamental'!$AD$22=\"X\",BI379=\"X\"),1,0)","v":0},"X",null,null,null,null,null,"Yellow / 20\" "]
[null,1,"OR LA","Origanum laevigatum 'Herrenhausen'","Ornamental Oregano","18\" O.C.","purple/pink flowers in Aug-Sept. to 24\" tall","X",null,null,"X","X",null,0,null,{"$f":"IF(AND('Step 2 - Ornamental'!$AA$21=\"X\",Q380=\"X\"),1,0)","v":0},null,{"$f":"IF(AND('Step 2 - Ornamental'!$AB$21=\"X\",S380=\"X\"),1,0)","v":0},null,{"$f":"IF(AND('Step 2 - Ornamental'!$AC$21=\"X\",U380=\"X\"),1,0)","v":0},"X",{"$f":"IF(AND('Step 2 - Ornamental'!$AA$19=\"X\",W380=\"X\"),1,0)","v":0},"X",{"$f":"IF(AND('Step 2 - Ornamental'!$AA$19=\"X\",Y380=\"X\"),1,0)","v":0},null,{"$f":"IF(AND('Step 2 - Ornamental'!$AB$19=\"X\",AA380=\"X\"),1,0)","v":0},null,{"$f":"IF(AND('Step 2 - Ornamental'!$AC$19=\"X\",AC380=\"X\"),1,0)","v":0},null,{"$f":"IF(AND('Step 2 - Ornamental'!$AA$20=\"X\",AE380=\"X\"),1,0)","v":0},"X",{"$f":"IF(AND('Step 2 - Ornamental'!$AA$20=\"X\",AG380=\"X\"),1,0)","v":0},null,{"$f":"IF(AND('Step 2 - Ornamental'!$AB$20=\"X\",AI380=\"X\"),1,0)","v":0},null,{"$f":"IF(AND('Step 2 - Ornamental'!$AC$20=\"X\",AK380=\"X\"),1,0)","v":0},null,{"$f":"IF(AND('Step 2 - Ornamental'!$AA$18=\"X\",AM380=\"X\"),1,0)","v":0},"X",{"$f":"IF(AND('Step 2 - Ornamental'!$AB$18=\"X\",AO380=\"X\"),1,0)","v":0},"X",{"$f":"IF(AND('Step 2 - Ornamental'!$AC$18=\"X\",AQ380=\"X\"),1,0)","v":0},null,{"$f":"IF(AND('Step 2 - Ornamental'!$AD$18=\"X\",AS380=\"X\"),1,0)","v":0},null,{"$f":"IF(AND('Step 2 - Ornamental'!$AE$18=\"X\",AU380=\"X\"),1,0)","v":0},null,{"$f":"IF(AND('Step 2 - Ornamental'!$AA$17=\"X\",AW380=\"X\"),1,0)","v":0},"X",{"$f":"IF(AND('Step 2 - Ornamental'!$AB$17=\"X\",AY380=\"X\"),1,0)","v":0},null,{"$f":"IF(AND('Step 2 - Ornamental'!$AC$17=\"X\",BA380=\"X\"),1,0)","v":0},null,{"$f":"IF(AND('Step 2 - Ornamental'!$AA$22=\"X\",BC380=\"X\"),1,0)","v":0},"X",{"$f":"IF(AND('Step 2 - Ornamental'!$AB$22=\"X\",BE380=\"X\"),1,0)","v":0},"X",{"$f":"IF(AND('Step 2 - Ornamental'!$AC$22=\"X\",BG380=\"X\"),1,0)","v":0},"X",{"$f":"IF(AND('Step 2 - Ornamental'!$AD$22=\"X\",BI380=\"X\"),1,0)","v":0},"X",null,null,null,null,null,null,"Pink / 1.0'-2.0'"]
[null,1,"PA XL","Paeonia x lactiflora 'Krinkled White'","Krinkled White Peony","24\" O.C.","white flowers early to Mid Bloomer (Early May), combine  others","X",null,null,"X","X",null,0,null,{"$f":"IF(AND('Step 2 - Ornamental'!$AA$21=\"X\",Q381=\"X\"),1,0)","v":0},"X",{"$f":"IF(AND('Step 2 - Ornamental'!$AB$21=\"X\",S381=\"X\"),1,0)","v":0},"X",{"$f":"IF(AND('Step 2 - Ornamental'!$AC$21=\"X\",U381=\"X\"),1,0)","v":0},"X",{"$f":"IF(AND('Step 2 - Ornamental'!$AA$19=\"X\",W381=\"X\"),1,0)","v":0},null,{"$f":"IF(AND('Step 2 - Ornamental'!$AA$19=\"X\",Y381=\"X\"),1,0)","v":0},"X",{"$f":"IF(AND('Step 2 - Ornamental'!$AB$19=\"X\",AA381=\"X\"),1,0)","v":0},"X",{"$f":"IF(AND('Step 2 - Ornamental'!$AC$19=\"X\",AC381=\"X\"),1,0)","v":0},"X",{"$f":"IF(AND('Step 2 - Ornamental'!$AA$20=\"X\",AE381=\"X\"),1,0)","v":0},"X",{"$f":"IF(AND('Step 2 - Ornamental'!$AA$20=\"X\",AG381=\"X\"),1,0)","v":0},null,{"$f":"IF(AND('Step 2 - Ornamental'!$AB$20=\"X\",AI381=\"X\"),1,0)","v":0},null,{"$f":"IF(AND('Step 2 - Ornamental'!$AC$20=\"X\",AK381=\"X\"),1,0)","v":0},null,{"$f":"IF(AND('Step 2 - Ornamental'!$AA$18=\"X\",AM381=\"X\"),1,0)","v":0},null,{"$f":"IF(AND('Step 2 - Ornamental'!$AB$18=\"X\",AO381=\"X\"),1,0)","v":0},"X",{"$f":"IF(AND('Step 2 - Ornamental'!$AC$18=\"X\",AQ381=\"X\"),1,0)","v":0},null,{"$f":"IF(AND('Step 2 - Ornamental'!$AD$18=\"X\",AS381=\"X\"),1,0)","v":0},null,{"$f":"IF(AND('Step 2 - Ornamental'!$AE$18=\"X\",AU381=\"X\"),1,0)","v":0},null,{"$f":"IF(AND('Step 2 - Ornamental'!$AA$17=\"X\",AW381=\"X\"),1,0)","v":0},"X",{"$f":"IF(AND('Step 2 - Ornamental'!$AB$17=\"X\",AY381=\"X\"),1,0)","v":0},"X",{"$f":"IF(AND('Step 2 - Ornamental'!$AC$17=\"X\",BA381=\"X\"),1,0)","v":0},null,{"$f":"IF(AND('Step 2 - Ornamental'!$AA$22=\"X\",BC381=\"X\"),1,0)","v":0},null,{"$f":"IF(AND('Step 2 - Ornamental'!$AB$22=\"X\",BE381=\"X\"),1,0)","v":0},null,{"$f":"IF(AND('Step 2 - Ornamental'!$AC$22=\"X\",BG381=\"X\"),1,0)","v":0},"X",{"$f":"IF(AND('Step 2 - Ornamental'!$AD$22=\"X\",BI381=\"X\"),1,0)","v":0},"X",null,null,null,null,"White / 2.5'-3.0'"]
[null,1,"PA IN","Parthenium integrifolium ","Wild Quinine","18\" O.C.","pair with foxtail lily, tolerant of poor/rocky/clay soil",null,"X","X",null,null,null,0,null,{"$f":"IF(AND('Step 2 - Ornamental'!$AA$21=\"X\",Q382=\"X\"),1,0)","v":0},"X",{"$f":"IF(AND('Step 2 - Ornamental'!$AB$21=\"X\",S382=\"X\"),1,0)","v":0},"X",{"$f":"IF(AND('Step 2 - Ornamental'!$AC$21=\"X\",U382=\"X\"),1,0)","v":0},"X",{"$f":"IF(AND('Step 2 - Ornamental'!$AA$19=\"X\",W382=\"X\"),1,0)","v":0},"X",{"$f":"IF(AND('Step 2 - Ornamental'!$AA$19=\"X\",Y382=\"X\"),1,0)","v":0},null,{"$f":"IF(AND('Step 2 - Ornamental'!$AB$19=\"X\",AA382=\"X\"),1,0)","v":0},null,{"$f":"IF(AND('Step 2 - Ornamental'!$AC$19=\"X\",AC382=\"X\"),1,0)","v":0},null,{"$f":"IF(AND('Step 2 - Ornamental'!$AA$20=\"X\",AE382=\"X\"),1,0)","v":0},"X",{"$f":"IF(AND('Step 2 - Ornamental'!$AA$20=\"X\",AG382=\"X\"),1,0)","v":0},null,{"$f":"IF(AND('Step 2 - Ornamental'!$AB$20=\"X\",AI382=\"X\"),1,0)","v":0},null,{"$f":"IF(AND('Step 2 - Ornamental'!$AC$20=\"X\",AK382=\"X\"),1,0)","v":0},null,{"$f":"IF(AND('Step 2 - Ornamental'!$AA$18=\"X\",AM382=\"X\"),1,0)","v":0},"X",{"$f":"IF(AND('Step 2 - Ornamental'!$AB$18=\"X\",AO382=\"X\"),1,0)","v":0},"X",{"$f":"IF(AND('Step 2 - Ornamental'!$AC$18=\"X\",AQ382=\"X\"),1,0)","v":0},null,{"$f":"IF(AND('Step 2 - Ornamental'!$AD$18=\"X\",AS382=\"X\"),1,0)","v":0},null,{"$f":"IF(AND('Step 2 - Ornamental'!$AE$18=\"X\",AU382=\"X\"),1,0)","v":0},null,{"$f":"IF(AND('Step 2 - Ornamental'!$AA$17=\"X\",AW382=\"X\"),1,0)","v":0},"X",{"$f":"IF(AND('Step 2 - Ornamental'!$AB$17=\"X\",AY382=\"X\"),1,0)","v":0},null,{"$f":"IF(AND('Step 2 - Ornamental'!$AC$17=\"X\",BA382=\"X\"),1,0)","v":0},null,{"$f":"IF(AND('Step 2 - Ornamental'!$AA$22=\"X\",BC382=\"X\"),1,0)","v":0},null,{"$f":"IF(AND('Step 2 - Ornamental'!$AB$22=\"X\",BE382=\"X\"),1,0)","v":0},"X",{"$f":"IF(AND('Step 2 - Ornamental'!$AC$22=\"X\",BG382=\"X\"),1,0)","v":0},"X",{"$f":"IF(AND('Step 2 - Ornamental'!$AD$22=\"X\",BI382=\"X\"),1,0)","v":0},"X",null,null,null,null,"White / 2.0'-4.0'"]
[null,1,"PE DI","Penstemon digitalis 'Husker Red'","Foxglove Beard Tongue","18\" O.C.","white flowers with pink blush, maroon leaves, ",null,"X",null,"X",null,null,0,null,{"$f":"IF(AND('Step 2 - Ornamental'!$AA$21=\"X\",Q383=\"X\"),1,0)","v":0},"X",{"$f":"IF(AND('Step 2 - Ornamental'!$AB$21=\"X\",S383=\"X\"),1,0)","v":0},"X",{"$f":"IF(AND('Step 2 - Ornamental'!$AC$21=\"X\",U383=\"X\"),1,0)","v":0},"X",{"$f":"IF(AND('Step 2 - Ornamental'!$AA$19=\"X\",W383=\"X\"),1,0)","v":0},null,{"$f":"IF(AND('Step 2 - Ornamental'!$AA$19=\"X\",Y383=\"X\"),1,0)","v":0},"X",{"$f":"IF(AND('Step 2 - Ornamental'!$AB$19=\"X\",AA383=\"X\"),1,0)","v":0},"X",{"$f":"IF(AND('Step 2 - Ornamental'!$AC$19=\"X\",AC383=\"X\"),1,0)","v":0},"X",{"$f":"IF(AND('Step 2 - Ornamental'!$AA$20=\"X\",AE383=\"X\"),1,0)","v":0},"X",{"$f":"IF(AND('Step 2 - Ornamental'!$AA$20=\"X\",AG383=\"X\"),1,0)","v":0},null,{"$f":"IF(AND('Step 2 - Ornamental'!$AB$20=\"X\",AI383=\"X\"),1,0)","v":0},null,{"$f":"IF(AND('Step 2 - Ornamental'!$AC$20=\"X\",AK383=\"X\"),1,0)","v":0},null,{"$f":"IF(AND('Step 2 - Ornamental'!$AA$18=\"X\",AM383=\"X\"),1,0)","v":0},"X",{"$f":"IF(AND('Step 2 - Ornamental'!$AB$18=\"X\",AO383=\"X\"),1,0)","v":0},"X",{"$f":"IF(AND('Step 2 - Ornamental'!$AC$18=\"X\",AQ383=\"X\"),1,0)","v":0},null,{"$f":"IF(AND('Step 2 - Ornamental'!$AD$18=\"X\",AS383=\"X\"),1,0)","v":0},null,{"$f":"IF(AND('Step 2 - Ornamental'!$AE$18=\"X\",AU383=\"X\"),1,0)","v":0},null,{"$f":"IF(AND('Step 2 - Ornamental'!$AA$17=\"X\",AW383=\"X\"),1,0)","v":0},"X",{"$f":"IF(AND('Step 2 - Ornamental'!$AB$17=\"X\",AY383=\"X\"),1,0)","v":0},null,{"$f":"IF(AND('Step 2 - Ornamental'!$AC$17=\"X\",BA383=\"X\"),1,0)","v":0},null,{"$f":"IF(AND('Step 2 - Ornamental'!$AA$22=\"X\",BC383=\"X\"),1,0)","v":0},null,{"$f":"IF(AND('Step 2 - Ornamental'!$AB$22=\"X\",BE383=\"X\"),1,0)","v":0},"X",{"$f":"IF(AND('Step 2 - Ornamental'!$AC$22=\"X\",BG383=\"X\"),1,0)","v":0},"X",{"$f":"IF(AND('Step 2 - Ornamental'!$AD$22=\"X\",BI383=\"X\"),1,0)","v":0},"X",null,null,null,"White / 2.0'-3.0'"]
[null,1,"PE AT","Perovskia atriplicifolia 'Longin'","Longin Russian Sage","36\" O.C.","tolerates clay soil, more compact and upright than species (4' tall)","X",null,null,"X","X",null,0,null,{"$f":"IF(AND('Step 2 - Ornamental'!$AA$21=\"X\",Q384=\"X\"),1,0)","v":0},"X",{"$f":"IF(AND('Step 2 - Ornamental'!$AB$21=\"X\",S384=\"X\"),1,0)","v":0},"X",{"$f":"IF(AND('Step 2 - Ornamental'!$AC$21=\"X\",U384=\"X\"),1,0)","v":0},"X",{"$f":"IF(AND('Step 2 - Ornamental'!$AA$19=\"X\",W384=\"X\"),1,0)","v":0},null,{"$f":"IF(AND('Step 2 - Ornamental'!$AA$19=\"X\",Y384=\"X\"),1,0)","v":0},"X",{"$f":"IF(AND('Step 2 - Ornamental'!$AB$19=\"X\",AA384=\"X\"),1,0)","v":0},null,{"$f":"IF(AND('Step 2 - Ornamental'!$AC$19=\"X\",AC384=\"X\"),1,0)","v":0},null,{"$f":"IF(AND('Step 2 - Ornamental'!$AA$20=\"X\",AE384=\"X\"),1,0)","v":0},"X",{"$f":"IF(AND('Step 2 - Ornamental'!$AA$20=\"X\",AG384=\"X\"),1,0)","v":0},null,{"$f":"IF(AND('Step 2 - Ornamental'!$AB$20=\"X\",AI384=\"X\"),1,0)","v":0},null,{"$f":"IF(AND('Step 2 - Ornamental'!$AC$20=\"X\",AK384=\"X\"),1,0)","v":0},null,{"$f":"IF(AND('Step 2 - Ornamental'!$AA$18=\"X\",AM384=\"X\"),1,0)","v":0},"X",{"$f":"IF(AND('Step 2 - Ornamental'!$AB$18=\"X\",AO384=\"X\"),1,0)","v":0},"X",{"$f":"IF(AND('Step 2 - Ornamental'!$AC$18=\"X\",AQ384=\"X\"),1,0)","v":0},null,{"$f":"IF(AND('Step 2 - Ornamental'!$AD$18=\"X\",AS384=\"X\"),1,0)","v":0},null,{"$f":"IF(AND('Step 2 - Ornamental'!$AE$18=\"X\",AU384=\"X\"),1,0)","v":0},null,{"$f":"IF(AND('Step 2 - Ornamental'!$AA$17=\"X\",AW384=\"X\"),1,0)","v":0},"X",{"$f":"IF(AND('Step 2 - Ornamental'!$AB$17=\"X\",AY384=\"X\"),1,0)","v":0},null,{"$f":"IF(AND('Step 2 - Ornamental'!$AC$17=\"X\",BA384=\"X\"),1,0)","v":0},null,{"$f":"IF(AND('Step 2 - Ornamental'!$AA$22=\"X\",BC384=\"X\"),1,0)","v":0},null,{"$f":"IF(AND('Step 2 - Ornamental'!$AB$22=\"X\",BE384=\"X\"),1,0)","v":0},null,{"$f":"IF(AND('Step 2 - Ornamental'!$AC$22=\"X\",BG384=\"X\"),1,0)","v":0},"X",{"$f":"IF(AND('Step 2 - Ornamental'!$AD$22=\"X\",BI384=\"X\"),1,0)","v":0},"X",null,null,null,null,null,"Blue / 3.0'-4.0'"]
[null,1,"PE LS","Perovskia atriplicifolia 'Little Spire'","Little Spire Russian Sage","24\" O.C.","tolerates clay soil, dwarf variety (2' tall)","X",null,null,"X","X",null,0,null,{"$f":"IF(AND('Step 2 - Ornamental'!$AA$21=\"X\",Q385=\"X\"),1,0)","v":0},"X",{"$f":"IF(AND('Step 2 - Ornamental'!$AB$21=\"X\",S385=\"X\"),1,0)","v":0},"X",{"$f":"IF(AND('Step 2 - Ornamental'!$AC$21=\"X\",U385=\"X\"),1,0)","v":0},"X",{"$f":"IF(AND('Step 2 - Ornamental'!$AA$19=\"X\",W385=\"X\"),1,0)","v":0},null,{"$f":"IF(AND('Step 2 - Ornamental'!$AA$19=\"X\",Y385=\"X\"),1,0)","v":0},"X",{"$f":"IF(AND('Step 2 - Ornamental'!$AB$19=\"X\",AA385=\"X\"),1,0)","v":0},null,{"$f":"IF(AND('Step 2 - Ornamental'!$AC$19=\"X\",AC385=\"X\"),1,0)","v":0},null,{"$f":"IF(AND('Step 2 - Ornamental'!$AA$20=\"X\",AE385=\"X\"),1,0)","v":0},"X",{"$f":"IF(AND('Step 2 - Ornamental'!$AA$20=\"X\",AG385=\"X\"),1,0)","v":0},null,{"$f":"IF(AND('Step 2 - Ornamental'!$AB$20=\"X\",AI385=\"X\"),1,0)","v":0},null,{"$f":"IF(AND('Step 2 - Ornamental'!$AC$20=\"X\",AK385=\"X\"),1,0)","v":0},null,{"$f":"IF(AND('Step 2 - Ornamental'!$AA$18=\"X\",AM385=\"X\"),1,0)","v":0},"X",{"$f":"IF(AND('Step 2 - Ornamental'!$AB$18=\"X\",AO385=\"X\"),1,0)","v":0},"X",{"$f":"IF(AND('Step 2 - Ornamental'!$AC$18=\"X\",AQ385=\"X\"),1,0)","v":0},null,{"$f":"IF(AND('Step 2 - Ornamental'!$AD$18=\"X\",AS385=\"X\"),1,0)","v":0},null,{"$f":"IF(AND('Step 2 - Ornamental'!$AE$18=\"X\",AU385=\"X\"),1,0)","v":0},null,{"$f":"IF(AND('Step 2 - Ornamental'!$AA$17=\"X\",AW385=\"X\"),1,0)","v":0},"X",{"$f":"IF(AND('Step 2 - Ornamental'!$AB$17=\"X\",AY385=\"X\"),1,0)","v":0},null,{"$f":"IF(AND('Step 2 - Ornamental'!$AC$17=\"X\",BA385=\"X\"),1,0)","v":0},null,{"$f":"IF(AND('Step 2 - Ornamental'!$AA$22=\"X\",BC385=\"X\"),1,0)","v":0},null,{"$f":"IF(AND('Step 2 - Ornamental'!$AB$22=\"X\",BE385=\"X\"),1,0)","v":0},null,{"$f":"IF(AND('Step 2 - Ornamental'!$AC$22=\"X\",BG385=\"X\"),1,0)","v":0},"X",{"$f":"IF(AND('Step 2 - Ornamental'!$AD$22=\"X\",BI385=\"X\"),1,0)","v":0},"X",null,null,null,null,null,"Violet Blue / 1.5'-2.0'"]
[null,1,"PE FT","Persicaria amplexicaule 'Firetail'","Firetail Mountain Fleece","36\" O.C.","spreads, crimson red, not aggressive","X",null,null,"X",null,null,0,null,{"$f":"IF(AND('Step 2 - Ornamental'!$AA$21=\"X\",Q386=\"X\"),1,0)","v":0},"X",{"$f":"IF(AND('Step 2 - Ornamental'!$AB$21=\"X\",S386=\"X\"),1,0)","v":0},"X",{"$f":"IF(AND('Step 2 - Ornamental'!$AC$21=\"X\",U386=\"X\"),1,0)","v":0},"X",{"$f":"IF(AND('Step 2 - Ornamental'!$AA$19=\"X\",W386=\"X\"),1,0)","v":0},null,{"$f":"IF(AND('Step 2 - Ornamental'!$AA$19=\"X\",Y386=\"X\"),1,0)","v":0},"X",{"$f":"IF(AND('Step 2 - Ornamental'!$AB$19=\"X\",AA386=\"X\"),1,0)","v":0},null,{"$f":"IF(AND('Step 2 - Ornamental'!$AC$19=\"X\",AC386=\"X\"),1,0)","v":0},null,{"$f":"IF(AND('Step 2 - Ornamental'!$AA$20=\"X\",AE386=\"X\"),1,0)","v":0},"X",{"$f":"IF(AND('Step 2 - Ornamental'!$AA$20=\"X\",AG386=\"X\"),1,0)","v":0},null,{"$f":"IF(AND('Step 2 - Ornamental'!$AB$20=\"X\",AI386=\"X\"),1,0)","v":0},null,{"$f":"IF(AND('Step 2 - Ornamental'!$AC$20=\"X\",AK386=\"X\"),1,0)","v":0},null,{"$f":"IF(AND('Step 2 - Ornamental'!$AA$18=\"X\",AM386=\"X\"),1,0)","v":0},null,{"$f":"IF(AND('Step 2 - Ornamental'!$AB$18=\"X\",AO386=\"X\"),1,0)","v":0},"X",{"$f":"IF(AND('Step 2 - Ornamental'!$AC$18=\"X\",AQ386=\"X\"),1,0)","v":0},"X",{"$f":"IF(AND('Step 2 - Ornamental'!$AD$18=\"X\",AS386=\"X\"),1,0)","v":0},null,{"$f":"IF(AND('Step 2 - Ornamental'!$AE$18=\"X\",AU386=\"X\"),1,0)","v":0},null,{"$f":"IF(AND('Step 2 - Ornamental'!$AA$17=\"X\",AW386=\"X\"),1,0)","v":0},"X",{"$f":"IF(AND('Step 2 - Ornamental'!$AB$17=\"X\",AY386=\"X\"),1,0)","v":0},"X",{"$f":"IF(AND('Step 2 - Ornamental'!$AC$17=\"X\",BA386=\"X\"),1,0)","v":0},null,{"$f":"IF(AND('Step 2 - Ornamental'!$AA$22=\"X\",BC386=\"X\"),1,0)","v":0},null,{"$f":"IF(AND('Step 2 - Ornamental'!$AB$22=\"X\",BE386=\"X\"),1,0)","v":0},null,{"$f":"IF(AND('Step 2 - Ornamental'!$AC$22=\"X\",BG386=\"X\"),1,0)","v":0},"X",{"$f":"IF(AND('Step 2 - Ornamental'!$AD$22=\"X\",BI386=\"X\"),1,0)","v":0},"X",null,null,null,null,null,"Crimson Red / 3.0'-4.0'"]
[null,1,"PE RO","Persicaria amplexicaule \"Rosea'","Rose Mountain Fleece","36\" O.C.","upright with good form, not aggressive, rose-pink flowers","X",null,null,"X",null,null,0,null,{"$f":"IF(AND('Step 2 - Ornamental'!$AA$21=\"X\",Q387=\"X\"),1,0)","v":0},"X",{"$f":"IF(AND('Step 2 - Ornamental'!$AB$21=\"X\",S387=\"X\"),1,0)","v":0},"X",{"$f":"IF(AND('Step 2 - Ornamental'!$AC$21=\"X\",U387=\"X\"),1,0)","v":0},"X",{"$f":"IF(AND('Step 2 - Ornamental'!$AA$19=\"X\",W387=\"X\"),1,0)","v":0},null,{"$f":"IF(AND('Step 2 - Ornamental'!$AA$19=\"X\",Y387=\"X\"),1,0)","v":0},"X",{"$f":"IF(AND('Step 2 - Ornamental'!$AB$19=\"X\",AA387=\"X\"),1,0)","v":0},null,{"$f":"IF(AND('Step 2 - Ornamental'!$AC$19=\"X\",AC387=\"X\"),1,0)","v":0},null,{"$f":"IF(AND('Step 2 - Ornamental'!$AA$20=\"X\",AE387=\"X\"),1,0)","v":0},"X",{"$f":"IF(AND('Step 2 - Ornamental'!$AA$20=\"X\",AG387=\"X\"),1,0)","v":0},null,{"$f":"IF(AND('Step 2 - Ornamental'!$AB$20=\"X\",AI387=\"X\"),1,0)","v":0},null,{"$f":"IF(AND('Step 2 - Ornamental'!$AC$20=\"X\",AK387=\"X\"),1,0)","v":0},null,{"$f":"IF(AND('Step 2 - Ornamental'!$AA$18=\"X\",AM387=\"X\"),1,0)","v":0},null,{"$f":"IF(AND('Step 2 - Ornamental'!$AB$18=\"X\",AO387=\"X\"),1,0)","v":0},"X",{"$f":"IF(AND('Step 2 - Ornamental'!$AC$18=\"X\",AQ387=\"X\"),1,0)","v":0},"X",{"$f":"IF(AND('Step 2 - Ornamental'!$AD$18=\"X\",AS387=\"X\"),1,0)","v":0},null,{"$f":"IF(AND('Step 2 - Ornamental'!$AE$18=\"X\",AU387=\"X\"),1,0)","v":0},null,{"$f":"IF(AND('Step 2 - Ornamental'!$AA$17=\"X\",AW387=\"X\"),1,0)","v":0},"X",{"$f":"IF(AND('Step 2 - Ornamental'!$AB$17=\"X\",AY387=\"X\"),1,0)","v":0},"X",{"$f":"IF(AND('Step 2 - Ornamental'!$AC$17=\"X\",BA387=\"X\"),1,0)","v":0},null,{"$f":"IF(AND('Step 2 - Ornamental'!$AA$22=\"X\",BC387=\"X\"),1,0)","v":0},null,{"$f":"IF(AND('Step 2 - Ornamental'!$AB$22=\"X\",BE387=\"X\"),1,0)","v":0},null,{"$f":"IF(AND('Step 2 - Ornamental'!$AC$22=\"X\",BG387=\"X\"),1,0)","v":0},"X",{"$f":"IF(AND('Step 2 - Ornamental'!$AD$22=\"X\",BI387=\"X\"),1,0)","v":0},"X",null,null,null,null,null,null,null,"Red Pink / 3.0'-4.0'"]
[null,1,"PH DI","Phlox divaricata","Woodland Phlox","12\" O.C.","rose/lavender flowers in April-may, can spread",null,"X","X","X"," ",null,0,null,{"$f":"IF(AND('Step 2 - Ornamental'!$AA$21=\"X\",Q388=\"X\"),1,0)","v":0},"X",{"$f":"IF(AND('Step 2 - Ornamental'!$AB$21=\"X\",S388=\"X\"),1,0)","v":0},"X",{"$f":"IF(AND('Step 2 - Ornamental'!$AC$21=\"X\",U388=\"X\"),1,0)","v":0},null,{"$f":"IF(AND('Step 2 - Ornamental'!$AA$19=\"X\",W388=\"X\"),1,0)","v":0},null,{"$f":"IF(AND('Step 2 - Ornamental'!$AA$19=\"X\",Y388=\"X\"),1,0)","v":0},"X",{"$f":"IF(AND('Step 2 - Ornamental'!$AB$19=\"X\",AA388=\"X\"),1,0)","v":0},null,{"$f":"IF(AND('Step 2 - Ornamental'!$AC$19=\"X\",AC388=\"X\"),1,0)","v":0},null,{"$f":"IF(AND('Step 2 - Ornamental'!$AA$20=\"X\",AE388=\"X\"),1,0)","v":0},"X",{"$f":"IF(AND('Step 2 - Ornamental'!$AA$20=\"X\",AG388=\"X\"),1,0)","v":0},null,{"$f":"IF(AND('Step 2 - Ornamental'!$AB$20=\"X\",AI388=\"X\"),1,0)","v":0},null,{"$f":"IF(AND('Step 2 - Ornamental'!$AC$20=\"X\",AK388=\"X\"),1,0)","v":0},null,{"$f":"IF(AND('Step 2 - Ornamental'!$AA$18=\"X\",AM388=\"X\"),1,0)","v":0},null,{"$f":"IF(AND('Step 2 - Ornamental'!$AB$18=\"X\",AO388=\"X\"),1,0)","v":0},"X",{"$f":"IF(AND('Step 2 - Ornamental'!$AC$18=\"X\",AQ388=\"X\"),1,0)","v":0},null,{"$f":"IF(AND('Step 2 - Ornamental'!$AD$18=\"X\",AS388=\"X\"),1,0)","v":0},null,{"$f":"IF(AND('Step 2 - Ornamental'!$AE$18=\"X\",AU388=\"X\"),1,0)","v":0},null,{"$f":"IF(AND('Step 2 - Ornamental'!$AA$17=\"X\",AW388=\"X\"),1,0)","v":0}," ",{"$f":"IF(AND('Step 2 - Ornamental'!$AB$17=\"X\",AY388=\"X\"),1,0)","v":0},"X",{"$f":"IF(AND('Step 2 - Ornamental'!$AC$17=\"X\",BA388=\"X\"),1,0)","v":0},"X",{"$f":"IF(AND('Step 2 - Ornamental'!$AA$22=\"X\",BC388=\"X\"),1,0)","v":0},null,{"$f":"IF(AND('Step 2 - Ornamental'!$AB$22=\"X\",BE388=\"X\"),1,0)","v":0},null,{"$f":"IF(AND('Step 2 - Ornamental'!$AC$22=\"X\",BG388=\"X\"),1,0)","v":0},"X",{"$f":"IF(AND('Step 2 - Ornamental'!$AD$22=\"X\",BI388=\"X\"),1,0)","v":0},"X",null,null,null,"Lavender / 0.75'-1.0'"]
[null,1,"PH PA","Phlox paniculata 'David's Lavender'","David's Lavender Garden Phlox","24\" O.C.","lavender flowers July-Sept, ",null,"X",null,"X",null,null,0,null,{"$f":"IF(AND('Step 2 - Ornamental'!$AA$21=\"X\",Q389=\"X\"),1,0)","v":0},"X",{"$f":"IF(AND('Step 2 - Ornamental'!$AB$21=\"X\",S389=\"X\"),1,0)","v":0},"X",{"$f":"IF(AND('Step 2 - Ornamental'!$AC$21=\"X\",U389=\"X\"),1,0)","v":0},"X",{"$f":"IF(AND('Step 2 - Ornamental'!$AA$19=\"X\",W389=\"X\"),1,0)","v":0},null,{"$f":"IF(AND('Step 2 - Ornamental'!$AA$19=\"X\",Y389=\"X\"),1,0)","v":0},"X",{"$f":"IF(AND('Step 2 - Ornamental'!$AB$19=\"X\",AA389=\"X\"),1,0)","v":0},null,{"$f":"IF(AND('Step 2 - Ornamental'!$AC$19=\"X\",AC389=\"X\"),1,0)","v":0},null,{"$f":"IF(AND('Step 2 - Ornamental'!$AA$20=\"X\",AE389=\"X\"),1,0)","v":0},"X",{"$f":"IF(AND('Step 2 - Ornamental'!$AA$20=\"X\",AG389=\"X\"),1,0)","v":0},null,{"$f":"IF(AND('Step 2 - Ornamental'!$AB$20=\"X\",AI389=\"X\"),1,0)","v":0},null,{"$f":"IF(AND('Step 2 - Ornamental'!$AC$20=\"X\",AK389=\"X\"),1,0)","v":0},null,{"$f":"IF(AND('Step 2 - Ornamental'!$AA$18=\"X\",AM389=\"X\"),1,0)","v":0},null,{"$f":"IF(AND('Step 2 - Ornamental'!$AB$18=\"X\",AO389=\"X\"),1,0)","v":0},"X",{"$f":"IF(AND('Step 2 - Ornamental'!$AC$18=\"X\",AQ389=\"X\"),1,0)","v":0},null,{"$f":"IF(AND('Step 2 - Ornamental'!$AD$18=\"X\",AS389=\"X\"),1,0)","v":0},null,{"$f":"IF(AND('Step 2 - Ornamental'!$AE$18=\"X\",AU389=\"X\"),1,0)","v":0},null,{"$f":"IF(AND('Step 2 - Ornamental'!$AA$17=\"X\",AW389=\"X\"),1,0)","v":0},"X",{"$f":"IF(AND('Step 2 - Ornamental'!$AB$17=\"X\",AY389=\"X\"),1,0)","v":0},"X",{"$f":"IF(AND('Step 2 - Ornamental'!$AC$17=\"X\",BA389=\"X\"),1,0)","v":0},null,{"$f":"IF(AND('Step 2 - Ornamental'!$AA$22=\"X\",BC389=\"X\"),1,0)","v":0},null,{"$f":"IF(AND('Step 2 - Ornamental'!$AB$22=\"X\",BE389=\"X\"),1,0)","v":0},null,{"$f":"IF(AND('Step 2 - Ornamental'!$AC$22=\"X\",BG389=\"X\"),1,0)","v":0},"X",{"$f":"IF(AND('Step 2 - Ornamental'!$AD$22=\"X\",BI389=\"X\"),1,0)","v":0},"X",null,null,null,null,null,null,"Lavender/ 3.0'-4.0'"]
[null,1,"PH SU","Phlox subulata 'Emerald Blue'","Emerald Blue Moss Phlox","18\" O.C.","spreader, 6\" tall, needs good drainage, lavender blue flower, March-May"," ","X",null,"X",null,null,0,null,{"$f":"IF(AND('Step 2 - Ornamental'!$AA$21=\"X\",Q390=\"X\"),1,0)","v":0},"X",{"$f":"IF(AND('Step 2 - Ornamental'!$AB$21=\"X\",S390=\"X\"),1,0)","v":0},"X",{"$f":"IF(AND('Step 2 - Ornamental'!$AC$21=\"X\",U390=\"X\"),1,0)","v":0},"X",{"$f":"IF(AND('Step 2 - Ornamental'!$AA$19=\"X\",W390=\"X\"),1,0)","v":0},null,{"$f":"IF(AND('Step 2 - Ornamental'!$AA$19=\"X\",Y390=\"X\"),1,0)","v":0},"X",{"$f":"IF(AND('Step 2 - Ornamental'!$AB$19=\"X\",AA390=\"X\"),1,0)","v":0},null,{"$f":"IF(AND('Step 2 - Ornamental'!$AC$19=\"X\",AC390=\"X\"),1,0)","v":0},null,{"$f":"IF(AND('Step 2 - Ornamental'!$AA$20=\"X\",AE390=\"X\"),1,0)","v":0},"X",{"$f":"IF(AND('Step 2 - Ornamental'!$AA$20=\"X\",AG390=\"X\"),1,0)","v":0},null,{"$f":"IF(AND('Step 2 - Ornamental'!$AB$20=\"X\",AI390=\"X\"),1,0)","v":0},null,{"$f":"IF(AND('Step 2 - Ornamental'!$AC$20=\"X\",AK390=\"X\"),1,0)","v":0},null,{"$f":"IF(AND('Step 2 - Ornamental'!$AA$18=\"X\",AM390=\"X\"),1,0)","v":0},null,{"$f":"IF(AND('Step 2 - Ornamental'!$AB$18=\"X\",AO390=\"X\"),1,0)","v":0},"X",{"$f":"IF(AND('Step 2 - Ornamental'!$AC$18=\"X\",AQ390=\"X\"),1,0)","v":0},null,{"$f":"IF(AND('Step 2 - Ornamental'!$AD$18=\"X\",AS390=\"X\"),1,0)","v":0},null,{"$f":"IF(AND('Step 2 - Ornamental'!$AE$18=\"X\",AU390=\"X\"),1,0)","v":0},null,{"$f":"IF(AND('Step 2 - Ornamental'!$AA$17=\"X\",AW390=\"X\"),1,0)","v":0},"X",{"$f":"IF(AND('Step 2 - Ornamental'!$AB$17=\"X\",AY390=\"X\"),1,0)","v":0},null,{"$f":"IF(AND('Step 2 - Ornamental'!$AC$17=\"X\",BA390=\"X\"),1,0)","v":0},null,{"$f":"IF(AND('Step 2 - Ornamental'!$AA$22=\"X\",BC390=\"X\"),1,0)","v":0},null,{"$f":"IF(AND('Step 2 - Ornamental'!$AB$22=\"X\",BE390=\"X\"),1,0)","v":0},"X",{"$f":"IF(AND('Step 2 - Ornamental'!$AC$22=\"X\",BG390=\"X\"),1,0)","v":0},"X",{"$f":"IF(AND('Step 2 - Ornamental'!$AD$22=\"X\",BI390=\"X\"),1,0)","v":0},"X",null,null,"Violet Purple to White / 0.25'-0.5'"]
[null,1,"PH FP","Phlox x 'Forever Pink'","Forever Pink Phlox","18\" O.C.","18\" tall purple flowers in Jun-Oct, sterile,","X",null,null,"X","X",null,1,"X",{"$f":"IF(AND('Step 2 - Ornamental'!$AA$21=\"X\",Q391=\"X\"),1,0)","v":0},null,{"$f":"IF(AND('Step 2 - Ornamental'!$AB$21=\"X\",S391=\"X\"),1,0)","v":0},null,{"$f":"IF(AND('Step 2 - Ornamental'!$AC$21=\"X\",U391=\"X\"),1,0)","v":0},null,{"$f":"IF(AND('Step 2 - Ornamental'!$AA$19=\"X\",W391=\"X\"),1,0)","v":0},null,{"$f":"IF(AND('Step 2 - Ornamental'!$AA$19=\"X\",Y391=\"X\"),1,0)","v":0},"X",{"$f":"IF(AND('Step 2 - Ornamental'!$AB$19=\"X\",AA391=\"X\"),1,0)","v":0},null,{"$f":"IF(AND('Step 2 - Ornamental'!$AC$19=\"X\",AC391=\"X\"),1,0)","v":0},null,{"$f":"IF(AND('Step 2 - Ornamental'!$AA$20=\"X\",AE391=\"X\"),1,0)","v":0},"X",{"$f":"IF(AND('Step 2 - Ornamental'!$AA$20=\"X\",AG391=\"X\"),1,0)","v":0},null,{"$f":"IF(AND('Step 2 - Ornamental'!$AB$20=\"X\",AI391=\"X\"),1,0)","v":0},null,{"$f":"IF(AND('Step 2 - Ornamental'!$AC$20=\"X\",AK391=\"X\"),1,0)","v":0},null,{"$f":"IF(AND('Step 2 - Ornamental'!$AA$18=\"X\",AM391=\"X\"),1,0)","v":0},null,{"$f":"IF(AND('Step 2 - Ornamental'!$AB$18=\"X\",AO391=\"X\"),1,0)","v":0},"X",{"$f":"IF(AND('Step 2 - Ornamental'!$AC$18=\"X\",AQ391=\"X\"),1,0)","v":0},null,{"$f":"IF(AND('Step 2 - Ornamental'!$AD$18=\"X\",AS391=\"X\"),1,0)","v":0},null,{"$f":"IF(AND('Step 2 - Ornamental'!$AE$18=\"X\",AU391=\"X\"),1,0)","v":0},null,{"$f":"IF(AND('Step 2 - Ornamental'!$AA$17=\"X\",AW391=\"X\"),1,0)","v":0},"X",{"$f":"IF(AND('Step 2 - Ornamental'!$AB$17=\"X\",AY391=\"X\"),1,0)","v":0},null,{"$f":"IF(AND('Step 2 - Ornamental'!$AC$17=\"X\",BA391=\"X\"),1,0)","v":0},null,{"$f":"IF(AND('Step 2 - Ornamental'!$AA$22=\"X\",BC391=\"X\"),1,0)","v":0},null,{"$f":"IF(AND('Step 2 - Ornamental'!$AB$22=\"X\",BE391=\"X\"),1,0)","v":0},null,{"$f":"IF(AND('Step 2 - Ornamental'!$AC$22=\"X\",BG391=\"X\"),1,0)","v":0},"X",{"$f":"IF(AND('Step 2 - Ornamental'!$AD$22=\"X\",BI391=\"X\"),1,0)","v":0},"X",null,null,null,null,null,"Purplish Pink / 1.0'-2.0'"]
[null,1,"PH MP","Phlox x 'Minnie Pearl'","Minnie Pearl Phlox","18\" O.C.","18\" tall white flowers in April-June, foliage makes attractive groundcover","X",null,null,null,null,null,1,"X",{"$f":"IF(AND('Step 2 - Ornamental'!$AA$21=\"X\",Q392=\"X\"),1,0)","v":0},null,{"$f":"IF(AND('Step 2 - Ornamental'!$AB$21=\"X\",S392=\"X\"),1,0)","v":0},null,{"$f":"IF(AND('Step 2 - Ornamental'!$AC$21=\"X\",U392=\"X\"),1,0)","v":0},null,{"$f":"IF(AND('Step 2 - Ornamental'!$AA$19=\"X\",W392=\"X\"),1,0)","v":0},null,{"$f":"IF(AND('Step 2 - Ornamental'!$AA$19=\"X\",Y392=\"X\"),1,0)","v":0},"X",{"$f":"IF(AND('Step 2 - Ornamental'!$AB$19=\"X\",AA392=\"X\"),1,0)","v":0},null,{"$f":"IF(AND('Step 2 - Ornamental'!$AC$19=\"X\",AC392=\"X\"),1,0)","v":0},null,{"$f":"IF(AND('Step 2 - Ornamental'!$AA$20=\"X\",AE392=\"X\"),1,0)","v":0},"X",{"$f":"IF(AND('Step 2 - Ornamental'!$AA$20=\"X\",AG392=\"X\"),1,0)","v":0},null,{"$f":"IF(AND('Step 2 - Ornamental'!$AB$20=\"X\",AI392=\"X\"),1,0)","v":0},null,{"$f":"IF(AND('Step 2 - Ornamental'!$AC$20=\"X\",AK392=\"X\"),1,0)","v":0},null,{"$f":"IF(AND('Step 2 - Ornamental'!$AA$18=\"X\",AM392=\"X\"),1,0)","v":0},null,{"$f":"IF(AND('Step 2 - Ornamental'!$AB$18=\"X\",AO392=\"X\"),1,0)","v":0},"X",{"$f":"IF(AND('Step 2 - Ornamental'!$AC$18=\"X\",AQ392=\"X\"),1,0)","v":0},null,{"$f":"IF(AND('Step 2 - Ornamental'!$AD$18=\"X\",AS392=\"X\"),1,0)","v":0},null,{"$f":"IF(AND('Step 2 - Ornamental'!$AE$18=\"X\",AU392=\"X\"),1,0)","v":0},null,{"$f":"IF(AND('Step 2 - Ornamental'!$AA$17=\"X\",AW392=\"X\"),1,0)","v":0},"X",{"$f":"IF(AND('Step 2 - Ornamental'!$AB$17=\"X\",AY392=\"X\"),1,0)","v":0},"X",{"$f":"IF(AND('Step 2 - Ornamental'!$AC$17=\"X\",BA392=\"X\"),1,0)","v":0},null,{"$f":"IF(AND('Step 2 - Ornamental'!$AA$22=\"X\",BC392=\"X\"),1,0)","v":0},null,{"$f":"IF(AND('Step 2 - Ornamental'!$AB$22=\"X\",BE392=\"X\"),1,0)","v":0},null,{"$f":"IF(AND('Step 2 - Ornamental'!$AC$22=\"X\",BG392=\"X\"),1,0)","v":0},"X",{"$f":"IF(AND('Step 2 - Ornamental'!$AD$22=\"X\",BI392=\"X\"),1,0)","v":0},"X",null,null,null,null,"White / 1.0'-1.5'"]
[null,1,"PO HS","Polemonium reptans 'Heaven Scent'","Heaven Scent Jacob's Ladder","18\" O.C.","fragrant blue-violet flowers, ",null,"X","X","X",null,null,0,null,{"$f":"IF(AND('Step 2 - Ornamental'!$AA$21=\"X\",Q393=\"X\"),1,0)","v":0},"X",{"$f":"IF(AND('Step 2 - Ornamental'!$AB$21=\"X\",S393=\"X\"),1,0)","v":0},"X",{"$f":"IF(AND('Step 2 - Ornamental'!$AC$21=\"X\",U393=\"X\"),1,0)","v":0},null,{"$f":"IF(AND('Step 2 - Ornamental'!$AA$19=\"X\",W393=\"X\"),1,0)","v":0},"X",{"$f":"IF(AND('Step 2 - Ornamental'!$AA$19=\"X\",Y393=\"X\"),1,0)","v":0},null,{"$f":"IF(AND('Step 2 - Ornamental'!$AB$19=\"X\",AA393=\"X\"),1,0)","v":0},null,{"$f":"IF(AND('Step 2 - Ornamental'!$AC$19=\"X\",AC393=\"X\"),1,0)","v":0},null,{"$f":"IF(AND('Step 2 - Ornamental'!$AA$20=\"X\",AE393=\"X\"),1,0)","v":0},"X",{"$f":"IF(AND('Step 2 - Ornamental'!$AA$20=\"X\",AG393=\"X\"),1,0)","v":0},null,{"$f":"IF(AND('Step 2 - Ornamental'!$AB$20=\"X\",AI393=\"X\"),1,0)","v":0},null,{"$f":"IF(AND('Step 2 - Ornamental'!$AC$20=\"X\",AK393=\"X\"),1,0)","v":0},null,{"$f":"IF(AND('Step 2 - Ornamental'!$AA$18=\"X\",AM393=\"X\"),1,0)","v":0},null,{"$f":"IF(AND('Step 2 - Ornamental'!$AB$18=\"X\",AO393=\"X\"),1,0)","v":0},"X",{"$f":"IF(AND('Step 2 - Ornamental'!$AC$18=\"X\",AQ393=\"X\"),1,0)","v":0},"X",{"$f":"IF(AND('Step 2 - Ornamental'!$AD$18=\"X\",AS393=\"X\"),1,0)","v":0},null,{"$f":"IF(AND('Step 2 - Ornamental'!$AE$18=\"X\",AU393=\"X\"),1,0)","v":0},null,{"$f":"IF(AND('Step 2 - Ornamental'!$AA$17=\"X\",AW393=\"X\"),1,0)","v":0},null,{"$f":"IF(AND('Step 2 - Ornamental'!$AB$17=\"X\",AY393=\"X\"),1,0)","v":0},"X",{"$f":"IF(AND('Step 2 - Ornamental'!$AC$17=\"X\",BA393=\"X\"),1,0)","v":0}," ",{"$f":"IF(AND('Step 2 - Ornamental'!$AA$22=\"X\",BC393=\"X\"),1,0)","v":0},null,{"$f":"IF(AND('Step 2 - Ornamental'!$AB$22=\"X\",BE393=\"X\"),1,0)","v":0},null,{"$f":"IF(AND('Step 2 - Ornamental'!$AC$22=\"X\",BG393=\"X\"),1,0)","v":0},"X",{"$f":"IF(AND('Step 2 - Ornamental'!$AD$22=\"X\",BI393=\"X\"),1,0)","v":0},"X",null,null,null,"Blue / 1.0'-2.0'"]
[null,{"$f":"SUM((N394+P394+R394+T394)*(V394+X394+Z394+AB394)*(AD394+AF394+AH394+AJ394)*(AL394+AN394+AP394+AR394+AT394)*(AV394+AX394+AZ394)*(BB394+BD394+BF394+BH394))+1","v":1},"PO SH","Polemonium reptans \"Stairway to Heaven'","Stairway to Heaven Jacob's Ladder","18\" O.C.","variegated leaves with yellow edges, blue flowers, ",null,"X","X","X",null,null,0,null,{"$f":"IF(AND('Step 2 - Ornamental'!$AA$21=\"X\",Q394=\"X\"),1,0)","v":0},"X",{"$f":"IF(AND('Step 2 - Ornamental'!$AB$21=\"X\",S394=\"X\"),1,0)","v":0},"X",{"$f":"IF(AND('Step 2 - Ornamental'!$AC$21=\"X\",U394=\"X\"),1,0)","v":0},null,{"$f":"IF(AND('Step 2 - Ornamental'!$AA$19=\"X\",W394=\"X\"),1,0)","v":0},"X",{"$f":"IF(AND('Step 2 - Ornamental'!$AA$19=\"X\",Y394=\"X\"),1,0)","v":0},null,{"$f":"IF(AND('Step 2 - Ornamental'!$AB$19=\"X\",AA394=\"X\"),1,0)","v":0},null,{"$f":"IF(AND('Step 2 - Ornamental'!$AC$19=\"X\",AC394=\"X\"),1,0)","v":0},null,{"$f":"IF(AND('Step 2 - Ornamental'!$AA$20=\"X\",AE394=\"X\"),1,0)","v":0},"X",{"$f":"IF(AND('Step 2 - Ornamental'!$AA$20=\"X\",AG394=\"X\"),1,0)","v":0},null,{"$f":"IF(AND('Step 2 - Ornamental'!$AB$20=\"X\",AI394=\"X\"),1,0)","v":0},null,{"$f":"IF(AND('Step 2 - Ornamental'!$AC$20=\"X\",AK394=\"X\"),1,0)","v":0},null,{"$f":"IF(AND('Step 2 - Ornamental'!$AA$18=\"X\",AM394=\"X\"),1,0)","v":0},null,{"$f":"IF(AND('Step 2 - Ornamental'!$AB$18=\"X\",AO394=\"X\"),1,0)","v":0},"X",{"$f":"IF(AND('Step 2 - Ornamental'!$AC$18=\"X\",AQ394=\"X\"),1,0)","v":0},"X",{"$f":"IF(AND('Step 2 - Ornamental'!$AD$18=\"X\",AS394=\"X\"),1,0)","v":0},null,{"$f":"IF(AND('Step 2 - Ornamental'!$AE$18=\"X\",AU394=\"X\"),1,0)","v":0},null,{"$f":"IF(AND('Step 2 - Ornamental'!$AA$17=\"X\",AW394=\"X\"),1,0)","v":0},null,{"$f":"IF(AND('Step 2 - Ornamental'!$AB$17=\"X\",AY394=\"X\"),1,0)","v":0},"X",{"$f":"IF(AND('Step 2 - Ornamental'!$AC$17=\"X\",BA394=\"X\"),1,0)","v":0}," ",{"$f":"IF(AND('Step 2 - Ornamental'!$AA$22=\"X\",BC394=\"X\"),1,0)","v":0},null,{"$f":"IF(AND('Step 2 - Ornamental'!$AB$22=\"X\",BE394=\"X\"),1,0)","v":0},null,{"$f":"IF(AND('Step 2 - Ornamental'!$AC$22=\"X\",BG394=\"X\"),1,0)","v":0},"X",{"$f":"IF(AND('Step 2 - Ornamental'!$AD$22=\"X\",BI394=\"X\"),1,0)","v":0},"X",null,null,null,"Lavender Blue / 1.0'-2.0'"]
[null,1,"PO OD","Polygonatum odoratum var. pluriflorum 'Variegatum'","Variegated Solomon's seal","24\" O.C.","tolerant of wide soil moisture range, spreads, ","X",null,null,null,null,null,1,"X",{"$f":"IF(AND('Step 2 - Ornamental'!$AA$21=\"X\",Q395=\"X\"),1,0)","v":0},null,{"$f":"IF(AND('Step 2 - Ornamental'!$AB$21=\"X\",S395=\"X\"),1,0)","v":0},null,{"$f":"IF(AND('Step 2 - Ornamental'!$AC$21=\"X\",U395=\"X\"),1,0)","v":0},null,{"$f":"IF(AND('Step 2 - Ornamental'!$AA$19=\"X\",W395=\"X\"),1,0)","v":0},null,{"$f":"IF(AND('Step 2 - Ornamental'!$AA$19=\"X\",Y395=\"X\"),1,0)","v":0},"X",{"$f":"IF(AND('Step 2 - Ornamental'!$AB$19=\"X\",AA395=\"X\"),1,0)","v":0},null,{"$f":"IF(AND('Step 2 - Ornamental'!$AC$19=\"X\",AC395=\"X\"),1,0)","v":0},null,{"$f":"IF(AND('Step 2 - Ornamental'!$AA$20=\"X\",AE395=\"X\"),1,0)","v":0},"X",{"$f":"IF(AND('Step 2 - Ornamental'!$AA$20=\"X\",AG395=\"X\"),1,0)","v":0},null,{"$f":"IF(AND('Step 2 - Ornamental'!$AB$20=\"X\",AI395=\"X\"),1,0)","v":0},null,{"$f":"IF(AND('Step 2 - Ornamental'!$AC$20=\"X\",AK395=\"X\"),1,0)","v":0},null,{"$f":"IF(AND('Step 2 - Ornamental'!$AA$18=\"X\",AM395=\"X\"),1,0)","v":0},null,{"$f":"IF(AND('Step 2 - Ornamental'!$AB$18=\"X\",AO395=\"X\"),1,0)","v":0},"X",{"$f":"IF(AND('Step 2 - Ornamental'!$AC$18=\"X\",AQ395=\"X\"),1,0)","v":0},"X",{"$f":"IF(AND('Step 2 - Ornamental'!$AD$18=\"X\",AS395=\"X\"),1,0)","v":0},null,{"$f":"IF(AND('Step 2 - Ornamental'!$AE$18=\"X\",AU395=\"X\"),1,0)","v":0},null,{"$f":"IF(AND('Step 2 - Ornamental'!$AA$17=\"X\",AW395=\"X\"),1,0)","v":0}," ",{"$f":"IF(AND('Step 2 - Ornamental'!$AB$17=\"X\",AY395=\"X\"),1,0)","v":0},"X",{"$f":"IF(AND('Step 2 - Ornamental'!$AC$17=\"X\",BA395=\"X\"),1,0)","v":0},"X",{"$f":"IF(AND('Step 2 - Ornamental'!$AA$22=\"X\",BC395=\"X\"),1,0)","v":0},null,{"$f":"IF(AND('Step 2 - Ornamental'!$AB$22=\"X\",BE395=\"X\"),1,0)","v":0},null,{"$f":"IF(AND('Step 2 - Ornamental'!$AC$22=\"X\",BG395=\"X\"),1,0)","v":0},"X",{"$f":"IF(AND('Step 2 - Ornamental'!$AD$22=\"X\",BI395=\"X\"),1,0)","v":0},"X",null,null,null,"White / 2.0'-3.0'"]
[null,1,"PO AU","Potentilla arguta","Prairie Cinquefoil","12\" O.C.","small white flowers to 36\" tall"," ","X","X",null,null,null,1,"X",{"$f":"IF(AND('Step 2 - Ornamental'!$AA$21=\"X\",Q396=\"X\"),1,0)","v":0},null,{"$f":"IF(AND('Step 2 - Ornamental'!$AB$21=\"X\",S396=\"X\"),1,0)","v":0},null,{"$f":"IF(AND('Step 2 - Ornamental'!$AC$21=\"X\",U396=\"X\"),1,0)","v":0},null,{"$f":"IF(AND('Step 2 - Ornamental'!$AA$19=\"X\",W396=\"X\"),1,0)","v":0},"X",{"$f":"IF(AND('Step 2 - Ornamental'!$AA$19=\"X\",Y396=\"X\"),1,0)","v":0},null,{"$f":"IF(AND('Step 2 - Ornamental'!$AB$19=\"X\",AA396=\"X\"),1,0)","v":0},null,{"$f":"IF(AND('Step 2 - Ornamental'!$AC$19=\"X\",AC396=\"X\"),1,0)","v":0},null,{"$f":"IF(AND('Step 2 - Ornamental'!$AA$20=\"X\",AE396=\"X\"),1,0)","v":0},"X",{"$f":"IF(AND('Step 2 - Ornamental'!$AA$20=\"X\",AG396=\"X\"),1,0)","v":0},null,{"$f":"IF(AND('Step 2 - Ornamental'!$AB$20=\"X\",AI396=\"X\"),1,0)","v":0},null,{"$f":"IF(AND('Step 2 - Ornamental'!$AC$20=\"X\",AK396=\"X\"),1,0)","v":0},null,{"$f":"IF(AND('Step 2 - Ornamental'!$AA$18=\"X\",AM396=\"X\"),1,0)","v":0},"X",{"$f":"IF(AND('Step 2 - Ornamental'!$AB$18=\"X\",AO396=\"X\"),1,0)","v":0},null,{"$f":"IF(AND('Step 2 - Ornamental'!$AC$18=\"X\",AQ396=\"X\"),1,0)","v":0},null,{"$f":"IF(AND('Step 2 - Ornamental'!$AD$18=\"X\",AS396=\"X\"),1,0)","v":0},null,{"$f":"IF(AND('Step 2 - Ornamental'!$AE$18=\"X\",AU396=\"X\"),1,0)","v":0},null,{"$f":"IF(AND('Step 2 - Ornamental'!$AA$17=\"X\",AW396=\"X\"),1,0)","v":0},"X",{"$f":"IF(AND('Step 2 - Ornamental'!$AB$17=\"X\",AY396=\"X\"),1,0)","v":0},null,{"$f":"IF(AND('Step 2 - Ornamental'!$AC$17=\"X\",BA396=\"X\"),1,0)","v":0},null,{"$f":"IF(AND('Step 2 - Ornamental'!$AA$22=\"X\",BC396=\"X\"),1,0)","v":0},null,{"$f":"IF(AND('Step 2 - Ornamental'!$AB$22=\"X\",BE396=\"X\"),1,0)","v":0},"X",{"$f":"IF(AND('Step 2 - Ornamental'!$AC$22=\"X\",BG396=\"X\"),1,0)","v":0},"X",{"$f":"IF(AND('Step 2 - Ornamental'!$AD$22=\"X\",BI396=\"X\"),1,0)","v":0},"X",null,null,null,null,null,null,"White w/ Yellow centers / 2.0'-3.0'"]
[null,1,"PU MA","Pulmonaria 'Majeste'","Majesty Lungwort","18\" O.C.","silvery gray foliage w/ bluish-pink flowers","X",null,null,"X",null,null,0,null,{"$f":"IF(AND('Step 2 - Ornamental'!$AA$21=\"X\",Q397=\"X\"),1,0)","v":0},"X",{"$f":"IF(AND('Step 2 - Ornamental'!$AB$21=\"X\",S397=\"X\"),1,0)","v":0},"X",{"$f":"IF(AND('Step 2 - Ornamental'!$AC$21=\"X\",U397=\"X\"),1,0)","v":0},"X",{"$f":"IF(AND('Step 2 - Ornamental'!$AA$19=\"X\",W397=\"X\"),1,0)","v":0},null,{"$f":"IF(AND('Step 2 - Ornamental'!$AA$19=\"X\",Y397=\"X\"),1,0)","v":0},"X",{"$f":"IF(AND('Step 2 - Ornamental'!$AB$19=\"X\",AA397=\"X\"),1,0)","v":0},null,{"$f":"IF(AND('Step 2 - Ornamental'!$AC$19=\"X\",AC397=\"X\"),1,0)","v":0},null,{"$f":"IF(AND('Step 2 - Ornamental'!$AA$20=\"X\",AE397=\"X\"),1,0)","v":0},"X",{"$f":"IF(AND('Step 2 - Ornamental'!$AA$20=\"X\",AG397=\"X\"),1,0)","v":0},null,{"$f":"IF(AND('Step 2 - Ornamental'!$AB$20=\"X\",AI397=\"X\"),1,0)","v":0},null,{"$f":"IF(AND('Step 2 - Ornamental'!$AC$20=\"X\",AK397=\"X\"),1,0)","v":0},null,{"$f":"IF(AND('Step 2 - Ornamental'!$AA$18=\"X\",AM397=\"X\"),1,0)","v":0},null,{"$f":"IF(AND('Step 2 - Ornamental'!$AB$18=\"X\",AO397=\"X\"),1,0)","v":0},"X",{"$f":"IF(AND('Step 2 - Ornamental'!$AC$18=\"X\",AQ397=\"X\"),1,0)","v":0},null,{"$f":"IF(AND('Step 2 - Ornamental'!$AD$18=\"X\",AS397=\"X\"),1,0)","v":0},null,{"$f":"IF(AND('Step 2 - Ornamental'!$AE$18=\"X\",AU397=\"X\"),1,0)","v":0},null,{"$f":"IF(AND('Step 2 - Ornamental'!$AA$17=\"X\",AW397=\"X\"),1,0)","v":0},null,{"$f":"IF(AND('Step 2 - Ornamental'!$AB$17=\"X\",AY397=\"X\"),1,0)","v":0},"X",{"$f":"IF(AND('Step 2 - Ornamental'!$AC$17=\"X\",BA397=\"X\"),1,0)","v":0},"X",{"$f":"IF(AND('Step 2 - Ornamental'!$AA$22=\"X\",BC397=\"X\"),1,0)","v":0},null,{"$f":"IF(AND('Step 2 - Ornamental'!$AB$22=\"X\",BE397=\"X\"),1,0)","v":0},null,{"$f":"IF(AND('Step 2 - Ornamental'!$AC$22=\"X\",BG397=\"X\"),1,0)","v":0},"X",{"$f":"IF(AND('Step 2 - Ornamental'!$AD$22=\"X\",BI397=\"X\"),1,0)","v":0},"X",null,null,null,"Blue Pink / 0.5'-1.0'"]
[null,1,"PU LB","Pulmonaria longifolia 'Bertram Anderson'","Spotted Lungwort","18\" O.C.","spotted silvery gray foliage w/ bluish-pink flowers","X",null,null,"X",null,null,{"$f":"IF(O398=\"X\",1,0)","v":0},null,{"$f":"IF(AND('Step 2 - Ornamental'!$AA$21=\"X\",Q398=\"X\"),1,0)","v":0},"X",{"$f":"IF(AND('Step 2 - Ornamental'!$AB$21=\"X\",S398=\"X\"),1,0)","v":0},"X",{"$f":"IF(AND('Step 2 - Ornamental'!$AC$21=\"X\",U398=\"X\"),1,0)","v":0},"X",{"$f":"IF(AND('Step 2 - Ornamental'!$AA$19=\"X\",W398=\"X\"),1,0)","v":0},null,{"$f":"IF(AND('Step 2 - Ornamental'!$AA$19=\"X\",Y398=\"X\"),1,0)","v":0},"X",{"$f":"IF(AND('Step 2 - Ornamental'!$AB$19=\"X\",AA398=\"X\"),1,0)","v":0},null,{"$f":"IF(AND('Step 2 - Ornamental'!$AC$19=\"X\",AC398=\"X\"),1,0)","v":0},null,{"$f":"IF(AND('Step 2 - Ornamental'!$AA$20=\"X\",AE398=\"X\"),1,0)","v":0},"X",{"$f":"IF(AND('Step 2 - Ornamental'!$AA$20=\"X\",AG398=\"X\"),1,0)","v":0},null,{"$f":"IF(AND('Step 2 - Ornamental'!$AB$20=\"X\",AI398=\"X\"),1,0)","v":0},null,{"$f":"IF(AND('Step 2 - Ornamental'!$AC$20=\"X\",AK398=\"X\"),1,0)","v":0},null,{"$f":"IF(AND('Step 2 - Ornamental'!$AA$18=\"X\",AM398=\"X\"),1,0)","v":0},null,{"$f":"IF(AND('Step 2 - Ornamental'!$AB$18=\"X\",AO398=\"X\"),1,0)","v":0},"X",{"$f":"IF(AND('Step 2 - Ornamental'!$AC$18=\"X\",AQ398=\"X\"),1,0)","v":0},null,{"$f":"IF(AND('Step 2 - Ornamental'!$AD$18=\"X\",AS398=\"X\"),1,0)","v":0},null,{"$f":"IF(AND('Step 2 - Ornamental'!$AE$18=\"X\",AU398=\"X\"),1,0)","v":0},null,{"$f":"IF(AND('Step 2 - Ornamental'!$AA$17=\"X\",AW398=\"X\"),1,0)","v":0},null,{"$f":"IF(AND('Step 2 - Ornamental'!$AB$17=\"X\",AY398=\"X\"),1,0)","v":0},"X",{"$f":"IF(AND('Step 2 - Ornamental'!$AC$17=\"X\",BA398=\"X\"),1,0)","v":0},"X",{"$f":"IF(AND('Step 2 - Ornamental'!$AA$22=\"X\",BC398=\"X\"),1,0)","v":0},null,{"$f":"IF(AND('Step 2 - Ornamental'!$AB$22=\"X\",BE398=\"X\"),1,0)","v":0},null,{"$f":"IF(AND('Step 2 - Ornamental'!$AC$22=\"X\",BG398=\"X\"),1,0)","v":0},"X",{"$f":"IF(AND('Step 2 - Ornamental'!$AD$22=\"X\",BI398=\"X\"),1,0)","v":0},"X",null,null,null,"Blue Pink / 0.5'-1.0'"]
[null,1,"PY TE","Pycnanthemum tenuifolium","Slender Mountain Mint","30\" O.C.","tolerates clay soil, aggressive grower, needle-like leaves and white flowers to 36\" in Jul-Sept"," ","X",null,null,null,null,0,null,{"$f":"IF(AND('Step 2 - Ornamental'!$AA$21=\"X\",Q399=\"X\"),1,0)","v":0},"X",{"$f":"IF(AND('Step 2 - Ornamental'!$AB$21=\"X\",S399=\"X\"),1,0)","v":0},"X",{"$f":"IF(AND('Step 2 - Ornamental'!$AC$21=\"X\",U399=\"X\"),1,0)","v":0},"X",{"$f":"IF(AND('Step 2 - Ornamental'!$AA$19=\"X\",W399=\"X\"),1,0)","v":0},"X",{"$f":"IF(AND('Step 2 - Ornamental'!$AA$19=\"X\",Y399=\"X\"),1,0)","v":0},null,{"$f":"IF(AND('Step 2 - Ornamental'!$AB$19=\"X\",AA399=\"X\"),1,0)","v":0},null,{"$f":"IF(AND('Step 2 - Ornamental'!$AC$19=\"X\",AC399=\"X\"),1,0)","v":0},null,{"$f":"IF(AND('Step 2 - Ornamental'!$AA$20=\"X\",AE399=\"X\"),1,0)","v":0},"X",{"$f":"IF(AND('Step 2 - Ornamental'!$AA$20=\"X\",AG399=\"X\"),1,0)","v":0},null,{"$f":"IF(AND('Step 2 - Ornamental'!$AB$20=\"X\",AI399=\"X\"),1,0)","v":0},null,{"$f":"IF(AND('Step 2 - Ornamental'!$AC$20=\"X\",AK399=\"X\"),1,0)","v":0},null,{"$f":"IF(AND('Step 2 - Ornamental'!$AA$18=\"X\",AM399=\"X\"),1,0)","v":0},"X",{"$f":"IF(AND('Step 2 - Ornamental'!$AB$18=\"X\",AO399=\"X\"),1,0)","v":0},"X",{"$f":"IF(AND('Step 2 - Ornamental'!$AC$18=\"X\",AQ399=\"X\"),1,0)","v":0},null,{"$f":"IF(AND('Step 2 - Ornamental'!$AD$18=\"X\",AS399=\"X\"),1,0)","v":0},null,{"$f":"IF(AND('Step 2 - Ornamental'!$AE$18=\"X\",AU399=\"X\"),1,0)","v":0},null,{"$f":"IF(AND('Step 2 - Ornamental'!$AA$17=\"X\",AW399=\"X\"),1,0)","v":0},"X",{"$f":"IF(AND('Step 2 - Ornamental'!$AB$17=\"X\",AY399=\"X\"),1,0)","v":0},"X",{"$f":"IF(AND('Step 2 - Ornamental'!$AC$17=\"X\",BA399=\"X\"),1,0)","v":0},null,{"$f":"IF(AND('Step 2 - Ornamental'!$AA$22=\"X\",BC399=\"X\"),1,0)","v":0},null,{"$f":"IF(AND('Step 2 - Ornamental'!$AB$22=\"X\",BE399=\"X\"),1,0)","v":0},"X",{"$f":"IF(AND('Step 2 - Ornamental'!$AC$22=\"X\",BG399=\"X\"),1,0)","v":0},"X",{"$f":"IF(AND('Step 2 - Ornamental'!$AD$22=\"X\",BI399=\"X\"),1,0)","v":0},"X",null,null,null,null,null,null,"White / 2.0'-3.0'"]
[null,1,"RA PI","Ratibida pinnata","Grey-head Coneflower","18\" O.C.","tolerates clay soil, yellow flowers June-Aug., attracts butterflies",null,"X","X",null,null,null,0,null,{"$f":"IF(AND('Step 2 - Ornamental'!$AA$21=\"X\",Q400=\"X\"),1,0)","v":0},null,{"$f":"IF(AND('Step 2 - Ornamental'!$AB$21=\"X\",S400=\"X\"),1,0)","v":0},"X",{"$f":"IF(AND('Step 2 - Ornamental'!$AC$21=\"X\",U400=\"X\"),1,0)","v":0},"X",{"$f":"IF(AND('Step 2 - Ornamental'!$AA$19=\"X\",W400=\"X\"),1,0)","v":0},null,{"$f":"IF(AND('Step 2 - Ornamental'!$AA$19=\"X\",Y400=\"X\"),1,0)","v":0},"X",{"$f":"IF(AND('Step 2 - Ornamental'!$AB$19=\"X\",AA400=\"X\"),1,0)","v":0},"X",{"$f":"IF(AND('Step 2 - Ornamental'!$AC$19=\"X\",AC400=\"X\"),1,0)","v":0},null,{"$f":"IF(AND('Step 2 - Ornamental'!$AA$20=\"X\",AE400=\"X\"),1,0)","v":0},null,{"$f":"IF(AND('Step 2 - Ornamental'!$AA$20=\"X\",AG400=\"X\"),1,0)","v":0},"X",{"$f":"IF(AND('Step 2 - Ornamental'!$AB$20=\"X\",AI400=\"X\"),1,0)","v":0},null,{"$f":"IF(AND('Step 2 - Ornamental'!$AC$20=\"X\",AK400=\"X\"),1,0)","v":0},null,{"$f":"IF(AND('Step 2 - Ornamental'!$AA$18=\"X\",AM400=\"X\"),1,0)","v":0},null,{"$f":"IF(AND('Step 2 - Ornamental'!$AB$18=\"X\",AO400=\"X\"),1,0)","v":0},"X",{"$f":"IF(AND('Step 2 - Ornamental'!$AC$18=\"X\",AQ400=\"X\"),1,0)","v":0},null,{"$f":"IF(AND('Step 2 - Ornamental'!$AD$18=\"X\",AS400=\"X\"),1,0)","v":0},null,{"$f":"IF(AND('Step 2 - Ornamental'!$AE$18=\"X\",AU400=\"X\"),1,0)","v":0},null,{"$f":"IF(AND('Step 2 - Ornamental'!$AA$17=\"X\",AW400=\"X\"),1,0)","v":0},"X",{"$f":"IF(AND('Step 2 - Ornamental'!$AB$17=\"X\",AY400=\"X\"),1,0)","v":0},null,{"$f":"IF(AND('Step 2 - Ornamental'!$AC$17=\"X\",BA400=\"X\"),1,0)","v":0},null,{"$f":"IF(AND('Step 2 - Ornamental'!$AA$22=\"X\",BC400=\"X\"),1,0)","v":0},null,{"$f":"IF(AND('Step 2 - Ornamental'!$AB$22=\"X\",BE400=\"X\"),1,0)","v":0},null,{"$f":"IF(AND('Step 2 - Ornamental'!$AC$22=\"X\",BG400=\"X\"),1,0)","v":0},"X",{"$f":"IF(AND('Step 2 - Ornamental'!$AD$22=\"X\",BI400=\"X\"),1,0)","v":0},"X",null,null,null,null,null,"Yellow / 3.0'-5.0'"]
[null,1,"RU FU","Rudbeckia fulgida 'deamii'","Deam's Coneflower","24\" O.C.","drought tolerant variety,  orange-yellow flowers to 36\" in Jun-Oct, attracts butterflies"," ","X","X","X",null,null,0,null,{"$f":"IF(AND('Step 2 - Ornamental'!$AA$21=\"X\",Q401=\"X\"),1,0)","v":0},"X",{"$f":"IF(AND('Step 2 - Ornamental'!$AB$21=\"X\",S401=\"X\"),1,0)","v":0},"X",{"$f":"IF(AND('Step 2 - Ornamental'!$AC$21=\"X\",U401=\"X\"),1,0)","v":0},null,{"$f":"IF(AND('Step 2 - Ornamental'!$AA$19=\"X\",W401=\"X\"),1,0)","v":0},null,{"$f":"IF(AND('Step 2 - Ornamental'!$AA$19=\"X\",Y401=\"X\"),1,0)","v":0},"X",{"$f":"IF(AND('Step 2 - Ornamental'!$AB$19=\"X\",AA401=\"X\"),1,0)","v":0},null,{"$f":"IF(AND('Step 2 - Ornamental'!$AC$19=\"X\",AC401=\"X\"),1,0)","v":0},null,{"$f":"IF(AND('Step 2 - Ornamental'!$AA$20=\"X\",AE401=\"X\"),1,0)","v":0},"X",{"$f":"IF(AND('Step 2 - Ornamental'!$AA$20=\"X\",AG401=\"X\"),1,0)","v":0},null,{"$f":"IF(AND('Step 2 - Ornamental'!$AB$20=\"X\",AI401=\"X\"),1,0)","v":0},null,{"$f":"IF(AND('Step 2 - Ornamental'!$AC$20=\"X\",AK401=\"X\"),1,0)","v":0},null,{"$f":"IF(AND('Step 2 - Ornamental'!$AA$18=\"X\",AM401=\"X\"),1,0)","v":0},"X",{"$f":"IF(AND('Step 2 - Ornamental'!$AB$18=\"X\",AO401=\"X\"),1,0)","v":0},"X",{"$f":"IF(AND('Step 2 - Ornamental'!$AC$18=\"X\",AQ401=\"X\"),1,0)","v":0},null,{"$f":"IF(AND('Step 2 - Ornamental'!$AD$18=\"X\",AS401=\"X\"),1,0)","v":0},null,{"$f":"IF(AND('Step 2 - Ornamental'!$AE$18=\"X\",AU401=\"X\"),1,0)","v":0},null,{"$f":"IF(AND('Step 2 - Ornamental'!$AA$17=\"X\",AW401=\"X\"),1,0)","v":0},"X",{"$f":"IF(AND('Step 2 - Ornamental'!$AB$17=\"X\",AY401=\"X\"),1,0)","v":0},null,{"$f":"IF(AND('Step 2 - Ornamental'!$AC$17=\"X\",BA401=\"X\"),1,0)","v":0},null,{"$f":"IF(AND('Step 2 - Ornamental'!$AA$22=\"X\",BC401=\"X\"),1,0)","v":0},null,{"$f":"IF(AND('Step 2 - Ornamental'!$AB$22=\"X\",BE401=\"X\"),1,0)","v":0},"X",{"$f":"IF(AND('Step 2 - Ornamental'!$AC$22=\"X\",BG401=\"X\"),1,0)","v":0},"X",{"$f":"IF(AND('Step 2 - Ornamental'!$AD$22=\"X\",BI401=\"X\"),1,0)","v":0},"X",null,null,null,null,null,"Yellow / 2.0-3.0'"]
[null,1,"RU GO","Rudbeckia fulgida var. sullivantii 'Goldsturm'","Goldsturm Coneflower","18\" O.C.","larger (4\") yellow-orange rays with purple brown cone to 36\" tall in Jun-Sept"," ","X",null,"X",null,null,0,null,{"$f":"IF(AND('Step 2 - Ornamental'!$AA$21=\"X\",Q402=\"X\"),1,0)","v":0},"X",{"$f":"IF(AND('Step 2 - Ornamental'!$AB$21=\"X\",S402=\"X\"),1,0)","v":0},"X",{"$f":"IF(AND('Step 2 - Ornamental'!$AC$21=\"X\",U402=\"X\"),1,0)","v":0},null,{"$f":"IF(AND('Step 2 - Ornamental'!$AA$19=\"X\",W402=\"X\"),1,0)","v":0},null,{"$f":"IF(AND('Step 2 - Ornamental'!$AA$19=\"X\",Y402=\"X\"),1,0)","v":0},"X",{"$f":"IF(AND('Step 2 - Ornamental'!$AB$19=\"X\",AA402=\"X\"),1,0)","v":0},null,{"$f":"IF(AND('Step 2 - Ornamental'!$AC$19=\"X\",AC402=\"X\"),1,0)","v":0},null,{"$f":"IF(AND('Step 2 - Ornamental'!$AA$20=\"X\",AE402=\"X\"),1,0)","v":0},"X",{"$f":"IF(AND('Step 2 - Ornamental'!$AA$20=\"X\",AG402=\"X\"),1,0)","v":0},null,{"$f":"IF(AND('Step 2 - Ornamental'!$AB$20=\"X\",AI402=\"X\"),1,0)","v":0},null,{"$f":"IF(AND('Step 2 - Ornamental'!$AC$20=\"X\",AK402=\"X\"),1,0)","v":0},null,{"$f":"IF(AND('Step 2 - Ornamental'!$AA$18=\"X\",AM402=\"X\"),1,0)","v":0},null,{"$f":"IF(AND('Step 2 - Ornamental'!$AB$18=\"X\",AO402=\"X\"),1,0)","v":0},"X",{"$f":"IF(AND('Step 2 - Ornamental'!$AC$18=\"X\",AQ402=\"X\"),1,0)","v":0},null,{"$f":"IF(AND('Step 2 - Ornamental'!$AD$18=\"X\",AS402=\"X\"),1,0)","v":0},null,{"$f":"IF(AND('Step 2 - Ornamental'!$AE$18=\"X\",AU402=\"X\"),1,0)","v":0},null,{"$f":"IF(AND('Step 2 - Ornamental'!$AA$17=\"X\",AW402=\"X\"),1,0)","v":0},"X",{"$f":"IF(AND('Step 2 - Ornamental'!$AB$17=\"X\",AY402=\"X\"),1,0)","v":0},null,{"$f":"IF(AND('Step 2 - Ornamental'!$AC$17=\"X\",BA402=\"X\"),1,0)","v":0},null,{"$f":"IF(AND('Step 2 - Ornamental'!$AA$22=\"X\",BC402=\"X\"),1,0)","v":0},null,{"$f":"IF(AND('Step 2 - Ornamental'!$AB$22=\"X\",BE402=\"X\"),1,0)","v":0},null,{"$f":"IF(AND('Step 2 - Ornamental'!$AC$22=\"X\",BG402=\"X\"),1,0)","v":0},"X",{"$f":"IF(AND('Step 2 - Ornamental'!$AD$22=\"X\",BI402=\"X\"),1,0)","v":0},"X",null,null,null,null,null,"Yellow / 2.0'-3.0'"]
[null,1,"RU GR","Rudbeckia grandiflora","Rough or Tall Coneflower","24\" O.C.","Tall species with yellow flowers to 4' tall in August - Oct.",null,"X",null,"X","X",null,1,"X",{"$f":"IF(AND('Step 2 - Ornamental'!$AA$21=\"X\",Q403=\"X\"),1,0)","v":0},null,{"$f":"IF(AND('Step 2 - Ornamental'!$AB$21=\"X\",S403=\"X\"),1,0)","v":0},null,{"$f":"IF(AND('Step 2 - Ornamental'!$AC$21=\"X\",U403=\"X\"),1,0)","v":0},null,{"$f":"IF(AND('Step 2 - Ornamental'!$AA$19=\"X\",W403=\"X\"),1,0)","v":0},"X",{"$f":"IF(AND('Step 2 - Ornamental'!$AA$19=\"X\",Y403=\"X\"),1,0)","v":0},null,{"$f":"IF(AND('Step 2 - Ornamental'!$AB$19=\"X\",AA403=\"X\"),1,0)","v":0},null,{"$f":"IF(AND('Step 2 - Ornamental'!$AC$19=\"X\",AC403=\"X\"),1,0)","v":0},null,{"$f":"IF(AND('Step 2 - Ornamental'!$AA$20=\"X\",AE403=\"X\"),1,0)","v":0},"X",{"$f":"IF(AND('Step 2 - Ornamental'!$AA$20=\"X\",AG403=\"X\"),1,0)","v":0},null,{"$f":"IF(AND('Step 2 - Ornamental'!$AB$20=\"X\",AI403=\"X\"),1,0)","v":0},null,{"$f":"IF(AND('Step 2 - Ornamental'!$AC$20=\"X\",AK403=\"X\"),1,0)","v":0},null,{"$f":"IF(AND('Step 2 - Ornamental'!$AA$18=\"X\",AM403=\"X\"),1,0)","v":0},"X",{"$f":"IF(AND('Step 2 - Ornamental'!$AB$18=\"X\",AO403=\"X\"),1,0)","v":0},"X",{"$f":"IF(AND('Step 2 - Ornamental'!$AC$18=\"X\",AQ403=\"X\"),1,0)","v":0},null,{"$f":"IF(AND('Step 2 - Ornamental'!$AD$18=\"X\",AS403=\"X\"),1,0)","v":0},null,{"$f":"IF(AND('Step 2 - Ornamental'!$AE$18=\"X\",AU403=\"X\"),1,0)","v":0},null,{"$f":"IF(AND('Step 2 - Ornamental'!$AA$17=\"X\",AW403=\"X\"),1,0)","v":0},"X",{"$f":"IF(AND('Step 2 - Ornamental'!$AB$17=\"X\",AY403=\"X\"),1,0)","v":0},null,{"$f":"IF(AND('Step 2 - Ornamental'!$AC$17=\"X\",BA403=\"X\"),1,0)","v":0},null,{"$f":"IF(AND('Step 2 - Ornamental'!$AA$22=\"X\",BC403=\"X\"),1,0)","v":0},null,{"$f":"IF(AND('Step 2 - Ornamental'!$AB$22=\"X\",BE403=\"X\"),1,0)","v":0},"X",{"$f":"IF(AND('Step 2 - Ornamental'!$AC$22=\"X\",BG403=\"X\"),1,0)","v":0},"X",{"$f":"IF(AND('Step 2 - Ornamental'!$AD$22=\"X\",BI403=\"X\"),1,0)","v":0},"X",null,null,null,null,null,null,null,"Yellow / 3.0'-4.0'"]
[null,1,"RU HI","Rudbeckia hirta","Black-eyed Susan Coneflower","18\" O.C.","Repeat bloomer, Bright yellow daisy flowers June-Sept about 24\" tall",null,"X","X","X",null,null,0,null,{"$f":"IF(AND('Step 2 - Ornamental'!$AA$21=\"X\",Q404=\"X\"),1,0)","v":0},"X",{"$f":"IF(AND('Step 2 - Ornamental'!$AB$21=\"X\",S404=\"X\"),1,0)","v":0},"X",{"$f":"IF(AND('Step 2 - Ornamental'!$AC$21=\"X\",U404=\"X\"),1,0)","v":0},null,{"$f":"IF(AND('Step 2 - Ornamental'!$AA$19=\"X\",W404=\"X\"),1,0)","v":0},null,{"$f":"IF(AND('Step 2 - Ornamental'!$AA$19=\"X\",Y404=\"X\"),1,0)","v":0},"X",{"$f":"IF(AND('Step 2 - Ornamental'!$AB$19=\"X\",AA404=\"X\"),1,0)","v":0},"X",{"$f":"IF(AND('Step 2 - Ornamental'!$AC$19=\"X\",AC404=\"X\"),1,0)","v":0},null,{"$f":"IF(AND('Step 2 - Ornamental'!$AA$20=\"X\",AE404=\"X\"),1,0)","v":0},null,{"$f":"IF(AND('Step 2 - Ornamental'!$AA$20=\"X\",AG404=\"X\"),1,0)","v":0},"X",{"$f":"IF(AND('Step 2 - Ornamental'!$AB$20=\"X\",AI404=\"X\"),1,0)","v":0},null,{"$f":"IF(AND('Step 2 - Ornamental'!$AC$20=\"X\",AK404=\"X\"),1,0)","v":0},null,{"$f":"IF(AND('Step 2 - Ornamental'!$AA$18=\"X\",AM404=\"X\"),1,0)","v":0},"X",{"$f":"IF(AND('Step 2 - Ornamental'!$AB$18=\"X\",AO404=\"X\"),1,0)","v":0},"X",{"$f":"IF(AND('Step 2 - Ornamental'!$AC$18=\"X\",AQ404=\"X\"),1,0)","v":0},null,{"$f":"IF(AND('Step 2 - Ornamental'!$AD$18=\"X\",AS404=\"X\"),1,0)","v":0},null,{"$f":"IF(AND('Step 2 - Ornamental'!$AE$18=\"X\",AU404=\"X\"),1,0)","v":0},null,{"$f":"IF(AND('Step 2 - Ornamental'!$AA$17=\"X\",AW404=\"X\"),1,0)","v":0},"X",{"$f":"IF(AND('Step 2 - Ornamental'!$AB$17=\"X\",AY404=\"X\"),1,0)","v":0},"X",{"$f":"IF(AND('Step 2 - Ornamental'!$AC$17=\"X\",BA404=\"X\"),1,0)","v":0},null,{"$f":"IF(AND('Step 2 - Ornamental'!$AA$22=\"X\",BC404=\"X\"),1,0)","v":0},null,{"$f":"IF(AND('Step 2 - Ornamental'!$AB$22=\"X\",BE404=\"X\"),1,0)","v":0},"X",{"$f":"IF(AND('Step 2 - Ornamental'!$AC$22=\"X\",BG404=\"X\"),1,0)","v":0},"X",{"$f":"IF(AND('Step 2 - Ornamental'!$AD$22=\"X\",BI404=\"X\"),1,0)","v":0},"X",null,null,null,null,null,"Yellow to yellow-orange / 2.0'-3.0'"]
[null,1,"RU MA","Rudbeckia maxima","Giant Coneflower","36\" O.C.","giant variety (5-7' tall)","X",null,null,"X",null,null,0,null,{"$f":"IF(AND('Step 2 - Ornamental'!$AA$21=\"X\",Q405=\"X\"),1,0)","v":0},"X",{"$f":"IF(AND('Step 2 - Ornamental'!$AB$21=\"X\",S405=\"X\"),1,0)","v":0},"X",{"$f":"IF(AND('Step 2 - Ornamental'!$AC$21=\"X\",U405=\"X\"),1,0)","v":0},null,{"$f":"IF(AND('Step 2 - Ornamental'!$AA$19=\"X\",W405=\"X\"),1,0)","v":0},"X",{"$f":"IF(AND('Step 2 - Ornamental'!$AA$19=\"X\",Y405=\"X\"),1,0)","v":0},null,{"$f":"IF(AND('Step 2 - Ornamental'!$AB$19=\"X\",AA405=\"X\"),1,0)","v":0},null,{"$f":"IF(AND('Step 2 - Ornamental'!$AC$19=\"X\",AC405=\"X\"),1,0)","v":0},null,{"$f":"IF(AND('Step 2 - Ornamental'!$AA$20=\"X\",AE405=\"X\"),1,0)","v":0},"X",{"$f":"IF(AND('Step 2 - Ornamental'!$AA$20=\"X\",AG405=\"X\"),1,0)","v":0},null,{"$f":"IF(AND('Step 2 - Ornamental'!$AB$20=\"X\",AI405=\"X\"),1,0)","v":0},null,{"$f":"IF(AND('Step 2 - Ornamental'!$AC$20=\"X\",AK405=\"X\"),1,0)","v":0},null,{"$f":"IF(AND('Step 2 - Ornamental'!$AA$18=\"X\",AM405=\"X\"),1,0)","v":0},"X",{"$f":"IF(AND('Step 2 - Ornamental'!$AB$18=\"X\",AO405=\"X\"),1,0)","v":0},"X",{"$f":"IF(AND('Step 2 - Ornamental'!$AC$18=\"X\",AQ405=\"X\"),1,0)","v":0},null,{"$f":"IF(AND('Step 2 - Ornamental'!$AD$18=\"X\",AS405=\"X\"),1,0)","v":0},null,{"$f":"IF(AND('Step 2 - Ornamental'!$AE$18=\"X\",AU405=\"X\"),1,0)","v":0},null,{"$f":"IF(AND('Step 2 - Ornamental'!$AA$17=\"X\",AW405=\"X\"),1,0)","v":0},"X",{"$f":"IF(AND('Step 2 - Ornamental'!$AB$17=\"X\",AY405=\"X\"),1,0)","v":0},null,{"$f":"IF(AND('Step 2 - Ornamental'!$AC$17=\"X\",BA405=\"X\"),1,0)","v":0},null,{"$f":"IF(AND('Step 2 - Ornamental'!$AA$22=\"X\",BC405=\"X\"),1,0)","v":0},null,{"$f":"IF(AND('Step 2 - Ornamental'!$AB$22=\"X\",BE405=\"X\"),1,0)","v":0},null,{"$f":"IF(AND('Step 2 - Ornamental'!$AC$22=\"X\",BG405=\"X\"),1,0)","v":0},"X",{"$f":"IF(AND('Step 2 - Ornamental'!$AD$22=\"X\",BI405=\"X\"),1,0)","v":0},"X",null,null,null,null,null,"Yellow / 5.0'-7.0'"]
[null,1,"RU SU","Rudbeckia subtomentosa 'Henry Eilers'","Sweet Coneflower","18\" O.C.","interesting rolled, quill-shaped petals, (3-5' tall)",null,"X","X","X",null,null,0,null,{"$f":"IF(AND('Step 2 - Ornamental'!$AA$21=\"X\",Q406=\"X\"),1,0)","v":0},"X",{"$f":"IF(AND('Step 2 - Ornamental'!$AB$21=\"X\",S406=\"X\"),1,0)","v":0},"X",{"$f":"IF(AND('Step 2 - Ornamental'!$AC$21=\"X\",U406=\"X\"),1,0)","v":0},null,{"$f":"IF(AND('Step 2 - Ornamental'!$AA$19=\"X\",W406=\"X\"),1,0)","v":0},null,{"$f":"IF(AND('Step 2 - Ornamental'!$AA$19=\"X\",Y406=\"X\"),1,0)","v":0},"X",{"$f":"IF(AND('Step 2 - Ornamental'!$AB$19=\"X\",AA406=\"X\"),1,0)","v":0},null,{"$f":"IF(AND('Step 2 - Ornamental'!$AC$19=\"X\",AC406=\"X\"),1,0)","v":0},null,{"$f":"IF(AND('Step 2 - Ornamental'!$AA$20=\"X\",AE406=\"X\"),1,0)","v":0},null,{"$f":"IF(AND('Step 2 - Ornamental'!$AA$20=\"X\",AG406=\"X\"),1,0)","v":0},"X",{"$f":"IF(AND('Step 2 - Ornamental'!$AB$20=\"X\",AI406=\"X\"),1,0)","v":0},"X",{"$f":"IF(AND('Step 2 - Ornamental'!$AC$20=\"X\",AK406=\"X\"),1,0)","v":0},null,{"$f":"IF(AND('Step 2 - Ornamental'!$AA$18=\"X\",AM406=\"X\"),1,0)","v":0}," ",{"$f":"IF(AND('Step 2 - Ornamental'!$AB$18=\"X\",AO406=\"X\"),1,0)","v":0},"X",{"$f":"IF(AND('Step 2 - Ornamental'!$AC$18=\"X\",AQ406=\"X\"),1,0)","v":0},"X",{"$f":"IF(AND('Step 2 - Ornamental'!$AD$18=\"X\",AS406=\"X\"),1,0)","v":0},null,{"$f":"IF(AND('Step 2 - Ornamental'!$AE$18=\"X\",AU406=\"X\"),1,0)","v":0},null,{"$f":"IF(AND('Step 2 - Ornamental'!$AA$17=\"X\",AW406=\"X\"),1,0)","v":0},"X",{"$f":"IF(AND('Step 2 - Ornamental'!$AB$17=\"X\",AY406=\"X\"),1,0)","v":0},null,{"$f":"IF(AND('Step 2 - Ornamental'!$AC$17=\"X\",BA406=\"X\"),1,0)","v":0},null,{"$f":"IF(AND('Step 2 - Ornamental'!$AA$22=\"X\",BC406=\"X\"),1,0)","v":0},null,{"$f":"IF(AND('Step 2 - Ornamental'!$AB$22=\"X\",BE406=\"X\"),1,0)","v":0},null,{"$f":"IF(AND('Step 2 - Ornamental'!$AC$22=\"X\",BG406=\"X\"),1,0)","v":0},"X",{"$f":"IF(AND('Step 2 - Ornamental'!$AD$22=\"X\",BI406=\"X\"),1,0)","v":0},"X",null,null,null,null,null,null,"Yellow / 3.0'-5.0'"]
[null,1,"RU VS","Rudbeckia fulgida 'Blovi' 'VIETTE'S LITTLE SUZY","Little Suzy Eastern Coneflower","18\" O.C.","dwarf variety (12-18\" tall)",null,"X","X","X",null,null,0,null,{"$f":"IF(AND('Step 2 - Ornamental'!$AA$21=\"X\",Q407=\"X\"),1,0)","v":0},"X",{"$f":"IF(AND('Step 2 - Ornamental'!$AB$21=\"X\",S407=\"X\"),1,0)","v":0},"X",{"$f":"IF(AND('Step 2 - Ornamental'!$AC$21=\"X\",U407=\"X\"),1,0)","v":0},null,{"$f":"IF(AND('Step 2 - Ornamental'!$AA$19=\"X\",W407=\"X\"),1,0)","v":0},null,{"$f":"IF(AND('Step 2 - Ornamental'!$AA$19=\"X\",Y407=\"X\"),1,0)","v":0},"X",{"$f":"IF(AND('Step 2 - Ornamental'!$AB$19=\"X\",AA407=\"X\"),1,0)","v":0},null,{"$f":"IF(AND('Step 2 - Ornamental'!$AC$19=\"X\",AC407=\"X\"),1,0)","v":0},null,{"$f":"IF(AND('Step 2 - Ornamental'!$AA$20=\"X\",AE407=\"X\"),1,0)","v":0},"X",{"$f":"IF(AND('Step 2 - Ornamental'!$AA$20=\"X\",AG407=\"X\"),1,0)","v":0},null,{"$f":"IF(AND('Step 2 - Ornamental'!$AB$20=\"X\",AI407=\"X\"),1,0)","v":0},null,{"$f":"IF(AND('Step 2 - Ornamental'!$AC$20=\"X\",AK407=\"X\"),1,0)","v":0},null,{"$f":"IF(AND('Step 2 - Ornamental'!$AA$18=\"X\",AM407=\"X\"),1,0)","v":0},"X",{"$f":"IF(AND('Step 2 - Ornamental'!$AB$18=\"X\",AO407=\"X\"),1,0)","v":0},"X",{"$f":"IF(AND('Step 2 - Ornamental'!$AC$18=\"X\",AQ407=\"X\"),1,0)","v":0},null,{"$f":"IF(AND('Step 2 - Ornamental'!$AD$18=\"X\",AS407=\"X\"),1,0)","v":0},null,{"$f":"IF(AND('Step 2 - Ornamental'!$AE$18=\"X\",AU407=\"X\"),1,0)","v":0},null,{"$f":"IF(AND('Step 2 - Ornamental'!$AA$17=\"X\",AW407=\"X\"),1,0)","v":0},"X",{"$f":"IF(AND('Step 2 - Ornamental'!$AB$17=\"X\",AY407=\"X\"),1,0)","v":0},null,{"$f":"IF(AND('Step 2 - Ornamental'!$AC$17=\"X\",BA407=\"X\"),1,0)","v":0},null,{"$f":"IF(AND('Step 2 - Ornamental'!$AA$22=\"X\",BC407=\"X\"),1,0)","v":0},null,{"$f":"IF(AND('Step 2 - Ornamental'!$AB$22=\"X\",BE407=\"X\"),1,0)","v":0},"X",{"$f":"IF(AND('Step 2 - Ornamental'!$AC$22=\"X\",BG407=\"X\"),1,0)","v":0},"X",{"$f":"IF(AND('Step 2 - Ornamental'!$AD$22=\"X\",BI407=\"X\"),1,0)","v":0},"X",null,null,null,null,null,null,"Yellow /1.0'-2.0'"]
[null,1,"SA AZ","Salvia azurea","Blue Sage","36\" O.C.","Azure blue flowers to 48\" tall in Jul-Oct, ",null,"X",null,"X",null,null,0,null,{"$f":"IF(AND('Step 2 - Ornamental'!$AA$21=\"X\",Q408=\"X\"),1,0)","v":0},"X",{"$f":"IF(AND('Step 2 - Ornamental'!$AB$21=\"X\",S408=\"X\"),1,0)","v":0},"X",{"$f":"IF(AND('Step 2 - Ornamental'!$AC$21=\"X\",U408=\"X\"),1,0)","v":0},"X",{"$f":"IF(AND('Step 2 - Ornamental'!$AA$19=\"X\",W408=\"X\"),1,0)","v":0},null,{"$f":"IF(AND('Step 2 - Ornamental'!$AA$19=\"X\",Y408=\"X\"),1,0)","v":0},"X",{"$f":"IF(AND('Step 2 - Ornamental'!$AB$19=\"X\",AA408=\"X\"),1,0)","v":0},null,{"$f":"IF(AND('Step 2 - Ornamental'!$AC$19=\"X\",AC408=\"X\"),1,0)","v":0},null,{"$f":"IF(AND('Step 2 - Ornamental'!$AA$20=\"X\",AE408=\"X\"),1,0)","v":0},"X",{"$f":"IF(AND('Step 2 - Ornamental'!$AA$20=\"X\",AG408=\"X\"),1,0)","v":0},null,{"$f":"IF(AND('Step 2 - Ornamental'!$AB$20=\"X\",AI408=\"X\"),1,0)","v":0},null,{"$f":"IF(AND('Step 2 - Ornamental'!$AC$20=\"X\",AK408=\"X\"),1,0)","v":0},null,{"$f":"IF(AND('Step 2 - Ornamental'!$AA$18=\"X\",AM408=\"X\"),1,0)","v":0},"X",{"$f":"IF(AND('Step 2 - Ornamental'!$AB$18=\"X\",AO408=\"X\"),1,0)","v":0},"X",{"$f":"IF(AND('Step 2 - Ornamental'!$AC$18=\"X\",AQ408=\"X\"),1,0)","v":0},null,{"$f":"IF(AND('Step 2 - Ornamental'!$AD$18=\"X\",AS408=\"X\"),1,0)","v":0},null,{"$f":"IF(AND('Step 2 - Ornamental'!$AE$18=\"X\",AU408=\"X\"),1,0)","v":0},null,{"$f":"IF(AND('Step 2 - Ornamental'!$AA$17=\"X\",AW408=\"X\"),1,0)","v":0},"X",{"$f":"IF(AND('Step 2 - Ornamental'!$AB$17=\"X\",AY408=\"X\"),1,0)","v":0},null,{"$f":"IF(AND('Step 2 - Ornamental'!$AC$17=\"X\",BA408=\"X\"),1,0)","v":0},null,{"$f":"IF(AND('Step 2 - Ornamental'!$AA$22=\"X\",BC408=\"X\"),1,0)","v":0},null,{"$f":"IF(AND('Step 2 - Ornamental'!$AB$22=\"X\",BE408=\"X\"),1,0)","v":0},"X",{"$f":"IF(AND('Step 2 - Ornamental'!$AC$22=\"X\",BG408=\"X\"),1,0)","v":0},"X",{"$f":"IF(AND('Step 2 - Ornamental'!$AD$22=\"X\",BI408=\"X\"),1,0)","v":0},"X",null,null,null,null,null,null,"Azure Blue / 3.0'-5.0'"]
[null,1,"SA CA","Salvia nemorosa 'Caradonna'","Caradonna Sage","12\" O.C.","(12\" tall), dark purple stems hold blue-violet flowers","X",null,null,"X",null,null,0,null,{"$f":"IF(AND('Step 2 - Ornamental'!$AA$21=\"X\",Q409=\"X\"),1,0)","v":0},"X",{"$f":"IF(AND('Step 2 - Ornamental'!$AB$21=\"X\",S409=\"X\"),1,0)","v":0},"X",{"$f":"IF(AND('Step 2 - Ornamental'!$AC$21=\"X\",U409=\"X\"),1,0)","v":0},"X",{"$f":"IF(AND('Step 2 - Ornamental'!$AA$19=\"X\",W409=\"X\"),1,0)","v":0},null,{"$f":"IF(AND('Step 2 - Ornamental'!$AA$19=\"X\",Y409=\"X\"),1,0)","v":0},"X",{"$f":"IF(AND('Step 2 - Ornamental'!$AB$19=\"X\",AA409=\"X\"),1,0)","v":0},null,{"$f":"IF(AND('Step 2 - Ornamental'!$AC$19=\"X\",AC409=\"X\"),1,0)","v":0},null,{"$f":"IF(AND('Step 2 - Ornamental'!$AA$20=\"X\",AE409=\"X\"),1,0)","v":0},"X",{"$f":"IF(AND('Step 2 - Ornamental'!$AA$20=\"X\",AG409=\"X\"),1,0)","v":0},null,{"$f":"IF(AND('Step 2 - Ornamental'!$AB$20=\"X\",AI409=\"X\"),1,0)","v":0},null,{"$f":"IF(AND('Step 2 - Ornamental'!$AC$20=\"X\",AK409=\"X\"),1,0)","v":0},null,{"$f":"IF(AND('Step 2 - Ornamental'!$AA$18=\"X\",AM409=\"X\"),1,0)","v":0},"X",{"$f":"IF(AND('Step 2 - Ornamental'!$AB$18=\"X\",AO409=\"X\"),1,0)","v":0},"X",{"$f":"IF(AND('Step 2 - Ornamental'!$AC$18=\"X\",AQ409=\"X\"),1,0)","v":0},null,{"$f":"IF(AND('Step 2 - Ornamental'!$AD$18=\"X\",AS409=\"X\"),1,0)","v":0},null,{"$f":"IF(AND('Step 2 - Ornamental'!$AE$18=\"X\",AU409=\"X\"),1,0)","v":0},null,{"$f":"IF(AND('Step 2 - Ornamental'!$AA$17=\"X\",AW409=\"X\"),1,0)","v":0},"X",{"$f":"IF(AND('Step 2 - Ornamental'!$AB$17=\"X\",AY409=\"X\"),1,0)","v":0},null,{"$f":"IF(AND('Step 2 - Ornamental'!$AC$17=\"X\",BA409=\"X\"),1,0)","v":0},null,{"$f":"IF(AND('Step 2 - Ornamental'!$AA$22=\"X\",BC409=\"X\"),1,0)","v":0},null,{"$f":"IF(AND('Step 2 - Ornamental'!$AB$22=\"X\",BE409=\"X\"),1,0)","v":0},null,{"$f":"IF(AND('Step 2 - Ornamental'!$AC$22=\"X\",BG409=\"X\"),1,0)","v":0},"X",{"$f":"IF(AND('Step 2 - Ornamental'!$AD$22=\"X\",BI409=\"X\"),1,0)","v":0},"X",null,null,null,null,null,"Blue Violet / 1.0'-2.0'"]
[null,1,"SA EF","Salvia nemorosa 'Ostfriesland' EAST FRIESLAND","East Friesland  Sage","12\" O.C.","short variety (18\" tall) violet purple flowers","X",null,null,"X",null,null,0,null,{"$f":"IF(AND('Step 2 - Ornamental'!$AA$21=\"X\",Q410=\"X\"),1,0)","v":0},"X",{"$f":"IF(AND('Step 2 - Ornamental'!$AB$21=\"X\",S410=\"X\"),1,0)","v":0},"X",{"$f":"IF(AND('Step 2 - Ornamental'!$AC$21=\"X\",U410=\"X\"),1,0)","v":0},"X",{"$f":"IF(AND('Step 2 - Ornamental'!$AA$19=\"X\",W410=\"X\"),1,0)","v":0},null,{"$f":"IF(AND('Step 2 - Ornamental'!$AA$19=\"X\",Y410=\"X\"),1,0)","v":0},"X",{"$f":"IF(AND('Step 2 - Ornamental'!$AB$19=\"X\",AA410=\"X\"),1,0)","v":0},null,{"$f":"IF(AND('Step 2 - Ornamental'!$AC$19=\"X\",AC410=\"X\"),1,0)","v":0},null,{"$f":"IF(AND('Step 2 - Ornamental'!$AA$20=\"X\",AE410=\"X\"),1,0)","v":0},"X",{"$f":"IF(AND('Step 2 - Ornamental'!$AA$20=\"X\",AG410=\"X\"),1,0)","v":0},null,{"$f":"IF(AND('Step 2 - Ornamental'!$AB$20=\"X\",AI410=\"X\"),1,0)","v":0},null,{"$f":"IF(AND('Step 2 - Ornamental'!$AC$20=\"X\",AK410=\"X\"),1,0)","v":0},null,{"$f":"IF(AND('Step 2 - Ornamental'!$AA$18=\"X\",AM410=\"X\"),1,0)","v":0},"X",{"$f":"IF(AND('Step 2 - Ornamental'!$AB$18=\"X\",AO410=\"X\"),1,0)","v":0},"X",{"$f":"IF(AND('Step 2 - Ornamental'!$AC$18=\"X\",AQ410=\"X\"),1,0)","v":0},null,{"$f":"IF(AND('Step 2 - Ornamental'!$AD$18=\"X\",AS410=\"X\"),1,0)","v":0},null,{"$f":"IF(AND('Step 2 - Ornamental'!$AE$18=\"X\",AU410=\"X\"),1,0)","v":0},null,{"$f":"IF(AND('Step 2 - Ornamental'!$AA$17=\"X\",AW410=\"X\"),1,0)","v":0},"X",{"$f":"IF(AND('Step 2 - Ornamental'!$AB$17=\"X\",AY410=\"X\"),1,0)","v":0},null,{"$f":"IF(AND('Step 2 - Ornamental'!$AC$17=\"X\",BA410=\"X\"),1,0)","v":0},null,{"$f":"IF(AND('Step 2 - Ornamental'!$AA$22=\"X\",BC410=\"X\"),1,0)","v":0},null,{"$f":"IF(AND('Step 2 - Ornamental'!$AB$22=\"X\",BE410=\"X\"),1,0)","v":0},null,{"$f":"IF(AND('Step 2 - Ornamental'!$AC$22=\"X\",BG410=\"X\"),1,0)","v":0},"X",{"$f":"IF(AND('Step 2 - Ornamental'!$AD$22=\"X\",BI410=\"X\"),1,0)","v":0},"X",null,null,null,null,null,"Violet Purple / 1.0'-1.5'"]
[null,1,"SA WE","Salvia nemorosa 'Wesuwe'","Hardy Salvia","18\" O.C.","(24\" tall), Blue-violet flowers, ","X",null,null,"X",null,null,0,null,{"$f":"IF(AND('Step 2 - Ornamental'!$AA$21=\"X\",Q411=\"X\"),1,0)","v":0},"X",{"$f":"IF(AND('Step 2 - Ornamental'!$AB$21=\"X\",S411=\"X\"),1,0)","v":0},"X",{"$f":"IF(AND('Step 2 - Ornamental'!$AC$21=\"X\",U411=\"X\"),1,0)","v":0},"X",{"$f":"IF(AND('Step 2 - Ornamental'!$AA$19=\"X\",W411=\"X\"),1,0)","v":0},null,{"$f":"IF(AND('Step 2 - Ornamental'!$AA$19=\"X\",Y411=\"X\"),1,0)","v":0},"X",{"$f":"IF(AND('Step 2 - Ornamental'!$AB$19=\"X\",AA411=\"X\"),1,0)","v":0},null,{"$f":"IF(AND('Step 2 - Ornamental'!$AC$19=\"X\",AC411=\"X\"),1,0)","v":0},null,{"$f":"IF(AND('Step 2 - Ornamental'!$AA$20=\"X\",AE411=\"X\"),1,0)","v":0},"X",{"$f":"IF(AND('Step 2 - Ornamental'!$AA$20=\"X\",AG411=\"X\"),1,0)","v":0},null,{"$f":"IF(AND('Step 2 - Ornamental'!$AB$20=\"X\",AI411=\"X\"),1,0)","v":0},null,{"$f":"IF(AND('Step 2 - Ornamental'!$AC$20=\"X\",AK411=\"X\"),1,0)","v":0},null,{"$f":"IF(AND('Step 2 - Ornamental'!$AA$18=\"X\",AM411=\"X\"),1,0)","v":0},"X",{"$f":"IF(AND('Step 2 - Ornamental'!$AB$18=\"X\",AO411=\"X\"),1,0)","v":0},"X",{"$f":"IF(AND('Step 2 - Ornamental'!$AC$18=\"X\",AQ411=\"X\"),1,0)","v":0},null,{"$f":"IF(AND('Step 2 - Ornamental'!$AD$18=\"X\",AS411=\"X\"),1,0)","v":0},null,{"$f":"IF(AND('Step 2 - Ornamental'!$AE$18=\"X\",AU411=\"X\"),1,0)","v":0},null,{"$f":"IF(AND('Step 2 - Ornamental'!$AA$17=\"X\",AW411=\"X\"),1,0)","v":0},"X",{"$f":"IF(AND('Step 2 - Ornamental'!$AB$17=\"X\",AY411=\"X\"),1,0)","v":0},null,{"$f":"IF(AND('Step 2 - Ornamental'!$AC$17=\"X\",BA411=\"X\"),1,0)","v":0},null,{"$f":"IF(AND('Step 2 - Ornamental'!$AA$22=\"X\",BC411=\"X\"),1,0)","v":0},null,{"$f":"IF(AND('Step 2 - Ornamental'!$AB$22=\"X\",BE411=\"X\"),1,0)","v":0},null,{"$f":"IF(AND('Step 2 - Ornamental'!$AC$22=\"X\",BG411=\"X\"),1,0)","v":0},"X",{"$f":"IF(AND('Step 2 - Ornamental'!$AD$22=\"X\",BI411=\"X\"),1,0)","v":0},"X",null,null,null,null,"Purple / 1.0'-1.5'"]
[null,1,"SA SL","Salvia pratensis 'Swan Lake'","Swan Lake Meadow Sage","18\" O.C.","(30\" tall), white flowers","X",null,null,"X",null,null,0,null,{"$f":"IF(AND('Step 2 - Ornamental'!$AA$21=\"X\",Q412=\"X\"),1,0)","v":0},"X",{"$f":"IF(AND('Step 2 - Ornamental'!$AB$21=\"X\",S412=\"X\"),1,0)","v":0},"X",{"$f":"IF(AND('Step 2 - Ornamental'!$AC$21=\"X\",U412=\"X\"),1,0)","v":0},"X",{"$f":"IF(AND('Step 2 - Ornamental'!$AA$19=\"X\",W412=\"X\"),1,0)","v":0},null,{"$f":"IF(AND('Step 2 - Ornamental'!$AA$19=\"X\",Y412=\"X\"),1,0)","v":0},"X",{"$f":"IF(AND('Step 2 - Ornamental'!$AB$19=\"X\",AA412=\"X\"),1,0)","v":0},null,{"$f":"IF(AND('Step 2 - Ornamental'!$AC$19=\"X\",AC412=\"X\"),1,0)","v":0},null,{"$f":"IF(AND('Step 2 - Ornamental'!$AA$20=\"X\",AE412=\"X\"),1,0)","v":0},"X",{"$f":"IF(AND('Step 2 - Ornamental'!$AA$20=\"X\",AG412=\"X\"),1,0)","v":0},null,{"$f":"IF(AND('Step 2 - Ornamental'!$AB$20=\"X\",AI412=\"X\"),1,0)","v":0},null,{"$f":"IF(AND('Step 2 - Ornamental'!$AC$20=\"X\",AK412=\"X\"),1,0)","v":0},null,{"$f":"IF(AND('Step 2 - Ornamental'!$AA$18=\"X\",AM412=\"X\"),1,0)","v":0},"X",{"$f":"IF(AND('Step 2 - Ornamental'!$AB$18=\"X\",AO412=\"X\"),1,0)","v":0},"X",{"$f":"IF(AND('Step 2 - Ornamental'!$AC$18=\"X\",AQ412=\"X\"),1,0)","v":0},null,{"$f":"IF(AND('Step 2 - Ornamental'!$AD$18=\"X\",AS412=\"X\"),1,0)","v":0},null,{"$f":"IF(AND('Step 2 - Ornamental'!$AE$18=\"X\",AU412=\"X\"),1,0)","v":0},null,{"$f":"IF(AND('Step 2 - Ornamental'!$AA$17=\"X\",AW412=\"X\"),1,0)","v":0},"X",{"$f":"IF(AND('Step 2 - Ornamental'!$AB$17=\"X\",AY412=\"X\"),1,0)","v":0},null,{"$f":"IF(AND('Step 2 - Ornamental'!$AC$17=\"X\",BA412=\"X\"),1,0)","v":0},null,{"$f":"IF(AND('Step 2 - Ornamental'!$AA$22=\"X\",BC412=\"X\"),1,0)","v":0},null,{"$f":"IF(AND('Step 2 - Ornamental'!$AB$22=\"X\",BE412=\"X\"),1,0)","v":0},"X",{"$f":"IF(AND('Step 2 - Ornamental'!$AC$22=\"X\",BG412=\"X\"),1,0)","v":0},"X",{"$f":"IF(AND('Step 2 - Ornamental'!$AD$22=\"X\",BI412=\"X\"),1,0)","v":0},"X",null,null,null,null,"White / 1.5'-2.5'"]
[null,1,"SA BH","Salvia x sylvestris 'Blauhugel' BLUE HILL","Blue Hill Wood Sage","18\" O.C.","(20\" tall), blue flowers","X",null,null,"X",null,null,1,"X",{"$f":"IF(AND('Step 2 - Ornamental'!$AA$21=\"X\",Q413=\"X\"),1,0)","v":0},null,{"$f":"IF(AND('Step 2 - Ornamental'!$AB$21=\"X\",S413=\"X\"),1,0)","v":0},null,{"$f":"IF(AND('Step 2 - Ornamental'!$AC$21=\"X\",U413=\"X\"),1,0)","v":0},null,{"$f":"IF(AND('Step 2 - Ornamental'!$AA$19=\"X\",W413=\"X\"),1,0)","v":0},null,{"$f":"IF(AND('Step 2 - Ornamental'!$AA$19=\"X\",Y413=\"X\"),1,0)","v":0},"X",{"$f":"IF(AND('Step 2 - Ornamental'!$AB$19=\"X\",AA413=\"X\"),1,0)","v":0},null,{"$f":"IF(AND('Step 2 - Ornamental'!$AC$19=\"X\",AC413=\"X\"),1,0)","v":0},null,{"$f":"IF(AND('Step 2 - Ornamental'!$AA$20=\"X\",AE413=\"X\"),1,0)","v":0},"X",{"$f":"IF(AND('Step 2 - Ornamental'!$AA$20=\"X\",AG413=\"X\"),1,0)","v":0},null,{"$f":"IF(AND('Step 2 - Ornamental'!$AB$20=\"X\",AI413=\"X\"),1,0)","v":0},null,{"$f":"IF(AND('Step 2 - Ornamental'!$AC$20=\"X\",AK413=\"X\"),1,0)","v":0},null,{"$f":"IF(AND('Step 2 - Ornamental'!$AA$18=\"X\",AM413=\"X\"),1,0)","v":0},"X",{"$f":"IF(AND('Step 2 - Ornamental'!$AB$18=\"X\",AO413=\"X\"),1,0)","v":0},"X",{"$f":"IF(AND('Step 2 - Ornamental'!$AC$18=\"X\",AQ413=\"X\"),1,0)","v":0},null,{"$f":"IF(AND('Step 2 - Ornamental'!$AD$18=\"X\",AS413=\"X\"),1,0)","v":0},null,{"$f":"IF(AND('Step 2 - Ornamental'!$AE$18=\"X\",AU413=\"X\"),1,0)","v":0},null,{"$f":"IF(AND('Step 2 - Ornamental'!$AA$17=\"X\",AW413=\"X\"),1,0)","v":0},"X",{"$f":"IF(AND('Step 2 - Ornamental'!$AB$17=\"X\",AY413=\"X\"),1,0)","v":0},null,{"$f":"IF(AND('Step 2 - Ornamental'!$AC$17=\"X\",BA413=\"X\"),1,0)","v":0},null,{"$f":"IF(AND('Step 2 - Ornamental'!$AA$22=\"X\",BC413=\"X\"),1,0)","v":0},null,{"$f":"IF(AND('Step 2 - Ornamental'!$AB$22=\"X\",BE413=\"X\"),1,0)","v":0},null,{"$f":"IF(AND('Step 2 - Ornamental'!$AC$22=\"X\",BG413=\"X\"),1,0)","v":0},"X",{"$f":"IF(AND('Step 2 - Ornamental'!$AD$22=\"X\",BI413=\"X\"),1,0)","v":0},"X",null,null,null,null,null,"Blue /1.0'-2.0'"]
[null,1,"SA MN","Salvia x sylvestris 'Mainacht' MAY NIGHT","May Night Sage","18\" O.C.","Deep violet blue flowers to 18-24\" tall in May/June","X",null,null,"X",null,null,0,null,{"$f":"IF(AND('Step 2 - Ornamental'!$AA$21=\"X\",Q414=\"X\"),1,0)","v":0},"X",{"$f":"IF(AND('Step 2 - Ornamental'!$AB$21=\"X\",S414=\"X\"),1,0)","v":0},"X",{"$f":"IF(AND('Step 2 - Ornamental'!$AC$21=\"X\",U414=\"X\"),1,0)","v":0},"X",{"$f":"IF(AND('Step 2 - Ornamental'!$AA$19=\"X\",W414=\"X\"),1,0)","v":0},null,{"$f":"IF(AND('Step 2 - Ornamental'!$AA$19=\"X\",Y414=\"X\"),1,0)","v":0},"X",{"$f":"IF(AND('Step 2 - Ornamental'!$AB$19=\"X\",AA414=\"X\"),1,0)","v":0},null,{"$f":"IF(AND('Step 2 - Ornamental'!$AC$19=\"X\",AC414=\"X\"),1,0)","v":0},null,{"$f":"IF(AND('Step 2 - Ornamental'!$AA$20=\"X\",AE414=\"X\"),1,0)","v":0},"X",{"$f":"IF(AND('Step 2 - Ornamental'!$AA$20=\"X\",AG414=\"X\"),1,0)","v":0},null,{"$f":"IF(AND('Step 2 - Ornamental'!$AB$20=\"X\",AI414=\"X\"),1,0)","v":0},null,{"$f":"IF(AND('Step 2 - Ornamental'!$AC$20=\"X\",AK414=\"X\"),1,0)","v":0},null,{"$f":"IF(AND('Step 2 - Ornamental'!$AA$18=\"X\",AM414=\"X\"),1,0)","v":0},"X",{"$f":"IF(AND('Step 2 - Ornamental'!$AB$18=\"X\",AO414=\"X\"),1,0)","v":0},"X",{"$f":"IF(AND('Step 2 - Ornamental'!$AC$18=\"X\",AQ414=\"X\"),1,0)","v":0},null,{"$f":"IF(AND('Step 2 - Ornamental'!$AD$18=\"X\",AS414=\"X\"),1,0)","v":0},null,{"$f":"IF(AND('Step 2 - Ornamental'!$AE$18=\"X\",AU414=\"X\"),1,0)","v":0},null,{"$f":"IF(AND('Step 2 - Ornamental'!$AA$17=\"X\",AW414=\"X\"),1,0)","v":0},"X",{"$f":"IF(AND('Step 2 - Ornamental'!$AB$17=\"X\",AY414=\"X\"),1,0)","v":0},null,{"$f":"IF(AND('Step 2 - Ornamental'!$AC$17=\"X\",BA414=\"X\"),1,0)","v":0},null,{"$f":"IF(AND('Step 2 - Ornamental'!$AA$22=\"X\",BC414=\"X\"),1,0)","v":0},null,{"$f":"IF(AND('Step 2 - Ornamental'!$AB$22=\"X\",BE414=\"X\"),1,0)","v":0},null,{"$f":"IF(AND('Step 2 - Ornamental'!$AC$22=\"X\",BG414=\"X\"),1,0)","v":0},"X",{"$f":"IF(AND('Step 2 - Ornamental'!$AD$22=\"X\",BI414=\"X\"),1,0)","v":0},"X",null,null,null,null,"Deep Violet Blue / 1.5'-2.0'"]
[null,1,"SA SS","Salvia x sylvestris 'Schneehugel' SNOW HILL","Snow Hill Wood Sage","18\" O.C.","(18\" tall), compact foliage, white flowers","X",null,null,"X",null,null,0,null,{"$f":"IF(AND('Step 2 - Ornamental'!$AA$21=\"X\",Q415=\"X\"),1,0)","v":0},"X",{"$f":"IF(AND('Step 2 - Ornamental'!$AB$21=\"X\",S415=\"X\"),1,0)","v":0},"X",{"$f":"IF(AND('Step 2 - Ornamental'!$AC$21=\"X\",U415=\"X\"),1,0)","v":0},"X",{"$f":"IF(AND('Step 2 - Ornamental'!$AA$19=\"X\",W415=\"X\"),1,0)","v":0},null,{"$f":"IF(AND('Step 2 - Ornamental'!$AA$19=\"X\",Y415=\"X\"),1,0)","v":0},"X",{"$f":"IF(AND('Step 2 - Ornamental'!$AB$19=\"X\",AA415=\"X\"),1,0)","v":0},null,{"$f":"IF(AND('Step 2 - Ornamental'!$AC$19=\"X\",AC415=\"X\"),1,0)","v":0},null,{"$f":"IF(AND('Step 2 - Ornamental'!$AA$20=\"X\",AE415=\"X\"),1,0)","v":0},"X",{"$f":"IF(AND('Step 2 - Ornamental'!$AA$20=\"X\",AG415=\"X\"),1,0)","v":0},null,{"$f":"IF(AND('Step 2 - Ornamental'!$AB$20=\"X\",AI415=\"X\"),1,0)","v":0},null,{"$f":"IF(AND('Step 2 - Ornamental'!$AC$20=\"X\",AK415=\"X\"),1,0)","v":0},null,{"$f":"IF(AND('Step 2 - Ornamental'!$AA$18=\"X\",AM415=\"X\"),1,0)","v":0},"X",{"$f":"IF(AND('Step 2 - Ornamental'!$AB$18=\"X\",AO415=\"X\"),1,0)","v":0},"X",{"$f":"IF(AND('Step 2 - Ornamental'!$AC$18=\"X\",AQ415=\"X\"),1,0)","v":0},null,{"$f":"IF(AND('Step 2 - Ornamental'!$AD$18=\"X\",AS415=\"X\"),1,0)","v":0},null,{"$f":"IF(AND('Step 2 - Ornamental'!$AE$18=\"X\",AU415=\"X\"),1,0)","v":0},null,{"$f":"IF(AND('Step 2 - Ornamental'!$AA$17=\"X\",AW415=\"X\"),1,0)","v":0},"X",{"$f":"IF(AND('Step 2 - Ornamental'!$AB$17=\"X\",AY415=\"X\"),1,0)","v":0},null,{"$f":"IF(AND('Step 2 - Ornamental'!$AC$17=\"X\",BA415=\"X\"),1,0)","v":0},null,{"$f":"IF(AND('Step 2 - Ornamental'!$AA$22=\"X\",BC415=\"X\"),1,0)","v":0},null,{"$f":"IF(AND('Step 2 - Ornamental'!$AB$22=\"X\",BE415=\"X\"),1,0)","v":0},null,{"$f":"IF(AND('Step 2 - Ornamental'!$AC$22=\"X\",BG415=\"X\"),1,0)","v":0},"X",{"$f":"IF(AND('Step 2 - Ornamental'!$AD$22=\"X\",BI415=\"X\"),1,0)","v":0},"X",null,null,null,null,null,"White / 1.0'-1.5'"]
[null,1,"SG ME","Sanguisorba menziesii","Alaskan Burnet","24\" O.C.","(36\" tall), maroon bottle-brush flower stalks, ","X",null,null,null,null,null,0,null,{"$f":"IF(AND('Step 2 - Ornamental'!$AA$21=\"X\",Q416=\"X\"),1,0)","v":0},"X",{"$f":"IF(AND('Step 2 - Ornamental'!$AB$21=\"X\",S416=\"X\"),1,0)","v":0},"X",{"$f":"IF(AND('Step 2 - Ornamental'!$AC$21=\"X\",U416=\"X\"),1,0)","v":0},"X",{"$f":"IF(AND('Step 2 - Ornamental'!$AA$19=\"X\",W416=\"X\"),1,0)","v":0},"X",{"$f":"IF(AND('Step 2 - Ornamental'!$AA$19=\"X\",Y416=\"X\"),1,0)","v":0},null,{"$f":"IF(AND('Step 2 - Ornamental'!$AB$19=\"X\",AA416=\"X\"),1,0)","v":0},null,{"$f":"IF(AND('Step 2 - Ornamental'!$AC$19=\"X\",AC416=\"X\"),1,0)","v":0},null,{"$f":"IF(AND('Step 2 - Ornamental'!$AA$20=\"X\",AE416=\"X\"),1,0)","v":0},"X",{"$f":"IF(AND('Step 2 - Ornamental'!$AA$20=\"X\",AG416=\"X\"),1,0)","v":0},null,{"$f":"IF(AND('Step 2 - Ornamental'!$AB$20=\"X\",AI416=\"X\"),1,0)","v":0},null,{"$f":"IF(AND('Step 2 - Ornamental'!$AC$20=\"X\",AK416=\"X\"),1,0)","v":0},null,{"$f":"IF(AND('Step 2 - Ornamental'!$AA$18=\"X\",AM416=\"X\"),1,0)","v":0},null,{"$f":"IF(AND('Step 2 - Ornamental'!$AB$18=\"X\",AO416=\"X\"),1,0)","v":0},"X",{"$f":"IF(AND('Step 2 - Ornamental'!$AC$18=\"X\",AQ416=\"X\"),1,0)","v":0},"X",{"$f":"IF(AND('Step 2 - Ornamental'!$AD$18=\"X\",AS416=\"X\"),1,0)","v":0},null,{"$f":"IF(AND('Step 2 - Ornamental'!$AE$18=\"X\",AU416=\"X\"),1,0)","v":0},null,{"$f":"IF(AND('Step 2 - Ornamental'!$AA$17=\"X\",AW416=\"X\"),1,0)","v":0},"X",{"$f":"IF(AND('Step 2 - Ornamental'!$AB$17=\"X\",AY416=\"X\"),1,0)","v":0},"X",{"$f":"IF(AND('Step 2 - Ornamental'!$AC$17=\"X\",BA416=\"X\"),1,0)","v":0},null,{"$f":"IF(AND('Step 2 - Ornamental'!$AA$22=\"X\",BC416=\"X\"),1,0)","v":0},null,{"$f":"IF(AND('Step 2 - Ornamental'!$AB$22=\"X\",BE416=\"X\"),1,0)","v":0},null,{"$f":"IF(AND('Step 2 - Ornamental'!$AC$22=\"X\",BG416=\"X\"),1,0)","v":0},"X",{"$f":"IF(AND('Step 2 - Ornamental'!$AD$22=\"X\",BI416=\"X\"),1,0)","v":0},"X",null,null,null,null,null,"Deep Red / 2.0'-3.0'"]
[null,1,"SG OF","Sanguisorba officinalis 'Red Thunder'","Red Thunder Burnet","36\" O.C.","(5-6' tall), maroon bottle-brush flower heads, ",null,"X",null,"X",null,null,1,"X",{"$f":"IF(AND('Step 2 - Ornamental'!$AA$21=\"X\",Q417=\"X\"),1,0)","v":0},null,{"$f":"IF(AND('Step 2 - Ornamental'!$AB$21=\"X\",S417=\"X\"),1,0)","v":0},null,{"$f":"IF(AND('Step 2 - Ornamental'!$AC$21=\"X\",U417=\"X\"),1,0)","v":0},null,{"$f":"IF(AND('Step 2 - Ornamental'!$AA$19=\"X\",W417=\"X\"),1,0)","v":0},"X",{"$f":"IF(AND('Step 2 - Ornamental'!$AA$19=\"X\",Y417=\"X\"),1,0)","v":0},null,{"$f":"IF(AND('Step 2 - Ornamental'!$AB$19=\"X\",AA417=\"X\"),1,0)","v":0},null,{"$f":"IF(AND('Step 2 - Ornamental'!$AC$19=\"X\",AC417=\"X\"),1,0)","v":0},null,{"$f":"IF(AND('Step 2 - Ornamental'!$AA$20=\"X\",AE417=\"X\"),1,0)","v":0},"X",{"$f":"IF(AND('Step 2 - Ornamental'!$AA$20=\"X\",AG417=\"X\"),1,0)","v":0},null,{"$f":"IF(AND('Step 2 - Ornamental'!$AB$20=\"X\",AI417=\"X\"),1,0)","v":0},null,{"$f":"IF(AND('Step 2 - Ornamental'!$AC$20=\"X\",AK417=\"X\"),1,0)","v":0},null,{"$f":"IF(AND('Step 2 - Ornamental'!$AA$18=\"X\",AM417=\"X\"),1,0)","v":0},null,{"$f":"IF(AND('Step 2 - Ornamental'!$AB$18=\"X\",AO417=\"X\"),1,0)","v":0},"X",{"$f":"IF(AND('Step 2 - Ornamental'!$AC$18=\"X\",AQ417=\"X\"),1,0)","v":0},"X",{"$f":"IF(AND('Step 2 - Ornamental'!$AD$18=\"X\",AS417=\"X\"),1,0)","v":0},null,{"$f":"IF(AND('Step 2 - Ornamental'!$AE$18=\"X\",AU417=\"X\"),1,0)","v":0},null,{"$f":"IF(AND('Step 2 - Ornamental'!$AA$17=\"X\",AW417=\"X\"),1,0)","v":0},"X",{"$f":"IF(AND('Step 2 - Ornamental'!$AB$17=\"X\",AY417=\"X\"),1,0)","v":0},null,{"$f":"IF(AND('Step 2 - Ornamental'!$AC$17=\"X\",BA417=\"X\"),1,0)","v":0},null,{"$f":"IF(AND('Step 2 - Ornamental'!$AA$22=\"X\",BC417=\"X\"),1,0)","v":0},null,{"$f":"IF(AND('Step 2 - Ornamental'!$AB$22=\"X\",BE417=\"X\"),1,0)","v":0},null,{"$f":"IF(AND('Step 2 - Ornamental'!$AC$22=\"X\",BG417=\"X\"),1,0)","v":0},"X",{"$f":"IF(AND('Step 2 - Ornamental'!$AD$22=\"X\",BI417=\"X\"),1,0)","v":0},"X",null,null,null,null,null,null,"Deep Red to Black Purple / 3.0'-4.0'"]
[null,{"$f":"SUM((N418+P418+R418+T418)*(V418+X418+Z418+AB418)*(AD418+AF418+AH418+AJ418)*(AL418+AN418+AP418+AR418+AT418)*(AV418+AX418+AZ418)*(BB418+BD418+BF418+BH418))+1","v":1},"SC BB","Scabiosa columbaria 'Butterfly Blue'","Butterfly Blue Pincusion Flower","12\" O.C.","18\" tall with lavender blue flowers in April - Frost, ","X",null,null,"X",null,null,{"$f":"IF(O418=\"X\",1,0)","v":0},null,{"$f":"IF(AND('Step 2 - Ornamental'!$AA$21=\"X\",Q418=\"X\"),1,0)","v":0},null,{"$f":"IF(AND('Step 2 - Ornamental'!$AB$21=\"X\",S418=\"X\"),1,0)","v":0},"X",{"$f":"IF(AND('Step 2 - Ornamental'!$AC$21=\"X\",U418=\"X\"),1,0)","v":0},"X",{"$f":"IF(AND('Step 2 - Ornamental'!$AA$19=\"X\",W418=\"X\"),1,0)","v":0},null,{"$f":"IF(AND('Step 2 - Ornamental'!$AA$19=\"X\",Y418=\"X\"),1,0)","v":0},"X",{"$f":"IF(AND('Step 2 - Ornamental'!$AB$19=\"X\",AA418=\"X\"),1,0)","v":0},null,{"$f":"IF(AND('Step 2 - Ornamental'!$AC$19=\"X\",AC418=\"X\"),1,0)","v":0},null,{"$f":"IF(AND('Step 2 - Ornamental'!$AA$20=\"X\",AE418=\"X\"),1,0)","v":0},"X",{"$f":"IF(AND('Step 2 - Ornamental'!$AA$20=\"X\",AG418=\"X\"),1,0)","v":0},null,{"$f":"IF(AND('Step 2 - Ornamental'!$AB$20=\"X\",AI418=\"X\"),1,0)","v":0},null,{"$f":"IF(AND('Step 2 - Ornamental'!$AC$20=\"X\",AK418=\"X\"),1,0)","v":0},null,{"$f":"IF(AND('Step 2 - Ornamental'!$AA$18=\"X\",AM418=\"X\"),1,0)","v":0},"X",{"$f":"IF(AND('Step 2 - Ornamental'!$AB$18=\"X\",AO418=\"X\"),1,0)","v":0},"X",{"$f":"IF(AND('Step 2 - Ornamental'!$AC$18=\"X\",AQ418=\"X\"),1,0)","v":0},null,{"$f":"IF(AND('Step 2 - Ornamental'!$AD$18=\"X\",AS418=\"X\"),1,0)","v":0},null,{"$f":"IF(AND('Step 2 - Ornamental'!$AE$18=\"X\",AU418=\"X\"),1,0)","v":0},null,{"$f":"IF(AND('Step 2 - Ornamental'!$AA$17=\"X\",AW418=\"X\"),1,0)","v":0},"X",{"$f":"IF(AND('Step 2 - Ornamental'!$AB$17=\"X\",AY418=\"X\"),1,0)","v":0},null,{"$f":"IF(AND('Step 2 - Ornamental'!$AC$17=\"X\",BA418=\"X\"),1,0)","v":0},null,{"$f":"IF(AND('Step 2 - Ornamental'!$AA$22=\"X\",BC418=\"X\"),1,0)","v":0},null,{"$f":"IF(AND('Step 2 - Ornamental'!$AB$22=\"X\",BE418=\"X\"),1,0)","v":0},null,{"$f":"IF(AND('Step 2 - Ornamental'!$AC$22=\"X\",BG418=\"X\"),1,0)","v":0},"X",{"$f":"IF(AND('Step 2 - Ornamental'!$AD$22=\"X\",BI418=\"X\"),1,0)","v":0},"X",null,null,null,"Lavender blue / 1.0'-1.5'"]
[null,{"$f":"SUM((N419+P419+R419+T419)*(V419+X419+Z419+AB419)*(AD419+AF419+AH419+AJ419)*(AL419+AN419+AP419+AR419+AT419)*(AV419+AX419+AZ419)*(BB419+BD419+BF419+BH419))+1","v":1},"SC PM","Scabiosa columbaria 'Pink Mist'","Pink Mist Pincusion Flower","12\" O.C.","8\" tall with pink flowers in April - Frost, ","X",null,null,"X",null,null,{"$f":"IF(O419=\"X\",1,0)","v":0},null,{"$f":"IF(AND('Step 2 - Ornamental'!$AA$21=\"X\",Q419=\"X\"),1,0)","v":0},null,{"$f":"IF(AND('Step 2 - Ornamental'!$AB$21=\"X\",S419=\"X\"),1,0)","v":0},"X",{"$f":"IF(AND('Step 2 - Ornamental'!$AC$21=\"X\",U419=\"X\"),1,0)","v":0},"X",{"$f":"IF(AND('Step 2 - Ornamental'!$AA$19=\"X\",W419=\"X\"),1,0)","v":0},null,{"$f":"IF(AND('Step 2 - Ornamental'!$AA$19=\"X\",Y419=\"X\"),1,0)","v":0},"X",{"$f":"IF(AND('Step 2 - Ornamental'!$AB$19=\"X\",AA419=\"X\"),1,0)","v":0},null,{"$f":"IF(AND('Step 2 - Ornamental'!$AC$19=\"X\",AC419=\"X\"),1,0)","v":0},null,{"$f":"IF(AND('Step 2 - Ornamental'!$AA$20=\"X\",AE419=\"X\"),1,0)","v":0},"X",{"$f":"IF(AND('Step 2 - Ornamental'!$AA$20=\"X\",AG419=\"X\"),1,0)","v":0},null,{"$f":"IF(AND('Step 2 - Ornamental'!$AB$20=\"X\",AI419=\"X\"),1,0)","v":0},null,{"$f":"IF(AND('Step 2 - Ornamental'!$AC$20=\"X\",AK419=\"X\"),1,0)","v":0},null,{"$f":"IF(AND('Step 2 - Ornamental'!$AA$18=\"X\",AM419=\"X\"),1,0)","v":0},"X",{"$f":"IF(AND('Step 2 - Ornamental'!$AB$18=\"X\",AO419=\"X\"),1,0)","v":0},"X",{"$f":"IF(AND('Step 2 - Ornamental'!$AC$18=\"X\",AQ419=\"X\"),1,0)","v":0},null,{"$f":"IF(AND('Step 2 - Ornamental'!$AD$18=\"X\",AS419=\"X\"),1,0)","v":0},null,{"$f":"IF(AND('Step 2 - Ornamental'!$AE$18=\"X\",AU419=\"X\"),1,0)","v":0},null,{"$f":"IF(AND('Step 2 - Ornamental'!$AA$17=\"X\",AW419=\"X\"),1,0)","v":0},"X",{"$f":"IF(AND('Step 2 - Ornamental'!$AB$17=\"X\",AY419=\"X\"),1,0)","v":0},null,{"$f":"IF(AND('Step 2 - Ornamental'!$AC$17=\"X\",BA419=\"X\"),1,0)","v":0},null,{"$f":"IF(AND('Step 2 - Ornamental'!$AA$22=\"X\",BC419=\"X\"),1,0)","v":0},null,{"$f":"IF(AND('Step 2 - Ornamental'!$AB$22=\"X\",BE419=\"X\"),1,0)","v":0},null,{"$f":"IF(AND('Step 2 - Ornamental'!$AC$22=\"X\",BG419=\"X\"),1,0)","v":0},"X",{"$f":"IF(AND('Step 2 - Ornamental'!$AD$22=\"X\",BI419=\"X\"),1,0)","v":0},"X",null,null,null,null,"Pink /  1.0'-1.5'"]
[null,1,"SC IN","Scuttelaria incana ","Skull Cap","18\" O.C.","For dryish sandy or clay soils, purplish blue flowers in July-Sept",null,"X",null,"X",null,null,1,"X",{"$f":"IF(AND('Step 2 - Ornamental'!$AA$21=\"X\",Q420=\"X\"),1,0)","v":0},null,{"$f":"IF(AND('Step 2 - Ornamental'!$AB$21=\"X\",S420=\"X\"),1,0)","v":0},null,{"$f":"IF(AND('Step 2 - Ornamental'!$AC$21=\"X\",U420=\"X\"),1,0)","v":0},null,{"$f":"IF(AND('Step 2 - Ornamental'!$AA$19=\"X\",W420=\"X\"),1,0)","v":0},"X",{"$f":"IF(AND('Step 2 - Ornamental'!$AA$19=\"X\",Y420=\"X\"),1,0)","v":0},null,{"$f":"IF(AND('Step 2 - Ornamental'!$AB$19=\"X\",AA420=\"X\"),1,0)","v":0},null,{"$f":"IF(AND('Step 2 - Ornamental'!$AC$19=\"X\",AC420=\"X\"),1,0)","v":0},null,{"$f":"IF(AND('Step 2 - Ornamental'!$AA$20=\"X\",AE420=\"X\"),1,0)","v":0},"X",{"$f":"IF(AND('Step 2 - Ornamental'!$AA$20=\"X\",AG420=\"X\"),1,0)","v":0},null,{"$f":"IF(AND('Step 2 - Ornamental'!$AB$20=\"X\",AI420=\"X\"),1,0)","v":0},null,{"$f":"IF(AND('Step 2 - Ornamental'!$AC$20=\"X\",AK420=\"X\"),1,0)","v":0},null,{"$f":"IF(AND('Step 2 - Ornamental'!$AA$18=\"X\",AM420=\"X\"),1,0)","v":0},"X",{"$f":"IF(AND('Step 2 - Ornamental'!$AB$18=\"X\",AO420=\"X\"),1,0)","v":0},"X",{"$f":"IF(AND('Step 2 - Ornamental'!$AC$18=\"X\",AQ420=\"X\"),1,0)","v":0},null,{"$f":"IF(AND('Step 2 - Ornamental'!$AD$18=\"X\",AS420=\"X\"),1,0)","v":0},null,{"$f":"IF(AND('Step 2 - Ornamental'!$AE$18=\"X\",AU420=\"X\"),1,0)","v":0},null,{"$f":"IF(AND('Step 2 - Ornamental'!$AA$17=\"X\",AW420=\"X\"),1,0)","v":0},"X",{"$f":"IF(AND('Step 2 - Ornamental'!$AB$17=\"X\",AY420=\"X\"),1,0)","v":0},"X",{"$f":"IF(AND('Step 2 - Ornamental'!$AC$17=\"X\",BA420=\"X\"),1,0)","v":0},null,{"$f":"IF(AND('Step 2 - Ornamental'!$AA$22=\"X\",BC420=\"X\"),1,0)","v":0},null,{"$f":"IF(AND('Step 2 - Ornamental'!$AB$22=\"X\",BE420=\"X\"),1,0)","v":0},null,{"$f":"IF(AND('Step 2 - Ornamental'!$AC$22=\"X\",BG420=\"X\"),1,0)","v":0},"X",{"$f":"IF(AND('Step 2 - Ornamental'!$AD$22=\"X\",BI420=\"X\"),1,0)","v":0},"X",null,null,null,null,null,null,"Blue / 2.0'-3.0'"]
[null,1,"SE CC","Sedum album 'Coral Carpet'","Coral Carpet Stonecrop","8\" O.C.","very dense and low growing cultivar, foliage turns red in winter, poor flowers, self sowing","X",null,null,"X","X",null,1,"X",{"$f":"IF(AND('Step 2 - Ornamental'!$AA$21=\"X\",Q421=\"X\"),1,0)","v":0},null,{"$f":"IF(AND('Step 2 - Ornamental'!$AB$21=\"X\",S421=\"X\"),1,0)","v":0},null,{"$f":"IF(AND('Step 2 - Ornamental'!$AC$21=\"X\",U421=\"X\"),1,0)","v":0},null,{"$f":"IF(AND('Step 2 - Ornamental'!$AA$19=\"X\",W421=\"X\"),1,0)","v":0},null,{"$f":"IF(AND('Step 2 - Ornamental'!$AA$19=\"X\",Y421=\"X\"),1,0)","v":0},"X",{"$f":"IF(AND('Step 2 - Ornamental'!$AB$19=\"X\",AA421=\"X\"),1,0)","v":0},null,{"$f":"IF(AND('Step 2 - Ornamental'!$AC$19=\"X\",AC421=\"X\"),1,0)","v":0},null,{"$f":"IF(AND('Step 2 - Ornamental'!$AA$20=\"X\",AE421=\"X\"),1,0)","v":0},"X",{"$f":"IF(AND('Step 2 - Ornamental'!$AA$20=\"X\",AG421=\"X\"),1,0)","v":0},null,{"$f":"IF(AND('Step 2 - Ornamental'!$AB$20=\"X\",AI421=\"X\"),1,0)","v":0},null,{"$f":"IF(AND('Step 2 - Ornamental'!$AC$20=\"X\",AK421=\"X\"),1,0)","v":0},null,{"$f":"IF(AND('Step 2 - Ornamental'!$AA$18=\"X\",AM421=\"X\"),1,0)","v":0},"X",{"$f":"IF(AND('Step 2 - Ornamental'!$AB$18=\"X\",AO421=\"X\"),1,0)","v":0},null,{"$f":"IF(AND('Step 2 - Ornamental'!$AC$18=\"X\",AQ421=\"X\"),1,0)","v":0},null,{"$f":"IF(AND('Step 2 - Ornamental'!$AD$18=\"X\",AS421=\"X\"),1,0)","v":0},null,{"$f":"IF(AND('Step 2 - Ornamental'!$AE$18=\"X\",AU421=\"X\"),1,0)","v":0},null,{"$f":"IF(AND('Step 2 - Ornamental'!$AA$17=\"X\",AW421=\"X\"),1,0)","v":0},"X",{"$f":"IF(AND('Step 2 - Ornamental'!$AB$17=\"X\",AY421=\"X\"),1,0)","v":0},null,{"$f":"IF(AND('Step 2 - Ornamental'!$AC$17=\"X\",BA421=\"X\"),1,0)","v":0},null,{"$f":"IF(AND('Step 2 - Ornamental'!$AA$22=\"X\",BC421=\"X\"),1,0)","v":0},"X",{"$f":"IF(AND('Step 2 - Ornamental'!$AB$22=\"X\",BE421=\"X\"),1,0)","v":0},"X",{"$f":"IF(AND('Step 2 - Ornamental'!$AC$22=\"X\",BG421=\"X\"),1,0)","v":0},"X",{"$f":"IF(AND('Step 2 - Ornamental'!$AD$22=\"X\",BI421=\"X\"),1,0)","v":0},"X",null,null,null,null,"Not a reliable flowerer"]
[null,1,"SE AL","Sedum album   ","Chubby Fingers Stonecrop","8\" O.C.","foliage turns red in winter, not self sowing","X",null,null,"X","X",null,1,"X",{"$f":"IF(AND('Step 2 - Ornamental'!$AA$21=\"X\",Q422=\"X\"),1,0)","v":0},null,{"$f":"IF(AND('Step 2 - Ornamental'!$AB$21=\"X\",S422=\"X\"),1,0)","v":0},null,{"$f":"IF(AND('Step 2 - Ornamental'!$AC$21=\"X\",U422=\"X\"),1,0)","v":0},null,{"$f":"IF(AND('Step 2 - Ornamental'!$AA$19=\"X\",W422=\"X\"),1,0)","v":0},null,{"$f":"IF(AND('Step 2 - Ornamental'!$AA$19=\"X\",Y422=\"X\"),1,0)","v":0},"X",{"$f":"IF(AND('Step 2 - Ornamental'!$AB$19=\"X\",AA422=\"X\"),1,0)","v":0},null,{"$f":"IF(AND('Step 2 - Ornamental'!$AC$19=\"X\",AC422=\"X\"),1,0)","v":0},null,{"$f":"IF(AND('Step 2 - Ornamental'!$AA$20=\"X\",AE422=\"X\"),1,0)","v":0},"X",{"$f":"IF(AND('Step 2 - Ornamental'!$AA$20=\"X\",AG422=\"X\"),1,0)","v":0},null,{"$f":"IF(AND('Step 2 - Ornamental'!$AB$20=\"X\",AI422=\"X\"),1,0)","v":0},null,{"$f":"IF(AND('Step 2 - Ornamental'!$AC$20=\"X\",AK422=\"X\"),1,0)","v":0},null,{"$f":"IF(AND('Step 2 - Ornamental'!$AA$18=\"X\",AM422=\"X\"),1,0)","v":0},"X",{"$f":"IF(AND('Step 2 - Ornamental'!$AB$18=\"X\",AO422=\"X\"),1,0)","v":0},null,{"$f":"IF(AND('Step 2 - Ornamental'!$AC$18=\"X\",AQ422=\"X\"),1,0)","v":0},null,{"$f":"IF(AND('Step 2 - Ornamental'!$AD$18=\"X\",AS422=\"X\"),1,0)","v":0},null,{"$f":"IF(AND('Step 2 - Ornamental'!$AE$18=\"X\",AU422=\"X\"),1,0)","v":0},null,{"$f":"IF(AND('Step 2 - Ornamental'!$AA$17=\"X\",AW422=\"X\"),1,0)","v":0},"X",{"$f":"IF(AND('Step 2 - Ornamental'!$AB$17=\"X\",AY422=\"X\"),1,0)","v":0},null,{"$f":"IF(AND('Step 2 - Ornamental'!$AC$17=\"X\",BA422=\"X\"),1,0)","v":0},null,{"$f":"IF(AND('Step 2 - Ornamental'!$AA$22=\"X\",BC422=\"X\"),1,0)","v":0},"X",{"$f":"IF(AND('Step 2 - Ornamental'!$AB$22=\"X\",BE422=\"X\"),1,0)","v":0},"X",{"$f":"IF(AND('Step 2 - Ornamental'!$AC$22=\"X\",BG422=\"X\"),1,0)","v":0},"X",{"$f":"IF(AND('Step 2 - Ornamental'!$AD$22=\"X\",BI422=\"X\"),1,0)","v":0},"X",null,null,null,null,null,"white / 6\""]
[null,1,"SE AM","Sedum album subsp. Teretifolium 'Murale'","Murale Stonecrop","8\" O.C.","foliage red through most of year, not self sowing, ","X",null,null,"X","X",null,1,"X",{"$f":"IF(AND('Step 2 - Ornamental'!$AA$21=\"X\",Q423=\"X\"),1,0)","v":0},null,{"$f":"IF(AND('Step 2 - Ornamental'!$AB$21=\"X\",S423=\"X\"),1,0)","v":0},null,{"$f":"IF(AND('Step 2 - Ornamental'!$AC$21=\"X\",U423=\"X\"),1,0)","v":0},null,{"$f":"IF(AND('Step 2 - Ornamental'!$AA$19=\"X\",W423=\"X\"),1,0)","v":0},null,{"$f":"IF(AND('Step 2 - Ornamental'!$AA$19=\"X\",Y423=\"X\"),1,0)","v":0},"X",{"$f":"IF(AND('Step 2 - Ornamental'!$AB$19=\"X\",AA423=\"X\"),1,0)","v":0},null,{"$f":"IF(AND('Step 2 - Ornamental'!$AC$19=\"X\",AC423=\"X\"),1,0)","v":0},null,{"$f":"IF(AND('Step 2 - Ornamental'!$AA$20=\"X\",AE423=\"X\"),1,0)","v":0},"X",{"$f":"IF(AND('Step 2 - Ornamental'!$AA$20=\"X\",AG423=\"X\"),1,0)","v":0},null,{"$f":"IF(AND('Step 2 - Ornamental'!$AB$20=\"X\",AI423=\"X\"),1,0)","v":0},null,{"$f":"IF(AND('Step 2 - Ornamental'!$AC$20=\"X\",AK423=\"X\"),1,0)","v":0},null,{"$f":"IF(AND('Step 2 - Ornamental'!$AA$18=\"X\",AM423=\"X\"),1,0)","v":0},"X",{"$f":"IF(AND('Step 2 - Ornamental'!$AB$18=\"X\",AO423=\"X\"),1,0)","v":0},null,{"$f":"IF(AND('Step 2 - Ornamental'!$AC$18=\"X\",AQ423=\"X\"),1,0)","v":0},null,{"$f":"IF(AND('Step 2 - Ornamental'!$AD$18=\"X\",AS423=\"X\"),1,0)","v":0},null,{"$f":"IF(AND('Step 2 - Ornamental'!$AE$18=\"X\",AU423=\"X\"),1,0)","v":0},null,{"$f":"IF(AND('Step 2 - Ornamental'!$AA$17=\"X\",AW423=\"X\"),1,0)","v":0},"X",{"$f":"IF(AND('Step 2 - Ornamental'!$AB$17=\"X\",AY423=\"X\"),1,0)","v":0},null,{"$f":"IF(AND('Step 2 - Ornamental'!$AC$17=\"X\",BA423=\"X\"),1,0)","v":0},null,{"$f":"IF(AND('Step 2 - Ornamental'!$AA$22=\"X\",BC423=\"X\"),1,0)","v":0},"X",{"$f":"IF(AND('Step 2 - Ornamental'!$AB$22=\"X\",BE423=\"X\"),1,0)","v":0},"X",{"$f":"IF(AND('Step 2 - Ornamental'!$AC$22=\"X\",BG423=\"X\"),1,0)","v":0},"X",{"$f":"IF(AND('Step 2 - Ornamental'!$AD$22=\"X\",BI423=\"X\"),1,0)","v":0},"X",null,null,null,null,"white / 6\""]
[null,1,"SE CA","Sedum cauticola  ","Cauticola Stonecrop","8\" O.C.","larger blue green foliage with pink flowers, blooms in Autumn ","X",null,null,"X","X",null,0,null,{"$f":"IF(AND('Step 2 - Ornamental'!$AA$21=\"X\",Q424=\"X\"),1,0)","v":0},null,{"$f":"IF(AND('Step 2 - Ornamental'!$AB$21=\"X\",S424=\"X\"),1,0)","v":0},"X",{"$f":"IF(AND('Step 2 - Ornamental'!$AC$21=\"X\",U424=\"X\"),1,0)","v":0},"X",{"$f":"IF(AND('Step 2 - Ornamental'!$AA$19=\"X\",W424=\"X\"),1,0)","v":0},null,{"$f":"IF(AND('Step 2 - Ornamental'!$AA$19=\"X\",Y424=\"X\"),1,0)","v":0},"X",{"$f":"IF(AND('Step 2 - Ornamental'!$AB$19=\"X\",AA424=\"X\"),1,0)","v":0},null,{"$f":"IF(AND('Step 2 - Ornamental'!$AC$19=\"X\",AC424=\"X\"),1,0)","v":0},null,{"$f":"IF(AND('Step 2 - Ornamental'!$AA$20=\"X\",AE424=\"X\"),1,0)","v":0},"X",{"$f":"IF(AND('Step 2 - Ornamental'!$AA$20=\"X\",AG424=\"X\"),1,0)","v":0},null,{"$f":"IF(AND('Step 2 - Ornamental'!$AB$20=\"X\",AI424=\"X\"),1,0)","v":0},null,{"$f":"IF(AND('Step 2 - Ornamental'!$AC$20=\"X\",AK424=\"X\"),1,0)","v":0},null,{"$f":"IF(AND('Step 2 - Ornamental'!$AA$18=\"X\",AM424=\"X\"),1,0)","v":0},"X",{"$f":"IF(AND('Step 2 - Ornamental'!$AB$18=\"X\",AO424=\"X\"),1,0)","v":0},null,{"$f":"IF(AND('Step 2 - Ornamental'!$AC$18=\"X\",AQ424=\"X\"),1,0)","v":0},null,{"$f":"IF(AND('Step 2 - Ornamental'!$AD$18=\"X\",AS424=\"X\"),1,0)","v":0},null,{"$f":"IF(AND('Step 2 - Ornamental'!$AE$18=\"X\",AU424=\"X\"),1,0)","v":0},null,{"$f":"IF(AND('Step 2 - Ornamental'!$AA$17=\"X\",AW424=\"X\"),1,0)","v":0},"X",{"$f":"IF(AND('Step 2 - Ornamental'!$AB$17=\"X\",AY424=\"X\"),1,0)","v":0},"X",{"$f":"IF(AND('Step 2 - Ornamental'!$AC$17=\"X\",BA424=\"X\"),1,0)","v":0},null,{"$f":"IF(AND('Step 2 - Ornamental'!$AA$22=\"X\",BC424=\"X\"),1,0)","v":0},"X",{"$f":"IF(AND('Step 2 - Ornamental'!$AB$22=\"X\",BE424=\"X\"),1,0)","v":0},"X",{"$f":"IF(AND('Step 2 - Ornamental'!$AC$22=\"X\",BG424=\"X\"),1,0)","v":0},"X",{"$f":"IF(AND('Step 2 - Ornamental'!$AD$22=\"X\",BI424=\"X\"),1,0)","v":0},"X",null,null,null,null,null,null,"Pink / 6\""]
[null,1,"SE KA","Sedum kamtschaticum","Kamtschaticum Stonecrop","8\" O.C.","very drought tolerant, great flowers, not self-sowing, evergreen","X",null,null,"X","X",null,0,null,{"$f":"IF(AND('Step 2 - Ornamental'!$AA$21=\"X\",Q425=\"X\"),1,0)","v":0},null,{"$f":"IF(AND('Step 2 - Ornamental'!$AB$21=\"X\",S425=\"X\"),1,0)","v":0},"X",{"$f":"IF(AND('Step 2 - Ornamental'!$AC$21=\"X\",U425=\"X\"),1,0)","v":0},"X",{"$f":"IF(AND('Step 2 - Ornamental'!$AA$19=\"X\",W425=\"X\"),1,0)","v":0},null,{"$f":"IF(AND('Step 2 - Ornamental'!$AA$19=\"X\",Y425=\"X\"),1,0)","v":0},"X",{"$f":"IF(AND('Step 2 - Ornamental'!$AB$19=\"X\",AA425=\"X\"),1,0)","v":0},null,{"$f":"IF(AND('Step 2 - Ornamental'!$AC$19=\"X\",AC425=\"X\"),1,0)","v":0},null,{"$f":"IF(AND('Step 2 - Ornamental'!$AA$20=\"X\",AE425=\"X\"),1,0)","v":0},"X",{"$f":"IF(AND('Step 2 - Ornamental'!$AA$20=\"X\",AG425=\"X\"),1,0)","v":0},null,{"$f":"IF(AND('Step 2 - Ornamental'!$AB$20=\"X\",AI425=\"X\"),1,0)","v":0},null,{"$f":"IF(AND('Step 2 - Ornamental'!$AC$20=\"X\",AK425=\"X\"),1,0)","v":0},null,{"$f":"IF(AND('Step 2 - Ornamental'!$AA$18=\"X\",AM425=\"X\"),1,0)","v":0},"X",{"$f":"IF(AND('Step 2 - Ornamental'!$AB$18=\"X\",AO425=\"X\"),1,0)","v":0},null,{"$f":"IF(AND('Step 2 - Ornamental'!$AC$18=\"X\",AQ425=\"X\"),1,0)","v":0},null,{"$f":"IF(AND('Step 2 - Ornamental'!$AD$18=\"X\",AS425=\"X\"),1,0)","v":0},null,{"$f":"IF(AND('Step 2 - Ornamental'!$AE$18=\"X\",AU425=\"X\"),1,0)","v":0},null,{"$f":"IF(AND('Step 2 - Ornamental'!$AA$17=\"X\",AW425=\"X\"),1,0)","v":0},"X",{"$f":"IF(AND('Step 2 - Ornamental'!$AB$17=\"X\",AY425=\"X\"),1,0)","v":0},null,{"$f":"IF(AND('Step 2 - Ornamental'!$AC$17=\"X\",BA425=\"X\"),1,0)","v":0},null,{"$f":"IF(AND('Step 2 - Ornamental'!$AA$22=\"X\",BC425=\"X\"),1,0)","v":0},"X",{"$f":"IF(AND('Step 2 - Ornamental'!$AB$22=\"X\",BE425=\"X\"),1,0)","v":0},"X",{"$f":"IF(AND('Step 2 - Ornamental'!$AC$22=\"X\",BG425=\"X\"),1,0)","v":0},"X",{"$f":"IF(AND('Step 2 - Ornamental'!$AD$22=\"X\",BI425=\"X\"),1,0)","v":0},"X",null,null,null,null,null,"Orange-Yellow / 8\" "]
[null,1,"SE KW","Sedum kamtschaticum var. floriferum 'Weihenstephaner Gold'","Weihenstephaner Gold Stonecrop","8\" O.C.","same as species except red burgundy stems, very floriferous, ","X",null,null,"X","X",null,1,"X",{"$f":"IF(AND('Step 2 - Ornamental'!$AA$21=\"X\",Q426=\"X\"),1,0)","v":0},null,{"$f":"IF(AND('Step 2 - Ornamental'!$AB$21=\"X\",S426=\"X\"),1,0)","v":0},null,{"$f":"IF(AND('Step 2 - Ornamental'!$AC$21=\"X\",U426=\"X\"),1,0)","v":0},null,{"$f":"IF(AND('Step 2 - Ornamental'!$AA$19=\"X\",W426=\"X\"),1,0)","v":0},null,{"$f":"IF(AND('Step 2 - Ornamental'!$AA$19=\"X\",Y426=\"X\"),1,0)","v":0},"X",{"$f":"IF(AND('Step 2 - Ornamental'!$AB$19=\"X\",AA426=\"X\"),1,0)","v":0},null,{"$f":"IF(AND('Step 2 - Ornamental'!$AC$19=\"X\",AC426=\"X\"),1,0)","v":0},null,{"$f":"IF(AND('Step 2 - Ornamental'!$AA$20=\"X\",AE426=\"X\"),1,0)","v":0},"X",{"$f":"IF(AND('Step 2 - Ornamental'!$AA$20=\"X\",AG426=\"X\"),1,0)","v":0},null,{"$f":"IF(AND('Step 2 - Ornamental'!$AB$20=\"X\",AI426=\"X\"),1,0)","v":0},null,{"$f":"IF(AND('Step 2 - Ornamental'!$AC$20=\"X\",AK426=\"X\"),1,0)","v":0},null,{"$f":"IF(AND('Step 2 - Ornamental'!$AA$18=\"X\",AM426=\"X\"),1,0)","v":0},"X",{"$f":"IF(AND('Step 2 - Ornamental'!$AB$18=\"X\",AO426=\"X\"),1,0)","v":0},null,{"$f":"IF(AND('Step 2 - Ornamental'!$AC$18=\"X\",AQ426=\"X\"),1,0)","v":0},null,{"$f":"IF(AND('Step 2 - Ornamental'!$AD$18=\"X\",AS426=\"X\"),1,0)","v":0},null,{"$f":"IF(AND('Step 2 - Ornamental'!$AE$18=\"X\",AU426=\"X\"),1,0)","v":0},null,{"$f":"IF(AND('Step 2 - Ornamental'!$AA$17=\"X\",AW426=\"X\"),1,0)","v":0},"X",{"$f":"IF(AND('Step 2 - Ornamental'!$AB$17=\"X\",AY426=\"X\"),1,0)","v":0},null,{"$f":"IF(AND('Step 2 - Ornamental'!$AC$17=\"X\",BA426=\"X\"),1,0)","v":0},null,{"$f":"IF(AND('Step 2 - Ornamental'!$AA$22=\"X\",BC426=\"X\"),1,0)","v":0},"X",{"$f":"IF(AND('Step 2 - Ornamental'!$AB$22=\"X\",BE426=\"X\"),1,0)","v":0},"X",{"$f":"IF(AND('Step 2 - Ornamental'!$AC$22=\"X\",BG426=\"X\"),1,0)","v":0},"X",{"$f":"IF(AND('Step 2 - Ornamental'!$AD$22=\"X\",BI426=\"X\"),1,0)","v":0},"X",null,null,null,null,null,"Orange-Yellow / 8\" "]
[null,1,"SE VA","Sedum kamtschaticum 'Variegatum'","Variegated Kamtschaticum Stonecrop","8\" O.C.","same as species but with creamy borders to leaves","X",null,null,"X","X",null,0,null,{"$f":"IF(AND('Step 2 - Ornamental'!$AA$21=\"X\",Q427=\"X\"),1,0)","v":0},null,{"$f":"IF(AND('Step 2 - Ornamental'!$AB$21=\"X\",S427=\"X\"),1,0)","v":0},"X",{"$f":"IF(AND('Step 2 - Ornamental'!$AC$21=\"X\",U427=\"X\"),1,0)","v":0},"X",{"$f":"IF(AND('Step 2 - Ornamental'!$AA$19=\"X\",W427=\"X\"),1,0)","v":0},null,{"$f":"IF(AND('Step 2 - Ornamental'!$AA$19=\"X\",Y427=\"X\"),1,0)","v":0},"X",{"$f":"IF(AND('Step 2 - Ornamental'!$AB$19=\"X\",AA427=\"X\"),1,0)","v":0},null,{"$f":"IF(AND('Step 2 - Ornamental'!$AC$19=\"X\",AC427=\"X\"),1,0)","v":0},null,{"$f":"IF(AND('Step 2 - Ornamental'!$AA$20=\"X\",AE427=\"X\"),1,0)","v":0},"X",{"$f":"IF(AND('Step 2 - Ornamental'!$AA$20=\"X\",AG427=\"X\"),1,0)","v":0},null,{"$f":"IF(AND('Step 2 - Ornamental'!$AB$20=\"X\",AI427=\"X\"),1,0)","v":0},null,{"$f":"IF(AND('Step 2 - Ornamental'!$AC$20=\"X\",AK427=\"X\"),1,0)","v":0},null,{"$f":"IF(AND('Step 2 - Ornamental'!$AA$18=\"X\",AM427=\"X\"),1,0)","v":0},"X",{"$f":"IF(AND('Step 2 - Ornamental'!$AB$18=\"X\",AO427=\"X\"),1,0)","v":0},null,{"$f":"IF(AND('Step 2 - Ornamental'!$AC$18=\"X\",AQ427=\"X\"),1,0)","v":0},null,{"$f":"IF(AND('Step 2 - Ornamental'!$AD$18=\"X\",AS427=\"X\"),1,0)","v":0},null,{"$f":"IF(AND('Step 2 - Ornamental'!$AE$18=\"X\",AU427=\"X\"),1,0)","v":0},null,{"$f":"IF(AND('Step 2 - Ornamental'!$AA$17=\"X\",AW427=\"X\"),1,0)","v":0},"X",{"$f":"IF(AND('Step 2 - Ornamental'!$AB$17=\"X\",AY427=\"X\"),1,0)","v":0},null,{"$f":"IF(AND('Step 2 - Ornamental'!$AC$17=\"X\",BA427=\"X\"),1,0)","v":0},null,{"$f":"IF(AND('Step 2 - Ornamental'!$AA$22=\"X\",BC427=\"X\"),1,0)","v":0},"X",{"$f":"IF(AND('Step 2 - Ornamental'!$AB$22=\"X\",BE427=\"X\"),1,0)","v":0},"X",{"$f":"IF(AND('Step 2 - Ornamental'!$AC$22=\"X\",BG427=\"X\"),1,0)","v":0},"X",{"$f":"IF(AND('Step 2 - Ornamental'!$AD$22=\"X\",BI427=\"X\"),1,0)","v":0},"X",null,null,null,null,null,"Orange-Yellow / 8\" "]
[null,1,"SE MI","Sedum middendorffianum var. diffusum","Diffused Middendorf's Stonecrop","8\" O.C.","aggressive, deep green leaves turn purple in fall, very durable, carpet of yellow flowers","X",null,null,"X","X",null,1,"X",{"$f":"IF(AND('Step 2 - Ornamental'!$AA$21=\"X\",Q428=\"X\"),1,0)","v":0},null,{"$f":"IF(AND('Step 2 - Ornamental'!$AB$21=\"X\",S428=\"X\"),1,0)","v":0},null,{"$f":"IF(AND('Step 2 - Ornamental'!$AC$21=\"X\",U428=\"X\"),1,0)","v":0},null,{"$f":"IF(AND('Step 2 - Ornamental'!$AA$19=\"X\",W428=\"X\"),1,0)","v":0},null,{"$f":"IF(AND('Step 2 - Ornamental'!$AA$19=\"X\",Y428=\"X\"),1,0)","v":0},"X",{"$f":"IF(AND('Step 2 - Ornamental'!$AB$19=\"X\",AA428=\"X\"),1,0)","v":0},null,{"$f":"IF(AND('Step 2 - Ornamental'!$AC$19=\"X\",AC428=\"X\"),1,0)","v":0},null,{"$f":"IF(AND('Step 2 - Ornamental'!$AA$20=\"X\",AE428=\"X\"),1,0)","v":0},"X",{"$f":"IF(AND('Step 2 - Ornamental'!$AA$20=\"X\",AG428=\"X\"),1,0)","v":0},null,{"$f":"IF(AND('Step 2 - Ornamental'!$AB$20=\"X\",AI428=\"X\"),1,0)","v":0},null,{"$f":"IF(AND('Step 2 - Ornamental'!$AC$20=\"X\",AK428=\"X\"),1,0)","v":0},null,{"$f":"IF(AND('Step 2 - Ornamental'!$AA$18=\"X\",AM428=\"X\"),1,0)","v":0},"X",{"$f":"IF(AND('Step 2 - Ornamental'!$AB$18=\"X\",AO428=\"X\"),1,0)","v":0},null,{"$f":"IF(AND('Step 2 - Ornamental'!$AC$18=\"X\",AQ428=\"X\"),1,0)","v":0},null,{"$f":"IF(AND('Step 2 - Ornamental'!$AD$18=\"X\",AS428=\"X\"),1,0)","v":0},null,{"$f":"IF(AND('Step 2 - Ornamental'!$AE$18=\"X\",AU428=\"X\"),1,0)","v":0},null,{"$f":"IF(AND('Step 2 - Ornamental'!$AA$17=\"X\",AW428=\"X\"),1,0)","v":0},"X",{"$f":"IF(AND('Step 2 - Ornamental'!$AB$17=\"X\",AY428=\"X\"),1,0)","v":0},null,{"$f":"IF(AND('Step 2 - Ornamental'!$AC$17=\"X\",BA428=\"X\"),1,0)","v":0},null,{"$f":"IF(AND('Step 2 - Ornamental'!$AA$22=\"X\",BC428=\"X\"),1,0)","v":0},"X",{"$f":"IF(AND('Step 2 - Ornamental'!$AB$22=\"X\",BE428=\"X\"),1,0)","v":0},"X",{"$f":"IF(AND('Step 2 - Ornamental'!$AC$22=\"X\",BG428=\"X\"),1,0)","v":0},"X",{"$f":"IF(AND('Step 2 - Ornamental'!$AD$22=\"X\",BI428=\"X\"),1,0)","v":0},"X",null,null,null,null,null,"Yellow / 8\" "]
[null,1,"SE RU","Sedum reflexum","Reflexum Stonecrop","8\" O.C.","whirled foliage resembles tiny spruce trees, ","X",null,null,"X","X",null,1,"X",{"$f":"IF(AND('Step 2 - Ornamental'!$AA$21=\"X\",Q429=\"X\"),1,0)","v":0},null,{"$f":"IF(AND('Step 2 - Ornamental'!$AB$21=\"X\",S429=\"X\"),1,0)","v":0},null,{"$f":"IF(AND('Step 2 - Ornamental'!$AC$21=\"X\",U429=\"X\"),1,0)","v":0},null,{"$f":"IF(AND('Step 2 - Ornamental'!$AA$19=\"X\",W429=\"X\"),1,0)","v":0},null,{"$f":"IF(AND('Step 2 - Ornamental'!$AA$19=\"X\",Y429=\"X\"),1,0)","v":0},"X",{"$f":"IF(AND('Step 2 - Ornamental'!$AB$19=\"X\",AA429=\"X\"),1,0)","v":0},null,{"$f":"IF(AND('Step 2 - Ornamental'!$AC$19=\"X\",AC429=\"X\"),1,0)","v":0},null,{"$f":"IF(AND('Step 2 - Ornamental'!$AA$20=\"X\",AE429=\"X\"),1,0)","v":0},"X",{"$f":"IF(AND('Step 2 - Ornamental'!$AA$20=\"X\",AG429=\"X\"),1,0)","v":0},null,{"$f":"IF(AND('Step 2 - Ornamental'!$AB$20=\"X\",AI429=\"X\"),1,0)","v":0},null,{"$f":"IF(AND('Step 2 - Ornamental'!$AC$20=\"X\",AK429=\"X\"),1,0)","v":0},null,{"$f":"IF(AND('Step 2 - Ornamental'!$AA$18=\"X\",AM429=\"X\"),1,0)","v":0},"X",{"$f":"IF(AND('Step 2 - Ornamental'!$AB$18=\"X\",AO429=\"X\"),1,0)","v":0},null,{"$f":"IF(AND('Step 2 - Ornamental'!$AC$18=\"X\",AQ429=\"X\"),1,0)","v":0},null,{"$f":"IF(AND('Step 2 - Ornamental'!$AD$18=\"X\",AS429=\"X\"),1,0)","v":0},null,{"$f":"IF(AND('Step 2 - Ornamental'!$AE$18=\"X\",AU429=\"X\"),1,0)","v":0},null,{"$f":"IF(AND('Step 2 - Ornamental'!$AA$17=\"X\",AW429=\"X\"),1,0)","v":0},"X",{"$f":"IF(AND('Step 2 - Ornamental'!$AB$17=\"X\",AY429=\"X\"),1,0)","v":0},null,{"$f":"IF(AND('Step 2 - Ornamental'!$AC$17=\"X\",BA429=\"X\"),1,0)","v":0},null,{"$f":"IF(AND('Step 2 - Ornamental'!$AA$22=\"X\",BC429=\"X\"),1,0)","v":0},"X",{"$f":"IF(AND('Step 2 - Ornamental'!$AB$22=\"X\",BE429=\"X\"),1,0)","v":0},"X",{"$f":"IF(AND('Step 2 - Ornamental'!$AC$22=\"X\",BG429=\"X\"),1,0)","v":0},"X",{"$f":"IF(AND('Step 2 - Ornamental'!$AD$22=\"X\",BI429=\"X\"),1,0)","v":0},"X",null,null,null,null,null," ","Yellow / 6\""]
[null,1,"SE AF","Sedum x 'Autumn Fire' (Hylotelphium spectabile 'Autumn Fire')","Autumn Fire Stonecrop","18\" O.C.","(2' tall), rosey pink to coppery flowers, improved Autumn Joy","X",null,null,null,null,null,1,"X",{"$f":"IF(AND('Step 2 - Ornamental'!$AA$21=\"X\",Q430=\"X\"),1,0)","v":0},null,{"$f":"IF(AND('Step 2 - Ornamental'!$AB$21=\"X\",S430=\"X\"),1,0)","v":0},null,{"$f":"IF(AND('Step 2 - Ornamental'!$AC$21=\"X\",U430=\"X\"),1,0)","v":0},null,{"$f":"IF(AND('Step 2 - Ornamental'!$AA$19=\"X\",W430=\"X\"),1,0)","v":0},null,{"$f":"IF(AND('Step 2 - Ornamental'!$AA$19=\"X\",Y430=\"X\"),1,0)","v":0},"X",{"$f":"IF(AND('Step 2 - Ornamental'!$AB$19=\"X\",AA430=\"X\"),1,0)","v":0},null,{"$f":"IF(AND('Step 2 - Ornamental'!$AC$19=\"X\",AC430=\"X\"),1,0)","v":0},null,{"$f":"IF(AND('Step 2 - Ornamental'!$AA$20=\"X\",AE430=\"X\"),1,0)","v":0},"X",{"$f":"IF(AND('Step 2 - Ornamental'!$AA$20=\"X\",AG430=\"X\"),1,0)","v":0},null,{"$f":"IF(AND('Step 2 - Ornamental'!$AB$20=\"X\",AI430=\"X\"),1,0)","v":0},null,{"$f":"IF(AND('Step 2 - Ornamental'!$AC$20=\"X\",AK430=\"X\"),1,0)","v":0},null,{"$f":"IF(AND('Step 2 - Ornamental'!$AA$18=\"X\",AM430=\"X\"),1,0)","v":0},"X",{"$f":"IF(AND('Step 2 - Ornamental'!$AB$18=\"X\",AO430=\"X\"),1,0)","v":0},"X",{"$f":"IF(AND('Step 2 - Ornamental'!$AC$18=\"X\",AQ430=\"X\"),1,0)","v":0},null,{"$f":"IF(AND('Step 2 - Ornamental'!$AD$18=\"X\",AS430=\"X\"),1,0)","v":0},null,{"$f":"IF(AND('Step 2 - Ornamental'!$AE$18=\"X\",AU430=\"X\"),1,0)","v":0},null,{"$f":"IF(AND('Step 2 - Ornamental'!$AA$17=\"X\",AW430=\"X\"),1,0)","v":0},"X",{"$f":"IF(AND('Step 2 - Ornamental'!$AB$17=\"X\",AY430=\"X\"),1,0)","v":0},"X",{"$f":"IF(AND('Step 2 - Ornamental'!$AC$17=\"X\",BA430=\"X\"),1,0)","v":0},null,{"$f":"IF(AND('Step 2 - Ornamental'!$AA$22=\"X\",BC430=\"X\"),1,0)","v":0},null,{"$f":"IF(AND('Step 2 - Ornamental'!$AB$22=\"X\",BE430=\"X\"),1,0)","v":0},null,{"$f":"IF(AND('Step 2 - Ornamental'!$AC$22=\"X\",BG430=\"X\"),1,0)","v":0},"X",{"$f":"IF(AND('Step 2 - Ornamental'!$AD$22=\"X\",BI430=\"X\"),1,0)","v":0},"X",null,null,null,null,null,null,"Peach to White / 2.5'-3.0'"]
[null,1,"SE CA","Sedum x 'Carl'","Carl Stonecrop","18\" O.C.","(18\" tall), magenta pink flowers, likes lean soil","X",null,null,null,null,null,1,"X",{"$f":"IF(AND('Step 2 - Ornamental'!$AA$21=\"X\",Q431=\"X\"),1,0)","v":0},null,{"$f":"IF(AND('Step 2 - Ornamental'!$AB$21=\"X\",S431=\"X\"),1,0)","v":0},null,{"$f":"IF(AND('Step 2 - Ornamental'!$AC$21=\"X\",U431=\"X\"),1,0)","v":0},null,{"$f":"IF(AND('Step 2 - Ornamental'!$AA$19=\"X\",W431=\"X\"),1,0)","v":0},null,{"$f":"IF(AND('Step 2 - Ornamental'!$AA$19=\"X\",Y431=\"X\"),1,0)","v":0},"X",{"$f":"IF(AND('Step 2 - Ornamental'!$AB$19=\"X\",AA431=\"X\"),1,0)","v":0},null,{"$f":"IF(AND('Step 2 - Ornamental'!$AC$19=\"X\",AC431=\"X\"),1,0)","v":0},null,{"$f":"IF(AND('Step 2 - Ornamental'!$AA$20=\"X\",AE431=\"X\"),1,0)","v":0},"X",{"$f":"IF(AND('Step 2 - Ornamental'!$AA$20=\"X\",AG431=\"X\"),1,0)","v":0},null,{"$f":"IF(AND('Step 2 - Ornamental'!$AB$20=\"X\",AI431=\"X\"),1,0)","v":0},null,{"$f":"IF(AND('Step 2 - Ornamental'!$AC$20=\"X\",AK431=\"X\"),1,0)","v":0},null,{"$f":"IF(AND('Step 2 - Ornamental'!$AA$18=\"X\",AM431=\"X\"),1,0)","v":0},"X",{"$f":"IF(AND('Step 2 - Ornamental'!$AB$18=\"X\",AO431=\"X\"),1,0)","v":0},"X",{"$f":"IF(AND('Step 2 - Ornamental'!$AC$18=\"X\",AQ431=\"X\"),1,0)","v":0},null,{"$f":"IF(AND('Step 2 - Ornamental'!$AD$18=\"X\",AS431=\"X\"),1,0)","v":0},null,{"$f":"IF(AND('Step 2 - Ornamental'!$AE$18=\"X\",AU431=\"X\"),1,0)","v":0},null,{"$f":"IF(AND('Step 2 - Ornamental'!$AA$17=\"X\",AW431=\"X\"),1,0)","v":0},"X",{"$f":"IF(AND('Step 2 - Ornamental'!$AB$17=\"X\",AY431=\"X\"),1,0)","v":0},"X",{"$f":"IF(AND('Step 2 - Ornamental'!$AC$17=\"X\",BA431=\"X\"),1,0)","v":0},null,{"$f":"IF(AND('Step 2 - Ornamental'!$AA$22=\"X\",BC431=\"X\"),1,0)","v":0},null,{"$f":"IF(AND('Step 2 - Ornamental'!$AB$22=\"X\",BE431=\"X\"),1,0)","v":0},"X",{"$f":"IF(AND('Step 2 - Ornamental'!$AC$22=\"X\",BG431=\"X\"),1,0)","v":0},"X",{"$f":"IF(AND('Step 2 - Ornamental'!$AD$22=\"X\",BI431=\"X\"),1,0)","v":0},"X",null,null,null,null,null,null,"Pink Shades / 1.5'-2.0'"]
[null,1,"SE MA","Sedum 'Matrona' (H. telephium 'Matrona')","Matrona Sedum","18\" O.C.","(30\" Tall), pale pink/purple flowers on dark leaves, ","X",null,null,null,null,null,1,"X",{"$f":"IF(AND('Step 2 - Ornamental'!$AA$21=\"X\",Q432=\"X\"),1,0)","v":0},null,{"$f":"IF(AND('Step 2 - Ornamental'!$AB$21=\"X\",S432=\"X\"),1,0)","v":0},null,{"$f":"IF(AND('Step 2 - Ornamental'!$AC$21=\"X\",U432=\"X\"),1,0)","v":0},null,{"$f":"IF(AND('Step 2 - Ornamental'!$AA$19=\"X\",W432=\"X\"),1,0)","v":0},null,{"$f":"IF(AND('Step 2 - Ornamental'!$AA$19=\"X\",Y432=\"X\"),1,0)","v":0},"X",{"$f":"IF(AND('Step 2 - Ornamental'!$AB$19=\"X\",AA432=\"X\"),1,0)","v":0},null,{"$f":"IF(AND('Step 2 - Ornamental'!$AC$19=\"X\",AC432=\"X\"),1,0)","v":0},null,{"$f":"IF(AND('Step 2 - Ornamental'!$AA$20=\"X\",AE432=\"X\"),1,0)","v":0},"X",{"$f":"IF(AND('Step 2 - Ornamental'!$AA$20=\"X\",AG432=\"X\"),1,0)","v":0},null,{"$f":"IF(AND('Step 2 - Ornamental'!$AB$20=\"X\",AI432=\"X\"),1,0)","v":0},null,{"$f":"IF(AND('Step 2 - Ornamental'!$AC$20=\"X\",AK432=\"X\"),1,0)","v":0},null,{"$f":"IF(AND('Step 2 - Ornamental'!$AA$18=\"X\",AM432=\"X\"),1,0)","v":0},"X",{"$f":"IF(AND('Step 2 - Ornamental'!$AB$18=\"X\",AO432=\"X\"),1,0)","v":0},"X",{"$f":"IF(AND('Step 2 - Ornamental'!$AC$18=\"X\",AQ432=\"X\"),1,0)","v":0},null,{"$f":"IF(AND('Step 2 - Ornamental'!$AD$18=\"X\",AS432=\"X\"),1,0)","v":0},null,{"$f":"IF(AND('Step 2 - Ornamental'!$AE$18=\"X\",AU432=\"X\"),1,0)","v":0},null,{"$f":"IF(AND('Step 2 - Ornamental'!$AA$17=\"X\",AW432=\"X\"),1,0)","v":0},"X",{"$f":"IF(AND('Step 2 - Ornamental'!$AB$17=\"X\",AY432=\"X\"),1,0)","v":0},null,{"$f":"IF(AND('Step 2 - Ornamental'!$AC$17=\"X\",BA432=\"X\"),1,0)","v":0},null,{"$f":"IF(AND('Step 2 - Ornamental'!$AA$22=\"X\",BC432=\"X\"),1,0)","v":0},"X",{"$f":"IF(AND('Step 2 - Ornamental'!$AB$22=\"X\",BE432=\"X\"),1,0)","v":0},"X",{"$f":"IF(AND('Step 2 - Ornamental'!$AC$22=\"X\",BG432=\"X\"),1,0)","v":0},"X",{"$f":"IF(AND('Step 2 - Ornamental'!$AD$22=\"X\",BI432=\"X\"),1,0)","v":0},"X",null,null,null,null,null,null,"Light Pink Shades / 1.5'-2.0'"]
[null,1,"SE GM","Sedum spurium 'Green Mantle'","Green Mantle Stonecrop","8\" O.C.","larger coarse levaves, drought tolerant, and semi shade tolerant","X",null,null,"X","X",null,0,null,{"$f":"IF(AND('Step 2 - Ornamental'!$AA$21=\"X\",Q433=\"X\"),1,0)","v":0},null,{"$f":"IF(AND('Step 2 - Ornamental'!$AB$21=\"X\",S433=\"X\"),1,0)","v":0},"X",{"$f":"IF(AND('Step 2 - Ornamental'!$AC$21=\"X\",U433=\"X\"),1,0)","v":0},"X",{"$f":"IF(AND('Step 2 - Ornamental'!$AA$19=\"X\",W433=\"X\"),1,0)","v":0},null,{"$f":"IF(AND('Step 2 - Ornamental'!$AA$19=\"X\",Y433=\"X\"),1,0)","v":0},"X",{"$f":"IF(AND('Step 2 - Ornamental'!$AB$19=\"X\",AA433=\"X\"),1,0)","v":0},null,{"$f":"IF(AND('Step 2 - Ornamental'!$AC$19=\"X\",AC433=\"X\"),1,0)","v":0},null,{"$f":"IF(AND('Step 2 - Ornamental'!$AA$20=\"X\",AE433=\"X\"),1,0)","v":0},"X",{"$f":"IF(AND('Step 2 - Ornamental'!$AA$20=\"X\",AG433=\"X\"),1,0)","v":0},null,{"$f":"IF(AND('Step 2 - Ornamental'!$AB$20=\"X\",AI433=\"X\"),1,0)","v":0},null,{"$f":"IF(AND('Step 2 - Ornamental'!$AC$20=\"X\",AK433=\"X\"),1,0)","v":0},null,{"$f":"IF(AND('Step 2 - Ornamental'!$AA$18=\"X\",AM433=\"X\"),1,0)","v":0},"X",{"$f":"IF(AND('Step 2 - Ornamental'!$AB$18=\"X\",AO433=\"X\"),1,0)","v":0},null,{"$f":"IF(AND('Step 2 - Ornamental'!$AC$18=\"X\",AQ433=\"X\"),1,0)","v":0},null,{"$f":"IF(AND('Step 2 - Ornamental'!$AD$18=\"X\",AS433=\"X\"),1,0)","v":0},null,{"$f":"IF(AND('Step 2 - Ornamental'!$AE$18=\"X\",AU433=\"X\"),1,0)","v":0},null,{"$f":"IF(AND('Step 2 - Ornamental'!$AA$17=\"X\",AW433=\"X\"),1,0)","v":0},"X",{"$f":"IF(AND('Step 2 - Ornamental'!$AB$17=\"X\",AY433=\"X\"),1,0)","v":0},"X",{"$f":"IF(AND('Step 2 - Ornamental'!$AC$17=\"X\",BA433=\"X\"),1,0)","v":0},null,{"$f":"IF(AND('Step 2 - Ornamental'!$AA$22=\"X\",BC433=\"X\"),1,0)","v":0},"X",{"$f":"IF(AND('Step 2 - Ornamental'!$AB$22=\"X\",BE433=\"X\"),1,0)","v":0},"X",{"$f":"IF(AND('Step 2 - Ornamental'!$AC$22=\"X\",BG433=\"X\"),1,0)","v":0},"X",{"$f":"IF(AND('Step 2 - Ornamental'!$AD$22=\"X\",BI433=\"X\"),1,0)","v":0},"X",null,null,null,null,null,"Creamy White / 6\""]
[null,1,"SE FU","Sedum spurium 'Fuldaglut'","Fuldaglut Stonecrop","8\" O.C.","deep maroon leaves and deep pinkish rose flowers","X",null,null,"X","X",null,0,null,{"$f":"IF(AND('Step 2 - Ornamental'!$AA$21=\"X\",Q434=\"X\"),1,0)","v":0},null,{"$f":"IF(AND('Step 2 - Ornamental'!$AB$21=\"X\",S434=\"X\"),1,0)","v":0},"X",{"$f":"IF(AND('Step 2 - Ornamental'!$AC$21=\"X\",U434=\"X\"),1,0)","v":0},"X",{"$f":"IF(AND('Step 2 - Ornamental'!$AA$19=\"X\",W434=\"X\"),1,0)","v":0},null,{"$f":"IF(AND('Step 2 - Ornamental'!$AA$19=\"X\",Y434=\"X\"),1,0)","v":0},"X",{"$f":"IF(AND('Step 2 - Ornamental'!$AB$19=\"X\",AA434=\"X\"),1,0)","v":0},null,{"$f":"IF(AND('Step 2 - Ornamental'!$AC$19=\"X\",AC434=\"X\"),1,0)","v":0},null,{"$f":"IF(AND('Step 2 - Ornamental'!$AA$20=\"X\",AE434=\"X\"),1,0)","v":0},"X",{"$f":"IF(AND('Step 2 - Ornamental'!$AA$20=\"X\",AG434=\"X\"),1,0)","v":0},null,{"$f":"IF(AND('Step 2 - Ornamental'!$AB$20=\"X\",AI434=\"X\"),1,0)","v":0},null,{"$f":"IF(AND('Step 2 - Ornamental'!$AC$20=\"X\",AK434=\"X\"),1,0)","v":0},null,{"$f":"IF(AND('Step 2 - Ornamental'!$AA$18=\"X\",AM434=\"X\"),1,0)","v":0},"X",{"$f":"IF(AND('Step 2 - Ornamental'!$AB$18=\"X\",AO434=\"X\"),1,0)","v":0},null,{"$f":"IF(AND('Step 2 - Ornamental'!$AC$18=\"X\",AQ434=\"X\"),1,0)","v":0},null,{"$f":"IF(AND('Step 2 - Ornamental'!$AD$18=\"X\",AS434=\"X\"),1,0)","v":0},null,{"$f":"IF(AND('Step 2 - Ornamental'!$AE$18=\"X\",AU434=\"X\"),1,0)","v":0},null,{"$f":"IF(AND('Step 2 - Ornamental'!$AA$17=\"X\",AW434=\"X\"),1,0)","v":0},"X",{"$f":"IF(AND('Step 2 - Ornamental'!$AB$17=\"X\",AY434=\"X\"),1,0)","v":0},"X",{"$f":"IF(AND('Step 2 - Ornamental'!$AC$17=\"X\",BA434=\"X\"),1,0)","v":0},null,{"$f":"IF(AND('Step 2 - Ornamental'!$AA$22=\"X\",BC434=\"X\"),1,0)","v":0},"X",{"$f":"IF(AND('Step 2 - Ornamental'!$AB$22=\"X\",BE434=\"X\"),1,0)","v":0},"X",{"$f":"IF(AND('Step 2 - Ornamental'!$AC$22=\"X\",BG434=\"X\"),1,0)","v":0},"X",{"$f":"IF(AND('Step 2 - Ornamental'!$AD$22=\"X\",BI434=\"X\"),1,0)","v":0},"X",null,null,null,null,null,null,"Maroon/ 6\""]
[null,1,"SE JC","Sedum spurium 'John Creech'","John Creech Stonecrop","8\" O.C.","dense carpet, compact, pinkish purple florets on upright stalks","X",null,null,"X","X",null,0,null,{"$f":"IF(AND('Step 2 - Ornamental'!$AA$21=\"X\",Q435=\"X\"),1,0)","v":0},null,{"$f":"IF(AND('Step 2 - Ornamental'!$AB$21=\"X\",S435=\"X\"),1,0)","v":0},"X",{"$f":"IF(AND('Step 2 - Ornamental'!$AC$21=\"X\",U435=\"X\"),1,0)","v":0},"X",{"$f":"IF(AND('Step 2 - Ornamental'!$AA$19=\"X\",W435=\"X\"),1,0)","v":0},null,{"$f":"IF(AND('Step 2 - Ornamental'!$AA$19=\"X\",Y435=\"X\"),1,0)","v":0},"X",{"$f":"IF(AND('Step 2 - Ornamental'!$AB$19=\"X\",AA435=\"X\"),1,0)","v":0},null,{"$f":"IF(AND('Step 2 - Ornamental'!$AC$19=\"X\",AC435=\"X\"),1,0)","v":0},null,{"$f":"IF(AND('Step 2 - Ornamental'!$AA$20=\"X\",AE435=\"X\"),1,0)","v":0},"X",{"$f":"IF(AND('Step 2 - Ornamental'!$AA$20=\"X\",AG435=\"X\"),1,0)","v":0},null,{"$f":"IF(AND('Step 2 - Ornamental'!$AB$20=\"X\",AI435=\"X\"),1,0)","v":0},null,{"$f":"IF(AND('Step 2 - Ornamental'!$AC$20=\"X\",AK435=\"X\"),1,0)","v":0},null,{"$f":"IF(AND('Step 2 - Ornamental'!$AA$18=\"X\",AM435=\"X\"),1,0)","v":0},"X",{"$f":"IF(AND('Step 2 - Ornamental'!$AB$18=\"X\",AO435=\"X\"),1,0)","v":0},null,{"$f":"IF(AND('Step 2 - Ornamental'!$AC$18=\"X\",AQ435=\"X\"),1,0)","v":0},null,{"$f":"IF(AND('Step 2 - Ornamental'!$AD$18=\"X\",AS435=\"X\"),1,0)","v":0},null,{"$f":"IF(AND('Step 2 - Ornamental'!$AE$18=\"X\",AU435=\"X\"),1,0)","v":0},null,{"$f":"IF(AND('Step 2 - Ornamental'!$AA$17=\"X\",AW435=\"X\"),1,0)","v":0},"X",{"$f":"IF(AND('Step 2 - Ornamental'!$AB$17=\"X\",AY435=\"X\"),1,0)","v":0},null,{"$f":"IF(AND('Step 2 - Ornamental'!$AC$17=\"X\",BA435=\"X\"),1,0)","v":0},null,{"$f":"IF(AND('Step 2 - Ornamental'!$AA$22=\"X\",BC435=\"X\"),1,0)","v":0},"X",{"$f":"IF(AND('Step 2 - Ornamental'!$AB$22=\"X\",BE435=\"X\"),1,0)","v":0},"X",{"$f":"IF(AND('Step 2 - Ornamental'!$AC$22=\"X\",BG435=\"X\"),1,0)","v":0},"X",{"$f":"IF(AND('Step 2 - Ornamental'!$AD$22=\"X\",BI435=\"X\"),1,0)","v":0},"X",null,null,null,null,null,"Pink to Purple / 6\""]
[null,1,"SE SE","Sedum sexangulare","Tastless Stonecrop","8\" O.C.","(6\" tall), very adaptable groundcover sedum, yellow flowers","X",null,null,"X","X",null,1,"X",{"$f":"IF(AND('Step 2 - Ornamental'!$AA$21=\"X\",Q436=\"X\"),1,0)","v":0},null,{"$f":"IF(AND('Step 2 - Ornamental'!$AB$21=\"X\",S436=\"X\"),1,0)","v":0},null,{"$f":"IF(AND('Step 2 - Ornamental'!$AC$21=\"X\",U436=\"X\"),1,0)","v":0},null,{"$f":"IF(AND('Step 2 - Ornamental'!$AA$19=\"X\",W436=\"X\"),1,0)","v":0},null,{"$f":"IF(AND('Step 2 - Ornamental'!$AA$19=\"X\",Y436=\"X\"),1,0)","v":0},"X",{"$f":"IF(AND('Step 2 - Ornamental'!$AB$19=\"X\",AA436=\"X\"),1,0)","v":0},null,{"$f":"IF(AND('Step 2 - Ornamental'!$AC$19=\"X\",AC436=\"X\"),1,0)","v":0},null,{"$f":"IF(AND('Step 2 - Ornamental'!$AA$20=\"X\",AE436=\"X\"),1,0)","v":0},"X",{"$f":"IF(AND('Step 2 - Ornamental'!$AA$20=\"X\",AG436=\"X\"),1,0)","v":0},null,{"$f":"IF(AND('Step 2 - Ornamental'!$AB$20=\"X\",AI436=\"X\"),1,0)","v":0},null,{"$f":"IF(AND('Step 2 - Ornamental'!$AC$20=\"X\",AK436=\"X\"),1,0)","v":0},null,{"$f":"IF(AND('Step 2 - Ornamental'!$AA$18=\"X\",AM436=\"X\"),1,0)","v":0},"X",{"$f":"IF(AND('Step 2 - Ornamental'!$AB$18=\"X\",AO436=\"X\"),1,0)","v":0},"X",{"$f":"IF(AND('Step 2 - Ornamental'!$AC$18=\"X\",AQ436=\"X\"),1,0)","v":0},null,{"$f":"IF(AND('Step 2 - Ornamental'!$AD$18=\"X\",AS436=\"X\"),1,0)","v":0},null,{"$f":"IF(AND('Step 2 - Ornamental'!$AE$18=\"X\",AU436=\"X\"),1,0)","v":0},null,{"$f":"IF(AND('Step 2 - Ornamental'!$AA$17=\"X\",AW436=\"X\"),1,0)","v":0},"X",{"$f":"IF(AND('Step 2 - Ornamental'!$AB$17=\"X\",AY436=\"X\"),1,0)","v":0},"X",{"$f":"IF(AND('Step 2 - Ornamental'!$AC$17=\"X\",BA436=\"X\"),1,0)","v":0},"X",{"$f":"IF(AND('Step 2 - Ornamental'!$AA$22=\"X\",BC436=\"X\"),1,0)","v":0},"X",{"$f":"IF(AND('Step 2 - Ornamental'!$AB$22=\"X\",BE436=\"X\"),1,0)","v":0},"X",{"$f":"IF(AND('Step 2 - Ornamental'!$AC$22=\"X\",BG436=\"X\"),1,0)","v":0},"X",{"$f":"IF(AND('Step 2 - Ornamental'!$AD$22=\"X\",BI436=\"X\"),1,0)","v":0},"X",null,null,null,null,null,"Yellow / 0.25'-0.5'"]
[null,1,"SE TE","Sedum telephium 'Red Cauli' (Hylotelphium spectabile 'Red Cauli')","Red Cauli Stonecrop","12\" O.C.","gray-green foliage w/ purple tints, deep red flowers","X",null,null,null,null,null,0,null,{"$f":"IF(AND('Step 2 - Ornamental'!$AA$21=\"X\",Q437=\"X\"),1,0)","v":0},null,{"$f":"IF(AND('Step 2 - Ornamental'!$AB$21=\"X\",S437=\"X\"),1,0)","v":0},"X",{"$f":"IF(AND('Step 2 - Ornamental'!$AC$21=\"X\",U437=\"X\"),1,0)","v":0},"X",{"$f":"IF(AND('Step 2 - Ornamental'!$AA$19=\"X\",W437=\"X\"),1,0)","v":0},null,{"$f":"IF(AND('Step 2 - Ornamental'!$AA$19=\"X\",Y437=\"X\"),1,0)","v":0},"X",{"$f":"IF(AND('Step 2 - Ornamental'!$AB$19=\"X\",AA437=\"X\"),1,0)","v":0},null,{"$f":"IF(AND('Step 2 - Ornamental'!$AC$19=\"X\",AC437=\"X\"),1,0)","v":0},null,{"$f":"IF(AND('Step 2 - Ornamental'!$AA$20=\"X\",AE437=\"X\"),1,0)","v":0},"X",{"$f":"IF(AND('Step 2 - Ornamental'!$AA$20=\"X\",AG437=\"X\"),1,0)","v":0},null,{"$f":"IF(AND('Step 2 - Ornamental'!$AB$20=\"X\",AI437=\"X\"),1,0)","v":0},null,{"$f":"IF(AND('Step 2 - Ornamental'!$AC$20=\"X\",AK437=\"X\"),1,0)","v":0},null,{"$f":"IF(AND('Step 2 - Ornamental'!$AA$18=\"X\",AM437=\"X\"),1,0)","v":0},"X",{"$f":"IF(AND('Step 2 - Ornamental'!$AB$18=\"X\",AO437=\"X\"),1,0)","v":0},"X",{"$f":"IF(AND('Step 2 - Ornamental'!$AC$18=\"X\",AQ437=\"X\"),1,0)","v":0},null,{"$f":"IF(AND('Step 2 - Ornamental'!$AD$18=\"X\",AS437=\"X\"),1,0)","v":0},null,{"$f":"IF(AND('Step 2 - Ornamental'!$AE$18=\"X\",AU437=\"X\"),1,0)","v":0},null,{"$f":"IF(AND('Step 2 - Ornamental'!$AA$17=\"X\",AW437=\"X\"),1,0)","v":0},"X",{"$f":"IF(AND('Step 2 - Ornamental'!$AB$17=\"X\",AY437=\"X\"),1,0)","v":0},null,{"$f":"IF(AND('Step 2 - Ornamental'!$AC$17=\"X\",BA437=\"X\"),1,0)","v":0},null,{"$f":"IF(AND('Step 2 - Ornamental'!$AA$22=\"X\",BC437=\"X\"),1,0)","v":0},"X",{"$f":"IF(AND('Step 2 - Ornamental'!$AB$22=\"X\",BE437=\"X\"),1,0)","v":0},"X",{"$f":"IF(AND('Step 2 - Ornamental'!$AC$22=\"X\",BG437=\"X\"),1,0)","v":0},"X",{"$f":"IF(AND('Step 2 - Ornamental'!$AD$22=\"X\",BI437=\"X\"),1,0)","v":0},"X",null,null,null,null,null,null,null,"Deep Pink / 0.75'-1.0'"]
[null,1,"SE TR","Sedum ternatum","Woodland Stonecrop","8\" O.C.","native that prefers some shade, and tolerates moist soils",null,"X",null,"X","X",null,1,"X",{"$f":"IF(AND('Step 2 - Ornamental'!$AA$21=\"X\",Q438=\"X\"),1,0)","v":0},null,{"$f":"IF(AND('Step 2 - Ornamental'!$AB$21=\"X\",S438=\"X\"),1,0)","v":0},null,{"$f":"IF(AND('Step 2 - Ornamental'!$AC$21=\"X\",U438=\"X\"),1,0)","v":0},null,{"$f":"IF(AND('Step 2 - Ornamental'!$AA$19=\"X\",W438=\"X\"),1,0)","v":0},null,{"$f":"IF(AND('Step 2 - Ornamental'!$AA$19=\"X\",Y438=\"X\"),1,0)","v":0},"X",{"$f":"IF(AND('Step 2 - Ornamental'!$AB$19=\"X\",AA438=\"X\"),1,0)","v":0},null,{"$f":"IF(AND('Step 2 - Ornamental'!$AC$19=\"X\",AC438=\"X\"),1,0)","v":0},null,{"$f":"IF(AND('Step 2 - Ornamental'!$AA$20=\"X\",AE438=\"X\"),1,0)","v":0},"X",{"$f":"IF(AND('Step 2 - Ornamental'!$AA$20=\"X\",AG438=\"X\"),1,0)","v":0},null,{"$f":"IF(AND('Step 2 - Ornamental'!$AB$20=\"X\",AI438=\"X\"),1,0)","v":0},null,{"$f":"IF(AND('Step 2 - Ornamental'!$AC$20=\"X\",AK438=\"X\"),1,0)","v":0},null,{"$f":"IF(AND('Step 2 - Ornamental'!$AA$18=\"X\",AM438=\"X\"),1,0)","v":0},"X",{"$f":"IF(AND('Step 2 - Ornamental'!$AB$18=\"X\",AO438=\"X\"),1,0)","v":0},"X",{"$f":"IF(AND('Step 2 - Ornamental'!$AC$18=\"X\",AQ438=\"X\"),1,0)","v":0},null,{"$f":"IF(AND('Step 2 - Ornamental'!$AD$18=\"X\",AS438=\"X\"),1,0)","v":0},null,{"$f":"IF(AND('Step 2 - Ornamental'!$AE$18=\"X\",AU438=\"X\"),1,0)","v":0},null,{"$f":"IF(AND('Step 2 - Ornamental'!$AA$17=\"X\",AW438=\"X\"),1,0)","v":0},"X",{"$f":"IF(AND('Step 2 - Ornamental'!$AB$17=\"X\",AY438=\"X\"),1,0)","v":0},"X",{"$f":"IF(AND('Step 2 - Ornamental'!$AC$17=\"X\",BA438=\"X\"),1,0)","v":0},null,{"$f":"IF(AND('Step 2 - Ornamental'!$AA$22=\"X\",BC438=\"X\"),1,0)","v":0},"X",{"$f":"IF(AND('Step 2 - Ornamental'!$AB$22=\"X\",BE438=\"X\"),1,0)","v":0},"X",{"$f":"IF(AND('Step 2 - Ornamental'!$AC$22=\"X\",BG438=\"X\"),1,0)","v":0},"X",{"$f":"IF(AND('Step 2 - Ornamental'!$AD$22=\"X\",BI438=\"X\"),1,0)","v":0},"X",null,null,null,"White / 6\""]
[null,1,"SM AR","Sempervivum arachnoideum ","Cobweb Hen and Chicks","8\" O.C.","foliage plant, ","X",null,null,"X",null,null,1,"X",{"$f":"IF(AND('Step 2 - Ornamental'!$AA$21=\"X\",Q439=\"X\"),1,0)","v":0},null,{"$f":"IF(AND('Step 2 - Ornamental'!$AB$21=\"X\",S439=\"X\"),1,0)","v":0},null,{"$f":"IF(AND('Step 2 - Ornamental'!$AC$21=\"X\",U439=\"X\"),1,0)","v":0},null,{"$f":"IF(AND('Step 2 - Ornamental'!$AA$19=\"X\",W439=\"X\"),1,0)","v":0},"X",{"$f":"IF(AND('Step 2 - Ornamental'!$AA$19=\"X\",Y439=\"X\"),1,0)","v":0},null,{"$f":"IF(AND('Step 2 - Ornamental'!$AB$19=\"X\",AA439=\"X\"),1,0)","v":0},null,{"$f":"IF(AND('Step 2 - Ornamental'!$AC$19=\"X\",AC439=\"X\"),1,0)","v":0},null,{"$f":"IF(AND('Step 2 - Ornamental'!$AA$20=\"X\",AE439=\"X\"),1,0)","v":0},"X",{"$f":"IF(AND('Step 2 - Ornamental'!$AA$20=\"X\",AG439=\"X\"),1,0)","v":0},null,{"$f":"IF(AND('Step 2 - Ornamental'!$AB$20=\"X\",AI439=\"X\"),1,0)","v":0},null,{"$f":"IF(AND('Step 2 - Ornamental'!$AC$20=\"X\",AK439=\"X\"),1,0)","v":0},null,{"$f":"IF(AND('Step 2 - Ornamental'!$AA$18=\"X\",AM439=\"X\"),1,0)","v":0},"X",{"$f":"IF(AND('Step 2 - Ornamental'!$AB$18=\"X\",AO439=\"X\"),1,0)","v":0},null,{"$f":"IF(AND('Step 2 - Ornamental'!$AC$18=\"X\",AQ439=\"X\"),1,0)","v":0},null,{"$f":"IF(AND('Step 2 - Ornamental'!$AD$18=\"X\",AS439=\"X\"),1,0)","v":0},null,{"$f":"IF(AND('Step 2 - Ornamental'!$AE$18=\"X\",AU439=\"X\"),1,0)","v":0},null,{"$f":"IF(AND('Step 2 - Ornamental'!$AA$17=\"X\",AW439=\"X\"),1,0)","v":0},"X",{"$f":"IF(AND('Step 2 - Ornamental'!$AB$17=\"X\",AY439=\"X\"),1,0)","v":0},null,{"$f":"IF(AND('Step 2 - Ornamental'!$AC$17=\"X\",BA439=\"X\"),1,0)","v":0},null,{"$f":"IF(AND('Step 2 - Ornamental'!$AA$22=\"X\",BC439=\"X\"),1,0)","v":0},"X",{"$f":"IF(AND('Step 2 - Ornamental'!$AB$22=\"X\",BE439=\"X\"),1,0)","v":0},"X",{"$f":"IF(AND('Step 2 - Ornamental'!$AC$22=\"X\",BG439=\"X\"),1,0)","v":0},"X",{"$f":"IF(AND('Step 2 - Ornamental'!$AD$22=\"X\",BI439=\"X\"),1,0)","v":0},"X",null,null,null,null,null,"Pastel pink / 6\""]
[null,1,"SM SV","Sempervivum x 'Silverine'","Silverine Hen and Chicks","8\" O.C.","foliage plant, ","X",null,null,"X",null,null,0,null,{"$f":"IF(AND('Step 2 - Ornamental'!$AA$21=\"X\",Q440=\"X\"),1,0)","v":0},null,{"$f":"IF(AND('Step 2 - Ornamental'!$AB$21=\"X\",S440=\"X\"),1,0)","v":0},"X",{"$f":"IF(AND('Step 2 - Ornamental'!$AC$21=\"X\",U440=\"X\"),1,0)","v":0},null,{"$f":"IF(AND('Step 2 - Ornamental'!$AA$19=\"X\",W440=\"X\"),1,0)","v":0},"X",{"$f":"IF(AND('Step 2 - Ornamental'!$AA$19=\"X\",Y440=\"X\"),1,0)","v":0},null,{"$f":"IF(AND('Step 2 - Ornamental'!$AB$19=\"X\",AA440=\"X\"),1,0)","v":0},null,{"$f":"IF(AND('Step 2 - Ornamental'!$AC$19=\"X\",AC440=\"X\"),1,0)","v":0},null,{"$f":"IF(AND('Step 2 - Ornamental'!$AA$20=\"X\",AE440=\"X\"),1,0)","v":0},"X",{"$f":"IF(AND('Step 2 - Ornamental'!$AA$20=\"X\",AG440=\"X\"),1,0)","v":0},null,{"$f":"IF(AND('Step 2 - Ornamental'!$AB$20=\"X\",AI440=\"X\"),1,0)","v":0},null,{"$f":"IF(AND('Step 2 - Ornamental'!$AC$20=\"X\",AK440=\"X\"),1,0)","v":0},null,{"$f":"IF(AND('Step 2 - Ornamental'!$AA$18=\"X\",AM440=\"X\"),1,0)","v":0},"X",{"$f":"IF(AND('Step 2 - Ornamental'!$AB$18=\"X\",AO440=\"X\"),1,0)","v":0},null,{"$f":"IF(AND('Step 2 - Ornamental'!$AC$18=\"X\",AQ440=\"X\"),1,0)","v":0},null,{"$f":"IF(AND('Step 2 - Ornamental'!$AD$18=\"X\",AS440=\"X\"),1,0)","v":0},null,{"$f":"IF(AND('Step 2 - Ornamental'!$AE$18=\"X\",AU440=\"X\"),1,0)","v":0},null,{"$f":"IF(AND('Step 2 - Ornamental'!$AA$17=\"X\",AW440=\"X\"),1,0)","v":0},"X",{"$f":"IF(AND('Step 2 - Ornamental'!$AB$17=\"X\",AY440=\"X\"),1,0)","v":0},null,{"$f":"IF(AND('Step 2 - Ornamental'!$AC$17=\"X\",BA440=\"X\"),1,0)","v":0},null,{"$f":"IF(AND('Step 2 - Ornamental'!$AA$22=\"X\",BC440=\"X\"),1,0)","v":0},"X",{"$f":"IF(AND('Step 2 - Ornamental'!$AB$22=\"X\",BE440=\"X\"),1,0)","v":0},"X",{"$f":"IF(AND('Step 2 - Ornamental'!$AC$22=\"X\",BG440=\"X\"),1,0)","v":0},"X",{"$f":"IF(AND('Step 2 - Ornamental'!$AD$22=\"X\",BI440=\"X\"),1,0)","v":0},"X",null,null,null,null,null,null,"Deep pink / 6\""]
[null,1,"SI TE","Silphium terebinthinaceum","Prairie Dock","24\" O.C.","Dramatic tall yellow flower to 10' and large oval leaves",null,"X","X",null,null,null,0,null,{"$f":"IF(AND('Step 2 - Ornamental'!$AA$21=\"X\",Q441=\"X\"),1,0)","v":0},null,{"$f":"IF(AND('Step 2 - Ornamental'!$AB$21=\"X\",S441=\"X\"),1,0)","v":0},"X",{"$f":"IF(AND('Step 2 - Ornamental'!$AC$21=\"X\",U441=\"X\"),1,0)","v":0},null,{"$f":"IF(AND('Step 2 - Ornamental'!$AA$19=\"X\",W441=\"X\"),1,0)","v":0},"X",{"$f":"IF(AND('Step 2 - Ornamental'!$AA$19=\"X\",Y441=\"X\"),1,0)","v":0},null,{"$f":"IF(AND('Step 2 - Ornamental'!$AB$19=\"X\",AA441=\"X\"),1,0)","v":0},null,{"$f":"IF(AND('Step 2 - Ornamental'!$AC$19=\"X\",AC441=\"X\"),1,0)","v":0},null,{"$f":"IF(AND('Step 2 - Ornamental'!$AA$20=\"X\",AE441=\"X\"),1,0)","v":0},"X",{"$f":"IF(AND('Step 2 - Ornamental'!$AA$20=\"X\",AG441=\"X\"),1,0)","v":0},null,{"$f":"IF(AND('Step 2 - Ornamental'!$AB$20=\"X\",AI441=\"X\"),1,0)","v":0},null,{"$f":"IF(AND('Step 2 - Ornamental'!$AC$20=\"X\",AK441=\"X\"),1,0)","v":0},null,{"$f":"IF(AND('Step 2 - Ornamental'!$AA$18=\"X\",AM441=\"X\"),1,0)","v":0},null,{"$f":"IF(AND('Step 2 - Ornamental'!$AB$18=\"X\",AO441=\"X\"),1,0)","v":0},"X",{"$f":"IF(AND('Step 2 - Ornamental'!$AC$18=\"X\",AQ441=\"X\"),1,0)","v":0},null,{"$f":"IF(AND('Step 2 - Ornamental'!$AD$18=\"X\",AS441=\"X\"),1,0)","v":0},null,{"$f":"IF(AND('Step 2 - Ornamental'!$AE$18=\"X\",AU441=\"X\"),1,0)","v":0},null,{"$f":"IF(AND('Step 2 - Ornamental'!$AA$17=\"X\",AW441=\"X\"),1,0)","v":0},"X",{"$f":"IF(AND('Step 2 - Ornamental'!$AB$17=\"X\",AY441=\"X\"),1,0)","v":0},null,{"$f":"IF(AND('Step 2 - Ornamental'!$AC$17=\"X\",BA441=\"X\"),1,0)","v":0},null,{"$f":"IF(AND('Step 2 - Ornamental'!$AA$22=\"X\",BC441=\"X\"),1,0)","v":0},null,{"$f":"IF(AND('Step 2 - Ornamental'!$AB$22=\"X\",BE441=\"X\"),1,0)","v":0},null,{"$f":"IF(AND('Step 2 - Ornamental'!$AC$22=\"X\",BG441=\"X\"),1,0)","v":0},"X",{"$f":"IF(AND('Step 2 - Ornamental'!$AD$22=\"X\",BI441=\"X\"),1,0)","v":0},"X",null,null,null,null,null,null,"Yellow / 3.0'-10.0'"]
[null,{"$f":"SUM((N442+P442+R442+T442)*(V442+X442+Z442+AB442)*(AD442+AF442+AH442+AJ442)*(AL442+AN442+AP442+AR442+AT442)*(AV442+AX442+AZ442)*(BB442+BD442+BF442+BH442))+1","v":1},"SS AN","Sisyrinchium angustifolium 'Lucerne'","Lucerne Blue-eyed Grass","10\" O.C.","blue flowers May to June to 12\" tall, can self-seed, needs consistently moist soils"," ","X","X",null,null,null,{"$f":"IF(O442=\"X\",1,0)","v":0},null,{"$f":"IF(AND('Step 2 - Ornamental'!$AA$21=\"X\",Q442=\"X\"),1,0)","v":0},null,{"$f":"IF(AND('Step 2 - Ornamental'!$AB$21=\"X\",S442=\"X\"),1,0)","v":0},"X",{"$f":"IF(AND('Step 2 - Ornamental'!$AC$21=\"X\",U442=\"X\"),1,0)","v":0},"X",{"$f":"IF(AND('Step 2 - Ornamental'!$AA$19=\"X\",W442=\"X\"),1,0)","v":0},null,{"$f":"IF(AND('Step 2 - Ornamental'!$AA$19=\"X\",Y442=\"X\"),1,0)","v":0},"X",{"$f":"IF(AND('Step 2 - Ornamental'!$AB$19=\"X\",AA442=\"X\"),1,0)","v":0},"X",{"$f":"IF(AND('Step 2 - Ornamental'!$AC$19=\"X\",AC442=\"X\"),1,0)","v":0},null,{"$f":"IF(AND('Step 2 - Ornamental'!$AA$20=\"X\",AE442=\"X\"),1,0)","v":0},"X",{"$f":"IF(AND('Step 2 - Ornamental'!$AA$20=\"X\",AG442=\"X\"),1,0)","v":0},null,{"$f":"IF(AND('Step 2 - Ornamental'!$AB$20=\"X\",AI442=\"X\"),1,0)","v":0},null,{"$f":"IF(AND('Step 2 - Ornamental'!$AC$20=\"X\",AK442=\"X\"),1,0)","v":0},null,{"$f":"IF(AND('Step 2 - Ornamental'!$AA$18=\"X\",AM442=\"X\"),1,0)","v":0},null,{"$f":"IF(AND('Step 2 - Ornamental'!$AB$18=\"X\",AO442=\"X\"),1,0)","v":0},"X",{"$f":"IF(AND('Step 2 - Ornamental'!$AC$18=\"X\",AQ442=\"X\"),1,0)","v":0},null,{"$f":"IF(AND('Step 2 - Ornamental'!$AD$18=\"X\",AS442=\"X\"),1,0)","v":0},null,{"$f":"IF(AND('Step 2 - Ornamental'!$AE$18=\"X\",AU442=\"X\"),1,0)","v":0},null,{"$f":"IF(AND('Step 2 - Ornamental'!$AA$17=\"X\",AW442=\"X\"),1,0)","v":0},"X",{"$f":"IF(AND('Step 2 - Ornamental'!$AB$17=\"X\",AY442=\"X\"),1,0)","v":0},null,{"$f":"IF(AND('Step 2 - Ornamental'!$AC$17=\"X\",BA442=\"X\"),1,0)","v":0},null,{"$f":"IF(AND('Step 2 - Ornamental'!$AA$22=\"X\",BC442=\"X\"),1,0)","v":0},null,{"$f":"IF(AND('Step 2 - Ornamental'!$AB$22=\"X\",BE442=\"X\"),1,0)","v":0},null,{"$f":"IF(AND('Step 2 - Ornamental'!$AC$22=\"X\",BG442=\"X\"),1,0)","v":0},"X",{"$f":"IF(AND('Step 2 - Ornamental'!$AD$22=\"X\",BI442=\"X\"),1,0)","v":0},"X",null,null,null,null,"Blue / 0.5'-1.0'"]
[null,{"$f":"SUM((N443+P443+R443+T443)*(V443+X443+Z443+AB443)*(AD443+AF443+AH443+AJ443)*(AL443+AN443+AP443+AR443+AT443)*(AV443+AX443+AZ443)*(BB443+BD443+BF443+BH443))+1","v":1},"SM RA","Smilacina racemosa (Maianthemum racemosum)","False Solomon's Seal","24\" O.C.","(36\" tall), white flowers at end of branch in Spring, ",null,"X","X",null,null,null,{"$f":"IF(O443=\"X\",1,0)","v":0},null,{"$f":"IF(AND('Step 2 - Ornamental'!$AA$21=\"X\",Q443=\"X\"),1,0)","v":0},"X",{"$f":"IF(AND('Step 2 - Ornamental'!$AB$21=\"X\",S443=\"X\"),1,0)","v":0},null,{"$f":"IF(AND('Step 2 - Ornamental'!$AC$21=\"X\",U443=\"X\"),1,0)","v":0},null,{"$f":"IF(AND('Step 2 - Ornamental'!$AA$19=\"X\",W443=\"X\"),1,0)","v":0},null,{"$f":"IF(AND('Step 2 - Ornamental'!$AA$19=\"X\",Y443=\"X\"),1,0)","v":0},"X",{"$f":"IF(AND('Step 2 - Ornamental'!$AB$19=\"X\",AA443=\"X\"),1,0)","v":0},null,{"$f":"IF(AND('Step 2 - Ornamental'!$AC$19=\"X\",AC443=\"X\"),1,0)","v":0},null,{"$f":"IF(AND('Step 2 - Ornamental'!$AA$20=\"X\",AE443=\"X\"),1,0)","v":0},null,{"$f":"IF(AND('Step 2 - Ornamental'!$AA$20=\"X\",AG443=\"X\"),1,0)","v":0},"X",{"$f":"IF(AND('Step 2 - Ornamental'!$AB$20=\"X\",AI443=\"X\"),1,0)","v":0},null,{"$f":"IF(AND('Step 2 - Ornamental'!$AC$20=\"X\",AK443=\"X\"),1,0)","v":0},null,{"$f":"IF(AND('Step 2 - Ornamental'!$AA$18=\"X\",AM443=\"X\"),1,0)","v":0},null,{"$f":"IF(AND('Step 2 - Ornamental'!$AB$18=\"X\",AO443=\"X\"),1,0)","v":0},"X",{"$f":"IF(AND('Step 2 - Ornamental'!$AC$18=\"X\",AQ443=\"X\"),1,0)","v":0},null,{"$f":"IF(AND('Step 2 - Ornamental'!$AD$18=\"X\",AS443=\"X\"),1,0)","v":0},null,{"$f":"IF(AND('Step 2 - Ornamental'!$AE$18=\"X\",AU443=\"X\"),1,0)","v":0},null,{"$f":"IF(AND('Step 2 - Ornamental'!$AA$17=\"X\",AW443=\"X\"),1,0)","v":0},null,{"$f":"IF(AND('Step 2 - Ornamental'!$AB$17=\"X\",AY443=\"X\"),1,0)","v":0},"X",{"$f":"IF(AND('Step 2 - Ornamental'!$AC$17=\"X\",BA443=\"X\"),1,0)","v":0},"X",{"$f":"IF(AND('Step 2 - Ornamental'!$AA$22=\"X\",BC443=\"X\"),1,0)","v":0},null,{"$f":"IF(AND('Step 2 - Ornamental'!$AB$22=\"X\",BE443=\"X\"),1,0)","v":0},null,{"$f":"IF(AND('Step 2 - Ornamental'!$AC$22=\"X\",BG443=\"X\"),1,0)","v":0},"X",{"$f":"IF(AND('Step 2 - Ornamental'!$AD$22=\"X\",BI443=\"X\"),1,0)","v":0},"X",null,null,null,"White / 2.0'-3.0'"]
[null,1,"SO SP","Solidago sphacelata 'Golden Fleece'","Golden Fleece Golden Rod","18\" O.C.","Goldenrod for drier/shallow soils, compact (18\" High), tolerates clay soil, yellow flower sprays to late Oct."," ","X",null,"X",null,null,0,null,{"$f":"IF(AND('Step 2 - Ornamental'!$AA$21=\"X\",Q444=\"X\"),1,0)","v":0},"X",{"$f":"IF(AND('Step 2 - Ornamental'!$AB$21=\"X\",S444=\"X\"),1,0)","v":0},"X",{"$f":"IF(AND('Step 2 - Ornamental'!$AC$21=\"X\",U444=\"X\"),1,0)","v":0},"X",{"$f":"IF(AND('Step 2 - Ornamental'!$AA$19=\"X\",W444=\"X\"),1,0)","v":0},null,{"$f":"IF(AND('Step 2 - Ornamental'!$AA$19=\"X\",Y444=\"X\"),1,0)","v":0},"X",{"$f":"IF(AND('Step 2 - Ornamental'!$AB$19=\"X\",AA444=\"X\"),1,0)","v":0},null,{"$f":"IF(AND('Step 2 - Ornamental'!$AC$19=\"X\",AC444=\"X\"),1,0)","v":0},null,{"$f":"IF(AND('Step 2 - Ornamental'!$AA$20=\"X\",AE444=\"X\"),1,0)","v":0},"X",{"$f":"IF(AND('Step 2 - Ornamental'!$AA$20=\"X\",AG444=\"X\"),1,0)","v":0},null,{"$f":"IF(AND('Step 2 - Ornamental'!$AB$20=\"X\",AI444=\"X\"),1,0)","v":0},null,{"$f":"IF(AND('Step 2 - Ornamental'!$AC$20=\"X\",AK444=\"X\"),1,0)","v":0},null,{"$f":"IF(AND('Step 2 - Ornamental'!$AA$18=\"X\",AM444=\"X\"),1,0)","v":0},"X",{"$f":"IF(AND('Step 2 - Ornamental'!$AB$18=\"X\",AO444=\"X\"),1,0)","v":0},"X",{"$f":"IF(AND('Step 2 - Ornamental'!$AC$18=\"X\",AQ444=\"X\"),1,0)","v":0},null,{"$f":"IF(AND('Step 2 - Ornamental'!$AD$18=\"X\",AS444=\"X\"),1,0)","v":0},null,{"$f":"IF(AND('Step 2 - Ornamental'!$AE$18=\"X\",AU444=\"X\"),1,0)","v":0},null,{"$f":"IF(AND('Step 2 - Ornamental'!$AA$17=\"X\",AW444=\"X\"),1,0)","v":0},"X",{"$f":"IF(AND('Step 2 - Ornamental'!$AB$17=\"X\",AY444=\"X\"),1,0)","v":0},null,{"$f":"IF(AND('Step 2 - Ornamental'!$AC$17=\"X\",BA444=\"X\"),1,0)","v":0},null,{"$f":"IF(AND('Step 2 - Ornamental'!$AA$22=\"X\",BC444=\"X\"),1,0)","v":0},null,{"$f":"IF(AND('Step 2 - Ornamental'!$AB$22=\"X\",BE444=\"X\"),1,0)","v":0},"X",{"$f":"IF(AND('Step 2 - Ornamental'!$AC$22=\"X\",BG444=\"X\"),1,0)","v":0},"X",{"$f":"IF(AND('Step 2 - Ornamental'!$AD$22=\"X\",BI444=\"X\"),1,0)","v":0},"X",null,null,null,null,null,null,null,"Yellow / 1.0'-1.5'"]
[null,1,"SO FW","Solidago rugosa 'Fireworks'","Fireworks Goldenrod","30\" O.C.","Goldenrod for moist to wet soils, larger (4' High),horizontal yellow flower sprays to late Oct."," ","X",null,"X",null,null,0,null,{"$f":"IF(AND('Step 2 - Ornamental'!$AA$21=\"X\",Q445=\"X\"),1,0)","v":0},"X",{"$f":"IF(AND('Step 2 - Ornamental'!$AB$21=\"X\",S445=\"X\"),1,0)","v":0},null,{"$f":"IF(AND('Step 2 - Ornamental'!$AC$21=\"X\",U445=\"X\"),1,0)","v":0},null,{"$f":"IF(AND('Step 2 - Ornamental'!$AA$19=\"X\",W445=\"X\"),1,0)","v":0},null,{"$f":"IF(AND('Step 2 - Ornamental'!$AA$19=\"X\",Y445=\"X\"),1,0)","v":0},"X",{"$f":"IF(AND('Step 2 - Ornamental'!$AB$19=\"X\",AA445=\"X\"),1,0)","v":0},null,{"$f":"IF(AND('Step 2 - Ornamental'!$AC$19=\"X\",AC445=\"X\"),1,0)","v":0},null,{"$f":"IF(AND('Step 2 - Ornamental'!$AA$20=\"X\",AE445=\"X\"),1,0)","v":0},"X",{"$f":"IF(AND('Step 2 - Ornamental'!$AA$20=\"X\",AG445=\"X\"),1,0)","v":0},null,{"$f":"IF(AND('Step 2 - Ornamental'!$AB$20=\"X\",AI445=\"X\"),1,0)","v":0},null,{"$f":"IF(AND('Step 2 - Ornamental'!$AC$20=\"X\",AK445=\"X\"),1,0)","v":0},null,{"$f":"IF(AND('Step 2 - Ornamental'!$AA$18=\"X\",AM445=\"X\"),1,0)","v":0},null,{"$f":"IF(AND('Step 2 - Ornamental'!$AB$18=\"X\",AO445=\"X\"),1,0)","v":0},"X",{"$f":"IF(AND('Step 2 - Ornamental'!$AC$18=\"X\",AQ445=\"X\"),1,0)","v":0},"X",{"$f":"IF(AND('Step 2 - Ornamental'!$AD$18=\"X\",AS445=\"X\"),1,0)","v":0},null,{"$f":"IF(AND('Step 2 - Ornamental'!$AE$18=\"X\",AU445=\"X\"),1,0)","v":0},null,{"$f":"IF(AND('Step 2 - Ornamental'!$AA$17=\"X\",AW445=\"X\"),1,0)","v":0},"X",{"$f":"IF(AND('Step 2 - Ornamental'!$AB$17=\"X\",AY445=\"X\"),1,0)","v":0},"X",{"$f":"IF(AND('Step 2 - Ornamental'!$AC$17=\"X\",BA445=\"X\"),1,0)","v":0},null,{"$f":"IF(AND('Step 2 - Ornamental'!$AA$22=\"X\",BC445=\"X\"),1,0)","v":0},null,{"$f":"IF(AND('Step 2 - Ornamental'!$AB$22=\"X\",BE445=\"X\"),1,0)","v":0},null,{"$f":"IF(AND('Step 2 - Ornamental'!$AC$22=\"X\",BG445=\"X\"),1,0)","v":0},"X",{"$f":"IF(AND('Step 2 - Ornamental'!$AD$22=\"X\",BI445=\"X\"),1,0)","v":0},"X",null,null,null,null,null,null,null,null,"Yellow / 2.5'-3.0'"]
[null,1,"SO UL","Solidago ulmifolia","Elm-leaved Goldenrod","18\" O.C.","Goldenrod for part shade, yellow flowers July-Oct.",null,"X","X","X",null,null,1,"X",{"$f":"IF(AND('Step 2 - Ornamental'!$AA$21=\"X\",Q446=\"X\"),1,0)","v":0},null,{"$f":"IF(AND('Step 2 - Ornamental'!$AB$21=\"X\",S446=\"X\"),1,0)","v":0},null,{"$f":"IF(AND('Step 2 - Ornamental'!$AC$21=\"X\",U446=\"X\"),1,0)","v":0},null,{"$f":"IF(AND('Step 2 - Ornamental'!$AA$19=\"X\",W446=\"X\"),1,0)","v":0},null,{"$f":"IF(AND('Step 2 - Ornamental'!$AA$19=\"X\",Y446=\"X\"),1,0)","v":0},"X",{"$f":"IF(AND('Step 2 - Ornamental'!$AB$19=\"X\",AA446=\"X\"),1,0)","v":0},null,{"$f":"IF(AND('Step 2 - Ornamental'!$AC$19=\"X\",AC446=\"X\"),1,0)","v":0},null,{"$f":"IF(AND('Step 2 - Ornamental'!$AA$20=\"X\",AE446=\"X\"),1,0)","v":0},"X",{"$f":"IF(AND('Step 2 - Ornamental'!$AA$20=\"X\",AG446=\"X\"),1,0)","v":0},null,{"$f":"IF(AND('Step 2 - Ornamental'!$AB$20=\"X\",AI446=\"X\"),1,0)","v":0},null,{"$f":"IF(AND('Step 2 - Ornamental'!$AC$20=\"X\",AK446=\"X\"),1,0)","v":0},null,{"$f":"IF(AND('Step 2 - Ornamental'!$AA$18=\"X\",AM446=\"X\"),1,0)","v":0},"X",{"$f":"IF(AND('Step 2 - Ornamental'!$AB$18=\"X\",AO446=\"X\"),1,0)","v":0},"X",{"$f":"IF(AND('Step 2 - Ornamental'!$AC$18=\"X\",AQ446=\"X\"),1,0)","v":0},null,{"$f":"IF(AND('Step 2 - Ornamental'!$AD$18=\"X\",AS446=\"X\"),1,0)","v":0},null,{"$f":"IF(AND('Step 2 - Ornamental'!$AE$18=\"X\",AU446=\"X\"),1,0)","v":0},null,{"$f":"IF(AND('Step 2 - Ornamental'!$AA$17=\"X\",AW446=\"X\"),1,0)","v":0},"X",{"$f":"IF(AND('Step 2 - Ornamental'!$AB$17=\"X\",AY446=\"X\"),1,0)","v":0},"X",{"$f":"IF(AND('Step 2 - Ornamental'!$AC$17=\"X\",BA446=\"X\"),1,0)","v":0},null,{"$f":"IF(AND('Step 2 - Ornamental'!$AA$22=\"X\",BC446=\"X\"),1,0)","v":0},null,{"$f":"IF(AND('Step 2 - Ornamental'!$AB$22=\"X\",BE446=\"X\"),1,0)","v":0},null,{"$f":"IF(AND('Step 2 - Ornamental'!$AC$22=\"X\",BG446=\"X\"),1,0)","v":0},"X",{"$f":"IF(AND('Step 2 - Ornamental'!$AD$22=\"X\",BI446=\"X\"),1,0)","v":0},"X",null,null,null,null,null,null,"Yellow / 1.0'-3.0'"]
[null,1,"SO WM","Solidago 'Wichita Mountains'","Witchita Mountains Goldenrod","24\" O.C.","Goldenrod for dry soils - good drought tolerance, upright flower plumes, ","X",null,null,"X",null,null,0,null,{"$f":"IF(AND('Step 2 - Ornamental'!$AA$21=\"X\",Q447=\"X\"),1,0)","v":0},"X",{"$f":"IF(AND('Step 2 - Ornamental'!$AB$21=\"X\",S447=\"X\"),1,0)","v":0},"X",{"$f":"IF(AND('Step 2 - Ornamental'!$AC$21=\"X\",U447=\"X\"),1,0)","v":0},"X",{"$f":"IF(AND('Step 2 - Ornamental'!$AA$19=\"X\",W447=\"X\"),1,0)","v":0},null,{"$f":"IF(AND('Step 2 - Ornamental'!$AA$19=\"X\",Y447=\"X\"),1,0)","v":0},"X",{"$f":"IF(AND('Step 2 - Ornamental'!$AB$19=\"X\",AA447=\"X\"),1,0)","v":0},null,{"$f":"IF(AND('Step 2 - Ornamental'!$AC$19=\"X\",AC447=\"X\"),1,0)","v":0},null,{"$f":"IF(AND('Step 2 - Ornamental'!$AA$20=\"X\",AE447=\"X\"),1,0)","v":0},"X",{"$f":"IF(AND('Step 2 - Ornamental'!$AA$20=\"X\",AG447=\"X\"),1,0)","v":0},null,{"$f":"IF(AND('Step 2 - Ornamental'!$AB$20=\"X\",AI447=\"X\"),1,0)","v":0},null,{"$f":"IF(AND('Step 2 - Ornamental'!$AC$20=\"X\",AK447=\"X\"),1,0)","v":0},null,{"$f":"IF(AND('Step 2 - Ornamental'!$AA$18=\"X\",AM447=\"X\"),1,0)","v":0},"X",{"$f":"IF(AND('Step 2 - Ornamental'!$AB$18=\"X\",AO447=\"X\"),1,0)","v":0},"X",{"$f":"IF(AND('Step 2 - Ornamental'!$AC$18=\"X\",AQ447=\"X\"),1,0)","v":0},null,{"$f":"IF(AND('Step 2 - Ornamental'!$AD$18=\"X\",AS447=\"X\"),1,0)","v":0},null,{"$f":"IF(AND('Step 2 - Ornamental'!$AE$18=\"X\",AU447=\"X\"),1,0)","v":0},null,{"$f":"IF(AND('Step 2 - Ornamental'!$AA$17=\"X\",AW447=\"X\"),1,0)","v":0},"X",{"$f":"IF(AND('Step 2 - Ornamental'!$AB$17=\"X\",AY447=\"X\"),1,0)","v":0},null,{"$f":"IF(AND('Step 2 - Ornamental'!$AC$17=\"X\",BA447=\"X\"),1,0)","v":0},null,{"$f":"IF(AND('Step 2 - Ornamental'!$AA$22=\"X\",BC447=\"X\"),1,0)","v":0},null,{"$f":"IF(AND('Step 2 - Ornamental'!$AB$22=\"X\",BE447=\"X\"),1,0)","v":0},null,{"$f":"IF(AND('Step 2 - Ornamental'!$AC$22=\"X\",BG447=\"X\"),1,0)","v":0},"X",{"$f":"IF(AND('Step 2 - Ornamental'!$AD$22=\"X\",BI447=\"X\"),1,0)","v":0},"X",null,null,null,null,null,null,null,null,"Yellow / 2.0'-3.0'"]
[null,1,"ST BY","Stachys byzantina 'Helene Von Stein'","Lamb's Ears","18\" O.C.","largest lamb's ears cultivar, ","X",null,null,"X","X",null,0,null,{"$f":"IF(AND('Step 2 - Ornamental'!$AA$21=\"X\",Q448=\"X\"),1,0)","v":0},"X",{"$f":"IF(AND('Step 2 - Ornamental'!$AB$21=\"X\",S448=\"X\"),1,0)","v":0},"X",{"$f":"IF(AND('Step 2 - Ornamental'!$AC$21=\"X\",U448=\"X\"),1,0)","v":0},"X",{"$f":"IF(AND('Step 2 - Ornamental'!$AA$19=\"X\",W448=\"X\"),1,0)","v":0},null,{"$f":"IF(AND('Step 2 - Ornamental'!$AA$19=\"X\",Y448=\"X\"),1,0)","v":0},"X",{"$f":"IF(AND('Step 2 - Ornamental'!$AB$19=\"X\",AA448=\"X\"),1,0)","v":0},null,{"$f":"IF(AND('Step 2 - Ornamental'!$AC$19=\"X\",AC448=\"X\"),1,0)","v":0},null,{"$f":"IF(AND('Step 2 - Ornamental'!$AA$20=\"X\",AE448=\"X\"),1,0)","v":0},"X",{"$f":"IF(AND('Step 2 - Ornamental'!$AA$20=\"X\",AG448=\"X\"),1,0)","v":0},null,{"$f":"IF(AND('Step 2 - Ornamental'!$AB$20=\"X\",AI448=\"X\"),1,0)","v":0},null,{"$f":"IF(AND('Step 2 - Ornamental'!$AC$20=\"X\",AK448=\"X\"),1,0)","v":0},null,{"$f":"IF(AND('Step 2 - Ornamental'!$AA$18=\"X\",AM448=\"X\"),1,0)","v":0},"X",{"$f":"IF(AND('Step 2 - Ornamental'!$AB$18=\"X\",AO448=\"X\"),1,0)","v":0},"X",{"$f":"IF(AND('Step 2 - Ornamental'!$AC$18=\"X\",AQ448=\"X\"),1,0)","v":0},null,{"$f":"IF(AND('Step 2 - Ornamental'!$AD$18=\"X\",AS448=\"X\"),1,0)","v":0},null,{"$f":"IF(AND('Step 2 - Ornamental'!$AE$18=\"X\",AU448=\"X\"),1,0)","v":0},null,{"$f":"IF(AND('Step 2 - Ornamental'!$AA$17=\"X\",AW448=\"X\"),1,0)","v":0},"X",{"$f":"IF(AND('Step 2 - Ornamental'!$AB$17=\"X\",AY448=\"X\"),1,0)","v":0},null,{"$f":"IF(AND('Step 2 - Ornamental'!$AC$17=\"X\",BA448=\"X\"),1,0)","v":0},null,{"$f":"IF(AND('Step 2 - Ornamental'!$AA$22=\"X\",BC448=\"X\"),1,0)","v":0},"X",{"$f":"IF(AND('Step 2 - Ornamental'!$AB$22=\"X\",BE448=\"X\"),1,0)","v":0},"X",{"$f":"IF(AND('Step 2 - Ornamental'!$AC$22=\"X\",BG448=\"X\"),1,0)","v":0},"X",{"$f":"IF(AND('Step 2 - Ornamental'!$AD$22=\"X\",BI448=\"X\"),1,0)","v":0},"X",null,null,null,null,null,null,null,"RARE / 0.5'"]
[null,1,"ST CC","Stachys officinalis 'Pink Cotton Candy'","Pink Cotton Candy Betony","18\" O.C.","Variety introduced at Chicago Botanic Garden, two-toned pink flowers to 24\" tall in Jun-Aug","X",null,null,"X",null,null,0,null,{"$f":"IF(AND('Step 2 - Ornamental'!$AA$21=\"X\",Q449=\"X\"),1,0)","v":0},"X",{"$f":"IF(AND('Step 2 - Ornamental'!$AB$21=\"X\",S449=\"X\"),1,0)","v":0},"X",{"$f":"IF(AND('Step 2 - Ornamental'!$AC$21=\"X\",U449=\"X\"),1,0)","v":0},"X",{"$f":"IF(AND('Step 2 - Ornamental'!$AA$19=\"X\",W449=\"X\"),1,0)","v":0},null,{"$f":"IF(AND('Step 2 - Ornamental'!$AA$19=\"X\",Y449=\"X\"),1,0)","v":0},"X",{"$f":"IF(AND('Step 2 - Ornamental'!$AB$19=\"X\",AA449=\"X\"),1,0)","v":0},null,{"$f":"IF(AND('Step 2 - Ornamental'!$AC$19=\"X\",AC449=\"X\"),1,0)","v":0},null,{"$f":"IF(AND('Step 2 - Ornamental'!$AA$20=\"X\",AE449=\"X\"),1,0)","v":0},"X",{"$f":"IF(AND('Step 2 - Ornamental'!$AA$20=\"X\",AG449=\"X\"),1,0)","v":0},null,{"$f":"IF(AND('Step 2 - Ornamental'!$AB$20=\"X\",AI449=\"X\"),1,0)","v":0},null,{"$f":"IF(AND('Step 2 - Ornamental'!$AC$20=\"X\",AK449=\"X\"),1,0)","v":0},null,{"$f":"IF(AND('Step 2 - Ornamental'!$AA$18=\"X\",AM449=\"X\"),1,0)","v":0},"X",{"$f":"IF(AND('Step 2 - Ornamental'!$AB$18=\"X\",AO449=\"X\"),1,0)","v":0},"X",{"$f":"IF(AND('Step 2 - Ornamental'!$AC$18=\"X\",AQ449=\"X\"),1,0)","v":0},null,{"$f":"IF(AND('Step 2 - Ornamental'!$AD$18=\"X\",AS449=\"X\"),1,0)","v":0},null,{"$f":"IF(AND('Step 2 - Ornamental'!$AE$18=\"X\",AU449=\"X\"),1,0)","v":0},null,{"$f":"IF(AND('Step 2 - Ornamental'!$AA$17=\"X\",AW449=\"X\"),1,0)","v":0},"X",{"$f":"IF(AND('Step 2 - Ornamental'!$AB$17=\"X\",AY449=\"X\"),1,0)","v":0},null,{"$f":"IF(AND('Step 2 - Ornamental'!$AC$17=\"X\",BA449=\"X\"),1,0)","v":0},null,{"$f":"IF(AND('Step 2 - Ornamental'!$AA$22=\"X\",BC449=\"X\"),1,0)","v":0},null,{"$f":"IF(AND('Step 2 - Ornamental'!$AB$22=\"X\",BE449=\"X\"),1,0)","v":0},null,{"$f":"IF(AND('Step 2 - Ornamental'!$AC$22=\"X\",BG449=\"X\"),1,0)","v":0},"X",{"$f":"IF(AND('Step 2 - Ornamental'!$AD$22=\"X\",BI449=\"X\"),1,0)","v":0},"X",null,null,null,null,null,"Cotton Candy / 1.5'-2.0'"]
[null,1,"ST HM","Stachys officinalis 'hummelo'","Hummelo Betony","18\" O.C.","Violet flowers to 18\" in Jun-Aug ","X",null,null,"X",null,null,0,null,{"$f":"IF(AND('Step 2 - Ornamental'!$AA$21=\"X\",Q450=\"X\"),1,0)","v":0},"X",{"$f":"IF(AND('Step 2 - Ornamental'!$AB$21=\"X\",S450=\"X\"),1,0)","v":0},"X",{"$f":"IF(AND('Step 2 - Ornamental'!$AC$21=\"X\",U450=\"X\"),1,0)","v":0},"X",{"$f":"IF(AND('Step 2 - Ornamental'!$AA$19=\"X\",W450=\"X\"),1,0)","v":0},null,{"$f":"IF(AND('Step 2 - Ornamental'!$AA$19=\"X\",Y450=\"X\"),1,0)","v":0},"X",{"$f":"IF(AND('Step 2 - Ornamental'!$AB$19=\"X\",AA450=\"X\"),1,0)","v":0},null,{"$f":"IF(AND('Step 2 - Ornamental'!$AC$19=\"X\",AC450=\"X\"),1,0)","v":0},null,{"$f":"IF(AND('Step 2 - Ornamental'!$AA$20=\"X\",AE450=\"X\"),1,0)","v":0},"X",{"$f":"IF(AND('Step 2 - Ornamental'!$AA$20=\"X\",AG450=\"X\"),1,0)","v":0},null,{"$f":"IF(AND('Step 2 - Ornamental'!$AB$20=\"X\",AI450=\"X\"),1,0)","v":0},null,{"$f":"IF(AND('Step 2 - Ornamental'!$AC$20=\"X\",AK450=\"X\"),1,0)","v":0},null,{"$f":"IF(AND('Step 2 - Ornamental'!$AA$18=\"X\",AM450=\"X\"),1,0)","v":0},null,{"$f":"IF(AND('Step 2 - Ornamental'!$AB$18=\"X\",AO450=\"X\"),1,0)","v":0},"X",{"$f":"IF(AND('Step 2 - Ornamental'!$AC$18=\"X\",AQ450=\"X\"),1,0)","v":0},"X",{"$f":"IF(AND('Step 2 - Ornamental'!$AD$18=\"X\",AS450=\"X\"),1,0)","v":0},null,{"$f":"IF(AND('Step 2 - Ornamental'!$AE$18=\"X\",AU450=\"X\"),1,0)","v":0},null,{"$f":"IF(AND('Step 2 - Ornamental'!$AA$17=\"X\",AW450=\"X\"),1,0)","v":0},"X",{"$f":"IF(AND('Step 2 - Ornamental'!$AB$17=\"X\",AY450=\"X\"),1,0)","v":0},null,{"$f":"IF(AND('Step 2 - Ornamental'!$AC$17=\"X\",BA450=\"X\"),1,0)","v":0},null,{"$f":"IF(AND('Step 2 - Ornamental'!$AA$22=\"X\",BC450=\"X\"),1,0)","v":0},null,{"$f":"IF(AND('Step 2 - Ornamental'!$AB$22=\"X\",BE450=\"X\"),1,0)","v":0},null,{"$f":"IF(AND('Step 2 - Ornamental'!$AC$22=\"X\",BG450=\"X\"),1,0)","v":0},"X",{"$f":"IF(AND('Step 2 - Ornamental'!$AD$22=\"X\",BI450=\"X\"),1,0)","v":0},"X",null,null,null,null,null,null,"Rose Lavender / 1.5'-2.0'"]
[null,1,"ST RO","Stachys officinalis 'Rosea'","Rosea Betony","24\" O.C.","Pink flowers to 24\" in Jun-Aug","X",null,null,"X",null,null,0,null,{"$f":"IF(AND('Step 2 - Ornamental'!$AA$21=\"X\",Q451=\"X\"),1,0)","v":0},"X",{"$f":"IF(AND('Step 2 - Ornamental'!$AB$21=\"X\",S451=\"X\"),1,0)","v":0},"X",{"$f":"IF(AND('Step 2 - Ornamental'!$AC$21=\"X\",U451=\"X\"),1,0)","v":0},"X",{"$f":"IF(AND('Step 2 - Ornamental'!$AA$19=\"X\",W451=\"X\"),1,0)","v":0},null,{"$f":"IF(AND('Step 2 - Ornamental'!$AA$19=\"X\",Y451=\"X\"),1,0)","v":0},"X",{"$f":"IF(AND('Step 2 - Ornamental'!$AB$19=\"X\",AA451=\"X\"),1,0)","v":0},null,{"$f":"IF(AND('Step 2 - Ornamental'!$AC$19=\"X\",AC451=\"X\"),1,0)","v":0},null,{"$f":"IF(AND('Step 2 - Ornamental'!$AA$20=\"X\",AE451=\"X\"),1,0)","v":0},"X",{"$f":"IF(AND('Step 2 - Ornamental'!$AA$20=\"X\",AG451=\"X\"),1,0)","v":0},null,{"$f":"IF(AND('Step 2 - Ornamental'!$AB$20=\"X\",AI451=\"X\"),1,0)","v":0},null,{"$f":"IF(AND('Step 2 - Ornamental'!$AC$20=\"X\",AK451=\"X\"),1,0)","v":0},null,{"$f":"IF(AND('Step 2 - Ornamental'!$AA$18=\"X\",AM451=\"X\"),1,0)","v":0},null,{"$f":"IF(AND('Step 2 - Ornamental'!$AB$18=\"X\",AO451=\"X\"),1,0)","v":0},"X",{"$f":"IF(AND('Step 2 - Ornamental'!$AC$18=\"X\",AQ451=\"X\"),1,0)","v":0},"X",{"$f":"IF(AND('Step 2 - Ornamental'!$AD$18=\"X\",AS451=\"X\"),1,0)","v":0},null,{"$f":"IF(AND('Step 2 - Ornamental'!$AE$18=\"X\",AU451=\"X\"),1,0)","v":0},null,{"$f":"IF(AND('Step 2 - Ornamental'!$AA$17=\"X\",AW451=\"X\"),1,0)","v":0},"X",{"$f":"IF(AND('Step 2 - Ornamental'!$AB$17=\"X\",AY451=\"X\"),1,0)","v":0},null,{"$f":"IF(AND('Step 2 - Ornamental'!$AC$17=\"X\",BA451=\"X\"),1,0)","v":0},null,{"$f":"IF(AND('Step 2 - Ornamental'!$AA$22=\"X\",BC451=\"X\"),1,0)","v":0},null,{"$f":"IF(AND('Step 2 - Ornamental'!$AB$22=\"X\",BE451=\"X\"),1,0)","v":0},null,{"$f":"IF(AND('Step 2 - Ornamental'!$AC$22=\"X\",BG451=\"X\"),1,0)","v":0},"X",{"$f":"IF(AND('Step 2 - Ornamental'!$AD$22=\"X\",BI451=\"X\"),1,0)","v":0},"X",null,null,null,null,null,"Rose-Pink / 1.0'-2.0' "]
[null,1,"ST MI","Stachys minima (Stachys spathulata)","Minima Betony","12\" O.C.","pink-purple flowers, shorter than Hummelo (6\" tall), ","X",null,null,"X","X",null,1,"X",{"$f":"IF(AND('Step 2 - Ornamental'!$AA$21=\"X\",Q452=\"X\"),1,0)","v":0},null,{"$f":"IF(AND('Step 2 - Ornamental'!$AB$21=\"X\",S452=\"X\"),1,0)","v":0},null,{"$f":"IF(AND('Step 2 - Ornamental'!$AC$21=\"X\",U452=\"X\"),1,0)","v":0},null,{"$f":"IF(AND('Step 2 - Ornamental'!$AA$19=\"X\",W452=\"X\"),1,0)","v":0},null,{"$f":"IF(AND('Step 2 - Ornamental'!$AA$19=\"X\",Y452=\"X\"),1,0)","v":0},"X",{"$f":"IF(AND('Step 2 - Ornamental'!$AB$19=\"X\",AA452=\"X\"),1,0)","v":0},null,{"$f":"IF(AND('Step 2 - Ornamental'!$AC$19=\"X\",AC452=\"X\"),1,0)","v":0},null,{"$f":"IF(AND('Step 2 - Ornamental'!$AA$20=\"X\",AE452=\"X\"),1,0)","v":0},"X",{"$f":"IF(AND('Step 2 - Ornamental'!$AA$20=\"X\",AG452=\"X\"),1,0)","v":0},null,{"$f":"IF(AND('Step 2 - Ornamental'!$AB$20=\"X\",AI452=\"X\"),1,0)","v":0},null,{"$f":"IF(AND('Step 2 - Ornamental'!$AC$20=\"X\",AK452=\"X\"),1,0)","v":0},null,{"$f":"IF(AND('Step 2 - Ornamental'!$AA$18=\"X\",AM452=\"X\"),1,0)","v":0},null,{"$f":"IF(AND('Step 2 - Ornamental'!$AB$18=\"X\",AO452=\"X\"),1,0)","v":0},"X",{"$f":"IF(AND('Step 2 - Ornamental'!$AC$18=\"X\",AQ452=\"X\"),1,0)","v":0},null,{"$f":"IF(AND('Step 2 - Ornamental'!$AD$18=\"X\",AS452=\"X\"),1,0)","v":0},null,{"$f":"IF(AND('Step 2 - Ornamental'!$AE$18=\"X\",AU452=\"X\"),1,0)","v":0},null,{"$f":"IF(AND('Step 2 - Ornamental'!$AA$17=\"X\",AW452=\"X\"),1,0)","v":0},"X",{"$f":"IF(AND('Step 2 - Ornamental'!$AB$17=\"X\",AY452=\"X\"),1,0)","v":0},null,{"$f":"IF(AND('Step 2 - Ornamental'!$AC$17=\"X\",BA452=\"X\"),1,0)","v":0},null,{"$f":"IF(AND('Step 2 - Ornamental'!$AA$22=\"X\",BC452=\"X\"),1,0)","v":0},null,{"$f":"IF(AND('Step 2 - Ornamental'!$AB$22=\"X\",BE452=\"X\"),1,0)","v":0},null,{"$f":"IF(AND('Step 2 - Ornamental'!$AC$22=\"X\",BG452=\"X\"),1,0)","v":0},"X",{"$f":"IF(AND('Step 2 - Ornamental'!$AD$22=\"X\",BI452=\"X\"),1,0)","v":0},"X",null,null,null,null,null,"Pink to Purple / 0.5'-0.75'"]
[null,1,"TH AQ","Thalictrum aquilegifolium","Columbine Meadow Rue","24\" O.C.","Late spring delicate flowers, needs rich soil and dappled shade","X",null,null,"X",null,null,0,null,{"$f":"IF(AND('Step 2 - Ornamental'!$AA$21=\"X\",Q453=\"X\"),1,0)","v":0},"X",{"$f":"IF(AND('Step 2 - Ornamental'!$AB$21=\"X\",S453=\"X\"),1,0)","v":0},null,{"$f":"IF(AND('Step 2 - Ornamental'!$AC$21=\"X\",U453=\"X\"),1,0)","v":0},null,{"$f":"IF(AND('Step 2 - Ornamental'!$AA$19=\"X\",W453=\"X\"),1,0)","v":0},"X",{"$f":"IF(AND('Step 2 - Ornamental'!$AA$19=\"X\",Y453=\"X\"),1,0)","v":0},null,{"$f":"IF(AND('Step 2 - Ornamental'!$AB$19=\"X\",AA453=\"X\"),1,0)","v":0},null,{"$f":"IF(AND('Step 2 - Ornamental'!$AC$19=\"X\",AC453=\"X\"),1,0)","v":0},null,{"$f":"IF(AND('Step 2 - Ornamental'!$AA$20=\"X\",AE453=\"X\"),1,0)","v":0},"X",{"$f":"IF(AND('Step 2 - Ornamental'!$AA$20=\"X\",AG453=\"X\"),1,0)","v":0},null,{"$f":"IF(AND('Step 2 - Ornamental'!$AB$20=\"X\",AI453=\"X\"),1,0)","v":0},null,{"$f":"IF(AND('Step 2 - Ornamental'!$AC$20=\"X\",AK453=\"X\"),1,0)","v":0},null,{"$f":"IF(AND('Step 2 - Ornamental'!$AA$18=\"X\",AM453=\"X\"),1,0)","v":0},null,{"$f":"IF(AND('Step 2 - Ornamental'!$AB$18=\"X\",AO453=\"X\"),1,0)","v":0},"X",{"$f":"IF(AND('Step 2 - Ornamental'!$AC$18=\"X\",AQ453=\"X\"),1,0)","v":0},null,{"$f":"IF(AND('Step 2 - Ornamental'!$AD$18=\"X\",AS453=\"X\"),1,0)","v":0},null,{"$f":"IF(AND('Step 2 - Ornamental'!$AE$18=\"X\",AU453=\"X\"),1,0)","v":0},null,{"$f":"IF(AND('Step 2 - Ornamental'!$AA$17=\"X\",AW453=\"X\"),1,0)","v":0},null,{"$f":"IF(AND('Step 2 - Ornamental'!$AB$17=\"X\",AY453=\"X\"),1,0)","v":0},"X",{"$f":"IF(AND('Step 2 - Ornamental'!$AC$17=\"X\",BA453=\"X\"),1,0)","v":0},null,{"$f":"IF(AND('Step 2 - Ornamental'!$AA$22=\"X\",BC453=\"X\"),1,0)","v":0},null,{"$f":"IF(AND('Step 2 - Ornamental'!$AB$22=\"X\",BE453=\"X\"),1,0)","v":0},null,{"$f":"IF(AND('Step 2 - Ornamental'!$AC$22=\"X\",BG453=\"X\"),1,0)","v":0},"X",{"$f":"IF(AND('Step 2 - Ornamental'!$AD$22=\"X\",BI453=\"X\"),1,0)","v":0},"X",null,null,null,null,"Lilac Purple / 2.0'-3.0'"]
[null,1,"TH DI","Thalictrum dioicum","Early Meadow Rue","18\" O.C.","lacy, gray-green compound foliage, ",null,"X","X","X",null,null,0,null,{"$f":"IF(AND('Step 2 - Ornamental'!$AA$21=\"X\",Q454=\"X\"),1,0)","v":0},"X",{"$f":"IF(AND('Step 2 - Ornamental'!$AB$21=\"X\",S454=\"X\"),1,0)","v":0},"X",{"$f":"IF(AND('Step 2 - Ornamental'!$AC$21=\"X\",U454=\"X\"),1,0)","v":0},null,{"$f":"IF(AND('Step 2 - Ornamental'!$AA$19=\"X\",W454=\"X\"),1,0)","v":0},"X",{"$f":"IF(AND('Step 2 - Ornamental'!$AA$19=\"X\",Y454=\"X\"),1,0)","v":0},null,{"$f":"IF(AND('Step 2 - Ornamental'!$AB$19=\"X\",AA454=\"X\"),1,0)","v":0},null,{"$f":"IF(AND('Step 2 - Ornamental'!$AC$19=\"X\",AC454=\"X\"),1,0)","v":0},null,{"$f":"IF(AND('Step 2 - Ornamental'!$AA$20=\"X\",AE454=\"X\"),1,0)","v":0},"X",{"$f":"IF(AND('Step 2 - Ornamental'!$AA$20=\"X\",AG454=\"X\"),1,0)","v":0},null,{"$f":"IF(AND('Step 2 - Ornamental'!$AB$20=\"X\",AI454=\"X\"),1,0)","v":0},null,{"$f":"IF(AND('Step 2 - Ornamental'!$AC$20=\"X\",AK454=\"X\"),1,0)","v":0},null,{"$f":"IF(AND('Step 2 - Ornamental'!$AA$18=\"X\",AM454=\"X\"),1,0)","v":0},null,{"$f":"IF(AND('Step 2 - Ornamental'!$AB$18=\"X\",AO454=\"X\"),1,0)","v":0},"X",{"$f":"IF(AND('Step 2 - Ornamental'!$AC$18=\"X\",AQ454=\"X\"),1,0)","v":0},null,{"$f":"IF(AND('Step 2 - Ornamental'!$AD$18=\"X\",AS454=\"X\"),1,0)","v":0},null,{"$f":"IF(AND('Step 2 - Ornamental'!$AE$18=\"X\",AU454=\"X\"),1,0)","v":0},null,{"$f":"IF(AND('Step 2 - Ornamental'!$AA$17=\"X\",AW454=\"X\"),1,0)","v":0},"X",{"$f":"IF(AND('Step 2 - Ornamental'!$AB$17=\"X\",AY454=\"X\"),1,0)","v":0},"X",{"$f":"IF(AND('Step 2 - Ornamental'!$AC$17=\"X\",BA454=\"X\"),1,0)","v":0},null,{"$f":"IF(AND('Step 2 - Ornamental'!$AA$22=\"X\",BC454=\"X\"),1,0)","v":0},null,{"$f":"IF(AND('Step 2 - Ornamental'!$AB$22=\"X\",BE454=\"X\"),1,0)","v":0},null,{"$f":"IF(AND('Step 2 - Ornamental'!$AC$22=\"X\",BG454=\"X\"),1,0)","v":0},"X",{"$f":"IF(AND('Step 2 - Ornamental'!$AD$22=\"X\",BI454=\"X\"),1,0)","v":0},"X",null,null,null,"Green White w Purple tinge / 1.0'-2.0'"]
[null,{"$f":"SUM((N455+P455+R455+T455)*(V455+X455+Z455+AB455)*(AD455+AF455+AH455+AJ455)*(AL455+AN455+AP455+AR455+AT455)*(AV455+AX455+AZ455)*(BB455+BD455+BF455+BH455))+1","v":1},"TH RO","Thalictrum rochebrunianum","Lavender mist meadow rue","24\" O.C.","Airy lavender-purple flowers in July-Sept","X",null,null,"X","X",null,0,null,{"$f":"IF(AND('Step 2 - Ornamental'!$AA$21=\"X\",Q455=\"X\"),1,0)","v":0},"X",{"$f":"IF(AND('Step 2 - Ornamental'!$AB$21=\"X\",S455=\"X\"),1,0)","v":0},"X",{"$f":"IF(AND('Step 2 - Ornamental'!$AC$21=\"X\",U455=\"X\"),1,0)","v":0},null,{"$f":"IF(AND('Step 2 - Ornamental'!$AA$19=\"X\",W455=\"X\"),1,0)","v":0},"X",{"$f":"IF(AND('Step 2 - Ornamental'!$AA$19=\"X\",Y455=\"X\"),1,0)","v":0},null,{"$f":"IF(AND('Step 2 - Ornamental'!$AB$19=\"X\",AA455=\"X\"),1,0)","v":0},null,{"$f":"IF(AND('Step 2 - Ornamental'!$AC$19=\"X\",AC455=\"X\"),1,0)","v":0},null,{"$f":"IF(AND('Step 2 - Ornamental'!$AA$20=\"X\",AE455=\"X\"),1,0)","v":0},"X",{"$f":"IF(AND('Step 2 - Ornamental'!$AA$20=\"X\",AG455=\"X\"),1,0)","v":0},null,{"$f":"IF(AND('Step 2 - Ornamental'!$AB$20=\"X\",AI455=\"X\"),1,0)","v":0},null,{"$f":"IF(AND('Step 2 - Ornamental'!$AC$20=\"X\",AK455=\"X\"),1,0)","v":0},null,{"$f":"IF(AND('Step 2 - Ornamental'!$AA$18=\"X\",AM455=\"X\"),1,0)","v":0},null,{"$f":"IF(AND('Step 2 - Ornamental'!$AB$18=\"X\",AO455=\"X\"),1,0)","v":0},"X",{"$f":"IF(AND('Step 2 - Ornamental'!$AC$18=\"X\",AQ455=\"X\"),1,0)","v":0},null,{"$f":"IF(AND('Step 2 - Ornamental'!$AD$18=\"X\",AS455=\"X\"),1,0)","v":0},null,{"$f":"IF(AND('Step 2 - Ornamental'!$AE$18=\"X\",AU455=\"X\"),1,0)","v":0},null,{"$f":"IF(AND('Step 2 - Ornamental'!$AA$17=\"X\",AW455=\"X\"),1,0)","v":0},"X",{"$f":"IF(AND('Step 2 - Ornamental'!$AB$17=\"X\",AY455=\"X\"),1,0)","v":0},"X",{"$f":"IF(AND('Step 2 - Ornamental'!$AC$17=\"X\",BA455=\"X\"),1,0)","v":0},null,{"$f":"IF(AND('Step 2 - Ornamental'!$AA$22=\"X\",BC455=\"X\"),1,0)","v":0},null,{"$f":"IF(AND('Step 2 - Ornamental'!$AB$22=\"X\",BE455=\"X\"),1,0)","v":0},null,{"$f":"IF(AND('Step 2 - Ornamental'!$AC$22=\"X\",BG455=\"X\"),1,0)","v":0},"X",{"$f":"IF(AND('Step 2 - Ornamental'!$AD$22=\"X\",BI455=\"X\"),1,0)","v":0},"X",null,null,null,null,null,null,"Lavender Purple / 4.0'-6.0'"]
[null,1,"TH TH","Thalictrum thalictroides (Anemonella thalictroides)","Rue Anemone","8\" O.C.","spring ephemeral",null,"X","X",null,null,null,0,null,{"$f":"IF(AND('Step 2 - Ornamental'!$AA$21=\"X\",Q456=\"X\"),1,0)","v":0},"X",{"$f":"IF(AND('Step 2 - Ornamental'!$AB$21=\"X\",S456=\"X\"),1,0)","v":0},null,{"$f":"IF(AND('Step 2 - Ornamental'!$AC$21=\"X\",U456=\"X\"),1,0)","v":0},null,{"$f":"IF(AND('Step 2 - Ornamental'!$AA$19=\"X\",W456=\"X\"),1,0)","v":0},"X",{"$f":"IF(AND('Step 2 - Ornamental'!$AA$19=\"X\",Y456=\"X\"),1,0)","v":0},null,{"$f":"IF(AND('Step 2 - Ornamental'!$AB$19=\"X\",AA456=\"X\"),1,0)","v":0},null,{"$f":"IF(AND('Step 2 - Ornamental'!$AC$19=\"X\",AC456=\"X\"),1,0)","v":0},null,{"$f":"IF(AND('Step 2 - Ornamental'!$AA$20=\"X\",AE456=\"X\"),1,0)","v":0},null,{"$f":"IF(AND('Step 2 - Ornamental'!$AA$20=\"X\",AG456=\"X\"),1,0)","v":0},"X",{"$f":"IF(AND('Step 2 - Ornamental'!$AB$20=\"X\",AI456=\"X\"),1,0)","v":0},"X",{"$f":"IF(AND('Step 2 - Ornamental'!$AC$20=\"X\",AK456=\"X\"),1,0)","v":0},null,{"$f":"IF(AND('Step 2 - Ornamental'!$AA$18=\"X\",AM456=\"X\"),1,0)","v":0}," ",{"$f":"IF(AND('Step 2 - Ornamental'!$AB$18=\"X\",AO456=\"X\"),1,0)","v":0},"X",{"$f":"IF(AND('Step 2 - Ornamental'!$AC$18=\"X\",AQ456=\"X\"),1,0)","v":0},null,{"$f":"IF(AND('Step 2 - Ornamental'!$AD$18=\"X\",AS456=\"X\"),1,0)","v":0},null,{"$f":"IF(AND('Step 2 - Ornamental'!$AE$18=\"X\",AU456=\"X\"),1,0)","v":0},null,{"$f":"IF(AND('Step 2 - Ornamental'!$AA$17=\"X\",AW456=\"X\"),1,0)","v":0},null,{"$f":"IF(AND('Step 2 - Ornamental'!$AB$17=\"X\",AY456=\"X\"),1,0)","v":0},"X",{"$f":"IF(AND('Step 2 - Ornamental'!$AC$17=\"X\",BA456=\"X\"),1,0)","v":0},"X",{"$f":"IF(AND('Step 2 - Ornamental'!$AA$22=\"X\",BC456=\"X\"),1,0)","v":0},null,{"$f":"IF(AND('Step 2 - Ornamental'!$AB$22=\"X\",BE456=\"X\"),1,0)","v":0},null,{"$f":"IF(AND('Step 2 - Ornamental'!$AC$22=\"X\",BG456=\"X\"),1,0)","v":0},"X",{"$f":"IF(AND('Step 2 - Ornamental'!$AD$22=\"X\",BI456=\"X\"),1,0)","v":0},"X",null,null,null,"white / 0.5'-0.75'"]
[null,1,"TH PR","Thymus praecox","Creeping Thyme","6\" O.C.","spreads","X",null,null,"X",null,null,0,null,{"$f":"IF(AND('Step 2 - Ornamental'!$AA$21=\"X\",Q457=\"X\"),1,0)","v":0},null,{"$f":"IF(AND('Step 2 - Ornamental'!$AB$21=\"X\",S457=\"X\"),1,0)","v":0},"X",{"$f":"IF(AND('Step 2 - Ornamental'!$AC$21=\"X\",U457=\"X\"),1,0)","v":0},"X",{"$f":"IF(AND('Step 2 - Ornamental'!$AA$19=\"X\",W457=\"X\"),1,0)","v":0},null,{"$f":"IF(AND('Step 2 - Ornamental'!$AA$19=\"X\",Y457=\"X\"),1,0)","v":0},"X",{"$f":"IF(AND('Step 2 - Ornamental'!$AB$19=\"X\",AA457=\"X\"),1,0)","v":0},null,{"$f":"IF(AND('Step 2 - Ornamental'!$AC$19=\"X\",AC457=\"X\"),1,0)","v":0},null,{"$f":"IF(AND('Step 2 - Ornamental'!$AA$20=\"X\",AE457=\"X\"),1,0)","v":0},"X",{"$f":"IF(AND('Step 2 - Ornamental'!$AA$20=\"X\",AG457=\"X\"),1,0)","v":0},null,{"$f":"IF(AND('Step 2 - Ornamental'!$AB$20=\"X\",AI457=\"X\"),1,0)","v":0},null,{"$f":"IF(AND('Step 2 - Ornamental'!$AC$20=\"X\",AK457=\"X\"),1,0)","v":0},null,{"$f":"IF(AND('Step 2 - Ornamental'!$AA$18=\"X\",AM457=\"X\"),1,0)","v":0},"X",{"$f":"IF(AND('Step 2 - Ornamental'!$AB$18=\"X\",AO457=\"X\"),1,0)","v":0},null,{"$f":"IF(AND('Step 2 - Ornamental'!$AC$18=\"X\",AQ457=\"X\"),1,0)","v":0},null,{"$f":"IF(AND('Step 2 - Ornamental'!$AD$18=\"X\",AS457=\"X\"),1,0)","v":0},null,{"$f":"IF(AND('Step 2 - Ornamental'!$AE$18=\"X\",AU457=\"X\"),1,0)","v":0},null,{"$f":"IF(AND('Step 2 - Ornamental'!$AA$17=\"X\",AW457=\"X\"),1,0)","v":0},"X",{"$f":"IF(AND('Step 2 - Ornamental'!$AB$17=\"X\",AY457=\"X\"),1,0)","v":0},null,{"$f":"IF(AND('Step 2 - Ornamental'!$AC$17=\"X\",BA457=\"X\"),1,0)","v":0},null,{"$f":"IF(AND('Step 2 - Ornamental'!$AA$22=\"X\",BC457=\"X\"),1,0)","v":0},"X",{"$f":"IF(AND('Step 2 - Ornamental'!$AB$22=\"X\",BE457=\"X\"),1,0)","v":0},"X",{"$f":"IF(AND('Step 2 - Ornamental'!$AC$22=\"X\",BG457=\"X\"),1,0)","v":0},"X",{"$f":"IF(AND('Step 2 - Ornamental'!$AD$22=\"X\",BI457=\"X\"),1,0)","v":0},"X",null,null,null,null,null,"Purplish White / 0.25'-0.5'"]
[null,1,"TR SK","Tradescantia x hybrid 'Sweet Kate'","Sweet Kate Spiderwort","12\" O.C.","Compact, clump forming, hybrid noted for its unique yellow foliage","X",null,null,null,null,null,0,null,{"$f":"IF(AND('Step 2 - Ornamental'!$AA$21=\"X\",Q458=\"X\"),1,0)","v":0},null,{"$f":"IF(AND('Step 2 - Ornamental'!$AB$21=\"X\",S458=\"X\"),1,0)","v":0},"X",{"$f":"IF(AND('Step 2 - Ornamental'!$AC$21=\"X\",U458=\"X\"),1,0)","v":0},null,{"$f":"IF(AND('Step 2 - Ornamental'!$AA$19=\"X\",W458=\"X\"),1,0)","v":0},null,{"$f":"IF(AND('Step 2 - Ornamental'!$AA$19=\"X\",Y458=\"X\"),1,0)","v":0},"X",{"$f":"IF(AND('Step 2 - Ornamental'!$AB$19=\"X\",AA458=\"X\"),1,0)","v":0},null,{"$f":"IF(AND('Step 2 - Ornamental'!$AC$19=\"X\",AC458=\"X\"),1,0)","v":0},null,{"$f":"IF(AND('Step 2 - Ornamental'!$AA$20=\"X\",AE458=\"X\"),1,0)","v":0},"X",{"$f":"IF(AND('Step 2 - Ornamental'!$AA$20=\"X\",AG458=\"X\"),1,0)","v":0},null,{"$f":"IF(AND('Step 2 - Ornamental'!$AB$20=\"X\",AI458=\"X\"),1,0)","v":0},null,{"$f":"IF(AND('Step 2 - Ornamental'!$AC$20=\"X\",AK458=\"X\"),1,0)","v":0},null,{"$f":"IF(AND('Step 2 - Ornamental'!$AA$18=\"X\",AM458=\"X\"),1,0)","v":0},null,{"$f":"IF(AND('Step 2 - Ornamental'!$AB$18=\"X\",AO458=\"X\"),1,0)","v":0},"X",{"$f":"IF(AND('Step 2 - Ornamental'!$AC$18=\"X\",AQ458=\"X\"),1,0)","v":0},"X",{"$f":"IF(AND('Step 2 - Ornamental'!$AD$18=\"X\",AS458=\"X\"),1,0)","v":0},null,{"$f":"IF(AND('Step 2 - Ornamental'!$AE$18=\"X\",AU458=\"X\"),1,0)","v":0},null,{"$f":"IF(AND('Step 2 - Ornamental'!$AA$17=\"X\",AW458=\"X\"),1,0)","v":0},"X",{"$f":"IF(AND('Step 2 - Ornamental'!$AB$17=\"X\",AY458=\"X\"),1,0)","v":0},"X",{"$f":"IF(AND('Step 2 - Ornamental'!$AC$17=\"X\",BA458=\"X\"),1,0)","v":0},null,{"$f":"IF(AND('Step 2 - Ornamental'!$AA$22=\"X\",BC458=\"X\"),1,0)","v":0},null,{"$f":"IF(AND('Step 2 - Ornamental'!$AB$22=\"X\",BE458=\"X\"),1,0)","v":0},null,{"$f":"IF(AND('Step 2 - Ornamental'!$AC$22=\"X\",BG458=\"X\"),1,0)","v":0},"X",{"$f":"IF(AND('Step 2 - Ornamental'!$AD$22=\"X\",BI458=\"X\"),1,0)","v":0},"X",null,null,null,null,"Purplish-blue / 0.75'-1.0'"]
[null,1,"VE AR","Vernonia lettermannii 'Iron Butterfly'","Iron Butterfly Ironweed","36\" O.C.","fine foliage like amsonia, true purple flowers,  attracts butterflies","X",null,null,"X","X",null,0,null,{"$f":"IF(AND('Step 2 - Ornamental'!$AA$21=\"X\",Q459=\"X\"),1,0)","v":0},null,{"$f":"IF(AND('Step 2 - Ornamental'!$AB$21=\"X\",S459=\"X\"),1,0)","v":0},"X",{"$f":"IF(AND('Step 2 - Ornamental'!$AC$21=\"X\",U459=\"X\"),1,0)","v":0},"X",{"$f":"IF(AND('Step 2 - Ornamental'!$AA$19=\"X\",W459=\"X\"),1,0)","v":0},null,{"$f":"IF(AND('Step 2 - Ornamental'!$AA$19=\"X\",Y459=\"X\"),1,0)","v":0},"X",{"$f":"IF(AND('Step 2 - Ornamental'!$AB$19=\"X\",AA459=\"X\"),1,0)","v":0},null,{"$f":"IF(AND('Step 2 - Ornamental'!$AC$19=\"X\",AC459=\"X\"),1,0)","v":0},null,{"$f":"IF(AND('Step 2 - Ornamental'!$AA$20=\"X\",AE459=\"X\"),1,0)","v":0},"X",{"$f":"IF(AND('Step 2 - Ornamental'!$AA$20=\"X\",AG459=\"X\"),1,0)","v":0},null,{"$f":"IF(AND('Step 2 - Ornamental'!$AB$20=\"X\",AI459=\"X\"),1,0)","v":0},null,{"$f":"IF(AND('Step 2 - Ornamental'!$AC$20=\"X\",AK459=\"X\"),1,0)","v":0},null,{"$f":"IF(AND('Step 2 - Ornamental'!$AA$18=\"X\",AM459=\"X\"),1,0)","v":0},null,{"$f":"IF(AND('Step 2 - Ornamental'!$AB$18=\"X\",AO459=\"X\"),1,0)","v":0},"X",{"$f":"IF(AND('Step 2 - Ornamental'!$AC$18=\"X\",AQ459=\"X\"),1,0)","v":0},"X",{"$f":"IF(AND('Step 2 - Ornamental'!$AD$18=\"X\",AS459=\"X\"),1,0)","v":0},null,{"$f":"IF(AND('Step 2 - Ornamental'!$AE$18=\"X\",AU459=\"X\"),1,0)","v":0},null,{"$f":"IF(AND('Step 2 - Ornamental'!$AA$17=\"X\",AW459=\"X\"),1,0)","v":0},"X",{"$f":"IF(AND('Step 2 - Ornamental'!$AB$17=\"X\",AY459=\"X\"),1,0)","v":0},null,{"$f":"IF(AND('Step 2 - Ornamental'!$AC$17=\"X\",BA459=\"X\"),1,0)","v":0},null,{"$f":"IF(AND('Step 2 - Ornamental'!$AA$22=\"X\",BC459=\"X\"),1,0)","v":0},null,{"$f":"IF(AND('Step 2 - Ornamental'!$AB$22=\"X\",BE459=\"X\"),1,0)","v":0},null,{"$f":"IF(AND('Step 2 - Ornamental'!$AC$22=\"X\",BG459=\"X\"),1,0)","v":0},"X",{"$f":"IF(AND('Step 2 - Ornamental'!$AD$22=\"X\",BI459=\"X\"),1,0)","v":0},"X",null,null,null,null,null,null,"Purple / 3.0'-3.5'"]
[null,1,"VE EV","Veronica x 'Eveline'","Eveline Speedwell","12\" O.C.","prefers rich moist soil, pink-purple blooms, ","X",null,null,"X","X",null,0,null,{"$f":"IF(AND('Step 2 - Ornamental'!$AA$21=\"X\",Q460=\"X\"),1,0)","v":0},"X",{"$f":"IF(AND('Step 2 - Ornamental'!$AB$21=\"X\",S460=\"X\"),1,0)","v":0},"X",{"$f":"IF(AND('Step 2 - Ornamental'!$AC$21=\"X\",U460=\"X\"),1,0)","v":0},"X",{"$f":"IF(AND('Step 2 - Ornamental'!$AA$19=\"X\",W460=\"X\"),1,0)","v":0},null,{"$f":"IF(AND('Step 2 - Ornamental'!$AA$19=\"X\",Y460=\"X\"),1,0)","v":0},"X",{"$f":"IF(AND('Step 2 - Ornamental'!$AB$19=\"X\",AA460=\"X\"),1,0)","v":0},null,{"$f":"IF(AND('Step 2 - Ornamental'!$AC$19=\"X\",AC460=\"X\"),1,0)","v":0},null,{"$f":"IF(AND('Step 2 - Ornamental'!$AA$20=\"X\",AE460=\"X\"),1,0)","v":0},"X",{"$f":"IF(AND('Step 2 - Ornamental'!$AA$20=\"X\",AG460=\"X\"),1,0)","v":0},null,{"$f":"IF(AND('Step 2 - Ornamental'!$AB$20=\"X\",AI460=\"X\"),1,0)","v":0},null,{"$f":"IF(AND('Step 2 - Ornamental'!$AC$20=\"X\",AK460=\"X\"),1,0)","v":0},null,{"$f":"IF(AND('Step 2 - Ornamental'!$AA$18=\"X\",AM460=\"X\"),1,0)","v":0},null,{"$f":"IF(AND('Step 2 - Ornamental'!$AB$18=\"X\",AO460=\"X\"),1,0)","v":0},"X",{"$f":"IF(AND('Step 2 - Ornamental'!$AC$18=\"X\",AQ460=\"X\"),1,0)","v":0},null,{"$f":"IF(AND('Step 2 - Ornamental'!$AD$18=\"X\",AS460=\"X\"),1,0)","v":0},null,{"$f":"IF(AND('Step 2 - Ornamental'!$AE$18=\"X\",AU460=\"X\"),1,0)","v":0},null,{"$f":"IF(AND('Step 2 - Ornamental'!$AA$17=\"X\",AW460=\"X\"),1,0)","v":0},"X",{"$f":"IF(AND('Step 2 - Ornamental'!$AB$17=\"X\",AY460=\"X\"),1,0)","v":0},null,{"$f":"IF(AND('Step 2 - Ornamental'!$AC$17=\"X\",BA460=\"X\"),1,0)","v":0},null,{"$f":"IF(AND('Step 2 - Ornamental'!$AA$22=\"X\",BC460=\"X\"),1,0)","v":0},null,{"$f":"IF(AND('Step 2 - Ornamental'!$AB$22=\"X\",BE460=\"X\"),1,0)","v":0},null,{"$f":"IF(AND('Step 2 - Ornamental'!$AC$22=\"X\",BG460=\"X\"),1,0)","v":0},"X",{"$f":"IF(AND('Step 2 - Ornamental'!$AD$22=\"X\",BI460=\"X\"),1,0)","v":0},"X",null,null,null,null,"Purple Pink / 1.0'-2.0'"]
[null,1,"VE WH","Veronica whitleyi","Whitley's Speedwell","6\" O.C.","olive green mat-forming groundcover, ","X",null,null,"X","X",null,0,null,{"$f":"IF(AND('Step 2 - Ornamental'!$AA$21=\"X\",Q461=\"X\"),1,0)","v":0},"X",{"$f":"IF(AND('Step 2 - Ornamental'!$AB$21=\"X\",S461=\"X\"),1,0)","v":0},"X",{"$f":"IF(AND('Step 2 - Ornamental'!$AC$21=\"X\",U461=\"X\"),1,0)","v":0},"X",{"$f":"IF(AND('Step 2 - Ornamental'!$AA$19=\"X\",W461=\"X\"),1,0)","v":0},null,{"$f":"IF(AND('Step 2 - Ornamental'!$AA$19=\"X\",Y461=\"X\"),1,0)","v":0},"X",{"$f":"IF(AND('Step 2 - Ornamental'!$AB$19=\"X\",AA461=\"X\"),1,0)","v":0},null,{"$f":"IF(AND('Step 2 - Ornamental'!$AC$19=\"X\",AC461=\"X\"),1,0)","v":0},null,{"$f":"IF(AND('Step 2 - Ornamental'!$AA$20=\"X\",AE461=\"X\"),1,0)","v":0},"X",{"$f":"IF(AND('Step 2 - Ornamental'!$AA$20=\"X\",AG461=\"X\"),1,0)","v":0},null,{"$f":"IF(AND('Step 2 - Ornamental'!$AB$20=\"X\",AI461=\"X\"),1,0)","v":0},null,{"$f":"IF(AND('Step 2 - Ornamental'!$AC$20=\"X\",AK461=\"X\"),1,0)","v":0},null,{"$f":"IF(AND('Step 2 - Ornamental'!$AA$18=\"X\",AM461=\"X\"),1,0)","v":0},"X",{"$f":"IF(AND('Step 2 - Ornamental'!$AB$18=\"X\",AO461=\"X\"),1,0)","v":0},null,{"$f":"IF(AND('Step 2 - Ornamental'!$AC$18=\"X\",AQ461=\"X\"),1,0)","v":0},null,{"$f":"IF(AND('Step 2 - Ornamental'!$AD$18=\"X\",AS461=\"X\"),1,0)","v":0},null,{"$f":"IF(AND('Step 2 - Ornamental'!$AE$18=\"X\",AU461=\"X\"),1,0)","v":0},null,{"$f":"IF(AND('Step 2 - Ornamental'!$AA$17=\"X\",AW461=\"X\"),1,0)","v":0},"X",{"$f":"IF(AND('Step 2 - Ornamental'!$AB$17=\"X\",AY461=\"X\"),1,0)","v":0},"X",{"$f":"IF(AND('Step 2 - Ornamental'!$AC$17=\"X\",BA461=\"X\"),1,0)","v":0},null,{"$f":"IF(AND('Step 2 - Ornamental'!$AA$22=\"X\",BC461=\"X\"),1,0)","v":0},null,{"$f":"IF(AND('Step 2 - Ornamental'!$AB$22=\"X\",BE461=\"X\"),1,0)","v":0},"X",{"$f":"IF(AND('Step 2 - Ornamental'!$AC$22=\"X\",BG461=\"X\"),1,0)","v":0},"X",{"$f":"IF(AND('Step 2 - Ornamental'!$AD$22=\"X\",BI461=\"X\"),1,0)","v":0},"X",null,null,null,null,"Blue / 3\""]
[null,1,"VE VI","Veronicastrum virginicum","Culver's Root","36\" O.C.","needs moist soil, full sun",null,"X","X",null,null,null,{"$f":"IF(O462=\"X\",1,0)","v":0},null,{"$f":"IF(AND('Step 2 - Ornamental'!$AA$21=\"X\",Q462=\"X\"),1,0)","v":0},"X",{"$f":"IF(AND('Step 2 - Ornamental'!$AB$21=\"X\",S462=\"X\"),1,0)","v":0},"X",{"$f":"IF(AND('Step 2 - Ornamental'!$AC$21=\"X\",U462=\"X\"),1,0)","v":0},"X",{"$f":"IF(AND('Step 2 - Ornamental'!$AA$19=\"X\",W462=\"X\"),1,0)","v":0},null,{"$f":"IF(AND('Step 2 - Ornamental'!$AA$19=\"X\",Y462=\"X\"),1,0)","v":0},"X",{"$f":"IF(AND('Step 2 - Ornamental'!$AB$19=\"X\",AA462=\"X\"),1,0)","v":0},null,{"$f":"IF(AND('Step 2 - Ornamental'!$AC$19=\"X\",AC462=\"X\"),1,0)","v":0},null,{"$f":"IF(AND('Step 2 - Ornamental'!$AA$20=\"X\",AE462=\"X\"),1,0)","v":0},null,{"$f":"IF(AND('Step 2 - Ornamental'!$AA$20=\"X\",AG462=\"X\"),1,0)","v":0},"X",{"$f":"IF(AND('Step 2 - Ornamental'!$AB$20=\"X\",AI462=\"X\"),1,0)","v":0},"X",{"$f":"IF(AND('Step 2 - Ornamental'!$AC$20=\"X\",AK462=\"X\"),1,0)","v":0},null,{"$f":"IF(AND('Step 2 - Ornamental'!$AA$18=\"X\",AM462=\"X\"),1,0)","v":0},null,{"$f":"IF(AND('Step 2 - Ornamental'!$AB$18=\"X\",AO462=\"X\"),1,0)","v":0},"X",{"$f":"IF(AND('Step 2 - Ornamental'!$AC$18=\"X\",AQ462=\"X\"),1,0)","v":0},"X",{"$f":"IF(AND('Step 2 - Ornamental'!$AD$18=\"X\",AS462=\"X\"),1,0)","v":0},null,{"$f":"IF(AND('Step 2 - Ornamental'!$AE$18=\"X\",AU462=\"X\"),1,0)","v":0},null,{"$f":"IF(AND('Step 2 - Ornamental'!$AA$17=\"X\",AW462=\"X\"),1,0)","v":0},"X",{"$f":"IF(AND('Step 2 - Ornamental'!$AB$17=\"X\",AY462=\"X\"),1,0)","v":0},null,{"$f":"IF(AND('Step 2 - Ornamental'!$AC$17=\"X\",BA462=\"X\"),1,0)","v":0},null,{"$f":"IF(AND('Step 2 - Ornamental'!$AA$22=\"X\",BC462=\"X\"),1,0)","v":0},null,{"$f":"IF(AND('Step 2 - Ornamental'!$AB$22=\"X\",BE462=\"X\"),1,0)","v":0},null,{"$f":"IF(AND('Step 2 - Ornamental'!$AC$22=\"X\",BG462=\"X\"),1,0)","v":0},"X",{"$f":"IF(AND('Step 2 - Ornamental'!$AD$22=\"X\",BI462=\"X\"),1,0)","v":0},"X",null,null,null,null,"White / 4.0'-7.0'"]
[null,1,"WA TE","Waldsteinia ternata","Barren Strawberry ","12\" O.C.","yellow flowers in May/June, mat forming, 8\" tall","X",null,null,"X",null,null,1,"X",{"$f":"IF(AND('Step 2 - Ornamental'!$AA$21=\"X\",Q463=\"X\"),1,0)","v":0},null,{"$f":"IF(AND('Step 2 - Ornamental'!$AB$21=\"X\",S463=\"X\"),1,0)","v":0},null,{"$f":"IF(AND('Step 2 - Ornamental'!$AC$21=\"X\",U463=\"X\"),1,0)","v":0},null,{"$f":"IF(AND('Step 2 - Ornamental'!$AA$19=\"X\",W463=\"X\"),1,0)","v":0},null,{"$f":"IF(AND('Step 2 - Ornamental'!$AA$19=\"X\",Y463=\"X\"),1,0)","v":0},"X",{"$f":"IF(AND('Step 2 - Ornamental'!$AB$19=\"X\",AA463=\"X\"),1,0)","v":0},null,{"$f":"IF(AND('Step 2 - Ornamental'!$AC$19=\"X\",AC463=\"X\"),1,0)","v":0},null,{"$f":"IF(AND('Step 2 - Ornamental'!$AA$20=\"X\",AE463=\"X\"),1,0)","v":0},"X",{"$f":"IF(AND('Step 2 - Ornamental'!$AA$20=\"X\",AG463=\"X\"),1,0)","v":0},null,{"$f":"IF(AND('Step 2 - Ornamental'!$AB$20=\"X\",AI463=\"X\"),1,0)","v":0},null,{"$f":"IF(AND('Step 2 - Ornamental'!$AC$20=\"X\",AK463=\"X\"),1,0)","v":0},null,{"$f":"IF(AND('Step 2 - Ornamental'!$AA$18=\"X\",AM463=\"X\"),1,0)","v":0}," ",{"$f":"IF(AND('Step 2 - Ornamental'!$AB$18=\"X\",AO463=\"X\"),1,0)","v":0},"X",{"$f":"IF(AND('Step 2 - Ornamental'!$AC$18=\"X\",AQ463=\"X\"),1,0)","v":0},null,{"$f":"IF(AND('Step 2 - Ornamental'!$AD$18=\"X\",AS463=\"X\"),1,0)","v":0},null,{"$f":"IF(AND('Step 2 - Ornamental'!$AE$18=\"X\",AU463=\"X\"),1,0)","v":0},null,{"$f":"IF(AND('Step 2 - Ornamental'!$AA$17=\"X\",AW463=\"X\"),1,0)","v":0},"X",{"$f":"IF(AND('Step 2 - Ornamental'!$AB$17=\"X\",AY463=\"X\"),1,0)","v":0},"X",{"$f":"IF(AND('Step 2 - Ornamental'!$AC$17=\"X\",BA463=\"X\"),1,0)","v":0},null,{"$f":"IF(AND('Step 2 - Ornamental'!$AA$22=\"X\",BC463=\"X\"),1,0)","v":0},null,{"$f":"IF(AND('Step 2 - Ornamental'!$AB$22=\"X\",BE463=\"X\"),1,0)","v":0},"X",{"$f":"IF(AND('Step 2 - Ornamental'!$AC$22=\"X\",BG463=\"X\"),1,0)","v":0},"X",{"$f":"IF(AND('Step 2 - Ornamental'!$AD$22=\"X\",BI463=\"X\"),1,0)","v":0},"X",null,null,null,"Yellow / 0.25'-0.5'"]
[null,1,"ZI AU","Zizia aurea","Golden Alexanders","18\" O.C.","Early emerging with yellow flowers in April-June at 3'",null,"X","X",null,null,null,{"$f":"IF(O464=\"X\",1,0)","v":0},null,{"$f":"IF(AND('Step 2 - Ornamental'!$AA$21=\"X\",Q464=\"X\"),1,0)","v":0},"X",{"$f":"IF(AND('Step 2 - Ornamental'!$AB$21=\"X\",S464=\"X\"),1,0)","v":0},"X",{"$f":"IF(AND('Step 2 - Ornamental'!$AC$21=\"X\",U464=\"X\"),1,0)","v":0},"X",{"$f":"IF(AND('Step 2 - Ornamental'!$AA$19=\"X\",W464=\"X\"),1,0)","v":0},null,{"$f":"IF(AND('Step 2 - Ornamental'!$AA$19=\"X\",Y464=\"X\"),1,0)","v":0},"X",{"$f":"IF(AND('Step 2 - Ornamental'!$AB$19=\"X\",AA464=\"X\"),1,0)","v":0},"X",{"$f":"IF(AND('Step 2 - Ornamental'!$AC$19=\"X\",AC464=\"X\"),1,0)","v":0},null,{"$f":"IF(AND('Step 2 - Ornamental'!$AA$20=\"X\",AE464=\"X\"),1,0)","v":0},null,{"$f":"IF(AND('Step 2 - Ornamental'!$AA$20=\"X\",AG464=\"X\"),1,0)","v":0},"X",{"$f":"IF(AND('Step 2 - Ornamental'!$AB$20=\"X\",AI464=\"X\"),1,0)","v":0},null,{"$f":"IF(AND('Step 2 - Ornamental'!$AC$20=\"X\",AK464=\"X\"),1,0)","v":0},null,{"$f":"IF(AND('Step 2 - Ornamental'!$AA$18=\"X\",AM464=\"X\"),1,0)","v":0},null,{"$f":"IF(AND('Step 2 - Ornamental'!$AB$18=\"X\",AO464=\"X\"),1,0)","v":0},"X",{"$f":"IF(AND('Step 2 - Ornamental'!$AC$18=\"X\",AQ464=\"X\"),1,0)","v":0},null,{"$f":"IF(AND('Step 2 - Ornamental'!$AD$18=\"X\",AS464=\"X\"),1,0)","v":0},null,{"$f":"IF(AND('Step 2 - Ornamental'!$AE$18=\"X\",AU464=\"X\"),1,0)","v":0},null,{"$f":"IF(AND('Step 2 - Ornamental'!$AA$17=\"X\",AW464=\"X\"),1,0)","v":0},"X",{"$f":"IF(AND('Step 2 - Ornamental'!$AB$17=\"X\",AY464=\"X\"),1,0)","v":0},"X",{"$f":"IF(AND('Step 2 - Ornamental'!$AC$17=\"X\",BA464=\"X\"),1,0)","v":0},null,{"$f":"IF(AND('Step 2 - Ornamental'!$AA$22=\"X\",BC464=\"X\"),1,0)","v":0},null,{"$f":"IF(AND('Step 2 - Ornamental'!$AB$22=\"X\",BE464=\"X\"),1,0)","v":0},null,{"$f":"IF(AND('Step 2 - Ornamental'!$AC$22=\"X\",BG464=\"X\"),1,0)","v":0},"X",{"$f":"IF(AND('Step 2 - Ornamental'!$AD$22=\"X\",BI464=\"X\"),1,0)","v":0},"X",null,null,null,null,"Yellow / 1.5'-3.0'"]
[" "]
["Grasses, Sedges, Rushes",2]
[null,{"$f":"SUM((N467+P467+R467+T467)*(V467+X467+Z467+AB467)*(AD467+AF467+AH467+AJ467)*(AL467+AN467+AP467+AR467+AT467)*(AV467+AX467+AZ467)*(BB467+BD467+BF467+BH467))+1","v":1},"AN GE","Andropogon gerardii","Big Bluestem","30\" O.C.","Tall (4'-6') warm season grass, tolerates dry infertile soil, can spread under moist conditions"," ","X","X","X",null,null,{"$f":"IF(O467=\"X\",1,0)","v":0},null,{"$f":"IF(AND('Step 2 - Ornamental'!$AA$21=\"X\",Q467=\"X\"),1,0)","v":0},"X",{"$f":"IF(AND('Step 2 - Ornamental'!$AB$21=\"X\",S467=\"X\"),1,0)","v":0},"X",{"$f":"IF(AND('Step 2 - Ornamental'!$AC$21=\"X\",U467=\"X\"),1,0)","v":0},null,{"$f":"IF(AND('Step 2 - Ornamental'!$AA$19=\"X\",W467=\"X\"),1,0)","v":0},null,{"$f":"IF(AND('Step 2 - Ornamental'!$AA$19=\"X\",Y467=\"X\"),1,0)","v":0},"X",{"$f":"IF(AND('Step 2 - Ornamental'!$AB$19=\"X\",AA467=\"X\"),1,0)","v":0},null,{"$f":"IF(AND('Step 2 - Ornamental'!$AC$19=\"X\",AC467=\"X\"),1,0)","v":0},null,{"$f":"IF(AND('Step 2 - Ornamental'!$AA$20=\"X\",AE467=\"X\"),1,0)","v":0},null,{"$f":"IF(AND('Step 2 - Ornamental'!$AA$20=\"X\",AG467=\"X\"),1,0)","v":0},"X",{"$f":"IF(AND('Step 2 - Ornamental'!$AB$20=\"X\",AI467=\"X\"),1,0)","v":0},null,{"$f":"IF(AND('Step 2 - Ornamental'!$AC$20=\"X\",AK467=\"X\"),1,0)","v":0},null,{"$f":"IF(AND('Step 2 - Ornamental'!$AA$18=\"X\",AM467=\"X\"),1,0)","v":0},"X",{"$f":"IF(AND('Step 2 - Ornamental'!$AB$18=\"X\",AO467=\"X\"),1,0)","v":0},"X",{"$f":"IF(AND('Step 2 - Ornamental'!$AC$18=\"X\",AQ467=\"X\"),1,0)","v":0},null,{"$f":"IF(AND('Step 2 - Ornamental'!$AD$18=\"X\",AS467=\"X\"),1,0)","v":0},null,{"$f":"IF(AND('Step 2 - Ornamental'!$AE$18=\"X\",AU467=\"X\"),1,0)","v":0},null,{"$f":"IF(AND('Step 2 - Ornamental'!$AA$17=\"X\",AW467=\"X\"),1,0)","v":0},"X",{"$f":"IF(AND('Step 2 - Ornamental'!$AB$17=\"X\",AY467=\"X\"),1,0)","v":0},null,{"$f":"IF(AND('Step 2 - Ornamental'!$AC$17=\"X\",BA467=\"X\"),1,0)","v":0},null,{"$f":"IF(AND('Step 2 - Ornamental'!$AA$22=\"X\",BC467=\"X\"),1,0)","v":0},null,{"$f":"IF(AND('Step 2 - Ornamental'!$AB$22=\"X\",BE467=\"X\"),1,0)","v":0},null,{"$f":"IF(AND('Step 2 - Ornamental'!$AC$22=\"X\",BG467=\"X\"),1,0)","v":0},"X",{"$f":"IF(AND('Step 2 - Ornamental'!$AD$22=\"X\",BI467=\"X\"),1,0)","v":0},"X"]
[null,1,"BO CU","Bouteloua curtipendula","Side Oats Grama Grass","18\" O.C.","low (24\" tall), drought tolerant grass, self seeds",null,"X","X",null,null,null,0,null,{"$f":"IF(AND('Step 2 - Ornamental'!$AA$21=\"X\",Q468=\"X\"),1,0)","v":0},"X",{"$f":"IF(AND('Step 2 - Ornamental'!$AB$21=\"X\",S468=\"X\"),1,0)","v":0},"X",{"$f":"IF(AND('Step 2 - Ornamental'!$AC$21=\"X\",U468=\"X\"),1,0)","v":0},"X",{"$f":"IF(AND('Step 2 - Ornamental'!$AA$19=\"X\",W468=\"X\"),1,0)","v":0},null,{"$f":"IF(AND('Step 2 - Ornamental'!$AA$19=\"X\",Y468=\"X\"),1,0)","v":0},"X",{"$f":"IF(AND('Step 2 - Ornamental'!$AB$19=\"X\",AA468=\"X\"),1,0)","v":0},"X",{"$f":"IF(AND('Step 2 - Ornamental'!$AC$19=\"X\",AC468=\"X\"),1,0)","v":0},null,{"$f":"IF(AND('Step 2 - Ornamental'!$AA$20=\"X\",AE468=\"X\"),1,0)","v":0},null,{"$f":"IF(AND('Step 2 - Ornamental'!$AA$20=\"X\",AG468=\"X\"),1,0)","v":0},"X",{"$f":"IF(AND('Step 2 - Ornamental'!$AB$20=\"X\",AI468=\"X\"),1,0)","v":0},null,{"$f":"IF(AND('Step 2 - Ornamental'!$AC$20=\"X\",AK468=\"X\"),1,0)","v":0},null,{"$f":"IF(AND('Step 2 - Ornamental'!$AA$18=\"X\",AM468=\"X\"),1,0)","v":0},"X",{"$f":"IF(AND('Step 2 - Ornamental'!$AB$18=\"X\",AO468=\"X\"),1,0)","v":0},"X",{"$f":"IF(AND('Step 2 - Ornamental'!$AC$18=\"X\",AQ468=\"X\"),1,0)","v":0},null,{"$f":"IF(AND('Step 2 - Ornamental'!$AD$18=\"X\",AS468=\"X\"),1,0)","v":0},null,{"$f":"IF(AND('Step 2 - Ornamental'!$AE$18=\"X\",AU468=\"X\"),1,0)","v":0},null,{"$f":"IF(AND('Step 2 - Ornamental'!$AA$17=\"X\",AW468=\"X\"),1,0)","v":0},"X",{"$f":"IF(AND('Step 2 - Ornamental'!$AB$17=\"X\",AY468=\"X\"),1,0)","v":0},"X",{"$f":"IF(AND('Step 2 - Ornamental'!$AC$17=\"X\",BA468=\"X\"),1,0)","v":0},null,{"$f":"IF(AND('Step 2 - Ornamental'!$AA$22=\"X\",BC468=\"X\"),1,0)","v":0},null,{"$f":"IF(AND('Step 2 - Ornamental'!$AB$22=\"X\",BE468=\"X\"),1,0)","v":0},"X",{"$f":"IF(AND('Step 2 - Ornamental'!$AC$22=\"X\",BG468=\"X\"),1,0)","v":0},"X",{"$f":"IF(AND('Step 2 - Ornamental'!$AD$22=\"X\",BI468=\"X\"),1,0)","v":0},"X"]
[null,1,"BR ME","Brizia media","Quaking Grass","12\" O.C.","30\" tall, semi-evergreen, airy panicles, tolerant of heavy soil","X",null,null,null,null,null,1,"X",{"$f":"IF(AND('Step 2 - Ornamental'!$AA$21=\"X\",Q469=\"X\"),1,0)","v":0},null,{"$f":"IF(AND('Step 2 - Ornamental'!$AB$21=\"X\",S469=\"X\"),1,0)","v":0},null,{"$f":"IF(AND('Step 2 - Ornamental'!$AC$21=\"X\",U469=\"X\"),1,0)","v":0},null,{"$f":"IF(AND('Step 2 - Ornamental'!$AA$19=\"X\",W469=\"X\"),1,0)","v":0},"X",{"$f":"IF(AND('Step 2 - Ornamental'!$AA$19=\"X\",Y469=\"X\"),1,0)","v":0},null,{"$f":"IF(AND('Step 2 - Ornamental'!$AB$19=\"X\",AA469=\"X\"),1,0)","v":0},null,{"$f":"IF(AND('Step 2 - Ornamental'!$AC$19=\"X\",AC469=\"X\"),1,0)","v":0},null,{"$f":"IF(AND('Step 2 - Ornamental'!$AA$20=\"X\",AE469=\"X\"),1,0)","v":0},"X",{"$f":"IF(AND('Step 2 - Ornamental'!$AA$20=\"X\",AG469=\"X\"),1,0)","v":0},null,{"$f":"IF(AND('Step 2 - Ornamental'!$AB$20=\"X\",AI469=\"X\"),1,0)","v":0},null,{"$f":"IF(AND('Step 2 - Ornamental'!$AC$20=\"X\",AK469=\"X\"),1,0)","v":0},null,{"$f":"IF(AND('Step 2 - Ornamental'!$AA$18=\"X\",AM469=\"X\"),1,0)","v":0},null,{"$f":"IF(AND('Step 2 - Ornamental'!$AB$18=\"X\",AO469=\"X\"),1,0)","v":0},"X",{"$f":"IF(AND('Step 2 - Ornamental'!$AC$18=\"X\",AQ469=\"X\"),1,0)","v":0},null,{"$f":"IF(AND('Step 2 - Ornamental'!$AD$18=\"X\",AS469=\"X\"),1,0)","v":0},null,{"$f":"IF(AND('Step 2 - Ornamental'!$AE$18=\"X\",AU469=\"X\"),1,0)","v":0},null,{"$f":"IF(AND('Step 2 - Ornamental'!$AA$17=\"X\",AW469=\"X\"),1,0)","v":0},"X",{"$f":"IF(AND('Step 2 - Ornamental'!$AB$17=\"X\",AY469=\"X\"),1,0)","v":0},"X",{"$f":"IF(AND('Step 2 - Ornamental'!$AC$17=\"X\",BA469=\"X\"),1,0)","v":0},null,{"$f":"IF(AND('Step 2 - Ornamental'!$AA$22=\"X\",BC469=\"X\"),1,0)","v":0},null,{"$f":"IF(AND('Step 2 - Ornamental'!$AB$22=\"X\",BE469=\"X\"),1,0)","v":0},null,{"$f":"IF(AND('Step 2 - Ornamental'!$AC$22=\"X\",BG469=\"X\"),1,0)","v":0},"X",{"$f":"IF(AND('Step 2 - Ornamental'!$AD$22=\"X\",BI469=\"X\"),1,0)","v":0},"X"]
[null,1,"CA AC","Calamagrostis x acutifolra 'Karl Forester'","Karl Forester Feather Reed Grass","24\" O.C.","tolerates heavy soils, likes afternoon shade","X",null,null,null,null,null,0,null,{"$f":"IF(AND('Step 2 - Ornamental'!$AA$21=\"X\",Q470=\"X\"),1,0)","v":0},"X",{"$f":"IF(AND('Step 2 - Ornamental'!$AB$21=\"X\",S470=\"X\"),1,0)","v":0},"X",{"$f":"IF(AND('Step 2 - Ornamental'!$AC$21=\"X\",U470=\"X\"),1,0)","v":0},"X",{"$f":"IF(AND('Step 2 - Ornamental'!$AA$19=\"X\",W470=\"X\"),1,0)","v":0},null,{"$f":"IF(AND('Step 2 - Ornamental'!$AA$19=\"X\",Y470=\"X\"),1,0)","v":0},"X",{"$f":"IF(AND('Step 2 - Ornamental'!$AB$19=\"X\",AA470=\"X\"),1,0)","v":0},null,{"$f":"IF(AND('Step 2 - Ornamental'!$AC$19=\"X\",AC470=\"X\"),1,0)","v":0},null,{"$f":"IF(AND('Step 2 - Ornamental'!$AA$20=\"X\",AE470=\"X\"),1,0)","v":0},"X",{"$f":"IF(AND('Step 2 - Ornamental'!$AA$20=\"X\",AG470=\"X\"),1,0)","v":0},null,{"$f":"IF(AND('Step 2 - Ornamental'!$AB$20=\"X\",AI470=\"X\"),1,0)","v":0},null,{"$f":"IF(AND('Step 2 - Ornamental'!$AC$20=\"X\",AK470=\"X\"),1,0)","v":0},null,{"$f":"IF(AND('Step 2 - Ornamental'!$AA$18=\"X\",AM470=\"X\"),1,0)","v":0},null,{"$f":"IF(AND('Step 2 - Ornamental'!$AB$18=\"X\",AO470=\"X\"),1,0)","v":0},"X",{"$f":"IF(AND('Step 2 - Ornamental'!$AC$18=\"X\",AQ470=\"X\"),1,0)","v":0},"X",{"$f":"IF(AND('Step 2 - Ornamental'!$AD$18=\"X\",AS470=\"X\"),1,0)","v":0},null,{"$f":"IF(AND('Step 2 - Ornamental'!$AE$18=\"X\",AU470=\"X\"),1,0)","v":0},null,{"$f":"IF(AND('Step 2 - Ornamental'!$AA$17=\"X\",AW470=\"X\"),1,0)","v":0},"X",{"$f":"IF(AND('Step 2 - Ornamental'!$AB$17=\"X\",AY470=\"X\"),1,0)","v":0},"X",{"$f":"IF(AND('Step 2 - Ornamental'!$AC$17=\"X\",BA470=\"X\"),1,0)","v":0},null,{"$f":"IF(AND('Step 2 - Ornamental'!$AA$22=\"X\",BC470=\"X\"),1,0)","v":0},null,{"$f":"IF(AND('Step 2 - Ornamental'!$AB$22=\"X\",BE470=\"X\"),1,0)","v":0},null,{"$f":"IF(AND('Step 2 - Ornamental'!$AC$22=\"X\",BG470=\"X\"),1,0)","v":0},"X",{"$f":"IF(AND('Step 2 - Ornamental'!$AD$22=\"X\",BI470=\"X\"),1,0)","v":0},"X"]
[null,1,"CA AV","Calamagrostis x acutifolra 'Overdam'","Overdam Feather Reed Grass","24\" O.C.","variegated, tolerates heavy soils, likes afternoon shade","X",null,null,null,null,null,0,null,{"$f":"IF(AND('Step 2 - Ornamental'!$AA$21=\"X\",Q471=\"X\"),1,0)","v":0},"X",{"$f":"IF(AND('Step 2 - Ornamental'!$AB$21=\"X\",S471=\"X\"),1,0)","v":0},"X",{"$f":"IF(AND('Step 2 - Ornamental'!$AC$21=\"X\",U471=\"X\"),1,0)","v":0},"X",{"$f":"IF(AND('Step 2 - Ornamental'!$AA$19=\"X\",W471=\"X\"),1,0)","v":0},null,{"$f":"IF(AND('Step 2 - Ornamental'!$AA$19=\"X\",Y471=\"X\"),1,0)","v":0},"X",{"$f":"IF(AND('Step 2 - Ornamental'!$AB$19=\"X\",AA471=\"X\"),1,0)","v":0},null,{"$f":"IF(AND('Step 2 - Ornamental'!$AC$19=\"X\",AC471=\"X\"),1,0)","v":0},null,{"$f":"IF(AND('Step 2 - Ornamental'!$AA$20=\"X\",AE471=\"X\"),1,0)","v":0},"X",{"$f":"IF(AND('Step 2 - Ornamental'!$AA$20=\"X\",AG471=\"X\"),1,0)","v":0},null,{"$f":"IF(AND('Step 2 - Ornamental'!$AB$20=\"X\",AI471=\"X\"),1,0)","v":0},null,{"$f":"IF(AND('Step 2 - Ornamental'!$AC$20=\"X\",AK471=\"X\"),1,0)","v":0},null,{"$f":"IF(AND('Step 2 - Ornamental'!$AA$18=\"X\",AM471=\"X\"),1,0)","v":0},null,{"$f":"IF(AND('Step 2 - Ornamental'!$AB$18=\"X\",AO471=\"X\"),1,0)","v":0},"X",{"$f":"IF(AND('Step 2 - Ornamental'!$AC$18=\"X\",AQ471=\"X\"),1,0)","v":0},"X",{"$f":"IF(AND('Step 2 - Ornamental'!$AD$18=\"X\",AS471=\"X\"),1,0)","v":0},null,{"$f":"IF(AND('Step 2 - Ornamental'!$AE$18=\"X\",AU471=\"X\"),1,0)","v":0},null,{"$f":"IF(AND('Step 2 - Ornamental'!$AA$17=\"X\",AW471=\"X\"),1,0)","v":0},"X",{"$f":"IF(AND('Step 2 - Ornamental'!$AB$17=\"X\",AY471=\"X\"),1,0)","v":0},"X",{"$f":"IF(AND('Step 2 - Ornamental'!$AC$17=\"X\",BA471=\"X\"),1,0)","v":0},null,{"$f":"IF(AND('Step 2 - Ornamental'!$AA$22=\"X\",BC471=\"X\"),1,0)","v":0},null,{"$f":"IF(AND('Step 2 - Ornamental'!$AB$22=\"X\",BE471=\"X\"),1,0)","v":0},null,{"$f":"IF(AND('Step 2 - Ornamental'!$AC$22=\"X\",BG471=\"X\"),1,0)","v":0},"X",{"$f":"IF(AND('Step 2 - Ornamental'!$AD$22=\"X\",BI471=\"X\"),1,0)","v":0},"X"]
[null,1,"CA BR","Calamagrostis brachytricha (Stipa brachytricha)","Korean Feather Reed Grass","30\" O.C.","(4' tall), shade tolerant, self sows ","X",null,null,null,null,null,1,"X",{"$f":"IF(AND('Step 2 - Ornamental'!$AA$21=\"X\",Q472=\"X\"),1,0)","v":0},null,{"$f":"IF(AND('Step 2 - Ornamental'!$AB$21=\"X\",S472=\"X\"),1,0)","v":0},null,{"$f":"IF(AND('Step 2 - Ornamental'!$AC$21=\"X\",U472=\"X\"),1,0)","v":0},null,{"$f":"IF(AND('Step 2 - Ornamental'!$AA$19=\"X\",W472=\"X\"),1,0)","v":0},"X",{"$f":"IF(AND('Step 2 - Ornamental'!$AA$19=\"X\",Y472=\"X\"),1,0)","v":0},null,{"$f":"IF(AND('Step 2 - Ornamental'!$AB$19=\"X\",AA472=\"X\"),1,0)","v":0},null,{"$f":"IF(AND('Step 2 - Ornamental'!$AC$19=\"X\",AC472=\"X\"),1,0)","v":0},null,{"$f":"IF(AND('Step 2 - Ornamental'!$AA$20=\"X\",AE472=\"X\"),1,0)","v":0},"X",{"$f":"IF(AND('Step 2 - Ornamental'!$AA$20=\"X\",AG472=\"X\"),1,0)","v":0},null,{"$f":"IF(AND('Step 2 - Ornamental'!$AB$20=\"X\",AI472=\"X\"),1,0)","v":0},null,{"$f":"IF(AND('Step 2 - Ornamental'!$AC$20=\"X\",AK472=\"X\"),1,0)","v":0},null,{"$f":"IF(AND('Step 2 - Ornamental'!$AA$18=\"X\",AM472=\"X\"),1,0)","v":0},null,{"$f":"IF(AND('Step 2 - Ornamental'!$AB$18=\"X\",AO472=\"X\"),1,0)","v":0},"X",{"$f":"IF(AND('Step 2 - Ornamental'!$AC$18=\"X\",AQ472=\"X\"),1,0)","v":0},"X",{"$f":"IF(AND('Step 2 - Ornamental'!$AD$18=\"X\",AS472=\"X\"),1,0)","v":0},null,{"$f":"IF(AND('Step 2 - Ornamental'!$AE$18=\"X\",AU472=\"X\"),1,0)","v":0},null,{"$f":"IF(AND('Step 2 - Ornamental'!$AA$17=\"X\",AW472=\"X\"),1,0)","v":0},"X",{"$f":"IF(AND('Step 2 - Ornamental'!$AB$17=\"X\",AY472=\"X\"),1,0)","v":0},"X",{"$f":"IF(AND('Step 2 - Ornamental'!$AC$17=\"X\",BA472=\"X\"),1,0)","v":0},null,{"$f":"IF(AND('Step 2 - Ornamental'!$AA$22=\"X\",BC472=\"X\"),1,0)","v":0},null,{"$f":"IF(AND('Step 2 - Ornamental'!$AB$22=\"X\",BE472=\"X\"),1,0)","v":0},null,{"$f":"IF(AND('Step 2 - Ornamental'!$AC$22=\"X\",BG472=\"X\"),1,0)","v":0},"X",{"$f":"IF(AND('Step 2 - Ornamental'!$AD$22=\"X\",BI472=\"X\"),1,0)","v":0},"X"]
[null,1,"CA BB","Carex bebbii","Bebb's Oval Sedge","18\" O.C.","30\" tall great rain garden plant for partial shade, ",null,"X","X",null,null,null,1,"X",{"$f":"IF(AND('Step 2 - Ornamental'!$AA$21=\"X\",Q473=\"X\"),1,0)","v":0},null,{"$f":"IF(AND('Step 2 - Ornamental'!$AB$21=\"X\",S473=\"X\"),1,0)","v":0},null,{"$f":"IF(AND('Step 2 - Ornamental'!$AC$21=\"X\",U473=\"X\"),1,0)","v":0},null,{"$f":"IF(AND('Step 2 - Ornamental'!$AA$19=\"X\",W473=\"X\"),1,0)","v":0},"X",{"$f":"IF(AND('Step 2 - Ornamental'!$AA$19=\"X\",Y473=\"X\"),1,0)","v":0},null,{"$f":"IF(AND('Step 2 - Ornamental'!$AB$19=\"X\",AA473=\"X\"),1,0)","v":0},null,{"$f":"IF(AND('Step 2 - Ornamental'!$AC$19=\"X\",AC473=\"X\"),1,0)","v":0},null,{"$f":"IF(AND('Step 2 - Ornamental'!$AA$20=\"X\",AE473=\"X\"),1,0)","v":0},null,{"$f":"IF(AND('Step 2 - Ornamental'!$AA$20=\"X\",AG473=\"X\"),1,0)","v":0},"X",{"$f":"IF(AND('Step 2 - Ornamental'!$AB$20=\"X\",AI473=\"X\"),1,0)","v":0},"X",{"$f":"IF(AND('Step 2 - Ornamental'!$AC$20=\"X\",AK473=\"X\"),1,0)","v":0},null,{"$f":"IF(AND('Step 2 - Ornamental'!$AA$18=\"X\",AM473=\"X\"),1,0)","v":0}," ",{"$f":"IF(AND('Step 2 - Ornamental'!$AB$18=\"X\",AO473=\"X\"),1,0)","v":0},"X",{"$f":"IF(AND('Step 2 - Ornamental'!$AC$18=\"X\",AQ473=\"X\"),1,0)","v":0},"X",{"$f":"IF(AND('Step 2 - Ornamental'!$AD$18=\"X\",AS473=\"X\"),1,0)","v":0},null,{"$f":"IF(AND('Step 2 - Ornamental'!$AE$18=\"X\",AU473=\"X\"),1,0)","v":0},null,{"$f":"IF(AND('Step 2 - Ornamental'!$AA$17=\"X\",AW473=\"X\"),1,0)","v":0},"X",{"$f":"IF(AND('Step 2 - Ornamental'!$AB$17=\"X\",AY473=\"X\"),1,0)","v":0},"X",{"$f":"IF(AND('Step 2 - Ornamental'!$AC$17=\"X\",BA473=\"X\"),1,0)","v":0}," ",{"$f":"IF(AND('Step 2 - Ornamental'!$AA$22=\"X\",BC473=\"X\"),1,0)","v":0},null,{"$f":"IF(AND('Step 2 - Ornamental'!$AB$22=\"X\",BE473=\"X\"),1,0)","v":0},null,{"$f":"IF(AND('Step 2 - Ornamental'!$AC$22=\"X\",BG473=\"X\"),1,0)","v":0},"X",{"$f":"IF(AND('Step 2 - Ornamental'!$AD$22=\"X\",BI473=\"X\"),1,0)","v":0},"X"]
[null,1,"CA BV","Carex brevior","Plains Oval Sedge","10\" O.C.","short 12\" sedge",null,"X","X","X","X",null,1,"X",{"$f":"IF(AND('Step 2 - Ornamental'!$AA$21=\"X\",Q474=\"X\"),1,0)","v":0},null,{"$f":"IF(AND('Step 2 - Ornamental'!$AB$21=\"X\",S474=\"X\"),1,0)","v":0},null,{"$f":"IF(AND('Step 2 - Ornamental'!$AC$21=\"X\",U474=\"X\"),1,0)","v":0},null,{"$f":"IF(AND('Step 2 - Ornamental'!$AA$19=\"X\",W474=\"X\"),1,0)","v":0},"X",{"$f":"IF(AND('Step 2 - Ornamental'!$AA$19=\"X\",Y474=\"X\"),1,0)","v":0},null,{"$f":"IF(AND('Step 2 - Ornamental'!$AB$19=\"X\",AA474=\"X\"),1,0)","v":0},null,{"$f":"IF(AND('Step 2 - Ornamental'!$AC$19=\"X\",AC474=\"X\"),1,0)","v":0},null,{"$f":"IF(AND('Step 2 - Ornamental'!$AA$20=\"X\",AE474=\"X\"),1,0)","v":0},"X",{"$f":"IF(AND('Step 2 - Ornamental'!$AA$20=\"X\",AG474=\"X\"),1,0)","v":0},null,{"$f":"IF(AND('Step 2 - Ornamental'!$AB$20=\"X\",AI474=\"X\"),1,0)","v":0},null,{"$f":"IF(AND('Step 2 - Ornamental'!$AC$20=\"X\",AK474=\"X\"),1,0)","v":0},null,{"$f":"IF(AND('Step 2 - Ornamental'!$AA$18=\"X\",AM474=\"X\"),1,0)","v":0},"X",{"$f":"IF(AND('Step 2 - Ornamental'!$AB$18=\"X\",AO474=\"X\"),1,0)","v":0},"X",{"$f":"IF(AND('Step 2 - Ornamental'!$AC$18=\"X\",AQ474=\"X\"),1,0)","v":0},"X",{"$f":"IF(AND('Step 2 - Ornamental'!$AD$18=\"X\",AS474=\"X\"),1,0)","v":0},null,{"$f":"IF(AND('Step 2 - Ornamental'!$AE$18=\"X\",AU474=\"X\"),1,0)","v":0},null,{"$f":"IF(AND('Step 2 - Ornamental'!$AA$17=\"X\",AW474=\"X\"),1,0)","v":0},"X",{"$f":"IF(AND('Step 2 - Ornamental'!$AB$17=\"X\",AY474=\"X\"),1,0)","v":0},"X",{"$f":"IF(AND('Step 2 - Ornamental'!$AC$17=\"X\",BA474=\"X\"),1,0)","v":0},null,{"$f":"IF(AND('Step 2 - Ornamental'!$AA$22=\"X\",BC474=\"X\"),1,0)","v":0},null,{"$f":"IF(AND('Step 2 - Ornamental'!$AB$22=\"X\",BE474=\"X\"),1,0)","v":0},null,{"$f":"IF(AND('Step 2 - Ornamental'!$AC$22=\"X\",BG474=\"X\"),1,0)","v":0},"X",{"$f":"IF(AND('Step 2 - Ornamental'!$AD$22=\"X\",BI474=\"X\"),1,0)","v":0},"X"]
[null,1,"CA EB","Carex eburnea","Ivory Sedge","10\" O.C.","12' tall, naturally occurs in limestone outcroppings, prefers consistently moist soils"," ","X","X","X",null,null,1,"X",{"$f":"IF(AND('Step 2 - Ornamental'!$AA$21=\"X\",Q475=\"X\"),1,0)","v":0},null,{"$f":"IF(AND('Step 2 - Ornamental'!$AB$21=\"X\",S475=\"X\"),1,0)","v":0},null,{"$f":"IF(AND('Step 2 - Ornamental'!$AC$21=\"X\",U475=\"X\"),1,0)","v":0},null,{"$f":"IF(AND('Step 2 - Ornamental'!$AA$19=\"X\",W475=\"X\"),1,0)","v":0},"X",{"$f":"IF(AND('Step 2 - Ornamental'!$AA$19=\"X\",Y475=\"X\"),1,0)","v":0},null,{"$f":"IF(AND('Step 2 - Ornamental'!$AB$19=\"X\",AA475=\"X\"),1,0)","v":0},null,{"$f":"IF(AND('Step 2 - Ornamental'!$AC$19=\"X\",AC475=\"X\"),1,0)","v":0},null,{"$f":"IF(AND('Step 2 - Ornamental'!$AA$20=\"X\",AE475=\"X\"),1,0)","v":0},"X",{"$f":"IF(AND('Step 2 - Ornamental'!$AA$20=\"X\",AG475=\"X\"),1,0)","v":0},null,{"$f":"IF(AND('Step 2 - Ornamental'!$AB$20=\"X\",AI475=\"X\"),1,0)","v":0},null,{"$f":"IF(AND('Step 2 - Ornamental'!$AC$20=\"X\",AK475=\"X\"),1,0)","v":0},null,{"$f":"IF(AND('Step 2 - Ornamental'!$AA$18=\"X\",AM475=\"X\"),1,0)","v":0},"X",{"$f":"IF(AND('Step 2 - Ornamental'!$AB$18=\"X\",AO475=\"X\"),1,0)","v":0},"X",{"$f":"IF(AND('Step 2 - Ornamental'!$AC$18=\"X\",AQ475=\"X\"),1,0)","v":0},null,{"$f":"IF(AND('Step 2 - Ornamental'!$AD$18=\"X\",AS475=\"X\"),1,0)","v":0},null,{"$f":"IF(AND('Step 2 - Ornamental'!$AE$18=\"X\",AU475=\"X\"),1,0)","v":0},null,{"$f":"IF(AND('Step 2 - Ornamental'!$AA$17=\"X\",AW475=\"X\"),1,0)","v":0},null,{"$f":"IF(AND('Step 2 - Ornamental'!$AB$17=\"X\",AY475=\"X\"),1,0)","v":0},"X",{"$f":"IF(AND('Step 2 - Ornamental'!$AC$17=\"X\",BA475=\"X\"),1,0)","v":0},"X",{"$f":"IF(AND('Step 2 - Ornamental'!$AA$22=\"X\",BC475=\"X\"),1,0)","v":0},null,{"$f":"IF(AND('Step 2 - Ornamental'!$AB$22=\"X\",BE475=\"X\"),1,0)","v":0},null,{"$f":"IF(AND('Step 2 - Ornamental'!$AC$22=\"X\",BG475=\"X\"),1,0)","v":0},"X",{"$f":"IF(AND('Step 2 - Ornamental'!$AD$22=\"X\",BI475=\"X\"),1,0)","v":0},"X"]
[null,1,"CA EL","Carex elata 'Aurea'","Bowles Golden Sedge","24\" O.C.","2' tall, tolerates 3\" inundation, pair with IRSI and HOJU","X",null,null,"X",null,null,0,null,{"$f":"IF(AND('Step 2 - Ornamental'!$AA$21=\"X\",Q476=\"X\"),1,0)","v":0},"X",{"$f":"IF(AND('Step 2 - Ornamental'!$AB$21=\"X\",S476=\"X\"),1,0)","v":0},"X",{"$f":"IF(AND('Step 2 - Ornamental'!$AC$21=\"X\",U476=\"X\"),1,0)","v":0},null,{"$f":"IF(AND('Step 2 - Ornamental'!$AA$19=\"X\",W476=\"X\"),1,0)","v":0},"X",{"$f":"IF(AND('Step 2 - Ornamental'!$AA$19=\"X\",Y476=\"X\"),1,0)","v":0},null,{"$f":"IF(AND('Step 2 - Ornamental'!$AB$19=\"X\",AA476=\"X\"),1,0)","v":0},null,{"$f":"IF(AND('Step 2 - Ornamental'!$AC$19=\"X\",AC476=\"X\"),1,0)","v":0},null,{"$f":"IF(AND('Step 2 - Ornamental'!$AA$20=\"X\",AE476=\"X\"),1,0)","v":0},"X",{"$f":"IF(AND('Step 2 - Ornamental'!$AA$20=\"X\",AG476=\"X\"),1,0)","v":0},null,{"$f":"IF(AND('Step 2 - Ornamental'!$AB$20=\"X\",AI476=\"X\"),1,0)","v":0},null,{"$f":"IF(AND('Step 2 - Ornamental'!$AC$20=\"X\",AK476=\"X\"),1,0)","v":0},null,{"$f":"IF(AND('Step 2 - Ornamental'!$AA$18=\"X\",AM476=\"X\"),1,0)","v":0},null,{"$f":"IF(AND('Step 2 - Ornamental'!$AB$18=\"X\",AO476=\"X\"),1,0)","v":0},"X",{"$f":"IF(AND('Step 2 - Ornamental'!$AC$18=\"X\",AQ476=\"X\"),1,0)","v":0},"X",{"$f":"IF(AND('Step 2 - Ornamental'!$AD$18=\"X\",AS476=\"X\"),1,0)","v":0},"X",{"$f":"IF(AND('Step 2 - Ornamental'!$AE$18=\"X\",AU476=\"X\"),1,0)","v":0},null,{"$f":"IF(AND('Step 2 - Ornamental'!$AA$17=\"X\",AW476=\"X\"),1,0)","v":0},null,{"$f":"IF(AND('Step 2 - Ornamental'!$AB$17=\"X\",AY476=\"X\"),1,0)","v":0},"X",{"$f":"IF(AND('Step 2 - Ornamental'!$AC$17=\"X\",BA476=\"X\"),1,0)","v":0},"X",{"$f":"IF(AND('Step 2 - Ornamental'!$AA$22=\"X\",BC476=\"X\"),1,0)","v":0},null,{"$f":"IF(AND('Step 2 - Ornamental'!$AB$22=\"X\",BE476=\"X\"),1,0)","v":0},null,{"$f":"IF(AND('Step 2 - Ornamental'!$AC$22=\"X\",BG476=\"X\"),1,0)","v":0},"X",{"$f":"IF(AND('Step 2 - Ornamental'!$AD$22=\"X\",BI476=\"X\"),1,0)","v":0},"X"]
[null,1,"CA EM","Carex emoryi","Riverbank Tussock Sedge (Emory's Sedge)","18\" O.C.","2' tall, spreads,  tolerant of inundation, spreads by rhizomes, ",null,"X","X","X",null,null,1,"X",{"$f":"IF(AND('Step 2 - Ornamental'!$AA$21=\"X\",Q477=\"X\"),1,0)","v":0},null,{"$f":"IF(AND('Step 2 - Ornamental'!$AB$21=\"X\",S477=\"X\"),1,0)","v":0},null,{"$f":"IF(AND('Step 2 - Ornamental'!$AC$21=\"X\",U477=\"X\"),1,0)","v":0},null,{"$f":"IF(AND('Step 2 - Ornamental'!$AA$19=\"X\",W477=\"X\"),1,0)","v":0},null,{"$f":"IF(AND('Step 2 - Ornamental'!$AA$19=\"X\",Y477=\"X\"),1,0)","v":0},"X",{"$f":"IF(AND('Step 2 - Ornamental'!$AB$19=\"X\",AA477=\"X\"),1,0)","v":0},"X",{"$f":"IF(AND('Step 2 - Ornamental'!$AC$19=\"X\",AC477=\"X\"),1,0)","v":0},null,{"$f":"IF(AND('Step 2 - Ornamental'!$AA$20=\"X\",AE477=\"X\"),1,0)","v":0},null,{"$f":"IF(AND('Step 2 - Ornamental'!$AA$20=\"X\",AG477=\"X\"),1,0)","v":0},"X",{"$f":"IF(AND('Step 2 - Ornamental'!$AB$20=\"X\",AI477=\"X\"),1,0)","v":0},"X",{"$f":"IF(AND('Step 2 - Ornamental'!$AC$20=\"X\",AK477=\"X\"),1,0)","v":0},"X",{"$f":"IF(AND('Step 2 - Ornamental'!$AA$18=\"X\",AM477=\"X\"),1,0)","v":0},null,{"$f":"IF(AND('Step 2 - Ornamental'!$AB$18=\"X\",AO477=\"X\"),1,0)","v":0},null,{"$f":"IF(AND('Step 2 - Ornamental'!$AC$18=\"X\",AQ477=\"X\"),1,0)","v":0},"X",{"$f":"IF(AND('Step 2 - Ornamental'!$AD$18=\"X\",AS477=\"X\"),1,0)","v":0},"X",{"$f":"IF(AND('Step 2 - Ornamental'!$AE$18=\"X\",AU477=\"X\"),1,0)","v":0},null,{"$f":"IF(AND('Step 2 - Ornamental'!$AA$17=\"X\",AW477=\"X\"),1,0)","v":0},"X",{"$f":"IF(AND('Step 2 - Ornamental'!$AB$17=\"X\",AY477=\"X\"),1,0)","v":0},"X",{"$f":"IF(AND('Step 2 - Ornamental'!$AC$17=\"X\",BA477=\"X\"),1,0)","v":0},null,{"$f":"IF(AND('Step 2 - Ornamental'!$AA$22=\"X\",BC477=\"X\"),1,0)","v":0},null,{"$f":"IF(AND('Step 2 - Ornamental'!$AB$22=\"X\",BE477=\"X\"),1,0)","v":0},null,{"$f":"IF(AND('Step 2 - Ornamental'!$AC$22=\"X\",BG477=\"X\"),1,0)","v":0},"X",{"$f":"IF(AND('Step 2 - Ornamental'!$AD$22=\"X\",BI477=\"X\"),1,0)","v":0},"X"]
[null,1,"CA FC","Carex flacca","Blue Sedge","18\" O.C.","12\" tall, spreads,  tolerant of dry shade, bluish leaf, spreads","X",null,null,"X",null,null,1,"X",{"$f":"IF(AND('Step 2 - Ornamental'!$AA$21=\"X\",Q478=\"X\"),1,0)","v":0},null,{"$f":"IF(AND('Step 2 - Ornamental'!$AB$21=\"X\",S478=\"X\"),1,0)","v":0},null,{"$f":"IF(AND('Step 2 - Ornamental'!$AC$21=\"X\",U478=\"X\"),1,0)","v":0},null,{"$f":"IF(AND('Step 2 - Ornamental'!$AA$19=\"X\",W478=\"X\"),1,0)","v":0},"X",{"$f":"IF(AND('Step 2 - Ornamental'!$AA$19=\"X\",Y478=\"X\"),1,0)","v":0},null,{"$f":"IF(AND('Step 2 - Ornamental'!$AB$19=\"X\",AA478=\"X\"),1,0)","v":0},null,{"$f":"IF(AND('Step 2 - Ornamental'!$AC$19=\"X\",AC478=\"X\"),1,0)","v":0},null,{"$f":"IF(AND('Step 2 - Ornamental'!$AA$20=\"X\",AE478=\"X\"),1,0)","v":0},"X",{"$f":"IF(AND('Step 2 - Ornamental'!$AA$20=\"X\",AG478=\"X\"),1,0)","v":0},null,{"$f":"IF(AND('Step 2 - Ornamental'!$AB$20=\"X\",AI478=\"X\"),1,0)","v":0},null,{"$f":"IF(AND('Step 2 - Ornamental'!$AC$20=\"X\",AK478=\"X\"),1,0)","v":0},null,{"$f":"IF(AND('Step 2 - Ornamental'!$AA$18=\"X\",AM478=\"X\"),1,0)","v":0},"X",{"$f":"IF(AND('Step 2 - Ornamental'!$AB$18=\"X\",AO478=\"X\"),1,0)","v":0},"X",{"$f":"IF(AND('Step 2 - Ornamental'!$AC$18=\"X\",AQ478=\"X\"),1,0)","v":0},null,{"$f":"IF(AND('Step 2 - Ornamental'!$AD$18=\"X\",AS478=\"X\"),1,0)","v":0},null,{"$f":"IF(AND('Step 2 - Ornamental'!$AE$18=\"X\",AU478=\"X\"),1,0)","v":0},null,{"$f":"IF(AND('Step 2 - Ornamental'!$AA$17=\"X\",AW478=\"X\"),1,0)","v":0},null,{"$f":"IF(AND('Step 2 - Ornamental'!$AB$17=\"X\",AY478=\"X\"),1,0)","v":0},"X",{"$f":"IF(AND('Step 2 - Ornamental'!$AC$17=\"X\",BA478=\"X\"),1,0)","v":0},"X",{"$f":"IF(AND('Step 2 - Ornamental'!$AA$22=\"X\",BC478=\"X\"),1,0)","v":0},null,{"$f":"IF(AND('Step 2 - Ornamental'!$AB$22=\"X\",BE478=\"X\"),1,0)","v":0},"X",{"$f":"IF(AND('Step 2 - Ornamental'!$AC$22=\"X\",BG478=\"X\"),1,0)","v":0},"X",{"$f":"IF(AND('Step 2 - Ornamental'!$AD$22=\"X\",BI478=\"X\"),1,0)","v":0},"X"]
[null,1,"CA LA","Carex laxiculmis 'Hobb' BUNNY BLUE","Bunny Blue Glaucous Woodland Sedge","10\" O.C.","12\" tall with wider leaves (1/2\"), spreads, drought tolerant",null,"X","X","X",null,null,0,null,{"$f":"IF(AND('Step 2 - Ornamental'!$AA$21=\"X\",Q479=\"X\"),1,0)","v":0},"X",{"$f":"IF(AND('Step 2 - Ornamental'!$AB$21=\"X\",S479=\"X\"),1,0)","v":0},"X",{"$f":"IF(AND('Step 2 - Ornamental'!$AC$21=\"X\",U479=\"X\"),1,0)","v":0},null,{"$f":"IF(AND('Step 2 - Ornamental'!$AA$19=\"X\",W479=\"X\"),1,0)","v":0},"X",{"$f":"IF(AND('Step 2 - Ornamental'!$AA$19=\"X\",Y479=\"X\"),1,0)","v":0},null,{"$f":"IF(AND('Step 2 - Ornamental'!$AB$19=\"X\",AA479=\"X\"),1,0)","v":0},null,{"$f":"IF(AND('Step 2 - Ornamental'!$AC$19=\"X\",AC479=\"X\"),1,0)","v":0},null,{"$f":"IF(AND('Step 2 - Ornamental'!$AA$20=\"X\",AE479=\"X\"),1,0)","v":0},"X",{"$f":"IF(AND('Step 2 - Ornamental'!$AA$20=\"X\",AG479=\"X\"),1,0)","v":0},null,{"$f":"IF(AND('Step 2 - Ornamental'!$AB$20=\"X\",AI479=\"X\"),1,0)","v":0},null,{"$f":"IF(AND('Step 2 - Ornamental'!$AC$20=\"X\",AK479=\"X\"),1,0)","v":0},null,{"$f":"IF(AND('Step 2 - Ornamental'!$AA$18=\"X\",AM479=\"X\"),1,0)","v":0}," ",{"$f":"IF(AND('Step 2 - Ornamental'!$AB$18=\"X\",AO479=\"X\"),1,0)","v":0},"X",{"$f":"IF(AND('Step 2 - Ornamental'!$AC$18=\"X\",AQ479=\"X\"),1,0)","v":0},"X",{"$f":"IF(AND('Step 2 - Ornamental'!$AD$18=\"X\",AS479=\"X\"),1,0)","v":0},null,{"$f":"IF(AND('Step 2 - Ornamental'!$AE$18=\"X\",AU479=\"X\"),1,0)","v":0},null,{"$f":"IF(AND('Step 2 - Ornamental'!$AA$17=\"X\",AW479=\"X\"),1,0)","v":0},null,{"$f":"IF(AND('Step 2 - Ornamental'!$AB$17=\"X\",AY479=\"X\"),1,0)","v":0},"X",{"$f":"IF(AND('Step 2 - Ornamental'!$AC$17=\"X\",BA479=\"X\"),1,0)","v":0},"X",{"$f":"IF(AND('Step 2 - Ornamental'!$AA$22=\"X\",BC479=\"X\"),1,0)","v":0},null,{"$f":"IF(AND('Step 2 - Ornamental'!$AB$22=\"X\",BE479=\"X\"),1,0)","v":0},null,{"$f":"IF(AND('Step 2 - Ornamental'!$AC$22=\"X\",BG479=\"X\"),1,0)","v":0},"X",{"$f":"IF(AND('Step 2 - Ornamental'!$AD$22=\"X\",BI479=\"X\"),1,0)","v":0},"X"]
[null,1,"CA MN","Carex montana","Montana Sedge","8\" O.C.","10\" Tall small, grass-like, evergreen, clump forming sedge, creeps through rhizomes,","X",null,null,null,null,null,0,null,{"$f":"IF(AND('Step 2 - Ornamental'!$AA$21=\"X\",Q480=\"X\"),1,0)","v":0},null,{"$f":"IF(AND('Step 2 - Ornamental'!$AB$21=\"X\",S480=\"X\"),1,0)","v":0},"X",{"$f":"IF(AND('Step 2 - Ornamental'!$AC$21=\"X\",U480=\"X\"),1,0)","v":0},"X",{"$f":"IF(AND('Step 2 - Ornamental'!$AA$19=\"X\",W480=\"X\"),1,0)","v":0},"X",{"$f":"IF(AND('Step 2 - Ornamental'!$AA$19=\"X\",Y480=\"X\"),1,0)","v":0},null,{"$f":"IF(AND('Step 2 - Ornamental'!$AB$19=\"X\",AA480=\"X\"),1,0)","v":0},null,{"$f":"IF(AND('Step 2 - Ornamental'!$AC$19=\"X\",AC480=\"X\"),1,0)","v":0},null,{"$f":"IF(AND('Step 2 - Ornamental'!$AA$20=\"X\",AE480=\"X\"),1,0)","v":0},"X",{"$f":"IF(AND('Step 2 - Ornamental'!$AA$20=\"X\",AG480=\"X\"),1,0)","v":0},null,{"$f":"IF(AND('Step 2 - Ornamental'!$AB$20=\"X\",AI480=\"X\"),1,0)","v":0},null,{"$f":"IF(AND('Step 2 - Ornamental'!$AC$20=\"X\",AK480=\"X\"),1,0)","v":0},null,{"$f":"IF(AND('Step 2 - Ornamental'!$AA$18=\"X\",AM480=\"X\"),1,0)","v":0},null,{"$f":"IF(AND('Step 2 - Ornamental'!$AB$18=\"X\",AO480=\"X\"),1,0)","v":0},"X",{"$f":"IF(AND('Step 2 - Ornamental'!$AC$18=\"X\",AQ480=\"X\"),1,0)","v":0},null,{"$f":"IF(AND('Step 2 - Ornamental'!$AD$18=\"X\",AS480=\"X\"),1,0)","v":0},null,{"$f":"IF(AND('Step 2 - Ornamental'!$AE$18=\"X\",AU480=\"X\"),1,0)","v":0},null,{"$f":"IF(AND('Step 2 - Ornamental'!$AA$17=\"X\",AW480=\"X\"),1,0)","v":0},null,{"$f":"IF(AND('Step 2 - Ornamental'!$AB$17=\"X\",AY480=\"X\"),1,0)","v":0},"X",{"$f":"IF(AND('Step 2 - Ornamental'!$AC$17=\"X\",BA480=\"X\"),1,0)","v":0},null,{"$f":"IF(AND('Step 2 - Ornamental'!$AA$22=\"X\",BC480=\"X\"),1,0)","v":0},null,{"$f":"IF(AND('Step 2 - Ornamental'!$AB$22=\"X\",BE480=\"X\"),1,0)","v":0},"X",{"$f":"IF(AND('Step 2 - Ornamental'!$AC$22=\"X\",BG480=\"X\"),1,0)","v":0},"X",{"$f":"IF(AND('Step 2 - Ornamental'!$AD$22=\"X\",BI480=\"X\"),1,0)","v":0},"X"]
[" ",1,"CA MO","Carex morrowii 'Ice Dance'","Ice Dance Sedge","18\" O.C.","12\" tall, attractive foliage, fast spreader, cut foliage to ground in March, ","X",null,null,"X",null,null,0,null,{"$f":"IF(AND('Step 2 - Ornamental'!$AA$21=\"X\",Q481=\"X\"),1,0)","v":0},null,{"$f":"IF(AND('Step 2 - Ornamental'!$AB$21=\"X\",S481=\"X\"),1,0)","v":0},"X",{"$f":"IF(AND('Step 2 - Ornamental'!$AC$21=\"X\",U481=\"X\"),1,0)","v":0},null,{"$f":"IF(AND('Step 2 - Ornamental'!$AA$19=\"X\",W481=\"X\"),1,0)","v":0},"X",{"$f":"IF(AND('Step 2 - Ornamental'!$AA$19=\"X\",Y481=\"X\"),1,0)","v":0},null,{"$f":"IF(AND('Step 2 - Ornamental'!$AB$19=\"X\",AA481=\"X\"),1,0)","v":0},null,{"$f":"IF(AND('Step 2 - Ornamental'!$AC$19=\"X\",AC481=\"X\"),1,0)","v":0},null,{"$f":"IF(AND('Step 2 - Ornamental'!$AA$20=\"X\",AE481=\"X\"),1,0)","v":0},"X",{"$f":"IF(AND('Step 2 - Ornamental'!$AA$20=\"X\",AG481=\"X\"),1,0)","v":0},null,{"$f":"IF(AND('Step 2 - Ornamental'!$AB$20=\"X\",AI481=\"X\"),1,0)","v":0},null,{"$f":"IF(AND('Step 2 - Ornamental'!$AC$20=\"X\",AK481=\"X\"),1,0)","v":0},null,{"$f":"IF(AND('Step 2 - Ornamental'!$AA$18=\"X\",AM481=\"X\"),1,0)","v":0},null,{"$f":"IF(AND('Step 2 - Ornamental'!$AB$18=\"X\",AO481=\"X\"),1,0)","v":0},"X",{"$f":"IF(AND('Step 2 - Ornamental'!$AC$18=\"X\",AQ481=\"X\"),1,0)","v":0},"X",{"$f":"IF(AND('Step 2 - Ornamental'!$AD$18=\"X\",AS481=\"X\"),1,0)","v":0},null,{"$f":"IF(AND('Step 2 - Ornamental'!$AE$18=\"X\",AU481=\"X\"),1,0)","v":0},null,{"$f":"IF(AND('Step 2 - Ornamental'!$AA$17=\"X\",AW481=\"X\"),1,0)","v":0},null,{"$f":"IF(AND('Step 2 - Ornamental'!$AB$17=\"X\",AY481=\"X\"),1,0)","v":0},"X",{"$f":"IF(AND('Step 2 - Ornamental'!$AC$17=\"X\",BA481=\"X\"),1,0)","v":0},"X",{"$f":"IF(AND('Step 2 - Ornamental'!$AA$22=\"X\",BC481=\"X\"),1,0)","v":0},null,{"$f":"IF(AND('Step 2 - Ornamental'!$AB$22=\"X\",BE481=\"X\"),1,0)","v":0},null,{"$f":"IF(AND('Step 2 - Ornamental'!$AC$22=\"X\",BG481=\"X\"),1,0)","v":0},"X",{"$f":"IF(AND('Step 2 - Ornamental'!$AD$22=\"X\",BI481=\"X\"),1,0)","v":0},"X"]
[" ",1,"CA MV","Carex morrowii 'Variegata'","Variegated Japanese Grass Sedge","12\" O.C.","18\" tall, attractive foliage needs consistently moist soils, variegated","X",null,null,"X",null,null,0,null,{"$f":"IF(AND('Step 2 - Ornamental'!$AA$21=\"X\",Q482=\"X\"),1,0)","v":0},null,{"$f":"IF(AND('Step 2 - Ornamental'!$AB$21=\"X\",S482=\"X\"),1,0)","v":0},"X",{"$f":"IF(AND('Step 2 - Ornamental'!$AC$21=\"X\",U482=\"X\"),1,0)","v":0},null,{"$f":"IF(AND('Step 2 - Ornamental'!$AA$19=\"X\",W482=\"X\"),1,0)","v":0},"X",{"$f":"IF(AND('Step 2 - Ornamental'!$AA$19=\"X\",Y482=\"X\"),1,0)","v":0},null,{"$f":"IF(AND('Step 2 - Ornamental'!$AB$19=\"X\",AA482=\"X\"),1,0)","v":0},null,{"$f":"IF(AND('Step 2 - Ornamental'!$AC$19=\"X\",AC482=\"X\"),1,0)","v":0},null,{"$f":"IF(AND('Step 2 - Ornamental'!$AA$20=\"X\",AE482=\"X\"),1,0)","v":0},"X",{"$f":"IF(AND('Step 2 - Ornamental'!$AA$20=\"X\",AG482=\"X\"),1,0)","v":0},null,{"$f":"IF(AND('Step 2 - Ornamental'!$AB$20=\"X\",AI482=\"X\"),1,0)","v":0},null,{"$f":"IF(AND('Step 2 - Ornamental'!$AC$20=\"X\",AK482=\"X\"),1,0)","v":0},null,{"$f":"IF(AND('Step 2 - Ornamental'!$AA$18=\"X\",AM482=\"X\"),1,0)","v":0},null,{"$f":"IF(AND('Step 2 - Ornamental'!$AB$18=\"X\",AO482=\"X\"),1,0)","v":0},"X",{"$f":"IF(AND('Step 2 - Ornamental'!$AC$18=\"X\",AQ482=\"X\"),1,0)","v":0},"X",{"$f":"IF(AND('Step 2 - Ornamental'!$AD$18=\"X\",AS482=\"X\"),1,0)","v":0},null,{"$f":"IF(AND('Step 2 - Ornamental'!$AE$18=\"X\",AU482=\"X\"),1,0)","v":0},null,{"$f":"IF(AND('Step 2 - Ornamental'!$AA$17=\"X\",AW482=\"X\"),1,0)","v":0},null,{"$f":"IF(AND('Step 2 - Ornamental'!$AB$17=\"X\",AY482=\"X\"),1,0)","v":0},"X",{"$f":"IF(AND('Step 2 - Ornamental'!$AC$17=\"X\",BA482=\"X\"),1,0)","v":0},"X",{"$f":"IF(AND('Step 2 - Ornamental'!$AA$22=\"X\",BC482=\"X\"),1,0)","v":0},null,{"$f":"IF(AND('Step 2 - Ornamental'!$AB$22=\"X\",BE482=\"X\"),1,0)","v":0},null,{"$f":"IF(AND('Step 2 - Ornamental'!$AC$22=\"X\",BG482=\"X\"),1,0)","v":0},"X",{"$f":"IF(AND('Step 2 - Ornamental'!$AD$22=\"X\",BI482=\"X\"),1,0)","v":0},"X"]
[null,1,"CA MU","Carex muskingumensis 'Oehme'","Palm Sedge","18\" O.C.","24\" tall, interesting radiating leaves, tolerates shallow water",null,"X","X","X",null,null,1,"X",{"$f":"IF(AND('Step 2 - Ornamental'!$AA$21=\"X\",Q483=\"X\"),1,0)","v":0},null,{"$f":"IF(AND('Step 2 - Ornamental'!$AB$21=\"X\",S483=\"X\"),1,0)","v":0},null,{"$f":"IF(AND('Step 2 - Ornamental'!$AC$21=\"X\",U483=\"X\"),1,0)","v":0},null,{"$f":"IF(AND('Step 2 - Ornamental'!$AA$19=\"X\",W483=\"X\"),1,0)","v":0},"X",{"$f":"IF(AND('Step 2 - Ornamental'!$AA$19=\"X\",Y483=\"X\"),1,0)","v":0},null,{"$f":"IF(AND('Step 2 - Ornamental'!$AB$19=\"X\",AA483=\"X\"),1,0)","v":0},null,{"$f":"IF(AND('Step 2 - Ornamental'!$AC$19=\"X\",AC483=\"X\"),1,0)","v":0},null,{"$f":"IF(AND('Step 2 - Ornamental'!$AA$20=\"X\",AE483=\"X\"),1,0)","v":0},"X",{"$f":"IF(AND('Step 2 - Ornamental'!$AA$20=\"X\",AG483=\"X\"),1,0)","v":0},null,{"$f":"IF(AND('Step 2 - Ornamental'!$AB$20=\"X\",AI483=\"X\"),1,0)","v":0},null,{"$f":"IF(AND('Step 2 - Ornamental'!$AC$20=\"X\",AK483=\"X\"),1,0)","v":0},null,{"$f":"IF(AND('Step 2 - Ornamental'!$AA$18=\"X\",AM483=\"X\"),1,0)","v":0},null,{"$f":"IF(AND('Step 2 - Ornamental'!$AB$18=\"X\",AO483=\"X\"),1,0)","v":0},"X",{"$f":"IF(AND('Step 2 - Ornamental'!$AC$18=\"X\",AQ483=\"X\"),1,0)","v":0},"X",{"$f":"IF(AND('Step 2 - Ornamental'!$AD$18=\"X\",AS483=\"X\"),1,0)","v":0},null,{"$f":"IF(AND('Step 2 - Ornamental'!$AE$18=\"X\",AU483=\"X\"),1,0)","v":0},null,{"$f":"IF(AND('Step 2 - Ornamental'!$AA$17=\"X\",AW483=\"X\"),1,0)","v":0},"X",{"$f":"IF(AND('Step 2 - Ornamental'!$AB$17=\"X\",AY483=\"X\"),1,0)","v":0},"X",{"$f":"IF(AND('Step 2 - Ornamental'!$AC$17=\"X\",BA483=\"X\"),1,0)","v":0},null,{"$f":"IF(AND('Step 2 - Ornamental'!$AA$22=\"X\",BC483=\"X\"),1,0)","v":0},null,{"$f":"IF(AND('Step 2 - Ornamental'!$AB$22=\"X\",BE483=\"X\"),1,0)","v":0},null,{"$f":"IF(AND('Step 2 - Ornamental'!$AC$22=\"X\",BG483=\"X\"),1,0)","v":0},"X",{"$f":"IF(AND('Step 2 - Ornamental'!$AD$22=\"X\",BI483=\"X\"),1,0)","v":0},"X"]
[" ",1,"CA PE","Carex pensylvanica","Penn Sedge","12\" O.C.","12\" tall, soft fine grass, interplants well with other shade perennials",null,"X","X",null,null,null,0,null,{"$f":"IF(AND('Step 2 - Ornamental'!$AA$21=\"X\",Q484=\"X\"),1,0)","v":0},"X",{"$f":"IF(AND('Step 2 - Ornamental'!$AB$21=\"X\",S484=\"X\"),1,0)","v":0},"X",{"$f":"IF(AND('Step 2 - Ornamental'!$AC$21=\"X\",U484=\"X\"),1,0)","v":0},null,{"$f":"IF(AND('Step 2 - Ornamental'!$AA$19=\"X\",W484=\"X\"),1,0)","v":0},"X",{"$f":"IF(AND('Step 2 - Ornamental'!$AA$19=\"X\",Y484=\"X\"),1,0)","v":0},null,{"$f":"IF(AND('Step 2 - Ornamental'!$AB$19=\"X\",AA484=\"X\"),1,0)","v":0},null,{"$f":"IF(AND('Step 2 - Ornamental'!$AC$19=\"X\",AC484=\"X\"),1,0)","v":0},null,{"$f":"IF(AND('Step 2 - Ornamental'!$AA$20=\"X\",AE484=\"X\"),1,0)","v":0},"X",{"$f":"IF(AND('Step 2 - Ornamental'!$AA$20=\"X\",AG484=\"X\"),1,0)","v":0},null,{"$f":"IF(AND('Step 2 - Ornamental'!$AB$20=\"X\",AI484=\"X\"),1,0)","v":0},null,{"$f":"IF(AND('Step 2 - Ornamental'!$AC$20=\"X\",AK484=\"X\"),1,0)","v":0},null,{"$f":"IF(AND('Step 2 - Ornamental'!$AA$18=\"X\",AM484=\"X\"),1,0)","v":0},"X",{"$f":"IF(AND('Step 2 - Ornamental'!$AB$18=\"X\",AO484=\"X\"),1,0)","v":0},"X",{"$f":"IF(AND('Step 2 - Ornamental'!$AC$18=\"X\",AQ484=\"X\"),1,0)","v":0},null,{"$f":"IF(AND('Step 2 - Ornamental'!$AD$18=\"X\",AS484=\"X\"),1,0)","v":0},null,{"$f":"IF(AND('Step 2 - Ornamental'!$AE$18=\"X\",AU484=\"X\"),1,0)","v":0},null,{"$f":"IF(AND('Step 2 - Ornamental'!$AA$17=\"X\",AW484=\"X\"),1,0)","v":0},null,{"$f":"IF(AND('Step 2 - Ornamental'!$AB$17=\"X\",AY484=\"X\"),1,0)","v":0},"X",{"$f":"IF(AND('Step 2 - Ornamental'!$AC$17=\"X\",BA484=\"X\"),1,0)","v":0},"X",{"$f":"IF(AND('Step 2 - Ornamental'!$AA$22=\"X\",BC484=\"X\"),1,0)","v":0},null,{"$f":"IF(AND('Step 2 - Ornamental'!$AB$22=\"X\",BE484=\"X\"),1,0)","v":0},"X",{"$f":"IF(AND('Step 2 - Ornamental'!$AC$22=\"X\",BG484=\"X\"),1,0)","v":0},"X",{"$f":"IF(AND('Step 2 - Ornamental'!$AD$22=\"X\",BI484=\"X\"),1,0)","v":0},"X"]
[null,1,"CA RE","Carex remota","Remote Sedge","10\" O.C.","8\"-12\" tall, Fine textured, evergreen clump-former native to damp shady habitats","X",null,null,null,null,null,1,"X",{"$f":"IF(AND('Step 2 - Ornamental'!$AA$21=\"X\",Q485=\"X\"),1,0)","v":0},null,{"$f":"IF(AND('Step 2 - Ornamental'!$AB$21=\"X\",S485=\"X\"),1,0)","v":0},null,{"$f":"IF(AND('Step 2 - Ornamental'!$AC$21=\"X\",U485=\"X\"),1,0)","v":0},null,{"$f":"IF(AND('Step 2 - Ornamental'!$AA$19=\"X\",W485=\"X\"),1,0)","v":0},"X",{"$f":"IF(AND('Step 2 - Ornamental'!$AA$19=\"X\",Y485=\"X\"),1,0)","v":0},null,{"$f":"IF(AND('Step 2 - Ornamental'!$AB$19=\"X\",AA485=\"X\"),1,0)","v":0},null,{"$f":"IF(AND('Step 2 - Ornamental'!$AC$19=\"X\",AC485=\"X\"),1,0)","v":0},null,{"$f":"IF(AND('Step 2 - Ornamental'!$AA$20=\"X\",AE485=\"X\"),1,0)","v":0},"X",{"$f":"IF(AND('Step 2 - Ornamental'!$AA$20=\"X\",AG485=\"X\"),1,0)","v":0},null,{"$f":"IF(AND('Step 2 - Ornamental'!$AB$20=\"X\",AI485=\"X\"),1,0)","v":0},null,{"$f":"IF(AND('Step 2 - Ornamental'!$AC$20=\"X\",AK485=\"X\"),1,0)","v":0},null,{"$f":"IF(AND('Step 2 - Ornamental'!$AA$18=\"X\",AM485=\"X\"),1,0)","v":0},null,{"$f":"IF(AND('Step 2 - Ornamental'!$AB$18=\"X\",AO485=\"X\"),1,0)","v":0},"X",{"$f":"IF(AND('Step 2 - Ornamental'!$AC$18=\"X\",AQ485=\"X\"),1,0)","v":0},"X",{"$f":"IF(AND('Step 2 - Ornamental'!$AD$18=\"X\",AS485=\"X\"),1,0)","v":0},null,{"$f":"IF(AND('Step 2 - Ornamental'!$AE$18=\"X\",AU485=\"X\"),1,0)","v":0},null,{"$f":"IF(AND('Step 2 - Ornamental'!$AA$17=\"X\",AW485=\"X\"),1,0)","v":0},null,{"$f":"IF(AND('Step 2 - Ornamental'!$AB$17=\"X\",AY485=\"X\"),1,0)","v":0},"X",{"$f":"IF(AND('Step 2 - Ornamental'!$AC$17=\"X\",BA485=\"X\"),1,0)","v":0},"X",{"$f":"IF(AND('Step 2 - Ornamental'!$AA$22=\"X\",BC485=\"X\"),1,0)","v":0},null,{"$f":"IF(AND('Step 2 - Ornamental'!$AB$22=\"X\",BE485=\"X\"),1,0)","v":0},null,{"$f":"IF(AND('Step 2 - Ornamental'!$AC$22=\"X\",BG485=\"X\"),1,0)","v":0},"X",{"$f":"IF(AND('Step 2 - Ornamental'!$AD$22=\"X\",BI485=\"X\"),1,0)","v":0},"X"]
[null,1,"CA RO","Carex rosea","Rosy Sedge","10\" O.C.","8\"-12\" tall, tolerates dry shade",null,"X","X",null,null,null,1,"X",{"$f":"IF(AND('Step 2 - Ornamental'!$AA$21=\"X\",Q486=\"X\"),1,0)","v":0},null,{"$f":"IF(AND('Step 2 - Ornamental'!$AB$21=\"X\",S486=\"X\"),1,0)","v":0},null,{"$f":"IF(AND('Step 2 - Ornamental'!$AC$21=\"X\",U486=\"X\"),1,0)","v":0},null,{"$f":"IF(AND('Step 2 - Ornamental'!$AA$19=\"X\",W486=\"X\"),1,0)","v":0},"X",{"$f":"IF(AND('Step 2 - Ornamental'!$AA$19=\"X\",Y486=\"X\"),1,0)","v":0},null,{"$f":"IF(AND('Step 2 - Ornamental'!$AB$19=\"X\",AA486=\"X\"),1,0)","v":0},null,{"$f":"IF(AND('Step 2 - Ornamental'!$AC$19=\"X\",AC486=\"X\"),1,0)","v":0},null,{"$f":"IF(AND('Step 2 - Ornamental'!$AA$20=\"X\",AE486=\"X\"),1,0)","v":0},"X",{"$f":"IF(AND('Step 2 - Ornamental'!$AA$20=\"X\",AG486=\"X\"),1,0)","v":0},null,{"$f":"IF(AND('Step 2 - Ornamental'!$AB$20=\"X\",AI486=\"X\"),1,0)","v":0},null,{"$f":"IF(AND('Step 2 - Ornamental'!$AC$20=\"X\",AK486=\"X\"),1,0)","v":0},null,{"$f":"IF(AND('Step 2 - Ornamental'!$AA$18=\"X\",AM486=\"X\"),1,0)","v":0},"X",{"$f":"IF(AND('Step 2 - Ornamental'!$AB$18=\"X\",AO486=\"X\"),1,0)","v":0},"X",{"$f":"IF(AND('Step 2 - Ornamental'!$AC$18=\"X\",AQ486=\"X\"),1,0)","v":0},"X",{"$f":"IF(AND('Step 2 - Ornamental'!$AD$18=\"X\",AS486=\"X\"),1,0)","v":0},null,{"$f":"IF(AND('Step 2 - Ornamental'!$AE$18=\"X\",AU486=\"X\"),1,0)","v":0},null,{"$f":"IF(AND('Step 2 - Ornamental'!$AA$17=\"X\",AW486=\"X\"),1,0)","v":0},null,{"$f":"IF(AND('Step 2 - Ornamental'!$AB$17=\"X\",AY486=\"X\"),1,0)","v":0},"X",{"$f":"IF(AND('Step 2 - Ornamental'!$AC$17=\"X\",BA486=\"X\"),1,0)","v":0},"X",{"$f":"IF(AND('Step 2 - Ornamental'!$AA$22=\"X\",BC486=\"X\"),1,0)","v":0},null,{"$f":"IF(AND('Step 2 - Ornamental'!$AB$22=\"X\",BE486=\"X\"),1,0)","v":0},null,{"$f":"IF(AND('Step 2 - Ornamental'!$AC$22=\"X\",BG486=\"X\"),1,0)","v":0},"X",{"$f":"IF(AND('Step 2 - Ornamental'!$AD$22=\"X\",BI486=\"X\"),1,0)","v":0},"X"]
[null,1,"CA SH","Carex shortiana","Short's Sedge ","12\" O.C.","18\"-24\" tall, tolerates moist soil, partial shade",null,"X",null,null,null,null,1,"X",{"$f":"IF(AND('Step 2 - Ornamental'!$AA$21=\"X\",Q487=\"X\"),1,0)","v":0},null,{"$f":"IF(AND('Step 2 - Ornamental'!$AB$21=\"X\",S487=\"X\"),1,0)","v":0},null,{"$f":"IF(AND('Step 2 - Ornamental'!$AC$21=\"X\",U487=\"X\"),1,0)","v":0},null,{"$f":"IF(AND('Step 2 - Ornamental'!$AA$19=\"X\",W487=\"X\"),1,0)","v":0},"X",{"$f":"IF(AND('Step 2 - Ornamental'!$AA$19=\"X\",Y487=\"X\"),1,0)","v":0},null,{"$f":"IF(AND('Step 2 - Ornamental'!$AB$19=\"X\",AA487=\"X\"),1,0)","v":0},null,{"$f":"IF(AND('Step 2 - Ornamental'!$AC$19=\"X\",AC487=\"X\"),1,0)","v":0},null,{"$f":"IF(AND('Step 2 - Ornamental'!$AA$20=\"X\",AE487=\"X\"),1,0)","v":0},"X",{"$f":"IF(AND('Step 2 - Ornamental'!$AA$20=\"X\",AG487=\"X\"),1,0)","v":0},null,{"$f":"IF(AND('Step 2 - Ornamental'!$AB$20=\"X\",AI487=\"X\"),1,0)","v":0},null,{"$f":"IF(AND('Step 2 - Ornamental'!$AC$20=\"X\",AK487=\"X\"),1,0)","v":0},null,{"$f":"IF(AND('Step 2 - Ornamental'!$AA$18=\"X\",AM487=\"X\"),1,0)","v":0},null,{"$f":"IF(AND('Step 2 - Ornamental'!$AB$18=\"X\",AO487=\"X\"),1,0)","v":0},"X",{"$f":"IF(AND('Step 2 - Ornamental'!$AC$18=\"X\",AQ487=\"X\"),1,0)","v":0},"X",{"$f":"IF(AND('Step 2 - Ornamental'!$AD$18=\"X\",AS487=\"X\"),1,0)","v":0},null,{"$f":"IF(AND('Step 2 - Ornamental'!$AE$18=\"X\",AU487=\"X\"),1,0)","v":0},null,{"$f":"IF(AND('Step 2 - Ornamental'!$AA$17=\"X\",AW487=\"X\"),1,0)","v":0},"X",{"$f":"IF(AND('Step 2 - Ornamental'!$AB$17=\"X\",AY487=\"X\"),1,0)","v":0},"X",{"$f":"IF(AND('Step 2 - Ornamental'!$AC$17=\"X\",BA487=\"X\"),1,0)","v":0},null,{"$f":"IF(AND('Step 2 - Ornamental'!$AA$22=\"X\",BC487=\"X\"),1,0)","v":0},null,{"$f":"IF(AND('Step 2 - Ornamental'!$AB$22=\"X\",BE487=\"X\"),1,0)","v":0},null,{"$f":"IF(AND('Step 2 - Ornamental'!$AC$22=\"X\",BG487=\"X\"),1,0)","v":0},"X",{"$f":"IF(AND('Step 2 - Ornamental'!$AD$22=\"X\",BI487=\"X\"),1,0)","v":0},"X"]
[null,1,"CA SI","Carex siderosticha 'Banana Boat'","Creeping broad-leafed sedge","8\" O.C.","Short 6\"-12\", Dramatic wide, yellow-leafed sedge creeps by rhizomes, prefers partial shade and average to moist soil","X",null,null,"X",null,null,0,null,{"$f":"IF(AND('Step 2 - Ornamental'!$AA$21=\"X\",Q488=\"X\"),1,0)","v":0},"X",{"$f":"IF(AND('Step 2 - Ornamental'!$AB$21=\"X\",S488=\"X\"),1,0)","v":0},"X",{"$f":"IF(AND('Step 2 - Ornamental'!$AC$21=\"X\",U488=\"X\"),1,0)","v":0},null,{"$f":"IF(AND('Step 2 - Ornamental'!$AA$19=\"X\",W488=\"X\"),1,0)","v":0},"X",{"$f":"IF(AND('Step 2 - Ornamental'!$AA$19=\"X\",Y488=\"X\"),1,0)","v":0},null,{"$f":"IF(AND('Step 2 - Ornamental'!$AB$19=\"X\",AA488=\"X\"),1,0)","v":0},null,{"$f":"IF(AND('Step 2 - Ornamental'!$AC$19=\"X\",AC488=\"X\"),1,0)","v":0},null,{"$f":"IF(AND('Step 2 - Ornamental'!$AA$20=\"X\",AE488=\"X\"),1,0)","v":0},"X",{"$f":"IF(AND('Step 2 - Ornamental'!$AA$20=\"X\",AG488=\"X\"),1,0)","v":0},null,{"$f":"IF(AND('Step 2 - Ornamental'!$AB$20=\"X\",AI488=\"X\"),1,0)","v":0},null,{"$f":"IF(AND('Step 2 - Ornamental'!$AC$20=\"X\",AK488=\"X\"),1,0)","v":0},null,{"$f":"IF(AND('Step 2 - Ornamental'!$AA$18=\"X\",AM488=\"X\"),1,0)","v":0},null,{"$f":"IF(AND('Step 2 - Ornamental'!$AB$18=\"X\",AO488=\"X\"),1,0)","v":0},"X",{"$f":"IF(AND('Step 2 - Ornamental'!$AC$18=\"X\",AQ488=\"X\"),1,0)","v":0},"X",{"$f":"IF(AND('Step 2 - Ornamental'!$AD$18=\"X\",AS488=\"X\"),1,0)","v":0},null,{"$f":"IF(AND('Step 2 - Ornamental'!$AE$18=\"X\",AU488=\"X\"),1,0)","v":0},null,{"$f":"IF(AND('Step 2 - Ornamental'!$AA$17=\"X\",AW488=\"X\"),1,0)","v":0},null,{"$f":"IF(AND('Step 2 - Ornamental'!$AB$17=\"X\",AY488=\"X\"),1,0)","v":0},"X",{"$f":"IF(AND('Step 2 - Ornamental'!$AC$17=\"X\",BA488=\"X\"),1,0)","v":0},null,{"$f":"IF(AND('Step 2 - Ornamental'!$AA$22=\"X\",BC488=\"X\"),1,0)","v":0},null,{"$f":"IF(AND('Step 2 - Ornamental'!$AB$22=\"X\",BE488=\"X\"),1,0)","v":0},null,{"$f":"IF(AND('Step 2 - Ornamental'!$AC$22=\"X\",BG488=\"X\"),1,0)","v":0},"X",{"$f":"IF(AND('Step 2 - Ornamental'!$AD$22=\"X\",BI488=\"X\"),1,0)","v":0},"X"]
[null,1,"CA SG","Carex sprengelii","Long-beaked Sedge","12\" O.C.","Tall 18\"-24\" native sedge with an ornamental seed head and clump forming nature"," ","X","X","X",null,null,1,"X",{"$f":"IF(AND('Step 2 - Ornamental'!$AA$21=\"X\",Q489=\"X\"),1,0)","v":0},null,{"$f":"IF(AND('Step 2 - Ornamental'!$AB$21=\"X\",S489=\"X\"),1,0)","v":0},null,{"$f":"IF(AND('Step 2 - Ornamental'!$AC$21=\"X\",U489=\"X\"),1,0)","v":0},null,{"$f":"IF(AND('Step 2 - Ornamental'!$AA$19=\"X\",W489=\"X\"),1,0)","v":0},"X",{"$f":"IF(AND('Step 2 - Ornamental'!$AA$19=\"X\",Y489=\"X\"),1,0)","v":0},null,{"$f":"IF(AND('Step 2 - Ornamental'!$AB$19=\"X\",AA489=\"X\"),1,0)","v":0},null,{"$f":"IF(AND('Step 2 - Ornamental'!$AC$19=\"X\",AC489=\"X\"),1,0)","v":0},null,{"$f":"IF(AND('Step 2 - Ornamental'!$AA$20=\"X\",AE489=\"X\"),1,0)","v":0},null,{"$f":"IF(AND('Step 2 - Ornamental'!$AA$20=\"X\",AG489=\"X\"),1,0)","v":0},"X",{"$f":"IF(AND('Step 2 - Ornamental'!$AB$20=\"X\",AI489=\"X\"),1,0)","v":0},null,{"$f":"IF(AND('Step 2 - Ornamental'!$AC$20=\"X\",AK489=\"X\"),1,0)","v":0},null,{"$f":"IF(AND('Step 2 - Ornamental'!$AA$18=\"X\",AM489=\"X\"),1,0)","v":0},null,{"$f":"IF(AND('Step 2 - Ornamental'!$AB$18=\"X\",AO489=\"X\"),1,0)","v":0},"X",{"$f":"IF(AND('Step 2 - Ornamental'!$AC$18=\"X\",AQ489=\"X\"),1,0)","v":0},"X",{"$f":"IF(AND('Step 2 - Ornamental'!$AD$18=\"X\",AS489=\"X\"),1,0)","v":0},null,{"$f":"IF(AND('Step 2 - Ornamental'!$AE$18=\"X\",AU489=\"X\"),1,0)","v":0},null,{"$f":"IF(AND('Step 2 - Ornamental'!$AA$17=\"X\",AW489=\"X\"),1,0)","v":0},null,{"$f":"IF(AND('Step 2 - Ornamental'!$AB$17=\"X\",AY489=\"X\"),1,0)","v":0},"X",{"$f":"IF(AND('Step 2 - Ornamental'!$AC$17=\"X\",BA489=\"X\"),1,0)","v":0},"X",{"$f":"IF(AND('Step 2 - Ornamental'!$AA$22=\"X\",BC489=\"X\"),1,0)","v":0},null,{"$f":"IF(AND('Step 2 - Ornamental'!$AB$22=\"X\",BE489=\"X\"),1,0)","v":0},null,{"$f":"IF(AND('Step 2 - Ornamental'!$AC$22=\"X\",BG489=\"X\"),1,0)","v":0},"X",{"$f":"IF(AND('Step 2 - Ornamental'!$AD$22=\"X\",BI489=\"X\"),1,0)","v":0},"X"]
[null,1,"CA ST","Carex stricta","Tussock Sedge","18\" O.C.","Tall 24\"-36\" tall, larger sedge, likes wet soil, good selection for seasonally flooded areas"," ","X","X","X",null,null,1,"X",{"$f":"IF(AND('Step 2 - Ornamental'!$AA$21=\"X\",Q490=\"X\"),1,0)","v":0},null,{"$f":"IF(AND('Step 2 - Ornamental'!$AB$21=\"X\",S490=\"X\"),1,0)","v":0},null,{"$f":"IF(AND('Step 2 - Ornamental'!$AC$21=\"X\",U490=\"X\"),1,0)","v":0},null,{"$f":"IF(AND('Step 2 - Ornamental'!$AA$19=\"X\",W490=\"X\"),1,0)","v":0},"X",{"$f":"IF(AND('Step 2 - Ornamental'!$AA$19=\"X\",Y490=\"X\"),1,0)","v":0},null,{"$f":"IF(AND('Step 2 - Ornamental'!$AB$19=\"X\",AA490=\"X\"),1,0)","v":0},null,{"$f":"IF(AND('Step 2 - Ornamental'!$AC$19=\"X\",AC490=\"X\"),1,0)","v":0},null,{"$f":"IF(AND('Step 2 - Ornamental'!$AA$20=\"X\",AE490=\"X\"),1,0)","v":0},null,{"$f":"IF(AND('Step 2 - Ornamental'!$AA$20=\"X\",AG490=\"X\"),1,0)","v":0},"X",{"$f":"IF(AND('Step 2 - Ornamental'!$AB$20=\"X\",AI490=\"X\"),1,0)","v":0},"X",{"$f":"IF(AND('Step 2 - Ornamental'!$AC$20=\"X\",AK490=\"X\"),1,0)","v":0},null,{"$f":"IF(AND('Step 2 - Ornamental'!$AA$18=\"X\",AM490=\"X\"),1,0)","v":0},null,{"$f":"IF(AND('Step 2 - Ornamental'!$AB$18=\"X\",AO490=\"X\"),1,0)","v":0},"X",{"$f":"IF(AND('Step 2 - Ornamental'!$AC$18=\"X\",AQ490=\"X\"),1,0)","v":0},"X",{"$f":"IF(AND('Step 2 - Ornamental'!$AD$18=\"X\",AS490=\"X\"),1,0)","v":0},"X",{"$f":"IF(AND('Step 2 - Ornamental'!$AE$18=\"X\",AU490=\"X\"),1,0)","v":0},null,{"$f":"IF(AND('Step 2 - Ornamental'!$AA$17=\"X\",AW490=\"X\"),1,0)","v":0},"X",{"$f":"IF(AND('Step 2 - Ornamental'!$AB$17=\"X\",AY490=\"X\"),1,0)","v":0},"X",{"$f":"IF(AND('Step 2 - Ornamental'!$AC$17=\"X\",BA490=\"X\"),1,0)","v":0},null,{"$f":"IF(AND('Step 2 - Ornamental'!$AA$22=\"X\",BC490=\"X\"),1,0)","v":0},null,{"$f":"IF(AND('Step 2 - Ornamental'!$AB$22=\"X\",BE490=\"X\"),1,0)","v":0},null,{"$f":"IF(AND('Step 2 - Ornamental'!$AC$22=\"X\",BG490=\"X\"),1,0)","v":0},"X",{"$f":"IF(AND('Step 2 - Ornamental'!$AD$22=\"X\",BI490=\"X\"),1,0)","v":0},"X"]
[null,1,"CH LA","Chasmanthium latifolium","Northern Sea Oats","24 \" O.C.","2'-5' tall, showy seeds, tolerant of clay soils, will self seed,",null,"X",null,null,null,null,0,null,{"$f":"IF(AND('Step 2 - Ornamental'!$AA$21=\"X\",Q491=\"X\"),1,0)","v":0},"X",{"$f":"IF(AND('Step 2 - Ornamental'!$AB$21=\"X\",S491=\"X\"),1,0)","v":0},"X",{"$f":"IF(AND('Step 2 - Ornamental'!$AC$21=\"X\",U491=\"X\"),1,0)","v":0},null,{"$f":"IF(AND('Step 2 - Ornamental'!$AA$19=\"X\",W491=\"X\"),1,0)","v":0},null,{"$f":"IF(AND('Step 2 - Ornamental'!$AA$19=\"X\",Y491=\"X\"),1,0)","v":0},"X",{"$f":"IF(AND('Step 2 - Ornamental'!$AB$19=\"X\",AA491=\"X\"),1,0)","v":0},"X",{"$f":"IF(AND('Step 2 - Ornamental'!$AC$19=\"X\",AC491=\"X\"),1,0)","v":0},null,{"$f":"IF(AND('Step 2 - Ornamental'!$AA$20=\"X\",AE491=\"X\"),1,0)","v":0},"X",{"$f":"IF(AND('Step 2 - Ornamental'!$AA$20=\"X\",AG491=\"X\"),1,0)","v":0},null,{"$f":"IF(AND('Step 2 - Ornamental'!$AB$20=\"X\",AI491=\"X\"),1,0)","v":0},null,{"$f":"IF(AND('Step 2 - Ornamental'!$AC$20=\"X\",AK491=\"X\"),1,0)","v":0},null,{"$f":"IF(AND('Step 2 - Ornamental'!$AA$18=\"X\",AM491=\"X\"),1,0)","v":0},null,{"$f":"IF(AND('Step 2 - Ornamental'!$AB$18=\"X\",AO491=\"X\"),1,0)","v":0},"X",{"$f":"IF(AND('Step 2 - Ornamental'!$AC$18=\"X\",AQ491=\"X\"),1,0)","v":0},"X",{"$f":"IF(AND('Step 2 - Ornamental'!$AD$18=\"X\",AS491=\"X\"),1,0)","v":0},null,{"$f":"IF(AND('Step 2 - Ornamental'!$AE$18=\"X\",AU491=\"X\"),1,0)","v":0},null,{"$f":"IF(AND('Step 2 - Ornamental'!$AA$17=\"X\",AW491=\"X\"),1,0)","v":0},"X",{"$f":"IF(AND('Step 2 - Ornamental'!$AB$17=\"X\",AY491=\"X\"),1,0)","v":0},"X",{"$f":"IF(AND('Step 2 - Ornamental'!$AC$17=\"X\",BA491=\"X\"),1,0)","v":0},null,{"$f":"IF(AND('Step 2 - Ornamental'!$AA$22=\"X\",BC491=\"X\"),1,0)","v":0},null,{"$f":"IF(AND('Step 2 - Ornamental'!$AB$22=\"X\",BE491=\"X\"),1,0)","v":0},null,{"$f":"IF(AND('Step 2 - Ornamental'!$AC$22=\"X\",BG491=\"X\"),1,0)","v":0},"X",{"$f":"IF(AND('Step 2 - Ornamental'!$AD$22=\"X\",BI491=\"X\"),1,0)","v":0},"X"]
[" ",1,"DE CE","Deschampsia cespitosa 'Goldtau'","Goldtau Tufted Hair Grass","30\" O.C.","12\"-24\" tall, finer inflorescences than species (1-2' tall), ",null,"X","X",null,null,null,0,null,{"$f":"IF(AND('Step 2 - Ornamental'!$AA$21=\"X\",Q492=\"X\"),1,0)","v":0},"X",{"$f":"IF(AND('Step 2 - Ornamental'!$AB$21=\"X\",S492=\"X\"),1,0)","v":0},"X",{"$f":"IF(AND('Step 2 - Ornamental'!$AC$21=\"X\",U492=\"X\"),1,0)","v":0},"X",{"$f":"IF(AND('Step 2 - Ornamental'!$AA$19=\"X\",W492=\"X\"),1,0)","v":0},null,{"$f":"IF(AND('Step 2 - Ornamental'!$AA$19=\"X\",Y492=\"X\"),1,0)","v":0},"X",{"$f":"IF(AND('Step 2 - Ornamental'!$AB$19=\"X\",AA492=\"X\"),1,0)","v":0},"X",{"$f":"IF(AND('Step 2 - Ornamental'!$AC$19=\"X\",AC492=\"X\"),1,0)","v":0},null,{"$f":"IF(AND('Step 2 - Ornamental'!$AA$20=\"X\",AE492=\"X\"),1,0)","v":0},"X",{"$f":"IF(AND('Step 2 - Ornamental'!$AA$20=\"X\",AG492=\"X\"),1,0)","v":0},null,{"$f":"IF(AND('Step 2 - Ornamental'!$AB$20=\"X\",AI492=\"X\"),1,0)","v":0},null,{"$f":"IF(AND('Step 2 - Ornamental'!$AC$20=\"X\",AK492=\"X\"),1,0)","v":0},null,{"$f":"IF(AND('Step 2 - Ornamental'!$AA$18=\"X\",AM492=\"X\"),1,0)","v":0},null,{"$f":"IF(AND('Step 2 - Ornamental'!$AB$18=\"X\",AO492=\"X\"),1,0)","v":0},"X",{"$f":"IF(AND('Step 2 - Ornamental'!$AC$18=\"X\",AQ492=\"X\"),1,0)","v":0},"X",{"$f":"IF(AND('Step 2 - Ornamental'!$AD$18=\"X\",AS492=\"X\"),1,0)","v":0},null,{"$f":"IF(AND('Step 2 - Ornamental'!$AE$18=\"X\",AU492=\"X\"),1,0)","v":0},null,{"$f":"IF(AND('Step 2 - Ornamental'!$AA$17=\"X\",AW492=\"X\"),1,0)","v":0},"X",{"$f":"IF(AND('Step 2 - Ornamental'!$AB$17=\"X\",AY492=\"X\"),1,0)","v":0},"X",{"$f":"IF(AND('Step 2 - Ornamental'!$AC$17=\"X\",BA492=\"X\"),1,0)","v":0},null,{"$f":"IF(AND('Step 2 - Ornamental'!$AA$22=\"X\",BC492=\"X\"),1,0)","v":0},null,{"$f":"IF(AND('Step 2 - Ornamental'!$AB$22=\"X\",BE492=\"X\"),1,0)","v":0},null,{"$f":"IF(AND('Step 2 - Ornamental'!$AC$22=\"X\",BG492=\"X\"),1,0)","v":0},"X",{"$f":"IF(AND('Step 2 - Ornamental'!$AD$22=\"X\",BI492=\"X\"),1,0)","v":0},"X"]
[null,1,"EL CA","Elymus canadensis","Canada Wild Rye","24\" O.C.","2'-5' tall, Quickly establishing perennial, cool season, clump forming grass"," ","X","X",null,null,null,1,"X",{"$f":"IF(AND('Step 2 - Ornamental'!$AA$21=\"X\",Q493=\"X\"),1,0)","v":0},null,{"$f":"IF(AND('Step 2 - Ornamental'!$AB$21=\"X\",S493=\"X\"),1,0)","v":0},null,{"$f":"IF(AND('Step 2 - Ornamental'!$AC$21=\"X\",U493=\"X\"),1,0)","v":0},null,{"$f":"IF(AND('Step 2 - Ornamental'!$AA$19=\"X\",W493=\"X\"),1,0)","v":0},null,{"$f":"IF(AND('Step 2 - Ornamental'!$AA$19=\"X\",Y493=\"X\"),1,0)","v":0},"X",{"$f":"IF(AND('Step 2 - Ornamental'!$AB$19=\"X\",AA493=\"X\"),1,0)","v":0},"X",{"$f":"IF(AND('Step 2 - Ornamental'!$AC$19=\"X\",AC493=\"X\"),1,0)","v":0},"X",{"$f":"IF(AND('Step 2 - Ornamental'!$AA$20=\"X\",AE493=\"X\"),1,0)","v":0},null,{"$f":"IF(AND('Step 2 - Ornamental'!$AA$20=\"X\",AG493=\"X\"),1,0)","v":0},"X",{"$f":"IF(AND('Step 2 - Ornamental'!$AB$20=\"X\",AI493=\"X\"),1,0)","v":0},"X",{"$f":"IF(AND('Step 2 - Ornamental'!$AC$20=\"X\",AK493=\"X\"),1,0)","v":0},null,{"$f":"IF(AND('Step 2 - Ornamental'!$AA$18=\"X\",AM493=\"X\"),1,0)","v":0},"X",{"$f":"IF(AND('Step 2 - Ornamental'!$AB$18=\"X\",AO493=\"X\"),1,0)","v":0},"X",{"$f":"IF(AND('Step 2 - Ornamental'!$AC$18=\"X\",AQ493=\"X\"),1,0)","v":0},null,{"$f":"IF(AND('Step 2 - Ornamental'!$AD$18=\"X\",AS493=\"X\"),1,0)","v":0},null,{"$f":"IF(AND('Step 2 - Ornamental'!$AE$18=\"X\",AU493=\"X\"),1,0)","v":0},null,{"$f":"IF(AND('Step 2 - Ornamental'!$AA$17=\"X\",AW493=\"X\"),1,0)","v":0},"X",{"$f":"IF(AND('Step 2 - Ornamental'!$AB$17=\"X\",AY493=\"X\"),1,0)","v":0},null,{"$f":"IF(AND('Step 2 - Ornamental'!$AC$17=\"X\",BA493=\"X\"),1,0)","v":0},null,{"$f":"IF(AND('Step 2 - Ornamental'!$AA$22=\"X\",BC493=\"X\"),1,0)","v":0},null,{"$f":"IF(AND('Step 2 - Ornamental'!$AB$22=\"X\",BE493=\"X\"),1,0)","v":0},"X",{"$f":"IF(AND('Step 2 - Ornamental'!$AC$22=\"X\",BG493=\"X\"),1,0)","v":0},"X",{"$f":"IF(AND('Step 2 - Ornamental'!$AD$22=\"X\",BI493=\"X\"),1,0)","v":0},"X"]
[null,1,"ER SP","Eragrostis spectabilis","Purple Love Grass","18\" O.C.","1'-2' tall, tolerant of poor soil, self seeds,",null,"X","X",null,null,null,0,null,{"$f":"IF(AND('Step 2 - Ornamental'!$AA$21=\"X\",Q494=\"X\"),1,0)","v":0},"X",{"$f":"IF(AND('Step 2 - Ornamental'!$AB$21=\"X\",S494=\"X\"),1,0)","v":0},"X",{"$f":"IF(AND('Step 2 - Ornamental'!$AC$21=\"X\",U494=\"X\"),1,0)","v":0},"X",{"$f":"IF(AND('Step 2 - Ornamental'!$AA$19=\"X\",W494=\"X\"),1,0)","v":0},"X",{"$f":"IF(AND('Step 2 - Ornamental'!$AA$19=\"X\",Y494=\"X\"),1,0)","v":0},null,{"$f":"IF(AND('Step 2 - Ornamental'!$AB$19=\"X\",AA494=\"X\"),1,0)","v":0},null,{"$f":"IF(AND('Step 2 - Ornamental'!$AC$19=\"X\",AC494=\"X\"),1,0)","v":0},null,{"$f":"IF(AND('Step 2 - Ornamental'!$AA$20=\"X\",AE494=\"X\"),1,0)","v":0},"X",{"$f":"IF(AND('Step 2 - Ornamental'!$AA$20=\"X\",AG494=\"X\"),1,0)","v":0},null,{"$f":"IF(AND('Step 2 - Ornamental'!$AB$20=\"X\",AI494=\"X\"),1,0)","v":0},null,{"$f":"IF(AND('Step 2 - Ornamental'!$AC$20=\"X\",AK494=\"X\"),1,0)","v":0},null,{"$f":"IF(AND('Step 2 - Ornamental'!$AA$18=\"X\",AM494=\"X\"),1,0)","v":0},"X",{"$f":"IF(AND('Step 2 - Ornamental'!$AB$18=\"X\",AO494=\"X\"),1,0)","v":0},"X",{"$f":"IF(AND('Step 2 - Ornamental'!$AC$18=\"X\",AQ494=\"X\"),1,0)","v":0},null,{"$f":"IF(AND('Step 2 - Ornamental'!$AD$18=\"X\",AS494=\"X\"),1,0)","v":0},null,{"$f":"IF(AND('Step 2 - Ornamental'!$AE$18=\"X\",AU494=\"X\"),1,0)","v":0},null,{"$f":"IF(AND('Step 2 - Ornamental'!$AA$17=\"X\",AW494=\"X\"),1,0)","v":0},"X",{"$f":"IF(AND('Step 2 - Ornamental'!$AB$17=\"X\",AY494=\"X\"),1,0)","v":0},null,{"$f":"IF(AND('Step 2 - Ornamental'!$AC$17=\"X\",BA494=\"X\"),1,0)","v":0},null,{"$f":"IF(AND('Step 2 - Ornamental'!$AA$22=\"X\",BC494=\"X\"),1,0)","v":0},null,{"$f":"IF(AND('Step 2 - Ornamental'!$AB$22=\"X\",BE494=\"X\"),1,0)","v":0},"X",{"$f":"IF(AND('Step 2 - Ornamental'!$AC$22=\"X\",BG494=\"X\"),1,0)","v":0},"X",{"$f":"IF(AND('Step 2 - Ornamental'!$AD$22=\"X\",BI494=\"X\"),1,0)","v":0},"X"]
[null,1,"FE AM","Festuca amethystina 'Klose'","Tall Tufted Fescue","18\" O.C.","8\" tall, attractive olive green foliage, short-lived requiring frequent division","X",null,null,null,null,null,1,"X",{"$f":"IF(AND('Step 2 - Ornamental'!$AA$21=\"X\",Q495=\"X\"),1,0)","v":0},null,{"$f":"IF(AND('Step 2 - Ornamental'!$AB$21=\"X\",S495=\"X\"),1,0)","v":0},null,{"$f":"IF(AND('Step 2 - Ornamental'!$AC$21=\"X\",U495=\"X\"),1,0)","v":0},null,{"$f":"IF(AND('Step 2 - Ornamental'!$AA$19=\"X\",W495=\"X\"),1,0)","v":0},null,{"$f":"IF(AND('Step 2 - Ornamental'!$AA$19=\"X\",Y495=\"X\"),1,0)","v":0},"X",{"$f":"IF(AND('Step 2 - Ornamental'!$AB$19=\"X\",AA495=\"X\"),1,0)","v":0},null,{"$f":"IF(AND('Step 2 - Ornamental'!$AC$19=\"X\",AC495=\"X\"),1,0)","v":0},null,{"$f":"IF(AND('Step 2 - Ornamental'!$AA$20=\"X\",AE495=\"X\"),1,0)","v":0},"X",{"$f":"IF(AND('Step 2 - Ornamental'!$AA$20=\"X\",AG495=\"X\"),1,0)","v":0},null,{"$f":"IF(AND('Step 2 - Ornamental'!$AB$20=\"X\",AI495=\"X\"),1,0)","v":0},null,{"$f":"IF(AND('Step 2 - Ornamental'!$AC$20=\"X\",AK495=\"X\"),1,0)","v":0},null,{"$f":"IF(AND('Step 2 - Ornamental'!$AA$18=\"X\",AM495=\"X\"),1,0)","v":0},null,{"$f":"IF(AND('Step 2 - Ornamental'!$AB$18=\"X\",AO495=\"X\"),1,0)","v":0},"X",{"$f":"IF(AND('Step 2 - Ornamental'!$AC$18=\"X\",AQ495=\"X\"),1,0)","v":0},null,{"$f":"IF(AND('Step 2 - Ornamental'!$AD$18=\"X\",AS495=\"X\"),1,0)","v":0},null,{"$f":"IF(AND('Step 2 - Ornamental'!$AE$18=\"X\",AU495=\"X\"),1,0)","v":0},null,{"$f":"IF(AND('Step 2 - Ornamental'!$AA$17=\"X\",AW495=\"X\"),1,0)","v":0},"X",{"$f":"IF(AND('Step 2 - Ornamental'!$AB$17=\"X\",AY495=\"X\"),1,0)","v":0},null,{"$f":"IF(AND('Step 2 - Ornamental'!$AC$17=\"X\",BA495=\"X\"),1,0)","v":0},null,{"$f":"IF(AND('Step 2 - Ornamental'!$AA$22=\"X\",BC495=\"X\"),1,0)","v":0},null,{"$f":"IF(AND('Step 2 - Ornamental'!$AB$22=\"X\",BE495=\"X\"),1,0)","v":0},null,{"$f":"IF(AND('Step 2 - Ornamental'!$AC$22=\"X\",BG495=\"X\"),1,0)","v":0},"X",{"$f":"IF(AND('Step 2 - Ornamental'!$AD$22=\"X\",BI495=\"X\"),1,0)","v":0},"X"]
[null,1,"FE GL","Festuca glauca 'Eilijah Blue'","Elijah Blue Fescue","12\" O.C.","1' tall Blue grass for dry sun, plants are short-lived and require division","X",null,null,null,null,null,0,null,{"$f":"IF(AND('Step 2 - Ornamental'!$AA$21=\"X\",Q496=\"X\"),1,0)","v":0},"X",{"$f":"IF(AND('Step 2 - Ornamental'!$AB$21=\"X\",S496=\"X\"),1,0)","v":0},"X",{"$f":"IF(AND('Step 2 - Ornamental'!$AC$21=\"X\",U496=\"X\"),1,0)","v":0},"X",{"$f":"IF(AND('Step 2 - Ornamental'!$AA$19=\"X\",W496=\"X\"),1,0)","v":0},null,{"$f":"IF(AND('Step 2 - Ornamental'!$AA$19=\"X\",Y496=\"X\"),1,0)","v":0},"X",{"$f":"IF(AND('Step 2 - Ornamental'!$AB$19=\"X\",AA496=\"X\"),1,0)","v":0},null,{"$f":"IF(AND('Step 2 - Ornamental'!$AC$19=\"X\",AC496=\"X\"),1,0)","v":0},null,{"$f":"IF(AND('Step 2 - Ornamental'!$AA$20=\"X\",AE496=\"X\"),1,0)","v":0},"X",{"$f":"IF(AND('Step 2 - Ornamental'!$AA$20=\"X\",AG496=\"X\"),1,0)","v":0},null,{"$f":"IF(AND('Step 2 - Ornamental'!$AB$20=\"X\",AI496=\"X\"),1,0)","v":0},null,{"$f":"IF(AND('Step 2 - Ornamental'!$AC$20=\"X\",AK496=\"X\"),1,0)","v":0},null,{"$f":"IF(AND('Step 2 - Ornamental'!$AA$18=\"X\",AM496=\"X\"),1,0)","v":0},"X",{"$f":"IF(AND('Step 2 - Ornamental'!$AB$18=\"X\",AO496=\"X\"),1,0)","v":0},"X",{"$f":"IF(AND('Step 2 - Ornamental'!$AC$18=\"X\",AQ496=\"X\"),1,0)","v":0},null,{"$f":"IF(AND('Step 2 - Ornamental'!$AD$18=\"X\",AS496=\"X\"),1,0)","v":0},null,{"$f":"IF(AND('Step 2 - Ornamental'!$AE$18=\"X\",AU496=\"X\"),1,0)","v":0},null,{"$f":"IF(AND('Step 2 - Ornamental'!$AA$17=\"X\",AW496=\"X\"),1,0)","v":0},"X",{"$f":"IF(AND('Step 2 - Ornamental'!$AB$17=\"X\",AY496=\"X\"),1,0)","v":0},null,{"$f":"IF(AND('Step 2 - Ornamental'!$AC$17=\"X\",BA496=\"X\"),1,0)","v":0},null,{"$f":"IF(AND('Step 2 - Ornamental'!$AA$22=\"X\",BC496=\"X\"),1,0)","v":0},null,{"$f":"IF(AND('Step 2 - Ornamental'!$AB$22=\"X\",BE496=\"X\"),1,0)","v":0},"X",{"$f":"IF(AND('Step 2 - Ornamental'!$AC$22=\"X\",BG496=\"X\"),1,0)","v":0},"X",{"$f":"IF(AND('Step 2 - Ornamental'!$AD$22=\"X\",BI496=\"X\"),1,0)","v":0},"X"]
[null,1,"JU EF","Juncus effusus","Sof Rush","24\" O.C.","2-'4- tall, tolerates 3\" inundation, spreads",null,"X","X",null,null,null,0,null,{"$f":"IF(AND('Step 2 - Ornamental'!$AA$21=\"X\",Q497=\"X\"),1,0)","v":0},"X",{"$f":"IF(AND('Step 2 - Ornamental'!$AB$21=\"X\",S497=\"X\"),1,0)","v":0},"X",{"$f":"IF(AND('Step 2 - Ornamental'!$AC$21=\"X\",U497=\"X\"),1,0)","v":0},"X",{"$f":"IF(AND('Step 2 - Ornamental'!$AA$19=\"X\",W497=\"X\"),1,0)","v":0},"X",{"$f":"IF(AND('Step 2 - Ornamental'!$AA$19=\"X\",Y497=\"X\"),1,0)","v":0},null,{"$f":"IF(AND('Step 2 - Ornamental'!$AB$19=\"X\",AA497=\"X\"),1,0)","v":0},null,{"$f":"IF(AND('Step 2 - Ornamental'!$AC$19=\"X\",AC497=\"X\"),1,0)","v":0},null,{"$f":"IF(AND('Step 2 - Ornamental'!$AA$20=\"X\",AE497=\"X\"),1,0)","v":0},null,{"$f":"IF(AND('Step 2 - Ornamental'!$AA$20=\"X\",AG497=\"X\"),1,0)","v":0},"X",{"$f":"IF(AND('Step 2 - Ornamental'!$AB$20=\"X\",AI497=\"X\"),1,0)","v":0},"X",{"$f":"IF(AND('Step 2 - Ornamental'!$AC$20=\"X\",AK497=\"X\"),1,0)","v":0},null,{"$f":"IF(AND('Step 2 - Ornamental'!$AA$18=\"X\",AM497=\"X\"),1,0)","v":0},null,{"$f":"IF(AND('Step 2 - Ornamental'!$AB$18=\"X\",AO497=\"X\"),1,0)","v":0},null,{"$f":"IF(AND('Step 2 - Ornamental'!$AC$18=\"X\",AQ497=\"X\"),1,0)","v":0},"X",{"$f":"IF(AND('Step 2 - Ornamental'!$AD$18=\"X\",AS497=\"X\"),1,0)","v":0},"X",{"$f":"IF(AND('Step 2 - Ornamental'!$AE$18=\"X\",AU497=\"X\"),1,0)","v":0},null,{"$f":"IF(AND('Step 2 - Ornamental'!$AA$17=\"X\",AW497=\"X\"),1,0)","v":0},"X",{"$f":"IF(AND('Step 2 - Ornamental'!$AB$17=\"X\",AY497=\"X\"),1,0)","v":0},null,{"$f":"IF(AND('Step 2 - Ornamental'!$AC$17=\"X\",BA497=\"X\"),1,0)","v":0},null,{"$f":"IF(AND('Step 2 - Ornamental'!$AA$22=\"X\",BC497=\"X\"),1,0)","v":0},null,{"$f":"IF(AND('Step 2 - Ornamental'!$AB$22=\"X\",BE497=\"X\"),1,0)","v":0},null,{"$f":"IF(AND('Step 2 - Ornamental'!$AC$22=\"X\",BG497=\"X\"),1,0)","v":0},"X",{"$f":"IF(AND('Step 2 - Ornamental'!$AD$22=\"X\",BI497=\"X\"),1,0)","v":0},"X"]
[null,1,"KO MA","Koeleria macrantha","June Grass","12\" O.C.","1'-2' tall, Early growing native prairie grass, needs good drainage",null,"X","X",null,null,null,0,null,{"$f":"IF(AND('Step 2 - Ornamental'!$AA$21=\"X\",Q498=\"X\"),1,0)","v":0},null,{"$f":"IF(AND('Step 2 - Ornamental'!$AB$21=\"X\",S498=\"X\"),1,0)","v":0},null,{"$f":"IF(AND('Step 2 - Ornamental'!$AC$21=\"X\",U498=\"X\"),1,0)","v":0},"X",{"$f":"IF(AND('Step 2 - Ornamental'!$AA$19=\"X\",W498=\"X\"),1,0)","v":0},null,{"$f":"IF(AND('Step 2 - Ornamental'!$AA$19=\"X\",Y498=\"X\"),1,0)","v":0},"X",{"$f":"IF(AND('Step 2 - Ornamental'!$AB$19=\"X\",AA498=\"X\"),1,0)","v":0},null,{"$f":"IF(AND('Step 2 - Ornamental'!$AC$19=\"X\",AC498=\"X\"),1,0)","v":0},null,{"$f":"IF(AND('Step 2 - Ornamental'!$AA$20=\"X\",AE498=\"X\"),1,0)","v":0},"X",{"$f":"IF(AND('Step 2 - Ornamental'!$AA$20=\"X\",AG498=\"X\"),1,0)","v":0},null,{"$f":"IF(AND('Step 2 - Ornamental'!$AB$20=\"X\",AI498=\"X\"),1,0)","v":0},null,{"$f":"IF(AND('Step 2 - Ornamental'!$AC$20=\"X\",AK498=\"X\"),1,0)","v":0},null,{"$f":"IF(AND('Step 2 - Ornamental'!$AA$18=\"X\",AM498=\"X\"),1,0)","v":0},"X",{"$f":"IF(AND('Step 2 - Ornamental'!$AB$18=\"X\",AO498=\"X\"),1,0)","v":0},null,{"$f":"IF(AND('Step 2 - Ornamental'!$AC$18=\"X\",AQ498=\"X\"),1,0)","v":0},null,{"$f":"IF(AND('Step 2 - Ornamental'!$AD$18=\"X\",AS498=\"X\"),1,0)","v":0},null,{"$f":"IF(AND('Step 2 - Ornamental'!$AE$18=\"X\",AU498=\"X\"),1,0)","v":0},null,{"$f":"IF(AND('Step 2 - Ornamental'!$AA$17=\"X\",AW498=\"X\"),1,0)","v":0},"X",{"$f":"IF(AND('Step 2 - Ornamental'!$AB$17=\"X\",AY498=\"X\"),1,0)","v":0},null,{"$f":"IF(AND('Step 2 - Ornamental'!$AC$17=\"X\",BA498=\"X\"),1,0)","v":0},null,{"$f":"IF(AND('Step 2 - Ornamental'!$AA$22=\"X\",BC498=\"X\"),1,0)","v":0},null,{"$f":"IF(AND('Step 2 - Ornamental'!$AB$22=\"X\",BE498=\"X\"),1,0)","v":0},"X",{"$f":"IF(AND('Step 2 - Ornamental'!$AC$22=\"X\",BG498=\"X\"),1,0)","v":0},"X",{"$f":"IF(AND('Step 2 - Ornamental'!$AD$22=\"X\",BI498=\"X\"),1,0)","v":0},"X"]
[" ",1,"HA MA","Hakonechloa macra","Japanese Forest Grass","24\" O.C.","18\" tall, Very attractive bamboo-like foliage, Green-leaved Species, needs moisture","X",null,null,null,null,null,0,null,{"$f":"IF(AND('Step 2 - Ornamental'!$AA$21=\"X\",Q499=\"X\"),1,0)","v":0},"X",{"$f":"IF(AND('Step 2 - Ornamental'!$AB$21=\"X\",S499=\"X\"),1,0)","v":0},"X",{"$f":"IF(AND('Step 2 - Ornamental'!$AC$21=\"X\",U499=\"X\"),1,0)","v":0},null,{"$f":"IF(AND('Step 2 - Ornamental'!$AA$19=\"X\",W499=\"X\"),1,0)","v":0},null,{"$f":"IF(AND('Step 2 - Ornamental'!$AA$19=\"X\",Y499=\"X\"),1,0)","v":0},"X",{"$f":"IF(AND('Step 2 - Ornamental'!$AB$19=\"X\",AA499=\"X\"),1,0)","v":0},null,{"$f":"IF(AND('Step 2 - Ornamental'!$AC$19=\"X\",AC499=\"X\"),1,0)","v":0},null,{"$f":"IF(AND('Step 2 - Ornamental'!$AA$20=\"X\",AE499=\"X\"),1,0)","v":0},"X",{"$f":"IF(AND('Step 2 - Ornamental'!$AA$20=\"X\",AG499=\"X\"),1,0)","v":0},null,{"$f":"IF(AND('Step 2 - Ornamental'!$AB$20=\"X\",AI499=\"X\"),1,0)","v":0},null,{"$f":"IF(AND('Step 2 - Ornamental'!$AC$20=\"X\",AK499=\"X\"),1,0)","v":0},null,{"$f":"IF(AND('Step 2 - Ornamental'!$AA$18=\"X\",AM499=\"X\"),1,0)","v":0},null,{"$f":"IF(AND('Step 2 - Ornamental'!$AB$18=\"X\",AO499=\"X\"),1,0)","v":0},"X",{"$f":"IF(AND('Step 2 - Ornamental'!$AC$18=\"X\",AQ499=\"X\"),1,0)","v":0}," ",{"$f":"IF(AND('Step 2 - Ornamental'!$AD$18=\"X\",AS499=\"X\"),1,0)","v":0},null,{"$f":"IF(AND('Step 2 - Ornamental'!$AE$18=\"X\",AU499=\"X\"),1,0)","v":0},null,{"$f":"IF(AND('Step 2 - Ornamental'!$AA$17=\"X\",AW499=\"X\"),1,0)","v":0},null,{"$f":"IF(AND('Step 2 - Ornamental'!$AB$17=\"X\",AY499=\"X\"),1,0)","v":0},"X",{"$f":"IF(AND('Step 2 - Ornamental'!$AC$17=\"X\",BA499=\"X\"),1,0)","v":0},null,{"$f":"IF(AND('Step 2 - Ornamental'!$AA$22=\"X\",BC499=\"X\"),1,0)","v":0},null,{"$f":"IF(AND('Step 2 - Ornamental'!$AB$22=\"X\",BE499=\"X\"),1,0)","v":0},null,{"$f":"IF(AND('Step 2 - Ornamental'!$AC$22=\"X\",BG499=\"X\"),1,0)","v":0},"X",{"$f":"IF(AND('Step 2 - Ornamental'!$AD$22=\"X\",BI499=\"X\"),1,0)","v":0},"X"]
[null,1,"LU SY","Luzula sylvatica ","Greater Wood Rush","18\" O.C.","12\"-16\" tall, tolerates dry shade, combine with epimediums, ferns, bergenia, hosta","X",null,null,null,null,null,0,null,{"$f":"IF(AND('Step 2 - Ornamental'!$AA$21=\"X\",Q500=\"X\"),1,0)","v":0},"X",{"$f":"IF(AND('Step 2 - Ornamental'!$AB$21=\"X\",S500=\"X\"),1,0)","v":0},"X",{"$f":"IF(AND('Step 2 - Ornamental'!$AC$21=\"X\",U500=\"X\"),1,0)","v":0},"X",{"$f":"IF(AND('Step 2 - Ornamental'!$AA$19=\"X\",W500=\"X\"),1,0)","v":0},"X",{"$f":"IF(AND('Step 2 - Ornamental'!$AA$19=\"X\",Y500=\"X\"),1,0)","v":0},null,{"$f":"IF(AND('Step 2 - Ornamental'!$AB$19=\"X\",AA500=\"X\"),1,0)","v":0},null,{"$f":"IF(AND('Step 2 - Ornamental'!$AC$19=\"X\",AC500=\"X\"),1,0)","v":0},null,{"$f":"IF(AND('Step 2 - Ornamental'!$AA$20=\"X\",AE500=\"X\"),1,0)","v":0},"X",{"$f":"IF(AND('Step 2 - Ornamental'!$AA$20=\"X\",AG500=\"X\"),1,0)","v":0},null,{"$f":"IF(AND('Step 2 - Ornamental'!$AB$20=\"X\",AI500=\"X\"),1,0)","v":0},null,{"$f":"IF(AND('Step 2 - Ornamental'!$AC$20=\"X\",AK500=\"X\"),1,0)","v":0},null,{"$f":"IF(AND('Step 2 - Ornamental'!$AA$18=\"X\",AM500=\"X\"),1,0)","v":0},null,{"$f":"IF(AND('Step 2 - Ornamental'!$AB$18=\"X\",AO500=\"X\"),1,0)","v":0},"X",{"$f":"IF(AND('Step 2 - Ornamental'!$AC$18=\"X\",AQ500=\"X\"),1,0)","v":0},null,{"$f":"IF(AND('Step 2 - Ornamental'!$AD$18=\"X\",AS500=\"X\"),1,0)","v":0},null,{"$f":"IF(AND('Step 2 - Ornamental'!$AE$18=\"X\",AU500=\"X\"),1,0)","v":0},null,{"$f":"IF(AND('Step 2 - Ornamental'!$AA$17=\"X\",AW500=\"X\"),1,0)","v":0},null,{"$f":"IF(AND('Step 2 - Ornamental'!$AB$17=\"X\",AY500=\"X\"),1,0)","v":0},"X",{"$f":"IF(AND('Step 2 - Ornamental'!$AC$17=\"X\",BA500=\"X\"),1,0)","v":0},"X",{"$f":"IF(AND('Step 2 - Ornamental'!$AA$22=\"X\",BC500=\"X\"),1,0)","v":0},null,{"$f":"IF(AND('Step 2 - Ornamental'!$AB$22=\"X\",BE500=\"X\"),1,0)","v":0},null,{"$f":"IF(AND('Step 2 - Ornamental'!$AC$22=\"X\",BG500=\"X\"),1,0)","v":0},"X",{"$f":"IF(AND('Step 2 - Ornamental'!$AD$22=\"X\",BI500=\"X\"),1,0)","v":0},"X"]
[null,1,"MI SI","Miscanthus sinensis purpurescens","Japanese Flame Grass","30\" O.C.","3'-4' tall, mostly sterile variety unlike other Miscanthus, great orange-red fall color and brilliant white seed heads","X",null,null,null,null,null,0,null,{"$f":"IF(AND('Step 2 - Ornamental'!$AA$21=\"X\",Q501=\"X\"),1,0)","v":0},"X",{"$f":"IF(AND('Step 2 - Ornamental'!$AB$21=\"X\",S501=\"X\"),1,0)","v":0},"X",{"$f":"IF(AND('Step 2 - Ornamental'!$AC$21=\"X\",U501=\"X\"),1,0)","v":0},"X",{"$f":"IF(AND('Step 2 - Ornamental'!$AA$19=\"X\",W501=\"X\"),1,0)","v":0},null,{"$f":"IF(AND('Step 2 - Ornamental'!$AA$19=\"X\",Y501=\"X\"),1,0)","v":0},"X",{"$f":"IF(AND('Step 2 - Ornamental'!$AB$19=\"X\",AA501=\"X\"),1,0)","v":0},"X",{"$f":"IF(AND('Step 2 - Ornamental'!$AC$19=\"X\",AC501=\"X\"),1,0)","v":0},"X",{"$f":"IF(AND('Step 2 - Ornamental'!$AA$20=\"X\",AE501=\"X\"),1,0)","v":0},"X",{"$f":"IF(AND('Step 2 - Ornamental'!$AA$20=\"X\",AG501=\"X\"),1,0)","v":0},null,{"$f":"IF(AND('Step 2 - Ornamental'!$AB$20=\"X\",AI501=\"X\"),1,0)","v":0},null,{"$f":"IF(AND('Step 2 - Ornamental'!$AC$20=\"X\",AK501=\"X\"),1,0)","v":0},null,{"$f":"IF(AND('Step 2 - Ornamental'!$AA$18=\"X\",AM501=\"X\"),1,0)","v":0},null,{"$f":"IF(AND('Step 2 - Ornamental'!$AB$18=\"X\",AO501=\"X\"),1,0)","v":0},"X",{"$f":"IF(AND('Step 2 - Ornamental'!$AC$18=\"X\",AQ501=\"X\"),1,0)","v":0},null,{"$f":"IF(AND('Step 2 - Ornamental'!$AD$18=\"X\",AS501=\"X\"),1,0)","v":0},null,{"$f":"IF(AND('Step 2 - Ornamental'!$AE$18=\"X\",AU501=\"X\"),1,0)","v":0},null,{"$f":"IF(AND('Step 2 - Ornamental'!$AA$17=\"X\",AW501=\"X\"),1,0)","v":0},"X",{"$f":"IF(AND('Step 2 - Ornamental'!$AB$17=\"X\",AY501=\"X\"),1,0)","v":0},"X",{"$f":"IF(AND('Step 2 - Ornamental'!$AC$17=\"X\",BA501=\"X\"),1,0)","v":0},null,{"$f":"IF(AND('Step 2 - Ornamental'!$AA$22=\"X\",BC501=\"X\"),1,0)","v":0},null,{"$f":"IF(AND('Step 2 - Ornamental'!$AB$22=\"X\",BE501=\"X\"),1,0)","v":0},null,{"$f":"IF(AND('Step 2 - Ornamental'!$AC$22=\"X\",BG501=\"X\"),1,0)","v":0},"X",{"$f":"IF(AND('Step 2 - Ornamental'!$AD$22=\"X\",BI501=\"X\"),1,0)","v":0},"X"]
[null,1,"MO AR","Molinia caerulea subsp. Arundinacea 'Transparent'","Tall Purple Moore Grass","48\" O.C.","2'-3' foliage with 6' tall seed heads, dramatic arching inflorescens","X",null,null,null,null,null,0,null,{"$f":"IF(AND('Step 2 - Ornamental'!$AA$21=\"X\",Q502=\"X\"),1,0)","v":0},"X",{"$f":"IF(AND('Step 2 - Ornamental'!$AB$21=\"X\",S502=\"X\"),1,0)","v":0},"X",{"$f":"IF(AND('Step 2 - Ornamental'!$AC$21=\"X\",U502=\"X\"),1,0)","v":0},null,{"$f":"IF(AND('Step 2 - Ornamental'!$AA$19=\"X\",W502=\"X\"),1,0)","v":0},null,{"$f":"IF(AND('Step 2 - Ornamental'!$AA$19=\"X\",Y502=\"X\"),1,0)","v":0},"X",{"$f":"IF(AND('Step 2 - Ornamental'!$AB$19=\"X\",AA502=\"X\"),1,0)","v":0},"X",{"$f":"IF(AND('Step 2 - Ornamental'!$AC$19=\"X\",AC502=\"X\"),1,0)","v":0},"X",{"$f":"IF(AND('Step 2 - Ornamental'!$AA$20=\"X\",AE502=\"X\"),1,0)","v":0},"X",{"$f":"IF(AND('Step 2 - Ornamental'!$AA$20=\"X\",AG502=\"X\"),1,0)","v":0},null,{"$f":"IF(AND('Step 2 - Ornamental'!$AB$20=\"X\",AI502=\"X\"),1,0)","v":0},null,{"$f":"IF(AND('Step 2 - Ornamental'!$AC$20=\"X\",AK502=\"X\"),1,0)","v":0},null,{"$f":"IF(AND('Step 2 - Ornamental'!$AA$18=\"X\",AM502=\"X\"),1,0)","v":0},null,{"$f":"IF(AND('Step 2 - Ornamental'!$AB$18=\"X\",AO502=\"X\"),1,0)","v":0},"X",{"$f":"IF(AND('Step 2 - Ornamental'!$AC$18=\"X\",AQ502=\"X\"),1,0)","v":0},"X",{"$f":"IF(AND('Step 2 - Ornamental'!$AD$18=\"X\",AS502=\"X\"),1,0)","v":0},null,{"$f":"IF(AND('Step 2 - Ornamental'!$AE$18=\"X\",AU502=\"X\"),1,0)","v":0},null,{"$f":"IF(AND('Step 2 - Ornamental'!$AA$17=\"X\",AW502=\"X\"),1,0)","v":0},"X",{"$f":"IF(AND('Step 2 - Ornamental'!$AB$17=\"X\",AY502=\"X\"),1,0)","v":0},null,{"$f":"IF(AND('Step 2 - Ornamental'!$AC$17=\"X\",BA502=\"X\"),1,0)","v":0},null,{"$f":"IF(AND('Step 2 - Ornamental'!$AA$22=\"X\",BC502=\"X\"),1,0)","v":0},null,{"$f":"IF(AND('Step 2 - Ornamental'!$AB$22=\"X\",BE502=\"X\"),1,0)","v":0},null,{"$f":"IF(AND('Step 2 - Ornamental'!$AC$22=\"X\",BG502=\"X\"),1,0)","v":0},"X",{"$f":"IF(AND('Step 2 - Ornamental'!$AD$22=\"X\",BI502=\"X\"),1,0)","v":0},"X"]
[null,1,"MO CA","Molinia caerulea 'Moorhexe'","Witch's Moor Grass","30\" O.C.","2.5'-4' tall, upright variety with black seedheads, (substitute for CA AC), ","X",null,null,null,null,null,0,null,{"$f":"IF(AND('Step 2 - Ornamental'!$AA$21=\"X\",Q503=\"X\"),1,0)","v":0},"X",{"$f":"IF(AND('Step 2 - Ornamental'!$AB$21=\"X\",S503=\"X\"),1,0)","v":0},"X",{"$f":"IF(AND('Step 2 - Ornamental'!$AC$21=\"X\",U503=\"X\"),1,0)","v":0},null,{"$f":"IF(AND('Step 2 - Ornamental'!$AA$19=\"X\",W503=\"X\"),1,0)","v":0},null,{"$f":"IF(AND('Step 2 - Ornamental'!$AA$19=\"X\",Y503=\"X\"),1,0)","v":0},"X",{"$f":"IF(AND('Step 2 - Ornamental'!$AB$19=\"X\",AA503=\"X\"),1,0)","v":0},"X",{"$f":"IF(AND('Step 2 - Ornamental'!$AC$19=\"X\",AC503=\"X\"),1,0)","v":0},"X",{"$f":"IF(AND('Step 2 - Ornamental'!$AA$20=\"X\",AE503=\"X\"),1,0)","v":0},"X",{"$f":"IF(AND('Step 2 - Ornamental'!$AA$20=\"X\",AG503=\"X\"),1,0)","v":0},null,{"$f":"IF(AND('Step 2 - Ornamental'!$AB$20=\"X\",AI503=\"X\"),1,0)","v":0},null,{"$f":"IF(AND('Step 2 - Ornamental'!$AC$20=\"X\",AK503=\"X\"),1,0)","v":0},null,{"$f":"IF(AND('Step 2 - Ornamental'!$AA$18=\"X\",AM503=\"X\"),1,0)","v":0},null,{"$f":"IF(AND('Step 2 - Ornamental'!$AB$18=\"X\",AO503=\"X\"),1,0)","v":0},"X",{"$f":"IF(AND('Step 2 - Ornamental'!$AC$18=\"X\",AQ503=\"X\"),1,0)","v":0},"X",{"$f":"IF(AND('Step 2 - Ornamental'!$AD$18=\"X\",AS503=\"X\"),1,0)","v":0},null,{"$f":"IF(AND('Step 2 - Ornamental'!$AE$18=\"X\",AU503=\"X\"),1,0)","v":0},null,{"$f":"IF(AND('Step 2 - Ornamental'!$AA$17=\"X\",AW503=\"X\"),1,0)","v":0},"X",{"$f":"IF(AND('Step 2 - Ornamental'!$AB$17=\"X\",AY503=\"X\"),1,0)","v":0},null,{"$f":"IF(AND('Step 2 - Ornamental'!$AC$17=\"X\",BA503=\"X\"),1,0)","v":0},null,{"$f":"IF(AND('Step 2 - Ornamental'!$AA$22=\"X\",BC503=\"X\"),1,0)","v":0},null,{"$f":"IF(AND('Step 2 - Ornamental'!$AB$22=\"X\",BE503=\"X\"),1,0)","v":0},null,{"$f":"IF(AND('Step 2 - Ornamental'!$AC$22=\"X\",BG503=\"X\"),1,0)","v":0},"X",{"$f":"IF(AND('Step 2 - Ornamental'!$AD$22=\"X\",BI503=\"X\"),1,0)","v":0},"X"]
[null,{"$f":"SUM((N504+P504+R504+T504)*(V504+X504+Z504+AB504)*(AD504+AF504+AH504+AJ504)*(AL504+AN504+AP504+AR504+AT504)*(AV504+AX504+AZ504)*(BB504+BD504+BF504+BH504))+1","v":1},"MO VA","Molinia caerulea 'Variegata'","Variegated Moor Grass","30\" O.C.","2'-3' tall, strking arching yellow-margined leaves","X",null,null,null,null,null,{"$f":"IF(O504=\"X\",1,0)","v":0},null,{"$f":"IF(AND('Step 2 - Ornamental'!$AA$21=\"X\",Q504=\"X\"),1,0)","v":0},"X",{"$f":"IF(AND('Step 2 - Ornamental'!$AB$21=\"X\",S504=\"X\"),1,0)","v":0},"X",{"$f":"IF(AND('Step 2 - Ornamental'!$AC$21=\"X\",U504=\"X\"),1,0)","v":0},null,{"$f":"IF(AND('Step 2 - Ornamental'!$AA$19=\"X\",W504=\"X\"),1,0)","v":0},null,{"$f":"IF(AND('Step 2 - Ornamental'!$AA$19=\"X\",Y504=\"X\"),1,0)","v":0},"X",{"$f":"IF(AND('Step 2 - Ornamental'!$AB$19=\"X\",AA504=\"X\"),1,0)","v":0},"X",{"$f":"IF(AND('Step 2 - Ornamental'!$AC$19=\"X\",AC504=\"X\"),1,0)","v":0},"X",{"$f":"IF(AND('Step 2 - Ornamental'!$AA$20=\"X\",AE504=\"X\"),1,0)","v":0},"X",{"$f":"IF(AND('Step 2 - Ornamental'!$AA$20=\"X\",AG504=\"X\"),1,0)","v":0},null,{"$f":"IF(AND('Step 2 - Ornamental'!$AB$20=\"X\",AI504=\"X\"),1,0)","v":0},null,{"$f":"IF(AND('Step 2 - Ornamental'!$AC$20=\"X\",AK504=\"X\"),1,0)","v":0},null,{"$f":"IF(AND('Step 2 - Ornamental'!$AA$18=\"X\",AM504=\"X\"),1,0)","v":0},null,{"$f":"IF(AND('Step 2 - Ornamental'!$AB$18=\"X\",AO504=\"X\"),1,0)","v":0},"X",{"$f":"IF(AND('Step 2 - Ornamental'!$AC$18=\"X\",AQ504=\"X\"),1,0)","v":0},"X",{"$f":"IF(AND('Step 2 - Ornamental'!$AD$18=\"X\",AS504=\"X\"),1,0)","v":0},null,{"$f":"IF(AND('Step 2 - Ornamental'!$AE$18=\"X\",AU504=\"X\"),1,0)","v":0},null,{"$f":"IF(AND('Step 2 - Ornamental'!$AA$17=\"X\",AW504=\"X\"),1,0)","v":0},"X",{"$f":"IF(AND('Step 2 - Ornamental'!$AB$17=\"X\",AY504=\"X\"),1,0)","v":0},null,{"$f":"IF(AND('Step 2 - Ornamental'!$AC$17=\"X\",BA504=\"X\"),1,0)","v":0},null,{"$f":"IF(AND('Step 2 - Ornamental'!$AA$22=\"X\",BC504=\"X\"),1,0)","v":0},null,{"$f":"IF(AND('Step 2 - Ornamental'!$AB$22=\"X\",BE504=\"X\"),1,0)","v":0},null,{"$f":"IF(AND('Step 2 - Ornamental'!$AC$22=\"X\",BG504=\"X\"),1,0)","v":0},"X",{"$f":"IF(AND('Step 2 - Ornamental'!$AD$22=\"X\",BI504=\"X\"),1,0)","v":0},"X"]
[null,1,"MO SQ","Molinia caerulea 'Strahlenquelle'","Source of Rays Moor Grass","30\" O.C.","2'-3' tall, striking and widely arching green leaves, ","X",null,null,null,null,null,0,null,{"$f":"IF(AND('Step 2 - Ornamental'!$AA$21=\"X\",Q505=\"X\"),1,0)","v":0},"X",{"$f":"IF(AND('Step 2 - Ornamental'!$AB$21=\"X\",S505=\"X\"),1,0)","v":0},"X",{"$f":"IF(AND('Step 2 - Ornamental'!$AC$21=\"X\",U505=\"X\"),1,0)","v":0},null,{"$f":"IF(AND('Step 2 - Ornamental'!$AA$19=\"X\",W505=\"X\"),1,0)","v":0},null,{"$f":"IF(AND('Step 2 - Ornamental'!$AA$19=\"X\",Y505=\"X\"),1,0)","v":0},"X",{"$f":"IF(AND('Step 2 - Ornamental'!$AB$19=\"X\",AA505=\"X\"),1,0)","v":0},"X",{"$f":"IF(AND('Step 2 - Ornamental'!$AC$19=\"X\",AC505=\"X\"),1,0)","v":0},"X",{"$f":"IF(AND('Step 2 - Ornamental'!$AA$20=\"X\",AE505=\"X\"),1,0)","v":0},"X",{"$f":"IF(AND('Step 2 - Ornamental'!$AA$20=\"X\",AG505=\"X\"),1,0)","v":0},null,{"$f":"IF(AND('Step 2 - Ornamental'!$AB$20=\"X\",AI505=\"X\"),1,0)","v":0},null,{"$f":"IF(AND('Step 2 - Ornamental'!$AC$20=\"X\",AK505=\"X\"),1,0)","v":0},null,{"$f":"IF(AND('Step 2 - Ornamental'!$AA$18=\"X\",AM505=\"X\"),1,0)","v":0},null,{"$f":"IF(AND('Step 2 - Ornamental'!$AB$18=\"X\",AO505=\"X\"),1,0)","v":0},"X",{"$f":"IF(AND('Step 2 - Ornamental'!$AC$18=\"X\",AQ505=\"X\"),1,0)","v":0},"X",{"$f":"IF(AND('Step 2 - Ornamental'!$AD$18=\"X\",AS505=\"X\"),1,0)","v":0},null,{"$f":"IF(AND('Step 2 - Ornamental'!$AE$18=\"X\",AU505=\"X\"),1,0)","v":0},null,{"$f":"IF(AND('Step 2 - Ornamental'!$AA$17=\"X\",AW505=\"X\"),1,0)","v":0},"X",{"$f":"IF(AND('Step 2 - Ornamental'!$AB$17=\"X\",AY505=\"X\"),1,0)","v":0},null,{"$f":"IF(AND('Step 2 - Ornamental'!$AC$17=\"X\",BA505=\"X\"),1,0)","v":0},null,{"$f":"IF(AND('Step 2 - Ornamental'!$AA$22=\"X\",BC505=\"X\"),1,0)","v":0},null,{"$f":"IF(AND('Step 2 - Ornamental'!$AB$22=\"X\",BE505=\"X\"),1,0)","v":0},null,{"$f":"IF(AND('Step 2 - Ornamental'!$AC$22=\"X\",BG505=\"X\"),1,0)","v":0},"X",{"$f":"IF(AND('Step 2 - Ornamental'!$AD$22=\"X\",BI505=\"X\"),1,0)","v":0},"X"]
[null,1,"PA CL","Panicum clandestinum (Dichanthelium clandestinum)","Deer-tongue grass","24\" O.C.","18\"-48\" tall, spreads and self-seeds, ",null,"X",null,null,null,null,1,"X",{"$f":"IF(AND('Step 2 - Ornamental'!$AA$21=\"X\",Q506=\"X\"),1,0)","v":0},null,{"$f":"IF(AND('Step 2 - Ornamental'!$AB$21=\"X\",S506=\"X\"),1,0)","v":0},null,{"$f":"IF(AND('Step 2 - Ornamental'!$AC$21=\"X\",U506=\"X\"),1,0)","v":0},null,{"$f":"IF(AND('Step 2 - Ornamental'!$AA$19=\"X\",W506=\"X\"),1,0)","v":0},null,{"$f":"IF(AND('Step 2 - Ornamental'!$AA$19=\"X\",Y506=\"X\"),1,0)","v":0},"X",{"$f":"IF(AND('Step 2 - Ornamental'!$AB$19=\"X\",AA506=\"X\"),1,0)","v":0},"X",{"$f":"IF(AND('Step 2 - Ornamental'!$AC$19=\"X\",AC506=\"X\"),1,0)","v":0},"X",{"$f":"IF(AND('Step 2 - Ornamental'!$AA$20=\"X\",AE506=\"X\"),1,0)","v":0},"X",{"$f":"IF(AND('Step 2 - Ornamental'!$AA$20=\"X\",AG506=\"X\"),1,0)","v":0},null,{"$f":"IF(AND('Step 2 - Ornamental'!$AB$20=\"X\",AI506=\"X\"),1,0)","v":0},null,{"$f":"IF(AND('Step 2 - Ornamental'!$AC$20=\"X\",AK506=\"X\"),1,0)","v":0},null,{"$f":"IF(AND('Step 2 - Ornamental'!$AA$18=\"X\",AM506=\"X\"),1,0)","v":0},null,{"$f":"IF(AND('Step 2 - Ornamental'!$AB$18=\"X\",AO506=\"X\"),1,0)","v":0},"X",{"$f":"IF(AND('Step 2 - Ornamental'!$AC$18=\"X\",AQ506=\"X\"),1,0)","v":0},"X",{"$f":"IF(AND('Step 2 - Ornamental'!$AD$18=\"X\",AS506=\"X\"),1,0)","v":0},null,{"$f":"IF(AND('Step 2 - Ornamental'!$AE$18=\"X\",AU506=\"X\"),1,0)","v":0},null,{"$f":"IF(AND('Step 2 - Ornamental'!$AA$17=\"X\",AW506=\"X\"),1,0)","v":0},"X",{"$f":"IF(AND('Step 2 - Ornamental'!$AB$17=\"X\",AY506=\"X\"),1,0)","v":0},"X",{"$f":"IF(AND('Step 2 - Ornamental'!$AC$17=\"X\",BA506=\"X\"),1,0)","v":0},null,{"$f":"IF(AND('Step 2 - Ornamental'!$AA$22=\"X\",BC506=\"X\"),1,0)","v":0},null,{"$f":"IF(AND('Step 2 - Ornamental'!$AB$22=\"X\",BE506=\"X\"),1,0)","v":0},null,{"$f":"IF(AND('Step 2 - Ornamental'!$AC$22=\"X\",BG506=\"X\"),1,0)","v":0},"X",{"$f":"IF(AND('Step 2 - Ornamental'!$AD$22=\"X\",BI506=\"X\"),1,0)","v":0},"X"]
[null,{"$f":"SUM((N507+P507+R507+T507)*(V507+X507+Z507+AB507)*(AD507+AF507+AH507+AJ507)*(AL507+AN507+AP507+AR507+AT507)*(AV507+AX507+AZ507)*(BB507+BD507+BF507+BH507))+1","v":1},"PA CB","Panicum virgatum 'Cape Breeze'","Cape Breeze Switch Grass","24\" O.C.","Shorter variety (30\" tall), flowers turn bronze, leaf tips turn burgundy",null,"X","X",null,null,null,0,null,{"$f":"IF(AND('Step 2 - Ornamental'!$AA$21=\"X\",Q507=\"X\"),1,0)","v":0},"X",{"$f":"IF(AND('Step 2 - Ornamental'!$AB$21=\"X\",S507=\"X\"),1,0)","v":0},"X",{"$f":"IF(AND('Step 2 - Ornamental'!$AC$21=\"X\",U507=\"X\"),1,0)","v":0},"X",{"$f":"IF(AND('Step 2 - Ornamental'!$AA$19=\"X\",W507=\"X\"),1,0)","v":0},null,{"$f":"IF(AND('Step 2 - Ornamental'!$AA$19=\"X\",Y507=\"X\"),1,0)","v":0},"X",{"$f":"IF(AND('Step 2 - Ornamental'!$AB$19=\"X\",AA507=\"X\"),1,0)","v":0},"X",{"$f":"IF(AND('Step 2 - Ornamental'!$AC$19=\"X\",AC507=\"X\"),1,0)","v":0},"X",{"$f":"IF(AND('Step 2 - Ornamental'!$AA$20=\"X\",AE507=\"X\"),1,0)","v":0},null,{"$f":"IF(AND('Step 2 - Ornamental'!$AA$20=\"X\",AG507=\"X\"),1,0)","v":0},"X",{"$f":"IF(AND('Step 2 - Ornamental'!$AB$20=\"X\",AI507=\"X\"),1,0)","v":0},"X",{"$f":"IF(AND('Step 2 - Ornamental'!$AC$20=\"X\",AK507=\"X\"),1,0)","v":0},null,{"$f":"IF(AND('Step 2 - Ornamental'!$AA$18=\"X\",AM507=\"X\"),1,0)","v":0},null,{"$f":"IF(AND('Step 2 - Ornamental'!$AB$18=\"X\",AO507=\"X\"),1,0)","v":0},"X",{"$f":"IF(AND('Step 2 - Ornamental'!$AC$18=\"X\",AQ507=\"X\"),1,0)","v":0},"X",{"$f":"IF(AND('Step 2 - Ornamental'!$AD$18=\"X\",AS507=\"X\"),1,0)","v":0},null,{"$f":"IF(AND('Step 2 - Ornamental'!$AE$18=\"X\",AU507=\"X\"),1,0)","v":0},null,{"$f":"IF(AND('Step 2 - Ornamental'!$AA$17=\"X\",AW507=\"X\"),1,0)","v":0},"X",{"$f":"IF(AND('Step 2 - Ornamental'!$AB$17=\"X\",AY507=\"X\"),1,0)","v":0},"X",{"$f":"IF(AND('Step 2 - Ornamental'!$AC$17=\"X\",BA507=\"X\"),1,0)","v":0},null,{"$f":"IF(AND('Step 2 - Ornamental'!$AA$22=\"X\",BC507=\"X\"),1,0)","v":0},null,{"$f":"IF(AND('Step 2 - Ornamental'!$AB$22=\"X\",BE507=\"X\"),1,0)","v":0},null,{"$f":"IF(AND('Step 2 - Ornamental'!$AC$22=\"X\",BG507=\"X\"),1,0)","v":0},"X",{"$f":"IF(AND('Step 2 - Ornamental'!$AD$22=\"X\",BI507=\"X\"),1,0)","v":0},"X"]
[null,1,"PA CN","Panicum virgatum 'Cloud Nine'","Cloud Nine Switch Grass","36\" O.C.","tall variety (7'), with airy inflorescence, yellow fall color",null,"X","X",null,null,null,0,null,{"$f":"IF(AND('Step 2 - Ornamental'!$AA$21=\"X\",Q508=\"X\"),1,0)","v":0},"X",{"$f":"IF(AND('Step 2 - Ornamental'!$AB$21=\"X\",S508=\"X\"),1,0)","v":0},"X",{"$f":"IF(AND('Step 2 - Ornamental'!$AC$21=\"X\",U508=\"X\"),1,0)","v":0},"X",{"$f":"IF(AND('Step 2 - Ornamental'!$AA$19=\"X\",W508=\"X\"),1,0)","v":0},null,{"$f":"IF(AND('Step 2 - Ornamental'!$AA$19=\"X\",Y508=\"X\"),1,0)","v":0},"X",{"$f":"IF(AND('Step 2 - Ornamental'!$AB$19=\"X\",AA508=\"X\"),1,0)","v":0},"X",{"$f":"IF(AND('Step 2 - Ornamental'!$AC$19=\"X\",AC508=\"X\"),1,0)","v":0},"X",{"$f":"IF(AND('Step 2 - Ornamental'!$AA$20=\"X\",AE508=\"X\"),1,0)","v":0},null,{"$f":"IF(AND('Step 2 - Ornamental'!$AA$20=\"X\",AG508=\"X\"),1,0)","v":0},"X",{"$f":"IF(AND('Step 2 - Ornamental'!$AB$20=\"X\",AI508=\"X\"),1,0)","v":0},"X",{"$f":"IF(AND('Step 2 - Ornamental'!$AC$20=\"X\",AK508=\"X\"),1,0)","v":0},null,{"$f":"IF(AND('Step 2 - Ornamental'!$AA$18=\"X\",AM508=\"X\"),1,0)","v":0},null,{"$f":"IF(AND('Step 2 - Ornamental'!$AB$18=\"X\",AO508=\"X\"),1,0)","v":0},"X",{"$f":"IF(AND('Step 2 - Ornamental'!$AC$18=\"X\",AQ508=\"X\"),1,0)","v":0},"X",{"$f":"IF(AND('Step 2 - Ornamental'!$AD$18=\"X\",AS508=\"X\"),1,0)","v":0},null,{"$f":"IF(AND('Step 2 - Ornamental'!$AE$18=\"X\",AU508=\"X\"),1,0)","v":0},null,{"$f":"IF(AND('Step 2 - Ornamental'!$AA$17=\"X\",AW508=\"X\"),1,0)","v":0},"X",{"$f":"IF(AND('Step 2 - Ornamental'!$AB$17=\"X\",AY508=\"X\"),1,0)","v":0},"X",{"$f":"IF(AND('Step 2 - Ornamental'!$AC$17=\"X\",BA508=\"X\"),1,0)","v":0},null,{"$f":"IF(AND('Step 2 - Ornamental'!$AA$22=\"X\",BC508=\"X\"),1,0)","v":0},null,{"$f":"IF(AND('Step 2 - Ornamental'!$AB$22=\"X\",BE508=\"X\"),1,0)","v":0},null,{"$f":"IF(AND('Step 2 - Ornamental'!$AC$22=\"X\",BG508=\"X\"),1,0)","v":0},"X",{"$f":"IF(AND('Step 2 - Ornamental'!$AD$22=\"X\",BI508=\"X\"),1,0)","v":0},"X"]
[null,1,"PA HM","Panicum virgatum 'Heavy Metal'","Heavy Metal Switch Grass ","36\" O.C.","upright blue variety, 5' tall, prone to foliar rust",null,"X","X",null,null,null,0,null,{"$f":"IF(AND('Step 2 - Ornamental'!$AA$21=\"X\",Q509=\"X\"),1,0)","v":0},"X",{"$f":"IF(AND('Step 2 - Ornamental'!$AB$21=\"X\",S509=\"X\"),1,0)","v":0},"X",{"$f":"IF(AND('Step 2 - Ornamental'!$AC$21=\"X\",U509=\"X\"),1,0)","v":0},"X",{"$f":"IF(AND('Step 2 - Ornamental'!$AA$19=\"X\",W509=\"X\"),1,0)","v":0},null,{"$f":"IF(AND('Step 2 - Ornamental'!$AA$19=\"X\",Y509=\"X\"),1,0)","v":0},"X",{"$f":"IF(AND('Step 2 - Ornamental'!$AB$19=\"X\",AA509=\"X\"),1,0)","v":0},"X",{"$f":"IF(AND('Step 2 - Ornamental'!$AC$19=\"X\",AC509=\"X\"),1,0)","v":0},"X",{"$f":"IF(AND('Step 2 - Ornamental'!$AA$20=\"X\",AE509=\"X\"),1,0)","v":0},null,{"$f":"IF(AND('Step 2 - Ornamental'!$AA$20=\"X\",AG509=\"X\"),1,0)","v":0},"X",{"$f":"IF(AND('Step 2 - Ornamental'!$AB$20=\"X\",AI509=\"X\"),1,0)","v":0},"X",{"$f":"IF(AND('Step 2 - Ornamental'!$AC$20=\"X\",AK509=\"X\"),1,0)","v":0},null,{"$f":"IF(AND('Step 2 - Ornamental'!$AA$18=\"X\",AM509=\"X\"),1,0)","v":0},null,{"$f":"IF(AND('Step 2 - Ornamental'!$AB$18=\"X\",AO509=\"X\"),1,0)","v":0},"X",{"$f":"IF(AND('Step 2 - Ornamental'!$AC$18=\"X\",AQ509=\"X\"),1,0)","v":0},"X",{"$f":"IF(AND('Step 2 - Ornamental'!$AD$18=\"X\",AS509=\"X\"),1,0)","v":0},null,{"$f":"IF(AND('Step 2 - Ornamental'!$AE$18=\"X\",AU509=\"X\"),1,0)","v":0},null,{"$f":"IF(AND('Step 2 - Ornamental'!$AA$17=\"X\",AW509=\"X\"),1,0)","v":0},"X",{"$f":"IF(AND('Step 2 - Ornamental'!$AB$17=\"X\",AY509=\"X\"),1,0)","v":0},"X",{"$f":"IF(AND('Step 2 - Ornamental'!$AC$17=\"X\",BA509=\"X\"),1,0)","v":0},null,{"$f":"IF(AND('Step 2 - Ornamental'!$AA$22=\"X\",BC509=\"X\"),1,0)","v":0},null,{"$f":"IF(AND('Step 2 - Ornamental'!$AB$22=\"X\",BE509=\"X\"),1,0)","v":0},null,{"$f":"IF(AND('Step 2 - Ornamental'!$AC$22=\"X\",BG509=\"X\"),1,0)","v":0},"X",{"$f":"IF(AND('Step 2 - Ornamental'!$AD$22=\"X\",BI509=\"X\"),1,0)","v":0},"X"]
[null,1,"PA HH","Panicum virgatum 'Heiliger Hain'","Heiliger Hain Switch Grass","36\" O.C.","Bluish green foliage on compact (48\" tall) plant, foliage turns a vibrant burgundy-red in fall"," ","X","X",null,null,null,0,null,{"$f":"IF(AND('Step 2 - Ornamental'!$AA$21=\"X\",Q510=\"X\"),1,0)","v":0},"X",{"$f":"IF(AND('Step 2 - Ornamental'!$AB$21=\"X\",S510=\"X\"),1,0)","v":0},"X",{"$f":"IF(AND('Step 2 - Ornamental'!$AC$21=\"X\",U510=\"X\"),1,0)","v":0},"X",{"$f":"IF(AND('Step 2 - Ornamental'!$AA$19=\"X\",W510=\"X\"),1,0)","v":0},null,{"$f":"IF(AND('Step 2 - Ornamental'!$AA$19=\"X\",Y510=\"X\"),1,0)","v":0},"X",{"$f":"IF(AND('Step 2 - Ornamental'!$AB$19=\"X\",AA510=\"X\"),1,0)","v":0},"X",{"$f":"IF(AND('Step 2 - Ornamental'!$AC$19=\"X\",AC510=\"X\"),1,0)","v":0},"X",{"$f":"IF(AND('Step 2 - Ornamental'!$AA$20=\"X\",AE510=\"X\"),1,0)","v":0},null,{"$f":"IF(AND('Step 2 - Ornamental'!$AA$20=\"X\",AG510=\"X\"),1,0)","v":0},"X",{"$f":"IF(AND('Step 2 - Ornamental'!$AB$20=\"X\",AI510=\"X\"),1,0)","v":0},"X",{"$f":"IF(AND('Step 2 - Ornamental'!$AC$20=\"X\",AK510=\"X\"),1,0)","v":0},null,{"$f":"IF(AND('Step 2 - Ornamental'!$AA$18=\"X\",AM510=\"X\"),1,0)","v":0},null,{"$f":"IF(AND('Step 2 - Ornamental'!$AB$18=\"X\",AO510=\"X\"),1,0)","v":0},"X",{"$f":"IF(AND('Step 2 - Ornamental'!$AC$18=\"X\",AQ510=\"X\"),1,0)","v":0},"X",{"$f":"IF(AND('Step 2 - Ornamental'!$AD$18=\"X\",AS510=\"X\"),1,0)","v":0},null,{"$f":"IF(AND('Step 2 - Ornamental'!$AE$18=\"X\",AU510=\"X\"),1,0)","v":0},null,{"$f":"IF(AND('Step 2 - Ornamental'!$AA$17=\"X\",AW510=\"X\"),1,0)","v":0},"X",{"$f":"IF(AND('Step 2 - Ornamental'!$AB$17=\"X\",AY510=\"X\"),1,0)","v":0},"X",{"$f":"IF(AND('Step 2 - Ornamental'!$AC$17=\"X\",BA510=\"X\"),1,0)","v":0},null,{"$f":"IF(AND('Step 2 - Ornamental'!$AA$22=\"X\",BC510=\"X\"),1,0)","v":0},null,{"$f":"IF(AND('Step 2 - Ornamental'!$AB$22=\"X\",BE510=\"X\"),1,0)","v":0},null,{"$f":"IF(AND('Step 2 - Ornamental'!$AC$22=\"X\",BG510=\"X\"),1,0)","v":0},"X",{"$f":"IF(AND('Step 2 - Ornamental'!$AD$22=\"X\",BI510=\"X\"),1,0)","v":0},"X"]
[null,1,"PA NW","Panicum virgatum 'Northwind'","Northwind Switch Grass","36\" O.C.","upright green variety, 6' tall, immune to rust, gold fall color"," ","X","X",null,null,null,0,null,{"$f":"IF(AND('Step 2 - Ornamental'!$AA$21=\"X\",Q511=\"X\"),1,0)","v":0},"X",{"$f":"IF(AND('Step 2 - Ornamental'!$AB$21=\"X\",S511=\"X\"),1,0)","v":0},"X",{"$f":"IF(AND('Step 2 - Ornamental'!$AC$21=\"X\",U511=\"X\"),1,0)","v":0},"X",{"$f":"IF(AND('Step 2 - Ornamental'!$AA$19=\"X\",W511=\"X\"),1,0)","v":0},null,{"$f":"IF(AND('Step 2 - Ornamental'!$AA$19=\"X\",Y511=\"X\"),1,0)","v":0},"X",{"$f":"IF(AND('Step 2 - Ornamental'!$AB$19=\"X\",AA511=\"X\"),1,0)","v":0},"X",{"$f":"IF(AND('Step 2 - Ornamental'!$AC$19=\"X\",AC511=\"X\"),1,0)","v":0},"X",{"$f":"IF(AND('Step 2 - Ornamental'!$AA$20=\"X\",AE511=\"X\"),1,0)","v":0},null,{"$f":"IF(AND('Step 2 - Ornamental'!$AA$20=\"X\",AG511=\"X\"),1,0)","v":0},"X",{"$f":"IF(AND('Step 2 - Ornamental'!$AB$20=\"X\",AI511=\"X\"),1,0)","v":0},"X",{"$f":"IF(AND('Step 2 - Ornamental'!$AC$20=\"X\",AK511=\"X\"),1,0)","v":0},null,{"$f":"IF(AND('Step 2 - Ornamental'!$AA$18=\"X\",AM511=\"X\"),1,0)","v":0},null,{"$f":"IF(AND('Step 2 - Ornamental'!$AB$18=\"X\",AO511=\"X\"),1,0)","v":0},"X",{"$f":"IF(AND('Step 2 - Ornamental'!$AC$18=\"X\",AQ511=\"X\"),1,0)","v":0},"X",{"$f":"IF(AND('Step 2 - Ornamental'!$AD$18=\"X\",AS511=\"X\"),1,0)","v":0},null,{"$f":"IF(AND('Step 2 - Ornamental'!$AE$18=\"X\",AU511=\"X\"),1,0)","v":0},null,{"$f":"IF(AND('Step 2 - Ornamental'!$AA$17=\"X\",AW511=\"X\"),1,0)","v":0},"X",{"$f":"IF(AND('Step 2 - Ornamental'!$AB$17=\"X\",AY511=\"X\"),1,0)","v":0},"X",{"$f":"IF(AND('Step 2 - Ornamental'!$AC$17=\"X\",BA511=\"X\"),1,0)","v":0},null,{"$f":"IF(AND('Step 2 - Ornamental'!$AA$22=\"X\",BC511=\"X\"),1,0)","v":0},null,{"$f":"IF(AND('Step 2 - Ornamental'!$AB$22=\"X\",BE511=\"X\"),1,0)","v":0},null,{"$f":"IF(AND('Step 2 - Ornamental'!$AC$22=\"X\",BG511=\"X\"),1,0)","v":0},"X",{"$f":"IF(AND('Step 2 - Ornamental'!$AD$22=\"X\",BI511=\"X\"),1,0)","v":0},"X"]
[null,1,"PA RR","Panicum virgatum 'RR1' RUBY RIBBONS","Ruby Ribbons Switch Grass","30\" O.C.","Foliage turns purple red mid-season, shorter variety (36\")",null,"X","X",null,null,null,0,null,{"$f":"IF(AND('Step 2 - Ornamental'!$AA$21=\"X\",Q512=\"X\"),1,0)","v":0},"X",{"$f":"IF(AND('Step 2 - Ornamental'!$AB$21=\"X\",S512=\"X\"),1,0)","v":0},"X",{"$f":"IF(AND('Step 2 - Ornamental'!$AC$21=\"X\",U512=\"X\"),1,0)","v":0},"X",{"$f":"IF(AND('Step 2 - Ornamental'!$AA$19=\"X\",W512=\"X\"),1,0)","v":0},null,{"$f":"IF(AND('Step 2 - Ornamental'!$AA$19=\"X\",Y512=\"X\"),1,0)","v":0},"X",{"$f":"IF(AND('Step 2 - Ornamental'!$AB$19=\"X\",AA512=\"X\"),1,0)","v":0},"X",{"$f":"IF(AND('Step 2 - Ornamental'!$AC$19=\"X\",AC512=\"X\"),1,0)","v":0},"X",{"$f":"IF(AND('Step 2 - Ornamental'!$AA$20=\"X\",AE512=\"X\"),1,0)","v":0},null,{"$f":"IF(AND('Step 2 - Ornamental'!$AA$20=\"X\",AG512=\"X\"),1,0)","v":0},"X",{"$f":"IF(AND('Step 2 - Ornamental'!$AB$20=\"X\",AI512=\"X\"),1,0)","v":0},"X",{"$f":"IF(AND('Step 2 - Ornamental'!$AC$20=\"X\",AK512=\"X\"),1,0)","v":0},null,{"$f":"IF(AND('Step 2 - Ornamental'!$AA$18=\"X\",AM512=\"X\"),1,0)","v":0},null,{"$f":"IF(AND('Step 2 - Ornamental'!$AB$18=\"X\",AO512=\"X\"),1,0)","v":0},"X",{"$f":"IF(AND('Step 2 - Ornamental'!$AC$18=\"X\",AQ512=\"X\"),1,0)","v":0},"X",{"$f":"IF(AND('Step 2 - Ornamental'!$AD$18=\"X\",AS512=\"X\"),1,0)","v":0},null,{"$f":"IF(AND('Step 2 - Ornamental'!$AE$18=\"X\",AU512=\"X\"),1,0)","v":0},null,{"$f":"IF(AND('Step 2 - Ornamental'!$AA$17=\"X\",AW512=\"X\"),1,0)","v":0},"X",{"$f":"IF(AND('Step 2 - Ornamental'!$AB$17=\"X\",AY512=\"X\"),1,0)","v":0},"X",{"$f":"IF(AND('Step 2 - Ornamental'!$AC$17=\"X\",BA512=\"X\"),1,0)","v":0},null,{"$f":"IF(AND('Step 2 - Ornamental'!$AA$22=\"X\",BC512=\"X\"),1,0)","v":0},null,{"$f":"IF(AND('Step 2 - Ornamental'!$AB$22=\"X\",BE512=\"X\"),1,0)","v":0},null,{"$f":"IF(AND('Step 2 - Ornamental'!$AC$22=\"X\",BG512=\"X\"),1,0)","v":0},"X",{"$f":"IF(AND('Step 2 - Ornamental'!$AD$22=\"X\",BI512=\"X\"),1,0)","v":0},"X"]
[null,1,"PA SH","Panicum virgatum 'Shenandoah'","Shenandoah Switch Grass","30\" O.C.","shorter variety (4' tall), upright and best red fall color, ",null,"X","X",null,null,null,0,null,{"$f":"IF(AND('Step 2 - Ornamental'!$AA$21=\"X\",Q513=\"X\"),1,0)","v":0},"X",{"$f":"IF(AND('Step 2 - Ornamental'!$AB$21=\"X\",S513=\"X\"),1,0)","v":0},"X",{"$f":"IF(AND('Step 2 - Ornamental'!$AC$21=\"X\",U513=\"X\"),1,0)","v":0},"X",{"$f":"IF(AND('Step 2 - Ornamental'!$AA$19=\"X\",W513=\"X\"),1,0)","v":0},null,{"$f":"IF(AND('Step 2 - Ornamental'!$AA$19=\"X\",Y513=\"X\"),1,0)","v":0},"X",{"$f":"IF(AND('Step 2 - Ornamental'!$AB$19=\"X\",AA513=\"X\"),1,0)","v":0},"X",{"$f":"IF(AND('Step 2 - Ornamental'!$AC$19=\"X\",AC513=\"X\"),1,0)","v":0},"X",{"$f":"IF(AND('Step 2 - Ornamental'!$AA$20=\"X\",AE513=\"X\"),1,0)","v":0},null,{"$f":"IF(AND('Step 2 - Ornamental'!$AA$20=\"X\",AG513=\"X\"),1,0)","v":0},"X",{"$f":"IF(AND('Step 2 - Ornamental'!$AB$20=\"X\",AI513=\"X\"),1,0)","v":0},"X",{"$f":"IF(AND('Step 2 - Ornamental'!$AC$20=\"X\",AK513=\"X\"),1,0)","v":0},null,{"$f":"IF(AND('Step 2 - Ornamental'!$AA$18=\"X\",AM513=\"X\"),1,0)","v":0},null,{"$f":"IF(AND('Step 2 - Ornamental'!$AB$18=\"X\",AO513=\"X\"),1,0)","v":0},"X",{"$f":"IF(AND('Step 2 - Ornamental'!$AC$18=\"X\",AQ513=\"X\"),1,0)","v":0},"X",{"$f":"IF(AND('Step 2 - Ornamental'!$AD$18=\"X\",AS513=\"X\"),1,0)","v":0},null,{"$f":"IF(AND('Step 2 - Ornamental'!$AE$18=\"X\",AU513=\"X\"),1,0)","v":0},null,{"$f":"IF(AND('Step 2 - Ornamental'!$AA$17=\"X\",AW513=\"X\"),1,0)","v":0},"X",{"$f":"IF(AND('Step 2 - Ornamental'!$AB$17=\"X\",AY513=\"X\"),1,0)","v":0},"X",{"$f":"IF(AND('Step 2 - Ornamental'!$AC$17=\"X\",BA513=\"X\"),1,0)","v":0},null,{"$f":"IF(AND('Step 2 - Ornamental'!$AA$22=\"X\",BC513=\"X\"),1,0)","v":0},null,{"$f":"IF(AND('Step 2 - Ornamental'!$AB$22=\"X\",BE513=\"X\"),1,0)","v":0},null,{"$f":"IF(AND('Step 2 - Ornamental'!$AC$22=\"X\",BG513=\"X\"),1,0)","v":0},"X",{"$f":"IF(AND('Step 2 - Ornamental'!$AD$22=\"X\",BI513=\"X\"),1,0)","v":0},"X"]
[null,1,"PE AL","Pennisetum alopecuroides sp. (Cenchrus alopecuroides)","Fountain Grass","36\" O.C.","2.5'-5' tall, dramatic puffy seed heads, needs sun and winter protection in zone 5, ","X",null,null,null,null,null,1,"X",{"$f":"IF(AND('Step 2 - Ornamental'!$AA$21=\"X\",Q514=\"X\"),1,0)","v":0},null,{"$f":"IF(AND('Step 2 - Ornamental'!$AB$21=\"X\",S514=\"X\"),1,0)","v":0},null,{"$f":"IF(AND('Step 2 - Ornamental'!$AC$21=\"X\",U514=\"X\"),1,0)","v":0},null,{"$f":"IF(AND('Step 2 - Ornamental'!$AA$19=\"X\",W514=\"X\"),1,0)","v":0},null,{"$f":"IF(AND('Step 2 - Ornamental'!$AA$19=\"X\",Y514=\"X\"),1,0)","v":0},"X",{"$f":"IF(AND('Step 2 - Ornamental'!$AB$19=\"X\",AA514=\"X\"),1,0)","v":0},"X",{"$f":"IF(AND('Step 2 - Ornamental'!$AC$19=\"X\",AC514=\"X\"),1,0)","v":0},null,{"$f":"IF(AND('Step 2 - Ornamental'!$AA$20=\"X\",AE514=\"X\"),1,0)","v":0},"X",{"$f":"IF(AND('Step 2 - Ornamental'!$AA$20=\"X\",AG514=\"X\"),1,0)","v":0},null,{"$f":"IF(AND('Step 2 - Ornamental'!$AB$20=\"X\",AI514=\"X\"),1,0)","v":0},null,{"$f":"IF(AND('Step 2 - Ornamental'!$AC$20=\"X\",AK514=\"X\"),1,0)","v":0},null,{"$f":"IF(AND('Step 2 - Ornamental'!$AA$18=\"X\",AM514=\"X\"),1,0)","v":0},null,{"$f":"IF(AND('Step 2 - Ornamental'!$AB$18=\"X\",AO514=\"X\"),1,0)","v":0},"X",{"$f":"IF(AND('Step 2 - Ornamental'!$AC$18=\"X\",AQ514=\"X\"),1,0)","v":0},"X",{"$f":"IF(AND('Step 2 - Ornamental'!$AD$18=\"X\",AS514=\"X\"),1,0)","v":0},null,{"$f":"IF(AND('Step 2 - Ornamental'!$AE$18=\"X\",AU514=\"X\"),1,0)","v":0},null,{"$f":"IF(AND('Step 2 - Ornamental'!$AA$17=\"X\",AW514=\"X\"),1,0)","v":0},"X",{"$f":"IF(AND('Step 2 - Ornamental'!$AB$17=\"X\",AY514=\"X\"),1,0)","v":0}," ",{"$f":"IF(AND('Step 2 - Ornamental'!$AC$17=\"X\",BA514=\"X\"),1,0)","v":0},null,{"$f":"IF(AND('Step 2 - Ornamental'!$AA$22=\"X\",BC514=\"X\"),1,0)","v":0},null,{"$f":"IF(AND('Step 2 - Ornamental'!$AB$22=\"X\",BE514=\"X\"),1,0)","v":0},null,{"$f":"IF(AND('Step 2 - Ornamental'!$AC$22=\"X\",BG514=\"X\"),1,0)","v":0},"X",{"$f":"IF(AND('Step 2 - Ornamental'!$AD$22=\"X\",BI514=\"X\"),1,0)","v":0},"X"]
[null,1,"PE HA","Pennisetum alopecuroides 'Hamelin' (C. alopecuroides 'Hamelin')","Hameln Fountain Grass","24\" O.C.","1.5'-2.5' tall, needs sun and winter protection in zone 5, ","X",null,null,null,null,null,0,null,{"$f":"IF(AND('Step 2 - Ornamental'!$AA$21=\"X\",Q515=\"X\"),1,0)","v":0},"X",{"$f":"IF(AND('Step 2 - Ornamental'!$AB$21=\"X\",S515=\"X\"),1,0)","v":0},"X",{"$f":"IF(AND('Step 2 - Ornamental'!$AC$21=\"X\",U515=\"X\"),1,0)","v":0},"X",{"$f":"IF(AND('Step 2 - Ornamental'!$AA$19=\"X\",W515=\"X\"),1,0)","v":0},null,{"$f":"IF(AND('Step 2 - Ornamental'!$AA$19=\"X\",Y515=\"X\"),1,0)","v":0},"X",{"$f":"IF(AND('Step 2 - Ornamental'!$AB$19=\"X\",AA515=\"X\"),1,0)","v":0},"X",{"$f":"IF(AND('Step 2 - Ornamental'!$AC$19=\"X\",AC515=\"X\"),1,0)","v":0},null,{"$f":"IF(AND('Step 2 - Ornamental'!$AA$20=\"X\",AE515=\"X\"),1,0)","v":0},"X",{"$f":"IF(AND('Step 2 - Ornamental'!$AA$20=\"X\",AG515=\"X\"),1,0)","v":0},null,{"$f":"IF(AND('Step 2 - Ornamental'!$AB$20=\"X\",AI515=\"X\"),1,0)","v":0},null,{"$f":"IF(AND('Step 2 - Ornamental'!$AC$20=\"X\",AK515=\"X\"),1,0)","v":0},null,{"$f":"IF(AND('Step 2 - Ornamental'!$AA$18=\"X\",AM515=\"X\"),1,0)","v":0},null,{"$f":"IF(AND('Step 2 - Ornamental'!$AB$18=\"X\",AO515=\"X\"),1,0)","v":0},"X",{"$f":"IF(AND('Step 2 - Ornamental'!$AC$18=\"X\",AQ515=\"X\"),1,0)","v":0},"X",{"$f":"IF(AND('Step 2 - Ornamental'!$AD$18=\"X\",AS515=\"X\"),1,0)","v":0},null,{"$f":"IF(AND('Step 2 - Ornamental'!$AE$18=\"X\",AU515=\"X\"),1,0)","v":0},null,{"$f":"IF(AND('Step 2 - Ornamental'!$AA$17=\"X\",AW515=\"X\"),1,0)","v":0},"X",{"$f":"IF(AND('Step 2 - Ornamental'!$AB$17=\"X\",AY515=\"X\"),1,0)","v":0}," ",{"$f":"IF(AND('Step 2 - Ornamental'!$AC$17=\"X\",BA515=\"X\"),1,0)","v":0},null,{"$f":"IF(AND('Step 2 - Ornamental'!$AA$22=\"X\",BC515=\"X\"),1,0)","v":0},null,{"$f":"IF(AND('Step 2 - Ornamental'!$AB$22=\"X\",BE515=\"X\"),1,0)","v":0},null,{"$f":"IF(AND('Step 2 - Ornamental'!$AC$22=\"X\",BG515=\"X\"),1,0)","v":0},"X",{"$f":"IF(AND('Step 2 - Ornamental'!$AD$22=\"X\",BI515=\"X\"),1,0)","v":0},"X"]
[null,{"$f":"SUM((N516+P516+R516+T516)*(V516+X516+Z516+AB516)*(AD516+AF516+AH516+AJ516)*(AL516+AN516+AP516+AR516+AT516)*(AV516+AX516+AZ516)*(BB516+BD516+BF516+BH516))+1","v":1},"SC BH","Schizachyrium scoparium 'MinnblueA' BLUE HEAVEN","Blue Heaven Little Bluestem","24\" O.C.","Blue-gray foliage to 4' tall, burgundy-red fall color, narrow, upright form",null,"X","X","X",null,null,0,null,{"$f":"IF(AND('Step 2 - Ornamental'!$AA$21=\"X\",Q516=\"X\"),1,0)","v":0},"X",{"$f":"IF(AND('Step 2 - Ornamental'!$AB$21=\"X\",S516=\"X\"),1,0)","v":0},"X",{"$f":"IF(AND('Step 2 - Ornamental'!$AC$21=\"X\",U516=\"X\"),1,0)","v":0},null,{"$f":"IF(AND('Step 2 - Ornamental'!$AA$19=\"X\",W516=\"X\"),1,0)","v":0},null,{"$f":"IF(AND('Step 2 - Ornamental'!$AA$19=\"X\",Y516=\"X\"),1,0)","v":0},"X",{"$f":"IF(AND('Step 2 - Ornamental'!$AB$19=\"X\",AA516=\"X\"),1,0)","v":0},"X",{"$f":"IF(AND('Step 2 - Ornamental'!$AC$19=\"X\",AC516=\"X\"),1,0)","v":0},null,{"$f":"IF(AND('Step 2 - Ornamental'!$AA$20=\"X\",AE516=\"X\"),1,0)","v":0},null,{"$f":"IF(AND('Step 2 - Ornamental'!$AA$20=\"X\",AG516=\"X\"),1,0)","v":0},"X",{"$f":"IF(AND('Step 2 - Ornamental'!$AB$20=\"X\",AI516=\"X\"),1,0)","v":0},null,{"$f":"IF(AND('Step 2 - Ornamental'!$AC$20=\"X\",AK516=\"X\"),1,0)","v":0},null,{"$f":"IF(AND('Step 2 - Ornamental'!$AA$18=\"X\",AM516=\"X\"),1,0)","v":0},"X",{"$f":"IF(AND('Step 2 - Ornamental'!$AB$18=\"X\",AO516=\"X\"),1,0)","v":0},"X",{"$f":"IF(AND('Step 2 - Ornamental'!$AC$18=\"X\",AQ516=\"X\"),1,0)","v":0},null,{"$f":"IF(AND('Step 2 - Ornamental'!$AD$18=\"X\",AS516=\"X\"),1,0)","v":0},null,{"$f":"IF(AND('Step 2 - Ornamental'!$AE$18=\"X\",AU516=\"X\"),1,0)","v":0},null,{"$f":"IF(AND('Step 2 - Ornamental'!$AA$17=\"X\",AW516=\"X\"),1,0)","v":0},"X",{"$f":"IF(AND('Step 2 - Ornamental'!$AB$17=\"X\",AY516=\"X\"),1,0)","v":0},null,{"$f":"IF(AND('Step 2 - Ornamental'!$AC$17=\"X\",BA516=\"X\"),1,0)","v":0},null,{"$f":"IF(AND('Step 2 - Ornamental'!$AA$22=\"X\",BC516=\"X\"),1,0)","v":0},null,{"$f":"IF(AND('Step 2 - Ornamental'!$AB$22=\"X\",BE516=\"X\"),1,0)","v":0},"X",{"$f":"IF(AND('Step 2 - Ornamental'!$AC$22=\"X\",BG516=\"X\"),1,0)","v":0},"X",{"$f":"IF(AND('Step 2 - Ornamental'!$AD$22=\"X\",BI516=\"X\"),1,0)","v":0},"X"]
[null,{"$f":"SUM((N517+P517+R517+T517)*(V517+X517+Z517+AB517)*(AD517+AF517+AH517+AJ517)*(AL517+AN517+AP517+AR517+AT517)*(AV517+AX517+AZ517)*(BB517+BD517+BF517+BH517))+1","v":1},"SC JZ","Schizachyrium scoparium 'Jazz' (sport of 'The Blues')","Jazz Little Bluestem","24\" O.C.","Shorter form than 'Blues\" to 2.5' tall, won't flop, blue foliage with purple fall hues"," ","X","X","X",null,null,0,null,{"$f":"IF(AND('Step 2 - Ornamental'!$AA$21=\"X\",Q517=\"X\"),1,0)","v":0},"X",{"$f":"IF(AND('Step 2 - Ornamental'!$AB$21=\"X\",S517=\"X\"),1,0)","v":0},"X",{"$f":"IF(AND('Step 2 - Ornamental'!$AC$21=\"X\",U517=\"X\"),1,0)","v":0},null,{"$f":"IF(AND('Step 2 - Ornamental'!$AA$19=\"X\",W517=\"X\"),1,0)","v":0},null,{"$f":"IF(AND('Step 2 - Ornamental'!$AA$19=\"X\",Y517=\"X\"),1,0)","v":0},"X",{"$f":"IF(AND('Step 2 - Ornamental'!$AB$19=\"X\",AA517=\"X\"),1,0)","v":0},"X",{"$f":"IF(AND('Step 2 - Ornamental'!$AC$19=\"X\",AC517=\"X\"),1,0)","v":0},null,{"$f":"IF(AND('Step 2 - Ornamental'!$AA$20=\"X\",AE517=\"X\"),1,0)","v":0},null,{"$f":"IF(AND('Step 2 - Ornamental'!$AA$20=\"X\",AG517=\"X\"),1,0)","v":0},"X",{"$f":"IF(AND('Step 2 - Ornamental'!$AB$20=\"X\",AI517=\"X\"),1,0)","v":0},null,{"$f":"IF(AND('Step 2 - Ornamental'!$AC$20=\"X\",AK517=\"X\"),1,0)","v":0},null,{"$f":"IF(AND('Step 2 - Ornamental'!$AA$18=\"X\",AM517=\"X\"),1,0)","v":0},"X",{"$f":"IF(AND('Step 2 - Ornamental'!$AB$18=\"X\",AO517=\"X\"),1,0)","v":0},"X",{"$f":"IF(AND('Step 2 - Ornamental'!$AC$18=\"X\",AQ517=\"X\"),1,0)","v":0},null,{"$f":"IF(AND('Step 2 - Ornamental'!$AD$18=\"X\",AS517=\"X\"),1,0)","v":0},null,{"$f":"IF(AND('Step 2 - Ornamental'!$AE$18=\"X\",AU517=\"X\"),1,0)","v":0},null,{"$f":"IF(AND('Step 2 - Ornamental'!$AA$17=\"X\",AW517=\"X\"),1,0)","v":0},"X",{"$f":"IF(AND('Step 2 - Ornamental'!$AB$17=\"X\",AY517=\"X\"),1,0)","v":0},null,{"$f":"IF(AND('Step 2 - Ornamental'!$AC$17=\"X\",BA517=\"X\"),1,0)","v":0},null,{"$f":"IF(AND('Step 2 - Ornamental'!$AA$22=\"X\",BC517=\"X\"),1,0)","v":0},null,{"$f":"IF(AND('Step 2 - Ornamental'!$AB$22=\"X\",BE517=\"X\"),1,0)","v":0},"X",{"$f":"IF(AND('Step 2 - Ornamental'!$AC$22=\"X\",BG517=\"X\"),1,0)","v":0},"X",{"$f":"IF(AND('Step 2 - Ornamental'!$AD$22=\"X\",BI517=\"X\"),1,0)","v":0},"X"]
[null,1,"SC CR","Schizachyrium scoparium 'Carousel'","Carousel Little Bluestem","24\" O.C.","dwarf variety (24\" tall), orange fall color, ",null,"X","X","X",null,null,0,null,{"$f":"IF(AND('Step 2 - Ornamental'!$AA$21=\"X\",Q518=\"X\"),1,0)","v":0},"X",{"$f":"IF(AND('Step 2 - Ornamental'!$AB$21=\"X\",S518=\"X\"),1,0)","v":0},"X",{"$f":"IF(AND('Step 2 - Ornamental'!$AC$21=\"X\",U518=\"X\"),1,0)","v":0},null,{"$f":"IF(AND('Step 2 - Ornamental'!$AA$19=\"X\",W518=\"X\"),1,0)","v":0},null,{"$f":"IF(AND('Step 2 - Ornamental'!$AA$19=\"X\",Y518=\"X\"),1,0)","v":0},"X",{"$f":"IF(AND('Step 2 - Ornamental'!$AB$19=\"X\",AA518=\"X\"),1,0)","v":0},"X",{"$f":"IF(AND('Step 2 - Ornamental'!$AC$19=\"X\",AC518=\"X\"),1,0)","v":0},null,{"$f":"IF(AND('Step 2 - Ornamental'!$AA$20=\"X\",AE518=\"X\"),1,0)","v":0},null,{"$f":"IF(AND('Step 2 - Ornamental'!$AA$20=\"X\",AG518=\"X\"),1,0)","v":0},"X",{"$f":"IF(AND('Step 2 - Ornamental'!$AB$20=\"X\",AI518=\"X\"),1,0)","v":0},null,{"$f":"IF(AND('Step 2 - Ornamental'!$AC$20=\"X\",AK518=\"X\"),1,0)","v":0},null,{"$f":"IF(AND('Step 2 - Ornamental'!$AA$18=\"X\",AM518=\"X\"),1,0)","v":0},"X",{"$f":"IF(AND('Step 2 - Ornamental'!$AB$18=\"X\",AO518=\"X\"),1,0)","v":0},"X",{"$f":"IF(AND('Step 2 - Ornamental'!$AC$18=\"X\",AQ518=\"X\"),1,0)","v":0}," ",{"$f":"IF(AND('Step 2 - Ornamental'!$AD$18=\"X\",AS518=\"X\"),1,0)","v":0},null,{"$f":"IF(AND('Step 2 - Ornamental'!$AE$18=\"X\",AU518=\"X\"),1,0)","v":0},null,{"$f":"IF(AND('Step 2 - Ornamental'!$AA$17=\"X\",AW518=\"X\"),1,0)","v":0},"X",{"$f":"IF(AND('Step 2 - Ornamental'!$AB$17=\"X\",AY518=\"X\"),1,0)","v":0},null,{"$f":"IF(AND('Step 2 - Ornamental'!$AC$17=\"X\",BA518=\"X\"),1,0)","v":0},null,{"$f":"IF(AND('Step 2 - Ornamental'!$AA$22=\"X\",BC518=\"X\"),1,0)","v":0},null,{"$f":"IF(AND('Step 2 - Ornamental'!$AB$22=\"X\",BE518=\"X\"),1,0)","v":0},"X",{"$f":"IF(AND('Step 2 - Ornamental'!$AC$22=\"X\",BG518=\"X\"),1,0)","v":0},"X",{"$f":"IF(AND('Step 2 - Ornamental'!$AD$22=\"X\",BI518=\"X\"),1,0)","v":0},"X"]
[null,1,"SE AU","Sesleria autumnalis","Autumn Moor Grass","18\" O.C.","18\" tall, easily grown, tidy yellow-green upright foliage, ","X",null,null,null,null,null,1,"X",{"$f":"IF(AND('Step 2 - Ornamental'!$AA$21=\"X\",Q519=\"X\"),1,0)","v":0},null,{"$f":"IF(AND('Step 2 - Ornamental'!$AB$21=\"X\",S519=\"X\"),1,0)","v":0},null,{"$f":"IF(AND('Step 2 - Ornamental'!$AC$21=\"X\",U519=\"X\"),1,0)","v":0},null,{"$f":"IF(AND('Step 2 - Ornamental'!$AA$19=\"X\",W519=\"X\"),1,0)","v":0},null,{"$f":"IF(AND('Step 2 - Ornamental'!$AA$19=\"X\",Y519=\"X\"),1,0)","v":0},"X",{"$f":"IF(AND('Step 2 - Ornamental'!$AB$19=\"X\",AA519=\"X\"),1,0)","v":0},null,{"$f":"IF(AND('Step 2 - Ornamental'!$AC$19=\"X\",AC519=\"X\"),1,0)","v":0},null,{"$f":"IF(AND('Step 2 - Ornamental'!$AA$20=\"X\",AE519=\"X\"),1,0)","v":0},"X",{"$f":"IF(AND('Step 2 - Ornamental'!$AA$20=\"X\",AG519=\"X\"),1,0)","v":0},null,{"$f":"IF(AND('Step 2 - Ornamental'!$AB$20=\"X\",AI519=\"X\"),1,0)","v":0},null,{"$f":"IF(AND('Step 2 - Ornamental'!$AC$20=\"X\",AK519=\"X\"),1,0)","v":0},null,{"$f":"IF(AND('Step 2 - Ornamental'!$AA$18=\"X\",AM519=\"X\"),1,0)","v":0},"X",{"$f":"IF(AND('Step 2 - Ornamental'!$AB$18=\"X\",AO519=\"X\"),1,0)","v":0},"X",{"$f":"IF(AND('Step 2 - Ornamental'!$AC$18=\"X\",AQ519=\"X\"),1,0)","v":0},null,{"$f":"IF(AND('Step 2 - Ornamental'!$AD$18=\"X\",AS519=\"X\"),1,0)","v":0},null,{"$f":"IF(AND('Step 2 - Ornamental'!$AE$18=\"X\",AU519=\"X\"),1,0)","v":0},null,{"$f":"IF(AND('Step 2 - Ornamental'!$AA$17=\"X\",AW519=\"X\"),1,0)","v":0},"X",{"$f":"IF(AND('Step 2 - Ornamental'!$AB$17=\"X\",AY519=\"X\"),1,0)","v":0},"X",{"$f":"IF(AND('Step 2 - Ornamental'!$AC$17=\"X\",BA519=\"X\"),1,0)","v":0},null,{"$f":"IF(AND('Step 2 - Ornamental'!$AA$22=\"X\",BC519=\"X\"),1,0)","v":0},null,{"$f":"IF(AND('Step 2 - Ornamental'!$AB$22=\"X\",BE519=\"X\"),1,0)","v":0},"X",{"$f":"IF(AND('Step 2 - Ornamental'!$AC$22=\"X\",BG519=\"X\"),1,0)","v":0},"X",{"$f":"IF(AND('Step 2 - Ornamental'!$AD$22=\"X\",BI519=\"X\"),1,0)","v":0},"X"]
[null,1,"SE CL","Sesleria caerulea","Blue Moor Grass","12\" O.C.","Short and compact blue-green foliage, short (8\" High),","X",null,null,null,null,null,1,"X",{"$f":"IF(AND('Step 2 - Ornamental'!$AA$21=\"X\",Q520=\"X\"),1,0)","v":0},null,{"$f":"IF(AND('Step 2 - Ornamental'!$AB$21=\"X\",S520=\"X\"),1,0)","v":0},null,{"$f":"IF(AND('Step 2 - Ornamental'!$AC$21=\"X\",U520=\"X\"),1,0)","v":0},null,{"$f":"IF(AND('Step 2 - Ornamental'!$AA$19=\"X\",W520=\"X\"),1,0)","v":0},null,{"$f":"IF(AND('Step 2 - Ornamental'!$AA$19=\"X\",Y520=\"X\"),1,0)","v":0},"X",{"$f":"IF(AND('Step 2 - Ornamental'!$AB$19=\"X\",AA520=\"X\"),1,0)","v":0},null,{"$f":"IF(AND('Step 2 - Ornamental'!$AC$19=\"X\",AC520=\"X\"),1,0)","v":0},null,{"$f":"IF(AND('Step 2 - Ornamental'!$AA$20=\"X\",AE520=\"X\"),1,0)","v":0},"X",{"$f":"IF(AND('Step 2 - Ornamental'!$AA$20=\"X\",AG520=\"X\"),1,0)","v":0},null,{"$f":"IF(AND('Step 2 - Ornamental'!$AB$20=\"X\",AI520=\"X\"),1,0)","v":0},null,{"$f":"IF(AND('Step 2 - Ornamental'!$AC$20=\"X\",AK520=\"X\"),1,0)","v":0},null,{"$f":"IF(AND('Step 2 - Ornamental'!$AA$18=\"X\",AM520=\"X\"),1,0)","v":0}," ",{"$f":"IF(AND('Step 2 - Ornamental'!$AB$18=\"X\",AO520=\"X\"),1,0)","v":0},"X",{"$f":"IF(AND('Step 2 - Ornamental'!$AC$18=\"X\",AQ520=\"X\"),1,0)","v":0},null,{"$f":"IF(AND('Step 2 - Ornamental'!$AD$18=\"X\",AS520=\"X\"),1,0)","v":0},null,{"$f":"IF(AND('Step 2 - Ornamental'!$AE$18=\"X\",AU520=\"X\"),1,0)","v":0},null,{"$f":"IF(AND('Step 2 - Ornamental'!$AA$17=\"X\",AW520=\"X\"),1,0)","v":0},"X",{"$f":"IF(AND('Step 2 - Ornamental'!$AB$17=\"X\",AY520=\"X\"),1,0)","v":0},"X",{"$f":"IF(AND('Step 2 - Ornamental'!$AC$17=\"X\",BA520=\"X\"),1,0)","v":0},null,{"$f":"IF(AND('Step 2 - Ornamental'!$AA$22=\"X\",BC520=\"X\"),1,0)","v":0},null,{"$f":"IF(AND('Step 2 - Ornamental'!$AB$22=\"X\",BE520=\"X\"),1,0)","v":0},"X",{"$f":"IF(AND('Step 2 - Ornamental'!$AC$22=\"X\",BG520=\"X\"),1,0)","v":0},"X",{"$f":"IF(AND('Step 2 - Ornamental'!$AD$22=\"X\",BI520=\"X\"),1,0)","v":0},"X"]
[null,1,"SO NU","Sorghastrum nutans 'Sioux Blue'","Indian Grass","36\" O.C.","Better vertical than species, blue foliage, (3-5' tall), likes lean soil, will self-seed"," ","X","X",null,null,null,1,"X",{"$f":"IF(AND('Step 2 - Ornamental'!$AA$21=\"X\",Q521=\"X\"),1,0)","v":0},null,{"$f":"IF(AND('Step 2 - Ornamental'!$AB$21=\"X\",S521=\"X\"),1,0)","v":0},null,{"$f":"IF(AND('Step 2 - Ornamental'!$AC$21=\"X\",U521=\"X\"),1,0)","v":0},null,{"$f":"IF(AND('Step 2 - Ornamental'!$AA$19=\"X\",W521=\"X\"),1,0)","v":0},null,{"$f":"IF(AND('Step 2 - Ornamental'!$AA$19=\"X\",Y521=\"X\"),1,0)","v":0},"X",{"$f":"IF(AND('Step 2 - Ornamental'!$AB$19=\"X\",AA521=\"X\"),1,0)","v":0},"X",{"$f":"IF(AND('Step 2 - Ornamental'!$AC$19=\"X\",AC521=\"X\"),1,0)","v":0},null,{"$f":"IF(AND('Step 2 - Ornamental'!$AA$20=\"X\",AE521=\"X\"),1,0)","v":0},null,{"$f":"IF(AND('Step 2 - Ornamental'!$AA$20=\"X\",AG521=\"X\"),1,0)","v":0},"X",{"$f":"IF(AND('Step 2 - Ornamental'!$AB$20=\"X\",AI521=\"X\"),1,0)","v":0},null,{"$f":"IF(AND('Step 2 - Ornamental'!$AC$20=\"X\",AK521=\"X\"),1,0)","v":0},null,{"$f":"IF(AND('Step 2 - Ornamental'!$AA$18=\"X\",AM521=\"X\"),1,0)","v":0},"X",{"$f":"IF(AND('Step 2 - Ornamental'!$AB$18=\"X\",AO521=\"X\"),1,0)","v":0},"X",{"$f":"IF(AND('Step 2 - Ornamental'!$AC$18=\"X\",AQ521=\"X\"),1,0)","v":0},null,{"$f":"IF(AND('Step 2 - Ornamental'!$AD$18=\"X\",AS521=\"X\"),1,0)","v":0},null,{"$f":"IF(AND('Step 2 - Ornamental'!$AE$18=\"X\",AU521=\"X\"),1,0)","v":0},null,{"$f":"IF(AND('Step 2 - Ornamental'!$AA$17=\"X\",AW521=\"X\"),1,0)","v":0},"X",{"$f":"IF(AND('Step 2 - Ornamental'!$AB$17=\"X\",AY521=\"X\"),1,0)","v":0},null,{"$f":"IF(AND('Step 2 - Ornamental'!$AC$17=\"X\",BA521=\"X\"),1,0)","v":0},null,{"$f":"IF(AND('Step 2 - Ornamental'!$AA$22=\"X\",BC521=\"X\"),1,0)","v":0},null,{"$f":"IF(AND('Step 2 - Ornamental'!$AB$22=\"X\",BE521=\"X\"),1,0)","v":0},"X",{"$f":"IF(AND('Step 2 - Ornamental'!$AC$22=\"X\",BG521=\"X\"),1,0)","v":0},"X",{"$f":"IF(AND('Step 2 - Ornamental'!$AD$22=\"X\",BI521=\"X\"),1,0)","v":0},"X"]
[null,1,"SP SI ","Spodiopogon sibiricus","Frost Grass","18\" O.C.","3-5' tall, bamboo-like foliage, needs moisture","X",null,null,null,null,null,1,"X",{"$f":"IF(AND('Step 2 - Ornamental'!$AA$21=\"X\",Q522=\"X\"),1,0)","v":0},null,{"$f":"IF(AND('Step 2 - Ornamental'!$AB$21=\"X\",S522=\"X\"),1,0)","v":0},null,{"$f":"IF(AND('Step 2 - Ornamental'!$AC$21=\"X\",U522=\"X\"),1,0)","v":0},null,{"$f":"IF(AND('Step 2 - Ornamental'!$AA$19=\"X\",W522=\"X\"),1,0)","v":0},"X",{"$f":"IF(AND('Step 2 - Ornamental'!$AA$19=\"X\",Y522=\"X\"),1,0)","v":0},null,{"$f":"IF(AND('Step 2 - Ornamental'!$AB$19=\"X\",AA522=\"X\"),1,0)","v":0},null,{"$f":"IF(AND('Step 2 - Ornamental'!$AC$19=\"X\",AC522=\"X\"),1,0)","v":0},null,{"$f":"IF(AND('Step 2 - Ornamental'!$AA$20=\"X\",AE522=\"X\"),1,0)","v":0},"X",{"$f":"IF(AND('Step 2 - Ornamental'!$AA$20=\"X\",AG522=\"X\"),1,0)","v":0},null,{"$f":"IF(AND('Step 2 - Ornamental'!$AB$20=\"X\",AI522=\"X\"),1,0)","v":0},null,{"$f":"IF(AND('Step 2 - Ornamental'!$AC$20=\"X\",AK522=\"X\"),1,0)","v":0},null,{"$f":"IF(AND('Step 2 - Ornamental'!$AA$18=\"X\",AM522=\"X\"),1,0)","v":0},null,{"$f":"IF(AND('Step 2 - Ornamental'!$AB$18=\"X\",AO522=\"X\"),1,0)","v":0},"X",{"$f":"IF(AND('Step 2 - Ornamental'!$AC$18=\"X\",AQ522=\"X\"),1,0)","v":0},"X",{"$f":"IF(AND('Step 2 - Ornamental'!$AD$18=\"X\",AS522=\"X\"),1,0)","v":0},null,{"$f":"IF(AND('Step 2 - Ornamental'!$AE$18=\"X\",AU522=\"X\"),1,0)","v":0},null,{"$f":"IF(AND('Step 2 - Ornamental'!$AA$17=\"X\",AW522=\"X\"),1,0)","v":0},"X",{"$f":"IF(AND('Step 2 - Ornamental'!$AB$17=\"X\",AY522=\"X\"),1,0)","v":0},null,{"$f":"IF(AND('Step 2 - Ornamental'!$AC$17=\"X\",BA522=\"X\"),1,0)","v":0},null,{"$f":"IF(AND('Step 2 - Ornamental'!$AA$22=\"X\",BC522=\"X\"),1,0)","v":0},null,{"$f":"IF(AND('Step 2 - Ornamental'!$AB$22=\"X\",BE522=\"X\"),1,0)","v":0},null,{"$f":"IF(AND('Step 2 - Ornamental'!$AC$22=\"X\",BG522=\"X\"),1,0)","v":0},"X",{"$f":"IF(AND('Step 2 - Ornamental'!$AD$22=\"X\",BI522=\"X\"),1,0)","v":0},"X"]
[null,1,"SP AI","Sporobolus airoides ","Alkali Sacaton","30\" O.C.","3'-4' tall, warm-season bunch grass with lacy seed heads, tolerates salinity"," ","X",null,"X",null,null,1,"X",{"$f":"IF(AND('Step 2 - Ornamental'!$AA$21=\"X\",Q523=\"X\"),1,0)","v":0},null,{"$f":"IF(AND('Step 2 - Ornamental'!$AB$21=\"X\",S523=\"X\"),1,0)","v":0},null,{"$f":"IF(AND('Step 2 - Ornamental'!$AC$21=\"X\",U523=\"X\"),1,0)","v":0},null,{"$f":"IF(AND('Step 2 - Ornamental'!$AA$19=\"X\",W523=\"X\"),1,0)","v":0},null,{"$f":"IF(AND('Step 2 - Ornamental'!$AA$19=\"X\",Y523=\"X\"),1,0)","v":0},"X",{"$f":"IF(AND('Step 2 - Ornamental'!$AB$19=\"X\",AA523=\"X\"),1,0)","v":0},"X",{"$f":"IF(AND('Step 2 - Ornamental'!$AC$19=\"X\",AC523=\"X\"),1,0)","v":0},"X",{"$f":"IF(AND('Step 2 - Ornamental'!$AA$20=\"X\",AE523=\"X\"),1,0)","v":0},"X",{"$f":"IF(AND('Step 2 - Ornamental'!$AA$20=\"X\",AG523=\"X\"),1,0)","v":0},null,{"$f":"IF(AND('Step 2 - Ornamental'!$AB$20=\"X\",AI523=\"X\"),1,0)","v":0},null,{"$f":"IF(AND('Step 2 - Ornamental'!$AC$20=\"X\",AK523=\"X\"),1,0)","v":0},null,{"$f":"IF(AND('Step 2 - Ornamental'!$AA$18=\"X\",AM523=\"X\"),1,0)","v":0},"X",{"$f":"IF(AND('Step 2 - Ornamental'!$AB$18=\"X\",AO523=\"X\"),1,0)","v":0},null,{"$f":"IF(AND('Step 2 - Ornamental'!$AC$18=\"X\",AQ523=\"X\"),1,0)","v":0},null,{"$f":"IF(AND('Step 2 - Ornamental'!$AD$18=\"X\",AS523=\"X\"),1,0)","v":0},null,{"$f":"IF(AND('Step 2 - Ornamental'!$AE$18=\"X\",AU523=\"X\"),1,0)","v":0},null,{"$f":"IF(AND('Step 2 - Ornamental'!$AA$17=\"X\",AW523=\"X\"),1,0)","v":0},"X",{"$f":"IF(AND('Step 2 - Ornamental'!$AB$17=\"X\",AY523=\"X\"),1,0)","v":0},null,{"$f":"IF(AND('Step 2 - Ornamental'!$AC$17=\"X\",BA523=\"X\"),1,0)","v":0},null,{"$f":"IF(AND('Step 2 - Ornamental'!$AA$22=\"X\",BC523=\"X\"),1,0)","v":0},null,{"$f":"IF(AND('Step 2 - Ornamental'!$AB$22=\"X\",BE523=\"X\"),1,0)","v":0},"X",{"$f":"IF(AND('Step 2 - Ornamental'!$AC$22=\"X\",BG523=\"X\"),1,0)","v":0},"X",{"$f":"IF(AND('Step 2 - Ornamental'!$AD$22=\"X\",BI523=\"X\"),1,0)","v":0},"X"]
[null,1,"SP HE","Sporobolus heterolepis","Prairie Dropseed","30\" O.C.","2-3' tall, trouble-free native for all situations, beautiful fall color, airy seedheads"," ","X","X","X",null,null,1,"X",{"$f":"IF(AND('Step 2 - Ornamental'!$AA$21=\"X\",Q524=\"X\"),1,0)","v":0},null,{"$f":"IF(AND('Step 2 - Ornamental'!$AB$21=\"X\",S524=\"X\"),1,0)","v":0},null,{"$f":"IF(AND('Step 2 - Ornamental'!$AC$21=\"X\",U524=\"X\"),1,0)","v":0},null,{"$f":"IF(AND('Step 2 - Ornamental'!$AA$19=\"X\",W524=\"X\"),1,0)","v":0},null,{"$f":"IF(AND('Step 2 - Ornamental'!$AA$19=\"X\",Y524=\"X\"),1,0)","v":0},"X",{"$f":"IF(AND('Step 2 - Ornamental'!$AB$19=\"X\",AA524=\"X\"),1,0)","v":0},"X",{"$f":"IF(AND('Step 2 - Ornamental'!$AC$19=\"X\",AC524=\"X\"),1,0)","v":0},null,{"$f":"IF(AND('Step 2 - Ornamental'!$AA$20=\"X\",AE524=\"X\"),1,0)","v":0},null,{"$f":"IF(AND('Step 2 - Ornamental'!$AA$20=\"X\",AG524=\"X\"),1,0)","v":0},"X",{"$f":"IF(AND('Step 2 - Ornamental'!$AB$20=\"X\",AI524=\"X\"),1,0)","v":0},null,{"$f":"IF(AND('Step 2 - Ornamental'!$AC$20=\"X\",AK524=\"X\"),1,0)","v":0},null,{"$f":"IF(AND('Step 2 - Ornamental'!$AA$18=\"X\",AM524=\"X\"),1,0)","v":0},"X",{"$f":"IF(AND('Step 2 - Ornamental'!$AB$18=\"X\",AO524=\"X\"),1,0)","v":0},"X",{"$f":"IF(AND('Step 2 - Ornamental'!$AC$18=\"X\",AQ524=\"X\"),1,0)","v":0},null,{"$f":"IF(AND('Step 2 - Ornamental'!$AD$18=\"X\",AS524=\"X\"),1,0)","v":0},null,{"$f":"IF(AND('Step 2 - Ornamental'!$AE$18=\"X\",AU524=\"X\"),1,0)","v":0},null,{"$f":"IF(AND('Step 2 - Ornamental'!$AA$17=\"X\",AW524=\"X\"),1,0)","v":0},"X",{"$f":"IF(AND('Step 2 - Ornamental'!$AB$17=\"X\",AY524=\"X\"),1,0)","v":0},null,{"$f":"IF(AND('Step 2 - Ornamental'!$AC$17=\"X\",BA524=\"X\"),1,0)","v":0},null,{"$f":"IF(AND('Step 2 - Ornamental'!$AA$22=\"X\",BC524=\"X\"),1,0)","v":0},null,{"$f":"IF(AND('Step 2 - Ornamental'!$AB$22=\"X\",BE524=\"X\"),1,0)","v":0},"X",{"$f":"IF(AND('Step 2 - Ornamental'!$AC$22=\"X\",BG524=\"X\"),1,0)","v":0},"X",{"$f":"IF(AND('Step 2 - Ornamental'!$AD$22=\"X\",BI524=\"X\"),1,0)","v":0},"X"]
[null,1,"SP TA","Sporobolus heterolepis 'Tara'","Tara Prairie Dropseed","24\" O.C.","dwarf variety (12\" tall), good orange-red fall color",null,"X","X","X",null,null,1,"X",{"$f":"IF(AND('Step 2 - Ornamental'!$AA$21=\"X\",Q525=\"X\"),1,0)","v":0},null,{"$f":"IF(AND('Step 2 - Ornamental'!$AB$21=\"X\",S525=\"X\"),1,0)","v":0},null,{"$f":"IF(AND('Step 2 - Ornamental'!$AC$21=\"X\",U525=\"X\"),1,0)","v":0},null,{"$f":"IF(AND('Step 2 - Ornamental'!$AA$19=\"X\",W525=\"X\"),1,0)","v":0},null,{"$f":"IF(AND('Step 2 - Ornamental'!$AA$19=\"X\",Y525=\"X\"),1,0)","v":0},"X",{"$f":"IF(AND('Step 2 - Ornamental'!$AB$19=\"X\",AA525=\"X\"),1,0)","v":0},"X",{"$f":"IF(AND('Step 2 - Ornamental'!$AC$19=\"X\",AC525=\"X\"),1,0)","v":0},null,{"$f":"IF(AND('Step 2 - Ornamental'!$AA$20=\"X\",AE525=\"X\"),1,0)","v":0},null,{"$f":"IF(AND('Step 2 - Ornamental'!$AA$20=\"X\",AG525=\"X\"),1,0)","v":0},"X",{"$f":"IF(AND('Step 2 - Ornamental'!$AB$20=\"X\",AI525=\"X\"),1,0)","v":0},null,{"$f":"IF(AND('Step 2 - Ornamental'!$AC$20=\"X\",AK525=\"X\"),1,0)","v":0},null,{"$f":"IF(AND('Step 2 - Ornamental'!$AA$18=\"X\",AM525=\"X\"),1,0)","v":0},"X",{"$f":"IF(AND('Step 2 - Ornamental'!$AB$18=\"X\",AO525=\"X\"),1,0)","v":0},"X",{"$f":"IF(AND('Step 2 - Ornamental'!$AC$18=\"X\",AQ525=\"X\"),1,0)","v":0},null,{"$f":"IF(AND('Step 2 - Ornamental'!$AD$18=\"X\",AS525=\"X\"),1,0)","v":0},null,{"$f":"IF(AND('Step 2 - Ornamental'!$AE$18=\"X\",AU525=\"X\"),1,0)","v":0},null,{"$f":"IF(AND('Step 2 - Ornamental'!$AA$17=\"X\",AW525=\"X\"),1,0)","v":0},"X",{"$f":"IF(AND('Step 2 - Ornamental'!$AB$17=\"X\",AY525=\"X\"),1,0)","v":0},null,{"$f":"IF(AND('Step 2 - Ornamental'!$AC$17=\"X\",BA525=\"X\"),1,0)","v":0},null,{"$f":"IF(AND('Step 2 - Ornamental'!$AA$22=\"X\",BC525=\"X\"),1,0)","v":0},null,{"$f":"IF(AND('Step 2 - Ornamental'!$AB$22=\"X\",BE525=\"X\"),1,0)","v":0},"X",{"$f":"IF(AND('Step 2 - Ornamental'!$AC$22=\"X\",BG525=\"X\"),1,0)","v":0},"X",{"$f":"IF(AND('Step 2 - Ornamental'!$AD$22=\"X\",BI525=\"X\"),1,0)","v":0},"X"]
[" ",null," "]
["Bulbs",2]
[null,{"$f":"SUM((N528+P528+R528+T528)*(V528+X528+Z528+AB528)*(AD528+AF528+AH528+AJ528)*(AL528+AN528+AP528+AR528+AT528)*(AV528+AX528+AZ528)*(BB528+BD528+BF528+BH528))+1","v":1},"AL AT","Allium atropurpureum","Ornamental Onion","2500 per 1000 sf","Plant in drifts in minimum groups of 20, purple flowers May - June","X",null,null,null,null,null,{"$f":"IF(O528=\"X\",1,0)","v":1},"X",{"$f":"IF(AND('Step 2 - Ornamental'!$AA$21=\"X\",Q528=\"X\"),1,0)","v":0},null,{"$f":"IF(AND('Step 2 - Ornamental'!$AB$21=\"X\",S528=\"X\"),1,0)","v":0},null,{"$f":"IF(AND('Step 2 - Ornamental'!$AC$21=\"X\",U528=\"X\"),1,0)","v":0},null,{"$f":"IF(AND('Step 2 - Ornamental'!$AA$19=\"X\",W528=\"X\"),1,0)","v":0},"X",{"$f":"IF(AND('Step 2 - Ornamental'!$AA$19=\"X\",Y528=\"X\"),1,0)","v":0},null,{"$f":"IF(AND('Step 2 - Ornamental'!$AB$19=\"X\",AA528=\"X\"),1,0)","v":0},null,{"$f":"IF(AND('Step 2 - Ornamental'!$AC$19=\"X\",AC528=\"X\"),1,0)","v":0},null,{"$f":"IF(AND('Step 2 - Ornamental'!$AA$20=\"X\",AE528=\"X\"),1,0)","v":0},"X",{"$f":"IF(AND('Step 2 - Ornamental'!$AA$20=\"X\",AG528=\"X\"),1,0)","v":0},null,{"$f":"IF(AND('Step 2 - Ornamental'!$AB$20=\"X\",AI528=\"X\"),1,0)","v":0},null,{"$f":"IF(AND('Step 2 - Ornamental'!$AC$20=\"X\",AK528=\"X\"),1,0)","v":0},null,{"$f":"IF(AND('Step 2 - Ornamental'!$AA$18=\"X\",AM528=\"X\"),1,0)","v":0},"X",{"$f":"IF(AND('Step 2 - Ornamental'!$AB$18=\"X\",AO528=\"X\"),1,0)","v":0},"X",{"$f":"IF(AND('Step 2 - Ornamental'!$AC$18=\"X\",AQ528=\"X\"),1,0)","v":0},null,{"$f":"IF(AND('Step 2 - Ornamental'!$AD$18=\"X\",AS528=\"X\"),1,0)","v":0},null,{"$f":"IF(AND('Step 2 - Ornamental'!$AE$18=\"X\",AU528=\"X\"),1,0)","v":0},null,{"$f":"IF(AND('Step 2 - Ornamental'!$AA$17=\"X\",AW528=\"X\"),1,0)","v":0},"X",{"$f":"IF(AND('Step 2 - Ornamental'!$AB$17=\"X\",AY528=\"X\"),1,0)","v":0},null,{"$f":"IF(AND('Step 2 - Ornamental'!$AC$17=\"X\",BA528=\"X\"),1,0)","v":0},null,{"$f":"IF(AND('Step 2 - Ornamental'!$AA$22=\"X\",BC528=\"X\"),1,0)","v":0},null,{"$f":"IF(AND('Step 2 - Ornamental'!$AB$22=\"X\",BE528=\"X\"),1,0)","v":0},null,{"$f":"IF(AND('Step 2 - Ornamental'!$AC$22=\"X\",BG528=\"X\"),1,0)","v":0},"X",{"$f":"IF(AND('Step 2 - Ornamental'!$AD$22=\"X\",BI528=\"X\"),1,0)","v":0},"X",null,null,null,null,"dark wine / 1.5'-2.5'"]
[null,1,"AL CH","Allium christophii","Stars of Persia","2500 per 1000 sf","plant in drifts in minimum groups of 20, large pale lavender blooms in May, ","X",null,null,"X",null,null,0,null,{"$f":"IF(AND('Step 2 - Ornamental'!$AA$21=\"X\",Q529=\"X\"),1,0)","v":0},"X",{"$f":"IF(AND('Step 2 - Ornamental'!$AB$21=\"X\",S529=\"X\"),1,0)","v":0},"X",{"$f":"IF(AND('Step 2 - Ornamental'!$AC$21=\"X\",U529=\"X\"),1,0)","v":0},"X",{"$f":"IF(AND('Step 2 - Ornamental'!$AA$19=\"X\",W529=\"X\"),1,0)","v":0},"X",{"$f":"IF(AND('Step 2 - Ornamental'!$AA$19=\"X\",Y529=\"X\"),1,0)","v":0},null,{"$f":"IF(AND('Step 2 - Ornamental'!$AB$19=\"X\",AA529=\"X\"),1,0)","v":0},null,{"$f":"IF(AND('Step 2 - Ornamental'!$AC$19=\"X\",AC529=\"X\"),1,0)","v":0},null,{"$f":"IF(AND('Step 2 - Ornamental'!$AA$20=\"X\",AE529=\"X\"),1,0)","v":0},"X",{"$f":"IF(AND('Step 2 - Ornamental'!$AA$20=\"X\",AG529=\"X\"),1,0)","v":0},null,{"$f":"IF(AND('Step 2 - Ornamental'!$AB$20=\"X\",AI529=\"X\"),1,0)","v":0},null,{"$f":"IF(AND('Step 2 - Ornamental'!$AC$20=\"X\",AK529=\"X\"),1,0)","v":0},null,{"$f":"IF(AND('Step 2 - Ornamental'!$AA$18=\"X\",AM529=\"X\"),1,0)","v":0},"X",{"$f":"IF(AND('Step 2 - Ornamental'!$AB$18=\"X\",AO529=\"X\"),1,0)","v":0},"X",{"$f":"IF(AND('Step 2 - Ornamental'!$AC$18=\"X\",AQ529=\"X\"),1,0)","v":0},null,{"$f":"IF(AND('Step 2 - Ornamental'!$AD$18=\"X\",AS529=\"X\"),1,0)","v":0},null,{"$f":"IF(AND('Step 2 - Ornamental'!$AE$18=\"X\",AU529=\"X\"),1,0)","v":0},null,{"$f":"IF(AND('Step 2 - Ornamental'!$AA$17=\"X\",AW529=\"X\"),1,0)","v":0},"X",{"$f":"IF(AND('Step 2 - Ornamental'!$AB$17=\"X\",AY529=\"X\"),1,0)","v":0},null,{"$f":"IF(AND('Step 2 - Ornamental'!$AC$17=\"X\",BA529=\"X\"),1,0)","v":0},null,{"$f":"IF(AND('Step 2 - Ornamental'!$AA$22=\"X\",BC529=\"X\"),1,0)","v":0},null,{"$f":"IF(AND('Step 2 - Ornamental'!$AB$22=\"X\",BE529=\"X\"),1,0)","v":0},null,{"$f":"IF(AND('Step 2 - Ornamental'!$AC$22=\"X\",BG529=\"X\"),1,0)","v":0},"X",{"$f":"IF(AND('Step 2 - Ornamental'!$AD$22=\"X\",BI529=\"X\"),1,0)","v":0},"X",null,null,null,null,"Lavender / 1.0'-2.0'"]
[null,1,"AL MY","Allium moly","Golden Garlic","2500 per 1000 sf","plant in drifts in minimum groups of 20, will naturalize, star shaped yellow flowers 18\" tall, ","X",null,null,"X",null,null,0,null,{"$f":"IF(AND('Step 2 - Ornamental'!$AA$21=\"X\",Q530=\"X\"),1,0)","v":0},"X",{"$f":"IF(AND('Step 2 - Ornamental'!$AB$21=\"X\",S530=\"X\"),1,0)","v":0},null,{"$f":"IF(AND('Step 2 - Ornamental'!$AC$21=\"X\",U530=\"X\"),1,0)","v":0},null,{"$f":"IF(AND('Step 2 - Ornamental'!$AA$19=\"X\",W530=\"X\"),1,0)","v":0},"X",{"$f":"IF(AND('Step 2 - Ornamental'!$AA$19=\"X\",Y530=\"X\"),1,0)","v":0},null,{"$f":"IF(AND('Step 2 - Ornamental'!$AB$19=\"X\",AA530=\"X\"),1,0)","v":0},null,{"$f":"IF(AND('Step 2 - Ornamental'!$AC$19=\"X\",AC530=\"X\"),1,0)","v":0},null,{"$f":"IF(AND('Step 2 - Ornamental'!$AA$20=\"X\",AE530=\"X\"),1,0)","v":0},"X",{"$f":"IF(AND('Step 2 - Ornamental'!$AA$20=\"X\",AG530=\"X\"),1,0)","v":0},null,{"$f":"IF(AND('Step 2 - Ornamental'!$AB$20=\"X\",AI530=\"X\"),1,0)","v":0},null,{"$f":"IF(AND('Step 2 - Ornamental'!$AC$20=\"X\",AK530=\"X\"),1,0)","v":0},null,{"$f":"IF(AND('Step 2 - Ornamental'!$AA$18=\"X\",AM530=\"X\"),1,0)","v":0},null,{"$f":"IF(AND('Step 2 - Ornamental'!$AB$18=\"X\",AO530=\"X\"),1,0)","v":0},"X",{"$f":"IF(AND('Step 2 - Ornamental'!$AC$18=\"X\",AQ530=\"X\"),1,0)","v":0},null,{"$f":"IF(AND('Step 2 - Ornamental'!$AD$18=\"X\",AS530=\"X\"),1,0)","v":0},null,{"$f":"IF(AND('Step 2 - Ornamental'!$AE$18=\"X\",AU530=\"X\"),1,0)","v":0},null,{"$f":"IF(AND('Step 2 - Ornamental'!$AA$17=\"X\",AW530=\"X\"),1,0)","v":0},"X",{"$f":"IF(AND('Step 2 - Ornamental'!$AB$17=\"X\",AY530=\"X\"),1,0)","v":0},"X",{"$f":"IF(AND('Step 2 - Ornamental'!$AC$17=\"X\",BA530=\"X\"),1,0)","v":0},null,{"$f":"IF(AND('Step 2 - Ornamental'!$AA$22=\"X\",BC530=\"X\"),1,0)","v":0},"X",{"$f":"IF(AND('Step 2 - Ornamental'!$AB$22=\"X\",BE530=\"X\"),1,0)","v":0},"X",{"$f":"IF(AND('Step 2 - Ornamental'!$AC$22=\"X\",BG530=\"X\"),1,0)","v":0},"X",{"$f":"IF(AND('Step 2 - Ornamental'!$AD$22=\"X\",BI530=\"X\"),1,0)","v":0},"X",null,null,null,null,"yellow / 0.75'-1.5'"]
[" ",1,"AL PU","Allium carinatum subsp. Pulchellum  'Album'","White Keeled Garlic","2500 per 1000 sf","plant in drifts in minimum groups of 20","X",null,null,null,null,null,0,null,{"$f":"IF(AND('Step 2 - Ornamental'!$AA$21=\"X\",Q531=\"X\"),1,0)","v":0},"X",{"$f":"IF(AND('Step 2 - Ornamental'!$AB$21=\"X\",S531=\"X\"),1,0)","v":0},"X",{"$f":"IF(AND('Step 2 - Ornamental'!$AC$21=\"X\",U531=\"X\"),1,0)","v":0},"X",{"$f":"IF(AND('Step 2 - Ornamental'!$AA$19=\"X\",W531=\"X\"),1,0)","v":0},"X",{"$f":"IF(AND('Step 2 - Ornamental'!$AA$19=\"X\",Y531=\"X\"),1,0)","v":0},null,{"$f":"IF(AND('Step 2 - Ornamental'!$AB$19=\"X\",AA531=\"X\"),1,0)","v":0},null,{"$f":"IF(AND('Step 2 - Ornamental'!$AC$19=\"X\",AC531=\"X\"),1,0)","v":0},null,{"$f":"IF(AND('Step 2 - Ornamental'!$AA$20=\"X\",AE531=\"X\"),1,0)","v":0},"X",{"$f":"IF(AND('Step 2 - Ornamental'!$AA$20=\"X\",AG531=\"X\"),1,0)","v":0},null,{"$f":"IF(AND('Step 2 - Ornamental'!$AB$20=\"X\",AI531=\"X\"),1,0)","v":0},null,{"$f":"IF(AND('Step 2 - Ornamental'!$AC$20=\"X\",AK531=\"X\"),1,0)","v":0},null,{"$f":"IF(AND('Step 2 - Ornamental'!$AA$18=\"X\",AM531=\"X\"),1,0)","v":0},null,{"$f":"IF(AND('Step 2 - Ornamental'!$AB$18=\"X\",AO531=\"X\"),1,0)","v":0},"X",{"$f":"IF(AND('Step 2 - Ornamental'!$AC$18=\"X\",AQ531=\"X\"),1,0)","v":0},null,{"$f":"IF(AND('Step 2 - Ornamental'!$AD$18=\"X\",AS531=\"X\"),1,0)","v":0},null,{"$f":"IF(AND('Step 2 - Ornamental'!$AE$18=\"X\",AU531=\"X\"),1,0)","v":0},null,{"$f":"IF(AND('Step 2 - Ornamental'!$AA$17=\"X\",AW531=\"X\"),1,0)","v":0},"X",{"$f":"IF(AND('Step 2 - Ornamental'!$AB$17=\"X\",AY531=\"X\"),1,0)","v":0},null,{"$f":"IF(AND('Step 2 - Ornamental'!$AC$17=\"X\",BA531=\"X\"),1,0)","v":0},null,{"$f":"IF(AND('Step 2 - Ornamental'!$AA$22=\"X\",BC531=\"X\"),1,0)","v":0},null,{"$f":"IF(AND('Step 2 - Ornamental'!$AB$22=\"X\",BE531=\"X\"),1,0)","v":0},null,{"$f":"IF(AND('Step 2 - Ornamental'!$AC$22=\"X\",BG531=\"X\"),1,0)","v":0},"X",{"$f":"IF(AND('Step 2 - Ornamental'!$AD$22=\"X\",BI531=\"X\"),1,0)","v":0},"X",null,null,null,null,null,"White / 1.5'-2.0'"]
[null,1,"AL SP","Allium sphaerocephalon","Round-headed Leek","2500 per 1000 sf","plant in drifts in minimum groups of 20, round rose flowers in June, will naturalize, ","X",null,null,"X",null,null,0,null,{"$f":"IF(AND('Step 2 - Ornamental'!$AA$21=\"X\",Q532=\"X\"),1,0)","v":0},null,{"$f":"IF(AND('Step 2 - Ornamental'!$AB$21=\"X\",S532=\"X\"),1,0)","v":0},"X",{"$f":"IF(AND('Step 2 - Ornamental'!$AC$21=\"X\",U532=\"X\"),1,0)","v":0},null,{"$f":"IF(AND('Step 2 - Ornamental'!$AA$19=\"X\",W532=\"X\"),1,0)","v":0},"X",{"$f":"IF(AND('Step 2 - Ornamental'!$AA$19=\"X\",Y532=\"X\"),1,0)","v":0},null,{"$f":"IF(AND('Step 2 - Ornamental'!$AB$19=\"X\",AA532=\"X\"),1,0)","v":0},null,{"$f":"IF(AND('Step 2 - Ornamental'!$AC$19=\"X\",AC532=\"X\"),1,0)","v":0},null,{"$f":"IF(AND('Step 2 - Ornamental'!$AA$20=\"X\",AE532=\"X\"),1,0)","v":0},"X",{"$f":"IF(AND('Step 2 - Ornamental'!$AA$20=\"X\",AG532=\"X\"),1,0)","v":0},null,{"$f":"IF(AND('Step 2 - Ornamental'!$AB$20=\"X\",AI532=\"X\"),1,0)","v":0},null,{"$f":"IF(AND('Step 2 - Ornamental'!$AC$20=\"X\",AK532=\"X\"),1,0)","v":0},null,{"$f":"IF(AND('Step 2 - Ornamental'!$AA$18=\"X\",AM532=\"X\"),1,0)","v":0},"X",{"$f":"IF(AND('Step 2 - Ornamental'!$AB$18=\"X\",AO532=\"X\"),1,0)","v":0},"X",{"$f":"IF(AND('Step 2 - Ornamental'!$AC$18=\"X\",AQ532=\"X\"),1,0)","v":0},null,{"$f":"IF(AND('Step 2 - Ornamental'!$AD$18=\"X\",AS532=\"X\"),1,0)","v":0},null,{"$f":"IF(AND('Step 2 - Ornamental'!$AE$18=\"X\",AU532=\"X\"),1,0)","v":0},null,{"$f":"IF(AND('Step 2 - Ornamental'!$AA$17=\"X\",AW532=\"X\"),1,0)","v":0},"X",{"$f":"IF(AND('Step 2 - Ornamental'!$AB$17=\"X\",AY532=\"X\"),1,0)","v":0},null,{"$f":"IF(AND('Step 2 - Ornamental'!$AC$17=\"X\",BA532=\"X\"),1,0)","v":0},null,{"$f":"IF(AND('Step 2 - Ornamental'!$AA$22=\"X\",BC532=\"X\"),1,0)","v":0},null,{"$f":"IF(AND('Step 2 - Ornamental'!$AB$22=\"X\",BE532=\"X\"),1,0)","v":0},null,{"$f":"IF(AND('Step 2 - Ornamental'!$AC$22=\"X\",BG532=\"X\"),1,0)","v":0},"X",{"$f":"IF(AND('Step 2 - Ornamental'!$AD$22=\"X\",BI532=\"X\"),1,0)","v":0},"X",null,null,null,null,null,"Rose Purple"]
[null,1,"CH FO","Chionodoxa forbesii","Glory of the Snow","4500 per 1000 sf","plant in drifts in minimum groups of 80, combine with daffodils, blue ","X",null,null,"X",null,null,0,null,{"$f":"IF(AND('Step 2 - Ornamental'!$AA$21=\"X\",Q533=\"X\"),1,0)","v":0},"X",{"$f":"IF(AND('Step 2 - Ornamental'!$AB$21=\"X\",S533=\"X\"),1,0)","v":0},"X",{"$f":"IF(AND('Step 2 - Ornamental'!$AC$21=\"X\",U533=\"X\"),1,0)","v":0},"X",{"$f":"IF(AND('Step 2 - Ornamental'!$AA$19=\"X\",W533=\"X\"),1,0)","v":0},"X",{"$f":"IF(AND('Step 2 - Ornamental'!$AA$19=\"X\",Y533=\"X\"),1,0)","v":0},null,{"$f":"IF(AND('Step 2 - Ornamental'!$AB$19=\"X\",AA533=\"X\"),1,0)","v":0},null,{"$f":"IF(AND('Step 2 - Ornamental'!$AC$19=\"X\",AC533=\"X\"),1,0)","v":0},null,{"$f":"IF(AND('Step 2 - Ornamental'!$AA$20=\"X\",AE533=\"X\"),1,0)","v":0},"X",{"$f":"IF(AND('Step 2 - Ornamental'!$AA$20=\"X\",AG533=\"X\"),1,0)","v":0},null,{"$f":"IF(AND('Step 2 - Ornamental'!$AB$20=\"X\",AI533=\"X\"),1,0)","v":0},null,{"$f":"IF(AND('Step 2 - Ornamental'!$AC$20=\"X\",AK533=\"X\"),1,0)","v":0},null,{"$f":"IF(AND('Step 2 - Ornamental'!$AA$18=\"X\",AM533=\"X\"),1,0)","v":0},null,{"$f":"IF(AND('Step 2 - Ornamental'!$AB$18=\"X\",AO533=\"X\"),1,0)","v":0},"X",{"$f":"IF(AND('Step 2 - Ornamental'!$AC$18=\"X\",AQ533=\"X\"),1,0)","v":0},null,{"$f":"IF(AND('Step 2 - Ornamental'!$AD$18=\"X\",AS533=\"X\"),1,0)","v":0},null,{"$f":"IF(AND('Step 2 - Ornamental'!$AE$18=\"X\",AU533=\"X\"),1,0)","v":0},null,{"$f":"IF(AND('Step 2 - Ornamental'!$AA$17=\"X\",AW533=\"X\"),1,0)","v":0},"X",{"$f":"IF(AND('Step 2 - Ornamental'!$AB$17=\"X\",AY533=\"X\"),1,0)","v":0},"X",{"$f":"IF(AND('Step 2 - Ornamental'!$AC$17=\"X\",BA533=\"X\"),1,0)","v":0},null,{"$f":"IF(AND('Step 2 - Ornamental'!$AA$22=\"X\",BC533=\"X\"),1,0)","v":0},null,{"$f":"IF(AND('Step 2 - Ornamental'!$AB$22=\"X\",BE533=\"X\"),1,0)","v":0},null,{"$f":"IF(AND('Step 2 - Ornamental'!$AC$22=\"X\",BG533=\"X\"),1,0)","v":0},"X",{"$f":"IF(AND('Step 2 - Ornamental'!$AD$22=\"X\",BI533=\"X\"),1,0)","v":0},"X",null,null,"White / 0.5'-0.75'"]
[" ",1,"CR CB","Crocus chrysanthus 'Cream Beauty'","Cream Beauty Crocus","4500 per 1000 sf","plant in drifts in minimum groups of 80","X",null,null,null,null,null,0,null,{"$f":"IF(AND('Step 2 - Ornamental'!$AA$21=\"X\",Q534=\"X\"),1,0)","v":0},"X",{"$f":"IF(AND('Step 2 - Ornamental'!$AB$21=\"X\",S534=\"X\"),1,0)","v":0},"X",{"$f":"IF(AND('Step 2 - Ornamental'!$AC$21=\"X\",U534=\"X\"),1,0)","v":0},null,{"$f":"IF(AND('Step 2 - Ornamental'!$AA$19=\"X\",W534=\"X\"),1,0)","v":0},"X",{"$f":"IF(AND('Step 2 - Ornamental'!$AA$19=\"X\",Y534=\"X\"),1,0)","v":0},null,{"$f":"IF(AND('Step 2 - Ornamental'!$AB$19=\"X\",AA534=\"X\"),1,0)","v":0},null,{"$f":"IF(AND('Step 2 - Ornamental'!$AC$19=\"X\",AC534=\"X\"),1,0)","v":0},null,{"$f":"IF(AND('Step 2 - Ornamental'!$AA$20=\"X\",AE534=\"X\"),1,0)","v":0},"X",{"$f":"IF(AND('Step 2 - Ornamental'!$AA$20=\"X\",AG534=\"X\"),1,0)","v":0},null,{"$f":"IF(AND('Step 2 - Ornamental'!$AB$20=\"X\",AI534=\"X\"),1,0)","v":0},null,{"$f":"IF(AND('Step 2 - Ornamental'!$AC$20=\"X\",AK534=\"X\"),1,0)","v":0},null,{"$f":"IF(AND('Step 2 - Ornamental'!$AA$18=\"X\",AM534=\"X\"),1,0)","v":0},null,{"$f":"IF(AND('Step 2 - Ornamental'!$AB$18=\"X\",AO534=\"X\"),1,0)","v":0},"X",{"$f":"IF(AND('Step 2 - Ornamental'!$AC$18=\"X\",AQ534=\"X\"),1,0)","v":0},null,{"$f":"IF(AND('Step 2 - Ornamental'!$AD$18=\"X\",AS534=\"X\"),1,0)","v":0},null,{"$f":"IF(AND('Step 2 - Ornamental'!$AE$18=\"X\",AU534=\"X\"),1,0)","v":0},null,{"$f":"IF(AND('Step 2 - Ornamental'!$AA$17=\"X\",AW534=\"X\"),1,0)","v":0},"X",{"$f":"IF(AND('Step 2 - Ornamental'!$AB$17=\"X\",AY534=\"X\"),1,0)","v":0},"X",{"$f":"IF(AND('Step 2 - Ornamental'!$AC$17=\"X\",BA534=\"X\"),1,0)","v":0},null,{"$f":"IF(AND('Step 2 - Ornamental'!$AA$22=\"X\",BC534=\"X\"),1,0)","v":0},null,{"$f":"IF(AND('Step 2 - Ornamental'!$AB$22=\"X\",BE534=\"X\"),1,0)","v":0},null,{"$f":"IF(AND('Step 2 - Ornamental'!$AC$22=\"X\",BG534=\"X\"),1,0)","v":0},"X",{"$f":"IF(AND('Step 2 - Ornamental'!$AD$22=\"X\",BI534=\"X\"),1,0)","v":0},"X",null,null,"Cream / 0.25'-0.5'"]
[" ",1,"MU AR","Muscari armeniacum","Grape Hyacinth","500 per 1000 sf","plant in drifts in minimum groups of 40, deep cobalt blue, flowers April-May","X",null,null,"X",null,null,0,null,{"$f":"IF(AND('Step 2 - Ornamental'!$AA$21=\"X\",Q535=\"X\"),1,0)","v":0},"X",{"$f":"IF(AND('Step 2 - Ornamental'!$AB$21=\"X\",S535=\"X\"),1,0)","v":0},"X",{"$f":"IF(AND('Step 2 - Ornamental'!$AC$21=\"X\",U535=\"X\"),1,0)","v":0},"X",{"$f":"IF(AND('Step 2 - Ornamental'!$AA$19=\"X\",W535=\"X\"),1,0)","v":0},"X",{"$f":"IF(AND('Step 2 - Ornamental'!$AA$19=\"X\",Y535=\"X\"),1,0)","v":0},null,{"$f":"IF(AND('Step 2 - Ornamental'!$AB$19=\"X\",AA535=\"X\"),1,0)","v":0},null,{"$f":"IF(AND('Step 2 - Ornamental'!$AC$19=\"X\",AC535=\"X\"),1,0)","v":0},null,{"$f":"IF(AND('Step 2 - Ornamental'!$AA$20=\"X\",AE535=\"X\"),1,0)","v":0},"X",{"$f":"IF(AND('Step 2 - Ornamental'!$AA$20=\"X\",AG535=\"X\"),1,0)","v":0},null,{"$f":"IF(AND('Step 2 - Ornamental'!$AB$20=\"X\",AI535=\"X\"),1,0)","v":0},null,{"$f":"IF(AND('Step 2 - Ornamental'!$AC$20=\"X\",AK535=\"X\"),1,0)","v":0},null,{"$f":"IF(AND('Step 2 - Ornamental'!$AA$18=\"X\",AM535=\"X\"),1,0)","v":0},null,{"$f":"IF(AND('Step 2 - Ornamental'!$AB$18=\"X\",AO535=\"X\"),1,0)","v":0},"X",{"$f":"IF(AND('Step 2 - Ornamental'!$AC$18=\"X\",AQ535=\"X\"),1,0)","v":0},null,{"$f":"IF(AND('Step 2 - Ornamental'!$AD$18=\"X\",AS535=\"X\"),1,0)","v":0},null,{"$f":"IF(AND('Step 2 - Ornamental'!$AE$18=\"X\",AU535=\"X\"),1,0)","v":0},null,{"$f":"IF(AND('Step 2 - Ornamental'!$AA$17=\"X\",AW535=\"X\"),1,0)","v":0},"X",{"$f":"IF(AND('Step 2 - Ornamental'!$AB$17=\"X\",AY535=\"X\"),1,0)","v":0},"X",{"$f":"IF(AND('Step 2 - Ornamental'!$AC$17=\"X\",BA535=\"X\"),1,0)","v":0},null,{"$f":"IF(AND('Step 2 - Ornamental'!$AA$22=\"X\",BC535=\"X\"),1,0)","v":0},null,{"$f":"IF(AND('Step 2 - Ornamental'!$AB$22=\"X\",BE535=\"X\"),1,0)","v":0},null,{"$f":"IF(AND('Step 2 - Ornamental'!$AC$22=\"X\",BG535=\"X\"),1,0)","v":0},"X",{"$f":"IF(AND('Step 2 - Ornamental'!$AD$22=\"X\",BI535=\"X\"),1,0)","v":0},"X",null,null,null,"Blue/0.5'-0.75'"]
[null,1,"NA LD","Narcissus 'Lemon Drops'","Lemon Drops Daffodil","2500 per 1000 sf","plant in drifts in minimum groups of 40, lemon yellow flowers April-May, 12\" tall, ","X",null,null,"X","X",null,0,null,{"$f":"IF(AND('Step 2 - Ornamental'!$AA$21=\"X\",Q536=\"X\"),1,0)","v":0},"X",{"$f":"IF(AND('Step 2 - Ornamental'!$AB$21=\"X\",S536=\"X\"),1,0)","v":0},"X",{"$f":"IF(AND('Step 2 - Ornamental'!$AC$21=\"X\",U536=\"X\"),1,0)","v":0},"X",{"$f":"IF(AND('Step 2 - Ornamental'!$AA$19=\"X\",W536=\"X\"),1,0)","v":0},"X",{"$f":"IF(AND('Step 2 - Ornamental'!$AA$19=\"X\",Y536=\"X\"),1,0)","v":0},null,{"$f":"IF(AND('Step 2 - Ornamental'!$AB$19=\"X\",AA536=\"X\"),1,0)","v":0},null,{"$f":"IF(AND('Step 2 - Ornamental'!$AC$19=\"X\",AC536=\"X\"),1,0)","v":0},null,{"$f":"IF(AND('Step 2 - Ornamental'!$AA$20=\"X\",AE536=\"X\"),1,0)","v":0},"X",{"$f":"IF(AND('Step 2 - Ornamental'!$AA$20=\"X\",AG536=\"X\"),1,0)","v":0},null,{"$f":"IF(AND('Step 2 - Ornamental'!$AB$20=\"X\",AI536=\"X\"),1,0)","v":0},null,{"$f":"IF(AND('Step 2 - Ornamental'!$AC$20=\"X\",AK536=\"X\"),1,0)","v":0},null,{"$f":"IF(AND('Step 2 - Ornamental'!$AA$18=\"X\",AM536=\"X\"),1,0)","v":0},null,{"$f":"IF(AND('Step 2 - Ornamental'!$AB$18=\"X\",AO536=\"X\"),1,0)","v":0},"X",{"$f":"IF(AND('Step 2 - Ornamental'!$AC$18=\"X\",AQ536=\"X\"),1,0)","v":0},null,{"$f":"IF(AND('Step 2 - Ornamental'!$AD$18=\"X\",AS536=\"X\"),1,0)","v":0},null,{"$f":"IF(AND('Step 2 - Ornamental'!$AE$18=\"X\",AU536=\"X\"),1,0)","v":0},null,{"$f":"IF(AND('Step 2 - Ornamental'!$AA$17=\"X\",AW536=\"X\"),1,0)","v":0},"X",{"$f":"IF(AND('Step 2 - Ornamental'!$AB$17=\"X\",AY536=\"X\"),1,0)","v":0},"X",{"$f":"IF(AND('Step 2 - Ornamental'!$AC$17=\"X\",BA536=\"X\"),1,0)","v":0},null,{"$f":"IF(AND('Step 2 - Ornamental'!$AA$22=\"X\",BC536=\"X\"),1,0)","v":0},null,{"$f":"IF(AND('Step 2 - Ornamental'!$AB$22=\"X\",BE536=\"X\"),1,0)","v":0},null,{"$f":"IF(AND('Step 2 - Ornamental'!$AC$22=\"X\",BG536=\"X\"),1,0)","v":0},"X",{"$f":"IF(AND('Step 2 - Ornamental'!$AD$22=\"X\",BI536=\"X\"),1,0)","v":0},"X",null,null,null,"Creamy Yellow / 0.75'-1.0'"]
[null,1,"NA FG","Narcissus 'February Gold'","February Gold Daffodil","2500 per 1000 sf","plant in drifts in minimum groups of 40, bright yellow flowers to 14-16\" tall in March-April","X",null,null,"X","X",null,0,null,{"$f":"IF(AND('Step 2 - Ornamental'!$AA$21=\"X\",Q537=\"X\"),1,0)","v":0},"X",{"$f":"IF(AND('Step 2 - Ornamental'!$AB$21=\"X\",S537=\"X\"),1,0)","v":0},"X",{"$f":"IF(AND('Step 2 - Ornamental'!$AC$21=\"X\",U537=\"X\"),1,0)","v":0},"X",{"$f":"IF(AND('Step 2 - Ornamental'!$AA$19=\"X\",W537=\"X\"),1,0)","v":0},"X",{"$f":"IF(AND('Step 2 - Ornamental'!$AA$19=\"X\",Y537=\"X\"),1,0)","v":0},null,{"$f":"IF(AND('Step 2 - Ornamental'!$AB$19=\"X\",AA537=\"X\"),1,0)","v":0},null,{"$f":"IF(AND('Step 2 - Ornamental'!$AC$19=\"X\",AC537=\"X\"),1,0)","v":0},null,{"$f":"IF(AND('Step 2 - Ornamental'!$AA$20=\"X\",AE537=\"X\"),1,0)","v":0},"X",{"$f":"IF(AND('Step 2 - Ornamental'!$AA$20=\"X\",AG537=\"X\"),1,0)","v":0},null,{"$f":"IF(AND('Step 2 - Ornamental'!$AB$20=\"X\",AI537=\"X\"),1,0)","v":0},null,{"$f":"IF(AND('Step 2 - Ornamental'!$AC$20=\"X\",AK537=\"X\"),1,0)","v":0},null,{"$f":"IF(AND('Step 2 - Ornamental'!$AA$18=\"X\",AM537=\"X\"),1,0)","v":0},null,{"$f":"IF(AND('Step 2 - Ornamental'!$AB$18=\"X\",AO537=\"X\"),1,0)","v":0},"X",{"$f":"IF(AND('Step 2 - Ornamental'!$AC$18=\"X\",AQ537=\"X\"),1,0)","v":0},null,{"$f":"IF(AND('Step 2 - Ornamental'!$AD$18=\"X\",AS537=\"X\"),1,0)","v":0},null,{"$f":"IF(AND('Step 2 - Ornamental'!$AE$18=\"X\",AU537=\"X\"),1,0)","v":0},null,{"$f":"IF(AND('Step 2 - Ornamental'!$AA$17=\"X\",AW537=\"X\"),1,0)","v":0},"X",{"$f":"IF(AND('Step 2 - Ornamental'!$AB$17=\"X\",AY537=\"X\"),1,0)","v":0},"X",{"$f":"IF(AND('Step 2 - Ornamental'!$AC$17=\"X\",BA537=\"X\"),1,0)","v":0},null,{"$f":"IF(AND('Step 2 - Ornamental'!$AA$22=\"X\",BC537=\"X\"),1,0)","v":0},null,{"$f":"IF(AND('Step 2 - Ornamental'!$AB$22=\"X\",BE537=\"X\"),1,0)","v":0},null,{"$f":"IF(AND('Step 2 - Ornamental'!$AC$22=\"X\",BG537=\"X\"),1,0)","v":0},"X",{"$f":"IF(AND('Step 2 - Ornamental'!$AD$22=\"X\",BI537=\"X\"),1,0)","v":0},"X",null,null,"Yellow / 1.0'-1.5'"]
[" ",1,"NA IF","Narcissus 'Ice Follies'","Ice Follies Daffodil","2500 per 1000 sf","plant in drifts in minimum groups of 40, white petals with yellow center, March-April, 18\"","X",null,null,"X","X",null,0,null,{"$f":"IF(AND('Step 2 - Ornamental'!$AA$21=\"X\",Q538=\"X\"),1,0)","v":0},"X",{"$f":"IF(AND('Step 2 - Ornamental'!$AB$21=\"X\",S538=\"X\"),1,0)","v":0},"X",{"$f":"IF(AND('Step 2 - Ornamental'!$AC$21=\"X\",U538=\"X\"),1,0)","v":0},"X",{"$f":"IF(AND('Step 2 - Ornamental'!$AA$19=\"X\",W538=\"X\"),1,0)","v":0},"X",{"$f":"IF(AND('Step 2 - Ornamental'!$AA$19=\"X\",Y538=\"X\"),1,0)","v":0},null,{"$f":"IF(AND('Step 2 - Ornamental'!$AB$19=\"X\",AA538=\"X\"),1,0)","v":0},null,{"$f":"IF(AND('Step 2 - Ornamental'!$AC$19=\"X\",AC538=\"X\"),1,0)","v":0},null,{"$f":"IF(AND('Step 2 - Ornamental'!$AA$20=\"X\",AE538=\"X\"),1,0)","v":0},"X",{"$f":"IF(AND('Step 2 - Ornamental'!$AA$20=\"X\",AG538=\"X\"),1,0)","v":0},null,{"$f":"IF(AND('Step 2 - Ornamental'!$AB$20=\"X\",AI538=\"X\"),1,0)","v":0},null,{"$f":"IF(AND('Step 2 - Ornamental'!$AC$20=\"X\",AK538=\"X\"),1,0)","v":0},null,{"$f":"IF(AND('Step 2 - Ornamental'!$AA$18=\"X\",AM538=\"X\"),1,0)","v":0},null,{"$f":"IF(AND('Step 2 - Ornamental'!$AB$18=\"X\",AO538=\"X\"),1,0)","v":0},"X",{"$f":"IF(AND('Step 2 - Ornamental'!$AC$18=\"X\",AQ538=\"X\"),1,0)","v":0},null,{"$f":"IF(AND('Step 2 - Ornamental'!$AD$18=\"X\",AS538=\"X\"),1,0)","v":0},null,{"$f":"IF(AND('Step 2 - Ornamental'!$AE$18=\"X\",AU538=\"X\"),1,0)","v":0},null,{"$f":"IF(AND('Step 2 - Ornamental'!$AA$17=\"X\",AW538=\"X\"),1,0)","v":0},"X",{"$f":"IF(AND('Step 2 - Ornamental'!$AB$17=\"X\",AY538=\"X\"),1,0)","v":0},"X",{"$f":"IF(AND('Step 2 - Ornamental'!$AC$17=\"X\",BA538=\"X\"),1,0)","v":0},null,{"$f":"IF(AND('Step 2 - Ornamental'!$AA$22=\"X\",BC538=\"X\"),1,0)","v":0},null,{"$f":"IF(AND('Step 2 - Ornamental'!$AB$22=\"X\",BE538=\"X\"),1,0)","v":0},null,{"$f":"IF(AND('Step 2 - Ornamental'!$AC$22=\"X\",BG538=\"X\"),1,0)","v":0},"X",{"$f":"IF(AND('Step 2 - Ornamental'!$AD$22=\"X\",BI538=\"X\"),1,0)","v":0},"X",null,null,"White Yellow cntr / 1.0'-1.5'"]
[" ",1,"NA JF","Narcissus 'Jetfire'","Jet Fire Daffodil","2500 per 1000 sf","plant in drifts in minimum groups of 40, yellow with orange-red trumpet flowers in April, 12\" tall","X",null,null,"X","X",null,0,null,{"$f":"IF(AND('Step 2 - Ornamental'!$AA$21=\"X\",Q539=\"X\"),1,0)","v":0},"X",{"$f":"IF(AND('Step 2 - Ornamental'!$AB$21=\"X\",S539=\"X\"),1,0)","v":0},"X",{"$f":"IF(AND('Step 2 - Ornamental'!$AC$21=\"X\",U539=\"X\"),1,0)","v":0},"X",{"$f":"IF(AND('Step 2 - Ornamental'!$AA$19=\"X\",W539=\"X\"),1,0)","v":0},"X",{"$f":"IF(AND('Step 2 - Ornamental'!$AA$19=\"X\",Y539=\"X\"),1,0)","v":0},null,{"$f":"IF(AND('Step 2 - Ornamental'!$AB$19=\"X\",AA539=\"X\"),1,0)","v":0},null,{"$f":"IF(AND('Step 2 - Ornamental'!$AC$19=\"X\",AC539=\"X\"),1,0)","v":0},null,{"$f":"IF(AND('Step 2 - Ornamental'!$AA$20=\"X\",AE539=\"X\"),1,0)","v":0},"X",{"$f":"IF(AND('Step 2 - Ornamental'!$AA$20=\"X\",AG539=\"X\"),1,0)","v":0},null,{"$f":"IF(AND('Step 2 - Ornamental'!$AB$20=\"X\",AI539=\"X\"),1,0)","v":0},null,{"$f":"IF(AND('Step 2 - Ornamental'!$AC$20=\"X\",AK539=\"X\"),1,0)","v":0},null,{"$f":"IF(AND('Step 2 - Ornamental'!$AA$18=\"X\",AM539=\"X\"),1,0)","v":0},null,{"$f":"IF(AND('Step 2 - Ornamental'!$AB$18=\"X\",AO539=\"X\"),1,0)","v":0},"X",{"$f":"IF(AND('Step 2 - Ornamental'!$AC$18=\"X\",AQ539=\"X\"),1,0)","v":0},null,{"$f":"IF(AND('Step 2 - Ornamental'!$AD$18=\"X\",AS539=\"X\"),1,0)","v":0},null,{"$f":"IF(AND('Step 2 - Ornamental'!$AE$18=\"X\",AU539=\"X\"),1,0)","v":0},null,{"$f":"IF(AND('Step 2 - Ornamental'!$AA$17=\"X\",AW539=\"X\"),1,0)","v":0},"X",{"$f":"IF(AND('Step 2 - Ornamental'!$AB$17=\"X\",AY539=\"X\"),1,0)","v":0},"X",{"$f":"IF(AND('Step 2 - Ornamental'!$AC$17=\"X\",BA539=\"X\"),1,0)","v":0},null,{"$f":"IF(AND('Step 2 - Ornamental'!$AA$22=\"X\",BC539=\"X\"),1,0)","v":0},null,{"$f":"IF(AND('Step 2 - Ornamental'!$AB$22=\"X\",BE539=\"X\"),1,0)","v":0},null,{"$f":"IF(AND('Step 2 - Ornamental'!$AC$22=\"X\",BG539=\"X\"),1,0)","v":0},"X",{"$f":"IF(AND('Step 2 - Ornamental'!$AD$22=\"X\",BI539=\"X\"),1,0)","v":0},"X",null,null,null,"yellow orange trmp / 0.75'-1.0'"]
[null,1,"NA MN","Narcissus 'Minnow'","Minnow Tazetta Daffodil","4500 per 1000 sf","plant in drifts in minimum groups of 40, miniature, white petals with yellow center, April, 8\" tall, will naturalize","X",null,null,"X","X",null,0,null,{"$f":"IF(AND('Step 2 - Ornamental'!$AA$21=\"X\",Q540=\"X\"),1,0)","v":0},"X",{"$f":"IF(AND('Step 2 - Ornamental'!$AB$21=\"X\",S540=\"X\"),1,0)","v":0},"X",{"$f":"IF(AND('Step 2 - Ornamental'!$AC$21=\"X\",U540=\"X\"),1,0)","v":0},"X",{"$f":"IF(AND('Step 2 - Ornamental'!$AA$19=\"X\",W540=\"X\"),1,0)","v":0},"X",{"$f":"IF(AND('Step 2 - Ornamental'!$AA$19=\"X\",Y540=\"X\"),1,0)","v":0},null,{"$f":"IF(AND('Step 2 - Ornamental'!$AB$19=\"X\",AA540=\"X\"),1,0)","v":0},null,{"$f":"IF(AND('Step 2 - Ornamental'!$AC$19=\"X\",AC540=\"X\"),1,0)","v":0},null,{"$f":"IF(AND('Step 2 - Ornamental'!$AA$20=\"X\",AE540=\"X\"),1,0)","v":0},"X",{"$f":"IF(AND('Step 2 - Ornamental'!$AA$20=\"X\",AG540=\"X\"),1,0)","v":0},null,{"$f":"IF(AND('Step 2 - Ornamental'!$AB$20=\"X\",AI540=\"X\"),1,0)","v":0},null,{"$f":"IF(AND('Step 2 - Ornamental'!$AC$20=\"X\",AK540=\"X\"),1,0)","v":0},null,{"$f":"IF(AND('Step 2 - Ornamental'!$AA$18=\"X\",AM540=\"X\"),1,0)","v":0},null,{"$f":"IF(AND('Step 2 - Ornamental'!$AB$18=\"X\",AO540=\"X\"),1,0)","v":0},"X",{"$f":"IF(AND('Step 2 - Ornamental'!$AC$18=\"X\",AQ540=\"X\"),1,0)","v":0},null,{"$f":"IF(AND('Step 2 - Ornamental'!$AD$18=\"X\",AS540=\"X\"),1,0)","v":0},null,{"$f":"IF(AND('Step 2 - Ornamental'!$AE$18=\"X\",AU540=\"X\"),1,0)","v":0},null,{"$f":"IF(AND('Step 2 - Ornamental'!$AA$17=\"X\",AW540=\"X\"),1,0)","v":0},"X",{"$f":"IF(AND('Step 2 - Ornamental'!$AB$17=\"X\",AY540=\"X\"),1,0)","v":0},"X",{"$f":"IF(AND('Step 2 - Ornamental'!$AC$17=\"X\",BA540=\"X\"),1,0)","v":0},null,{"$f":"IF(AND('Step 2 - Ornamental'!$AA$22=\"X\",BC540=\"X\"),1,0)","v":0},null,{"$f":"IF(AND('Step 2 - Ornamental'!$AB$22=\"X\",BE540=\"X\"),1,0)","v":0},null,{"$f":"IF(AND('Step 2 - Ornamental'!$AC$22=\"X\",BG540=\"X\"),1,0)","v":0},"X",{"$f":"IF(AND('Step 2 - Ornamental'!$AD$22=\"X\",BI540=\"X\"),1,0)","v":0},"X",null,null,null,"Cream w Yel cntr / 0.5'-0.75'"]
[" ",1,"NA TH","Narcissus 'Thalia'","Triandrus Daffodil","2500 per 1000 sf","plant in drifts in minimum groups of 40, white flowers in March-April, 18\" tall, fragrant","X",null,null,"X","X",null,0,null,{"$f":"IF(AND('Step 2 - Ornamental'!$AA$21=\"X\",Q541=\"X\"),1,0)","v":0},"X",{"$f":"IF(AND('Step 2 - Ornamental'!$AB$21=\"X\",S541=\"X\"),1,0)","v":0},"X",{"$f":"IF(AND('Step 2 - Ornamental'!$AC$21=\"X\",U541=\"X\"),1,0)","v":0},"X",{"$f":"IF(AND('Step 2 - Ornamental'!$AA$19=\"X\",W541=\"X\"),1,0)","v":0},"X",{"$f":"IF(AND('Step 2 - Ornamental'!$AA$19=\"X\",Y541=\"X\"),1,0)","v":0},null,{"$f":"IF(AND('Step 2 - Ornamental'!$AB$19=\"X\",AA541=\"X\"),1,0)","v":0},null,{"$f":"IF(AND('Step 2 - Ornamental'!$AC$19=\"X\",AC541=\"X\"),1,0)","v":0},null,{"$f":"IF(AND('Step 2 - Ornamental'!$AA$20=\"X\",AE541=\"X\"),1,0)","v":0},"X",{"$f":"IF(AND('Step 2 - Ornamental'!$AA$20=\"X\",AG541=\"X\"),1,0)","v":0},null,{"$f":"IF(AND('Step 2 - Ornamental'!$AB$20=\"X\",AI541=\"X\"),1,0)","v":0},null,{"$f":"IF(AND('Step 2 - Ornamental'!$AC$20=\"X\",AK541=\"X\"),1,0)","v":0},null,{"$f":"IF(AND('Step 2 - Ornamental'!$AA$18=\"X\",AM541=\"X\"),1,0)","v":0},null,{"$f":"IF(AND('Step 2 - Ornamental'!$AB$18=\"X\",AO541=\"X\"),1,0)","v":0},"X",{"$f":"IF(AND('Step 2 - Ornamental'!$AC$18=\"X\",AQ541=\"X\"),1,0)","v":0},null,{"$f":"IF(AND('Step 2 - Ornamental'!$AD$18=\"X\",AS541=\"X\"),1,0)","v":0},null,{"$f":"IF(AND('Step 2 - Ornamental'!$AE$18=\"X\",AU541=\"X\"),1,0)","v":0},null,{"$f":"IF(AND('Step 2 - Ornamental'!$AA$17=\"X\",AW541=\"X\"),1,0)","v":0},"X",{"$f":"IF(AND('Step 2 - Ornamental'!$AB$17=\"X\",AY541=\"X\"),1,0)","v":0},"X",{"$f":"IF(AND('Step 2 - Ornamental'!$AC$17=\"X\",BA541=\"X\"),1,0)","v":0},null,{"$f":"IF(AND('Step 2 - Ornamental'!$AA$22=\"X\",BC541=\"X\"),1,0)","v":0},null,{"$f":"IF(AND('Step 2 - Ornamental'!$AB$22=\"X\",BE541=\"X\"),1,0)","v":0},null,{"$f":"IF(AND('Step 2 - Ornamental'!$AC$22=\"X\",BG541=\"X\"),1,0)","v":0},"X",{"$f":"IF(AND('Step 2 - Ornamental'!$AD$22=\"X\",BI541=\"X\"),1,0)","v":0},"X",null,null,"White / 1.0'-1.5'"]
[null,1,"SC SI","Scilla siberica 'Spring Beauty'","Siberian Squill","4500 per 1000 sf","plant in drifts in minimum groups of 40, blue flowers, will naturalize","X",null,null,"X",null,null,0,null,{"$f":"IF(AND('Step 2 - Ornamental'!$AA$21=\"X\",Q542=\"X\"),1,0)","v":0},"X",{"$f":"IF(AND('Step 2 - Ornamental'!$AB$21=\"X\",S542=\"X\"),1,0)","v":0},"X",{"$f":"IF(AND('Step 2 - Ornamental'!$AC$21=\"X\",U542=\"X\"),1,0)","v":0},"X",{"$f":"IF(AND('Step 2 - Ornamental'!$AA$19=\"X\",W542=\"X\"),1,0)","v":0},"X",{"$f":"IF(AND('Step 2 - Ornamental'!$AA$19=\"X\",Y542=\"X\"),1,0)","v":0},null,{"$f":"IF(AND('Step 2 - Ornamental'!$AB$19=\"X\",AA542=\"X\"),1,0)","v":0},null,{"$f":"IF(AND('Step 2 - Ornamental'!$AC$19=\"X\",AC542=\"X\"),1,0)","v":0},null,{"$f":"IF(AND('Step 2 - Ornamental'!$AA$20=\"X\",AE542=\"X\"),1,0)","v":0},"X",{"$f":"IF(AND('Step 2 - Ornamental'!$AA$20=\"X\",AG542=\"X\"),1,0)","v":0},null,{"$f":"IF(AND('Step 2 - Ornamental'!$AB$20=\"X\",AI542=\"X\"),1,0)","v":0},null,{"$f":"IF(AND('Step 2 - Ornamental'!$AC$20=\"X\",AK542=\"X\"),1,0)","v":0},null,{"$f":"IF(AND('Step 2 - Ornamental'!$AA$18=\"X\",AM542=\"X\"),1,0)","v":0},null,{"$f":"IF(AND('Step 2 - Ornamental'!$AB$18=\"X\",AO542=\"X\"),1,0)","v":0},"X",{"$f":"IF(AND('Step 2 - Ornamental'!$AC$18=\"X\",AQ542=\"X\"),1,0)","v":0},null,{"$f":"IF(AND('Step 2 - Ornamental'!$AD$18=\"X\",AS542=\"X\"),1,0)","v":0},null,{"$f":"IF(AND('Step 2 - Ornamental'!$AE$18=\"X\",AU542=\"X\"),1,0)","v":0},null,{"$f":"IF(AND('Step 2 - Ornamental'!$AA$17=\"X\",AW542=\"X\"),1,0)","v":0},"X",{"$f":"IF(AND('Step 2 - Ornamental'!$AB$17=\"X\",AY542=\"X\"),1,0)","v":0},"X",{"$f":"IF(AND('Step 2 - Ornamental'!$AC$17=\"X\",BA542=\"X\"),1,0)","v":0},null,{"$f":"IF(AND('Step 2 - Ornamental'!$AA$22=\"X\",BC542=\"X\"),1,0)","v":0},null,{"$f":"IF(AND('Step 2 - Ornamental'!$AB$22=\"X\",BE542=\"X\"),1,0)","v":0},null,{"$f":"IF(AND('Step 2 - Ornamental'!$AC$22=\"X\",BG542=\"X\"),1,0)","v":0},"X",{"$f":"IF(AND('Step 2 - Ornamental'!$AD$22=\"X\",BI542=\"X\"),1,0)","v":0},"X",null,null,null,"Blue / 0.25'-0.5'"]
[null,1,"TU BA","Tulipa batalinii 'Red Gem'","Red Gem Tulip","4500 per 1000 sf","plant in drifts in minimum groups of 80, red flowers, blooming May, will naturalize","X",null,null,null,null,null,0,null,{"$f":"IF(AND('Step 2 - Ornamental'!$AA$21=\"X\",Q543=\"X\"),1,0)","v":0},"X",{"$f":"IF(AND('Step 2 - Ornamental'!$AB$21=\"X\",S543=\"X\"),1,0)","v":0},"X",{"$f":"IF(AND('Step 2 - Ornamental'!$AC$21=\"X\",U543=\"X\"),1,0)","v":0},null,{"$f":"IF(AND('Step 2 - Ornamental'!$AA$19=\"X\",W543=\"X\"),1,0)","v":0},"X",{"$f":"IF(AND('Step 2 - Ornamental'!$AA$19=\"X\",Y543=\"X\"),1,0)","v":0},null,{"$f":"IF(AND('Step 2 - Ornamental'!$AB$19=\"X\",AA543=\"X\"),1,0)","v":0},null,{"$f":"IF(AND('Step 2 - Ornamental'!$AC$19=\"X\",AC543=\"X\"),1,0)","v":0},null,{"$f":"IF(AND('Step 2 - Ornamental'!$AA$20=\"X\",AE543=\"X\"),1,0)","v":0},"X",{"$f":"IF(AND('Step 2 - Ornamental'!$AA$20=\"X\",AG543=\"X\"),1,0)","v":0},null,{"$f":"IF(AND('Step 2 - Ornamental'!$AB$20=\"X\",AI543=\"X\"),1,0)","v":0},null,{"$f":"IF(AND('Step 2 - Ornamental'!$AC$20=\"X\",AK543=\"X\"),1,0)","v":0},null,{"$f":"IF(AND('Step 2 - Ornamental'!$AA$18=\"X\",AM543=\"X\"),1,0)","v":0},null,{"$f":"IF(AND('Step 2 - Ornamental'!$AB$18=\"X\",AO543=\"X\"),1,0)","v":0},"X",{"$f":"IF(AND('Step 2 - Ornamental'!$AC$18=\"X\",AQ543=\"X\"),1,0)","v":0},null,{"$f":"IF(AND('Step 2 - Ornamental'!$AD$18=\"X\",AS543=\"X\"),1,0)","v":0},null,{"$f":"IF(AND('Step 2 - Ornamental'!$AE$18=\"X\",AU543=\"X\"),1,0)","v":0},null,{"$f":"IF(AND('Step 2 - Ornamental'!$AA$17=\"X\",AW543=\"X\"),1,0)","v":0},"X",{"$f":"IF(AND('Step 2 - Ornamental'!$AB$17=\"X\",AY543=\"X\"),1,0)","v":0},null,{"$f":"IF(AND('Step 2 - Ornamental'!$AC$17=\"X\",BA543=\"X\"),1,0)","v":0},null,{"$f":"IF(AND('Step 2 - Ornamental'!$AA$22=\"X\",BC543=\"X\"),1,0)","v":0},null,{"$f":"IF(AND('Step 2 - Ornamental'!$AB$22=\"X\",BE543=\"X\"),1,0)","v":0},null,{"$f":"IF(AND('Step 2 - Ornamental'!$AC$22=\"X\",BG543=\"X\"),1,0)","v":0},"X",{"$f":"IF(AND('Step 2 - Ornamental'!$AD$22=\"X\",BI543=\"X\"),1,0)","v":0},"X",null,null,null,"Red / 0.5'-0.75'"]
[" ",null," "]
["Ferns",2]
[null,{"$f":"SUM((N546+P546+R546+T546)*(V546+X546+Z546+AB546)*(AD546+AF546+AH546+AJ546)*(AL546+AN546+AP546+AR546+AT546)*(AV546+AX546+AZ546)*(BB546+BD546+BF546+BH546))+1","v":1},"AD PE","Adiantum pedatum","Maidenhair Fern","12\" O.C.","12\"-18\" tall, prefers moist acidic soils, delicate fronds on wiry stems",null,"X","X",null,null,null,{"$f":"IF(O546=\"X\",1,0)","v":0},null,{"$f":"IF(AND('Step 2 - Ornamental'!$AA$21=\"X\",Q546=\"X\"),1,0)","v":0},"X",{"$f":"IF(AND('Step 2 - Ornamental'!$AB$21=\"X\",S546=\"X\"),1,0)","v":0},"X",{"$f":"IF(AND('Step 2 - Ornamental'!$AC$21=\"X\",U546=\"X\"),1,0)","v":0},null,{"$f":"IF(AND('Step 2 - Ornamental'!$AA$19=\"X\",W546=\"X\"),1,0)","v":0},null,{"$f":"IF(AND('Step 2 - Ornamental'!$AA$19=\"X\",Y546=\"X\"),1,0)","v":0},"X",{"$f":"IF(AND('Step 2 - Ornamental'!$AB$19=\"X\",AA546=\"X\"),1,0)","v":0},null,{"$f":"IF(AND('Step 2 - Ornamental'!$AC$19=\"X\",AC546=\"X\"),1,0)","v":0},null,{"$f":"IF(AND('Step 2 - Ornamental'!$AA$20=\"X\",AE546=\"X\"),1,0)","v":0},"X",{"$f":"IF(AND('Step 2 - Ornamental'!$AA$20=\"X\",AG546=\"X\"),1,0)","v":0},null,{"$f":"IF(AND('Step 2 - Ornamental'!$AB$20=\"X\",AI546=\"X\"),1,0)","v":0},null,{"$f":"IF(AND('Step 2 - Ornamental'!$AC$20=\"X\",AK546=\"X\"),1,0)","v":0},null,{"$f":"IF(AND('Step 2 - Ornamental'!$AA$18=\"X\",AM546=\"X\"),1,0)","v":0},null,{"$f":"IF(AND('Step 2 - Ornamental'!$AB$18=\"X\",AO546=\"X\"),1,0)","v":0},"X",{"$f":"IF(AND('Step 2 - Ornamental'!$AC$18=\"X\",AQ546=\"X\"),1,0)","v":0},null,{"$f":"IF(AND('Step 2 - Ornamental'!$AD$18=\"X\",AS546=\"X\"),1,0)","v":0},null,{"$f":"IF(AND('Step 2 - Ornamental'!$AE$18=\"X\",AU546=\"X\"),1,0)","v":0},null,{"$f":"IF(AND('Step 2 - Ornamental'!$AA$17=\"X\",AW546=\"X\"),1,0)","v":0},null,{"$f":"IF(AND('Step 2 - Ornamental'!$AB$17=\"X\",AY546=\"X\"),1,0)","v":0},"X",{"$f":"IF(AND('Step 2 - Ornamental'!$AC$17=\"X\",BA546=\"X\"),1,0)","v":0},"X",{"$f":"IF(AND('Step 2 - Ornamental'!$AA$22=\"X\",BC546=\"X\"),1,0)","v":0},null,{"$f":"IF(AND('Step 2 - Ornamental'!$AB$22=\"X\",BE546=\"X\"),1,0)","v":0},null,{"$f":"IF(AND('Step 2 - Ornamental'!$AC$22=\"X\",BG546=\"X\"),1,0)","v":0},"X",{"$f":"IF(AND('Step 2 - Ornamental'!$AD$22=\"X\",BI546=\"X\"),1,0)","v":0},"X","Does Not flower / 1.0'-2.5'"]
[null,1,"AT FF","Athyrium filix-femina","Lady Fern","18\"  O.C.","1'-3' tall, dry soil tolerant fern, somewhat ephemeral",null,"X","X",null,"X",null,0,null,{"$f":"IF(AND('Step 2 - Ornamental'!$AA$21=\"X\",Q547=\"X\"),1,0)","v":0},"X",{"$f":"IF(AND('Step 2 - Ornamental'!$AB$21=\"X\",S547=\"X\"),1,0)","v":0},"X",{"$f":"IF(AND('Step 2 - Ornamental'!$AC$21=\"X\",U547=\"X\"),1,0)","v":0},null,{"$f":"IF(AND('Step 2 - Ornamental'!$AA$19=\"X\",W547=\"X\"),1,0)","v":0},null,{"$f":"IF(AND('Step 2 - Ornamental'!$AA$19=\"X\",Y547=\"X\"),1,0)","v":0},"X",{"$f":"IF(AND('Step 2 - Ornamental'!$AB$19=\"X\",AA547=\"X\"),1,0)","v":0},null,{"$f":"IF(AND('Step 2 - Ornamental'!$AC$19=\"X\",AC547=\"X\"),1,0)","v":0},null,{"$f":"IF(AND('Step 2 - Ornamental'!$AA$20=\"X\",AE547=\"X\"),1,0)","v":0},null,{"$f":"IF(AND('Step 2 - Ornamental'!$AA$20=\"X\",AG547=\"X\"),1,0)","v":0},"X",{"$f":"IF(AND('Step 2 - Ornamental'!$AB$20=\"X\",AI547=\"X\"),1,0)","v":0},null,{"$f":"IF(AND('Step 2 - Ornamental'!$AC$20=\"X\",AK547=\"X\"),1,0)","v":0},null,{"$f":"IF(AND('Step 2 - Ornamental'!$AA$18=\"X\",AM547=\"X\"),1,0)","v":0},null,{"$f":"IF(AND('Step 2 - Ornamental'!$AB$18=\"X\",AO547=\"X\"),1,0)","v":0},"X",{"$f":"IF(AND('Step 2 - Ornamental'!$AC$18=\"X\",AQ547=\"X\"),1,0)","v":0}," ",{"$f":"IF(AND('Step 2 - Ornamental'!$AD$18=\"X\",AS547=\"X\"),1,0)","v":0},null,{"$f":"IF(AND('Step 2 - Ornamental'!$AE$18=\"X\",AU547=\"X\"),1,0)","v":0},null,{"$f":"IF(AND('Step 2 - Ornamental'!$AA$17=\"X\",AW547=\"X\"),1,0)","v":0},null,{"$f":"IF(AND('Step 2 - Ornamental'!$AB$17=\"X\",AY547=\"X\"),1,0)","v":0},"X",{"$f":"IF(AND('Step 2 - Ornamental'!$AC$17=\"X\",BA547=\"X\"),1,0)","v":0},"X",{"$f":"IF(AND('Step 2 - Ornamental'!$AA$22=\"X\",BC547=\"X\"),1,0)","v":0},null,{"$f":"IF(AND('Step 2 - Ornamental'!$AB$22=\"X\",BE547=\"X\"),1,0)","v":0},null,{"$f":"IF(AND('Step 2 - Ornamental'!$AC$22=\"X\",BG547=\"X\"),1,0)","v":0},"X",{"$f":"IF(AND('Step 2 - Ornamental'!$AD$22=\"X\",BI547=\"X\"),1,0)","v":0},"X","Does Not flower / 1.0'-3.0'"]
[null,1,"AT NI","Athyrium niponicum 'Pictum'","Japanese Painted Fern","18\"  O.C.","18\" tall, needs moisture, silver and marroon leaf accents, spreads,","X",null,null,null,"X",null,0,null,{"$f":"IF(AND('Step 2 - Ornamental'!$AA$21=\"X\",Q548=\"X\"),1,0)","v":0},"X",{"$f":"IF(AND('Step 2 - Ornamental'!$AB$21=\"X\",S548=\"X\"),1,0)","v":0},"X",{"$f":"IF(AND('Step 2 - Ornamental'!$AC$21=\"X\",U548=\"X\"),1,0)","v":0},null,{"$f":"IF(AND('Step 2 - Ornamental'!$AA$19=\"X\",W548=\"X\"),1,0)","v":0},null,{"$f":"IF(AND('Step 2 - Ornamental'!$AA$19=\"X\",Y548=\"X\"),1,0)","v":0},"X",{"$f":"IF(AND('Step 2 - Ornamental'!$AB$19=\"X\",AA548=\"X\"),1,0)","v":0},null,{"$f":"IF(AND('Step 2 - Ornamental'!$AC$19=\"X\",AC548=\"X\"),1,0)","v":0},null,{"$f":"IF(AND('Step 2 - Ornamental'!$AA$20=\"X\",AE548=\"X\"),1,0)","v":0},"X",{"$f":"IF(AND('Step 2 - Ornamental'!$AA$20=\"X\",AG548=\"X\"),1,0)","v":0},null,{"$f":"IF(AND('Step 2 - Ornamental'!$AB$20=\"X\",AI548=\"X\"),1,0)","v":0},null,{"$f":"IF(AND('Step 2 - Ornamental'!$AC$20=\"X\",AK548=\"X\"),1,0)","v":0},null,{"$f":"IF(AND('Step 2 - Ornamental'!$AA$18=\"X\",AM548=\"X\"),1,0)","v":0},null,{"$f":"IF(AND('Step 2 - Ornamental'!$AB$18=\"X\",AO548=\"X\"),1,0)","v":0},"X",{"$f":"IF(AND('Step 2 - Ornamental'!$AC$18=\"X\",AQ548=\"X\"),1,0)","v":0}," ",{"$f":"IF(AND('Step 2 - Ornamental'!$AD$18=\"X\",AS548=\"X\"),1,0)","v":0},null,{"$f":"IF(AND('Step 2 - Ornamental'!$AE$18=\"X\",AU548=\"X\"),1,0)","v":0},null,{"$f":"IF(AND('Step 2 - Ornamental'!$AA$17=\"X\",AW548=\"X\"),1,0)","v":0},null,{"$f":"IF(AND('Step 2 - Ornamental'!$AB$17=\"X\",AY548=\"X\"),1,0)","v":0},"X",{"$f":"IF(AND('Step 2 - Ornamental'!$AC$17=\"X\",BA548=\"X\"),1,0)","v":0},"X",{"$f":"IF(AND('Step 2 - Ornamental'!$AA$22=\"X\",BC548=\"X\"),1,0)","v":0},null,{"$f":"IF(AND('Step 2 - Ornamental'!$AB$22=\"X\",BE548=\"X\"),1,0)","v":0},null,{"$f":"IF(AND('Step 2 - Ornamental'!$AC$22=\"X\",BG548=\"X\"),1,0)","v":0},"X",{"$f":"IF(AND('Step 2 - Ornamental'!$AD$22=\"X\",BI548=\"X\"),1,0)","v":0},"X","Does Not flower / 1.0'-1.5'"]
[null,1,"DR GO","Dryopteris goldiana","Goldie Fern","36\" O.C.","Largest of the wood fern, grows to 4' tall, spreads by rhizomes, good for moist shady sites,"," ","X","X",null,"X",null,0,null,{"$f":"IF(AND('Step 2 - Ornamental'!$AA$21=\"X\",Q549=\"X\"),1,0)","v":0},"X",{"$f":"IF(AND('Step 2 - Ornamental'!$AB$21=\"X\",S549=\"X\"),1,0)","v":0},null,{"$f":"IF(AND('Step 2 - Ornamental'!$AC$21=\"X\",U549=\"X\"),1,0)","v":0},null,{"$f":"IF(AND('Step 2 - Ornamental'!$AA$19=\"X\",W549=\"X\"),1,0)","v":0},null,{"$f":"IF(AND('Step 2 - Ornamental'!$AA$19=\"X\",Y549=\"X\"),1,0)","v":0},"X",{"$f":"IF(AND('Step 2 - Ornamental'!$AB$19=\"X\",AA549=\"X\"),1,0)","v":0},null,{"$f":"IF(AND('Step 2 - Ornamental'!$AC$19=\"X\",AC549=\"X\"),1,0)","v":0},null,{"$f":"IF(AND('Step 2 - Ornamental'!$AA$20=\"X\",AE549=\"X\"),1,0)","v":0},"X",{"$f":"IF(AND('Step 2 - Ornamental'!$AA$20=\"X\",AG549=\"X\"),1,0)","v":0},null,{"$f":"IF(AND('Step 2 - Ornamental'!$AB$20=\"X\",AI549=\"X\"),1,0)","v":0},null,{"$f":"IF(AND('Step 2 - Ornamental'!$AC$20=\"X\",AK549=\"X\"),1,0)","v":0},null,{"$f":"IF(AND('Step 2 - Ornamental'!$AA$18=\"X\",AM549=\"X\"),1,0)","v":0},null,{"$f":"IF(AND('Step 2 - Ornamental'!$AB$18=\"X\",AO549=\"X\"),1,0)","v":0},"X",{"$f":"IF(AND('Step 2 - Ornamental'!$AC$18=\"X\",AQ549=\"X\"),1,0)","v":0},"X",{"$f":"IF(AND('Step 2 - Ornamental'!$AD$18=\"X\",AS549=\"X\"),1,0)","v":0},null,{"$f":"IF(AND('Step 2 - Ornamental'!$AE$18=\"X\",AU549=\"X\"),1,0)","v":0},null,{"$f":"IF(AND('Step 2 - Ornamental'!$AA$17=\"X\",AW549=\"X\"),1,0)","v":0},null,{"$f":"IF(AND('Step 2 - Ornamental'!$AB$17=\"X\",AY549=\"X\"),1,0)","v":0},"X",{"$f":"IF(AND('Step 2 - Ornamental'!$AC$17=\"X\",BA549=\"X\"),1,0)","v":0},"X",{"$f":"IF(AND('Step 2 - Ornamental'!$AA$22=\"X\",BC549=\"X\"),1,0)","v":0},null,{"$f":"IF(AND('Step 2 - Ornamental'!$AB$22=\"X\",BE549=\"X\"),1,0)","v":0},null,{"$f":"IF(AND('Step 2 - Ornamental'!$AC$22=\"X\",BG549=\"X\"),1,0)","v":0},"X",{"$f":"IF(AND('Step 2 - Ornamental'!$AD$22=\"X\",BI549=\"X\"),1,0)","v":0},"X","Does Not flower / 1.5'-2.0'"]
[null,1,"DR MA","Dryopteris marginalis","Leatherwood Fern","18\" O.C.","18\"-24\" tall, larger/coarser fronds, prefers well-drained, acidic soil, evergreen,"," ","X","X",null,"X",null,0,null,{"$f":"IF(AND('Step 2 - Ornamental'!$AA$21=\"X\",Q550=\"X\"),1,0)","v":0},"X",{"$f":"IF(AND('Step 2 - Ornamental'!$AB$21=\"X\",S550=\"X\"),1,0)","v":0},null,{"$f":"IF(AND('Step 2 - Ornamental'!$AC$21=\"X\",U550=\"X\"),1,0)","v":0},null,{"$f":"IF(AND('Step 2 - Ornamental'!$AA$19=\"X\",W550=\"X\"),1,0)","v":0},null,{"$f":"IF(AND('Step 2 - Ornamental'!$AA$19=\"X\",Y550=\"X\"),1,0)","v":0},"X",{"$f":"IF(AND('Step 2 - Ornamental'!$AB$19=\"X\",AA550=\"X\"),1,0)","v":0},null,{"$f":"IF(AND('Step 2 - Ornamental'!$AC$19=\"X\",AC550=\"X\"),1,0)","v":0},null,{"$f":"IF(AND('Step 2 - Ornamental'!$AA$20=\"X\",AE550=\"X\"),1,0)","v":0},"X",{"$f":"IF(AND('Step 2 - Ornamental'!$AA$20=\"X\",AG550=\"X\"),1,0)","v":0},null,{"$f":"IF(AND('Step 2 - Ornamental'!$AB$20=\"X\",AI550=\"X\"),1,0)","v":0},null,{"$f":"IF(AND('Step 2 - Ornamental'!$AC$20=\"X\",AK550=\"X\"),1,0)","v":0},null,{"$f":"IF(AND('Step 2 - Ornamental'!$AA$18=\"X\",AM550=\"X\"),1,0)","v":0},null,{"$f":"IF(AND('Step 2 - Ornamental'!$AB$18=\"X\",AO550=\"X\"),1,0)","v":0},"X",{"$f":"IF(AND('Step 2 - Ornamental'!$AC$18=\"X\",AQ550=\"X\"),1,0)","v":0},null,{"$f":"IF(AND('Step 2 - Ornamental'!$AD$18=\"X\",AS550=\"X\"),1,0)","v":0},null,{"$f":"IF(AND('Step 2 - Ornamental'!$AE$18=\"X\",AU550=\"X\"),1,0)","v":0},null,{"$f":"IF(AND('Step 2 - Ornamental'!$AA$17=\"X\",AW550=\"X\"),1,0)","v":0},null,{"$f":"IF(AND('Step 2 - Ornamental'!$AB$17=\"X\",AY550=\"X\"),1,0)","v":0},"X",{"$f":"IF(AND('Step 2 - Ornamental'!$AC$17=\"X\",BA550=\"X\"),1,0)","v":0},"X",{"$f":"IF(AND('Step 2 - Ornamental'!$AA$22=\"X\",BC550=\"X\"),1,0)","v":0},null,{"$f":"IF(AND('Step 2 - Ornamental'!$AB$22=\"X\",BE550=\"X\"),1,0)","v":0},null,{"$f":"IF(AND('Step 2 - Ornamental'!$AC$22=\"X\",BG550=\"X\"),1,0)","v":0},"X",{"$f":"IF(AND('Step 2 - Ornamental'!$AD$22=\"X\",BI550=\"X\"),1,0)","v":0},"X","Does Not flower / 1.5'-2.0'"]
[null,1,"MT ST","Matteuccia struthiopteris var. pensylvanica","Ostrich Fern","30\" O.C.","2'-6' tall, easily grown in moist soils, largest native fern, will spread, ",null,"X","X",null,"X",null,0,null,{"$f":"IF(AND('Step 2 - Ornamental'!$AA$21=\"X\",Q551=\"X\"),1,0)","v":0},"X",{"$f":"IF(AND('Step 2 - Ornamental'!$AB$21=\"X\",S551=\"X\"),1,0)","v":0},null,{"$f":"IF(AND('Step 2 - Ornamental'!$AC$21=\"X\",U551=\"X\"),1,0)","v":0},null,{"$f":"IF(AND('Step 2 - Ornamental'!$AA$19=\"X\",W551=\"X\"),1,0)","v":0},null,{"$f":"IF(AND('Step 2 - Ornamental'!$AA$19=\"X\",Y551=\"X\"),1,0)","v":0},"X",{"$f":"IF(AND('Step 2 - Ornamental'!$AB$19=\"X\",AA551=\"X\"),1,0)","v":0},null,{"$f":"IF(AND('Step 2 - Ornamental'!$AC$19=\"X\",AC551=\"X\"),1,0)","v":0},null,{"$f":"IF(AND('Step 2 - Ornamental'!$AA$20=\"X\",AE551=\"X\"),1,0)","v":0},null,{"$f":"IF(AND('Step 2 - Ornamental'!$AA$20=\"X\",AG551=\"X\"),1,0)","v":0},"X",{"$f":"IF(AND('Step 2 - Ornamental'!$AB$20=\"X\",AI551=\"X\"),1,0)","v":0},null,{"$f":"IF(AND('Step 2 - Ornamental'!$AC$20=\"X\",AK551=\"X\"),1,0)","v":0},null,{"$f":"IF(AND('Step 2 - Ornamental'!$AA$18=\"X\",AM551=\"X\"),1,0)","v":0},null,{"$f":"IF(AND('Step 2 - Ornamental'!$AB$18=\"X\",AO551=\"X\"),1,0)","v":0},"X",{"$f":"IF(AND('Step 2 - Ornamental'!$AC$18=\"X\",AQ551=\"X\"),1,0)","v":0},"X",{"$f":"IF(AND('Step 2 - Ornamental'!$AD$18=\"X\",AS551=\"X\"),1,0)","v":0},null,{"$f":"IF(AND('Step 2 - Ornamental'!$AE$18=\"X\",AU551=\"X\"),1,0)","v":0},null,{"$f":"IF(AND('Step 2 - Ornamental'!$AA$17=\"X\",AW551=\"X\"),1,0)","v":0},null,{"$f":"IF(AND('Step 2 - Ornamental'!$AB$17=\"X\",AY551=\"X\"),1,0)","v":0},"X",{"$f":"IF(AND('Step 2 - Ornamental'!$AC$17=\"X\",BA551=\"X\"),1,0)","v":0},"X",{"$f":"IF(AND('Step 2 - Ornamental'!$AA$22=\"X\",BC551=\"X\"),1,0)","v":0},null,{"$f":"IF(AND('Step 2 - Ornamental'!$AB$22=\"X\",BE551=\"X\"),1,0)","v":0},null,{"$f":"IF(AND('Step 2 - Ornamental'!$AC$22=\"X\",BG551=\"X\"),1,0)","v":0},"X",{"$f":"IF(AND('Step 2 - Ornamental'!$AD$22=\"X\",BI551=\"X\"),1,0)","v":0},"X","Does Not flower / 3.0'-6.0'"]
[null,1,"ON SE","Onoclea sensibilis","Sensitive Fern","18\" O.C.","24\" tall, will spread, needs constant moisture",null,"X","X",null,"X",null,0,null,{"$f":"IF(AND('Step 2 - Ornamental'!$AA$21=\"X\",Q552=\"X\"),1,0)","v":0},"X",{"$f":"IF(AND('Step 2 - Ornamental'!$AB$21=\"X\",S552=\"X\"),1,0)","v":0},"X",{"$f":"IF(AND('Step 2 - Ornamental'!$AC$21=\"X\",U552=\"X\"),1,0)","v":0},null,{"$f":"IF(AND('Step 2 - Ornamental'!$AA$19=\"X\",W552=\"X\"),1,0)","v":0},null,{"$f":"IF(AND('Step 2 - Ornamental'!$AA$19=\"X\",Y552=\"X\"),1,0)","v":0},"X",{"$f":"IF(AND('Step 2 - Ornamental'!$AB$19=\"X\",AA552=\"X\"),1,0)","v":0},null,{"$f":"IF(AND('Step 2 - Ornamental'!$AC$19=\"X\",AC552=\"X\"),1,0)","v":0},null,{"$f":"IF(AND('Step 2 - Ornamental'!$AA$20=\"X\",AE552=\"X\"),1,0)","v":0},null,{"$f":"IF(AND('Step 2 - Ornamental'!$AA$20=\"X\",AG552=\"X\"),1,0)","v":0},"X",{"$f":"IF(AND('Step 2 - Ornamental'!$AB$20=\"X\",AI552=\"X\"),1,0)","v":0},"X",{"$f":"IF(AND('Step 2 - Ornamental'!$AC$20=\"X\",AK552=\"X\"),1,0)","v":0},null,{"$f":"IF(AND('Step 2 - Ornamental'!$AA$18=\"X\",AM552=\"X\"),1,0)","v":0},null,{"$f":"IF(AND('Step 2 - Ornamental'!$AB$18=\"X\",AO552=\"X\"),1,0)","v":0},"X",{"$f":"IF(AND('Step 2 - Ornamental'!$AC$18=\"X\",AQ552=\"X\"),1,0)","v":0},"X",{"$f":"IF(AND('Step 2 - Ornamental'!$AD$18=\"X\",AS552=\"X\"),1,0)","v":0},null,{"$f":"IF(AND('Step 2 - Ornamental'!$AE$18=\"X\",AU552=\"X\"),1,0)","v":0},null,{"$f":"IF(AND('Step 2 - Ornamental'!$AA$17=\"X\",AW552=\"X\"),1,0)","v":0},null,{"$f":"IF(AND('Step 2 - Ornamental'!$AB$17=\"X\",AY552=\"X\"),1,0)","v":0},"X",{"$f":"IF(AND('Step 2 - Ornamental'!$AC$17=\"X\",BA552=\"X\"),1,0)","v":0},"X",{"$f":"IF(AND('Step 2 - Ornamental'!$AA$22=\"X\",BC552=\"X\"),1,0)","v":0},null,{"$f":"IF(AND('Step 2 - Ornamental'!$AB$22=\"X\",BE552=\"X\"),1,0)","v":0},null,{"$f":"IF(AND('Step 2 - Ornamental'!$AC$22=\"X\",BG552=\"X\"),1,0)","v":0},"X",{"$f":"IF(AND('Step 2 - Ornamental'!$AD$22=\"X\",BI552=\"X\"),1,0)","v":0},"X","Does Not flower / 3.0'-4.0'"]
[null,1,"OS CI","Osmundastrum cinnamomeum","Cinnamon Fern","18\" O.C.","2'-3' tall, prefers moist, boggy soils, cinnamon brown fronds",null,"X","X",null,"X",null,0,null,{"$f":"IF(AND('Step 2 - Ornamental'!$AA$21=\"X\",Q553=\"X\"),1,0)","v":0},"X",{"$f":"IF(AND('Step 2 - Ornamental'!$AB$21=\"X\",S553=\"X\"),1,0)","v":0},"X",{"$f":"IF(AND('Step 2 - Ornamental'!$AC$21=\"X\",U553=\"X\"),1,0)","v":0},null,{"$f":"IF(AND('Step 2 - Ornamental'!$AA$19=\"X\",W553=\"X\"),1,0)","v":0},null,{"$f":"IF(AND('Step 2 - Ornamental'!$AA$19=\"X\",Y553=\"X\"),1,0)","v":0},"X",{"$f":"IF(AND('Step 2 - Ornamental'!$AB$19=\"X\",AA553=\"X\"),1,0)","v":0},null,{"$f":"IF(AND('Step 2 - Ornamental'!$AC$19=\"X\",AC553=\"X\"),1,0)","v":0},null,{"$f":"IF(AND('Step 2 - Ornamental'!$AA$20=\"X\",AE553=\"X\"),1,0)","v":0},null,{"$f":"IF(AND('Step 2 - Ornamental'!$AA$20=\"X\",AG553=\"X\"),1,0)","v":0},"X",{"$f":"IF(AND('Step 2 - Ornamental'!$AB$20=\"X\",AI553=\"X\"),1,0)","v":0},"X",{"$f":"IF(AND('Step 2 - Ornamental'!$AC$20=\"X\",AK553=\"X\"),1,0)","v":0},"X",{"$f":"IF(AND('Step 2 - Ornamental'!$AA$18=\"X\",AM553=\"X\"),1,0)","v":0},null,{"$f":"IF(AND('Step 2 - Ornamental'!$AB$18=\"X\",AO553=\"X\"),1,0)","v":0},"X",{"$f":"IF(AND('Step 2 - Ornamental'!$AC$18=\"X\",AQ553=\"X\"),1,0)","v":0},"X",{"$f":"IF(AND('Step 2 - Ornamental'!$AD$18=\"X\",AS553=\"X\"),1,0)","v":0},null,{"$f":"IF(AND('Step 2 - Ornamental'!$AE$18=\"X\",AU553=\"X\"),1,0)","v":0},null,{"$f":"IF(AND('Step 2 - Ornamental'!$AA$17=\"X\",AW553=\"X\"),1,0)","v":0},null,{"$f":"IF(AND('Step 2 - Ornamental'!$AB$17=\"X\",AY553=\"X\"),1,0)","v":0},"X",{"$f":"IF(AND('Step 2 - Ornamental'!$AC$17=\"X\",BA553=\"X\"),1,0)","v":0},"X",{"$f":"IF(AND('Step 2 - Ornamental'!$AA$22=\"X\",BC553=\"X\"),1,0)","v":0},null,{"$f":"IF(AND('Step 2 - Ornamental'!$AB$22=\"X\",BE553=\"X\"),1,0)","v":0},null,{"$f":"IF(AND('Step 2 - Ornamental'!$AC$22=\"X\",BG553=\"X\"),1,0)","v":0},"X",{"$f":"IF(AND('Step 2 - Ornamental'!$AD$22=\"X\",BI553=\"X\"),1,0)","v":0},"X","Does Not flower / 2.0'-3.0'"]
[null,{"$f":"SUM((N554+P554+R554+T554)*(V554+X554+Z554+AB554)*(AD554+AF554+AH554+AJ554)*(AL554+AN554+AP554+AR554+AT554)*(AV554+AX554+AZ554)*(BB554+BD554+BF554+BH554))+1","v":1},"PO AC","Polystichum acrostichoides","Christmas Fern","24\" O.C.","1'-2' tall, evergreen, clumping fern, tolerates dry soil, does not spread",null,"X","X","X","X",null,0,null,{"$f":"IF(AND('Step 2 - Ornamental'!$AA$21=\"X\",Q554=\"X\"),1,0)","v":0},"X",{"$f":"IF(AND('Step 2 - Ornamental'!$AB$21=\"X\",S554=\"X\"),1,0)","v":0},"X",{"$f":"IF(AND('Step 2 - Ornamental'!$AC$21=\"X\",U554=\"X\"),1,0)","v":0},null,{"$f":"IF(AND('Step 2 - Ornamental'!$AA$19=\"X\",W554=\"X\"),1,0)","v":0},null,{"$f":"IF(AND('Step 2 - Ornamental'!$AA$19=\"X\",Y554=\"X\"),1,0)","v":0},"X",{"$f":"IF(AND('Step 2 - Ornamental'!$AB$19=\"X\",AA554=\"X\"),1,0)","v":0},null,{"$f":"IF(AND('Step 2 - Ornamental'!$AC$19=\"X\",AC554=\"X\"),1,0)","v":0},null,{"$f":"IF(AND('Step 2 - Ornamental'!$AA$20=\"X\",AE554=\"X\"),1,0)","v":0},"X",{"$f":"IF(AND('Step 2 - Ornamental'!$AA$20=\"X\",AG554=\"X\"),1,0)","v":0},null,{"$f":"IF(AND('Step 2 - Ornamental'!$AB$20=\"X\",AI554=\"X\"),1,0)","v":0},null,{"$f":"IF(AND('Step 2 - Ornamental'!$AC$20=\"X\",AK554=\"X\"),1,0)","v":0},null,{"$f":"IF(AND('Step 2 - Ornamental'!$AA$18=\"X\",AM554=\"X\"),1,0)","v":0},"X",{"$f":"IF(AND('Step 2 - Ornamental'!$AB$18=\"X\",AO554=\"X\"),1,0)","v":0},"X",{"$f":"IF(AND('Step 2 - Ornamental'!$AC$18=\"X\",AQ554=\"X\"),1,0)","v":0},null,{"$f":"IF(AND('Step 2 - Ornamental'!$AD$18=\"X\",AS554=\"X\"),1,0)","v":0},null,{"$f":"IF(AND('Step 2 - Ornamental'!$AE$18=\"X\",AU554=\"X\"),1,0)","v":0},null,{"$f":"IF(AND('Step 2 - Ornamental'!$AA$17=\"X\",AW554=\"X\"),1,0)","v":0},null,{"$f":"IF(AND('Step 2 - Ornamental'!$AB$17=\"X\",AY554=\"X\"),1,0)","v":0},"X",{"$f":"IF(AND('Step 2 - Ornamental'!$AC$17=\"X\",BA554=\"X\"),1,0)","v":0},"X",{"$f":"IF(AND('Step 2 - Ornamental'!$AA$22=\"X\",BC554=\"X\"),1,0)","v":0},null,{"$f":"IF(AND('Step 2 - Ornamental'!$AB$22=\"X\",BE554=\"X\"),1,0)","v":0},"X",{"$f":"IF(AND('Step 2 - Ornamental'!$AC$22=\"X\",BG554=\"X\"),1,0)","v":0},"X",{"$f":"IF(AND('Step 2 - Ornamental'!$AD$22=\"X\",BI554=\"X\"),1,0)","v":0},"X","Does Not flower / 1.0'-2.0'"]
[]
[]
[]
[]
[]
[]
[]
[]
[]
[]
[]
[null,null,null,null,null,null,null,null,null,null,null,null,null,null,null,null,null,null,null,null,null,null,null,null,null,null,null,null,null,null,null,null,null,null,null,null,null,null,null,null,null,null,null,null,null,null,null,null,null,null,null,null,null,null,null,null,null,null,null,null,null,null,null,null,null,null,null,null,null,null,null,null,null,null,null,null,null,null,null,null,null,null,null,null,null,null,null,null,null,null,null,"Maintenance/Installation Specifications"]
[]
[]
[]
[null,null,null,null,null,null,null,null,null,null,null,null,null,null,null,null,null,null,null,null,null,null,null,null,null,null,null,null,null,null,null,null,null,null,null,null,null,null,null,null,null,null,null,null,null,null,null,null,null,null,null,null,null,null,null,null,null,null,null,null,null,null,null,null,null,null,null,null,null,null,null,null,null,null,null,null,null,null,null,null,null,null,null,null,null,null,null,null,null,null,null,"Recommended Plant Patterns"]

{"sheet":"Naturalized Plant List","index":6,"n_rows":172,"n_cols":92,"rows_kept":172,"cut":false,"hidden":true,"merged":[[0,1,0,4],[89,67,89,69],[3,61,3,72],[9,53,10,53],[9,54,10,54],[9,55,10,55],[9,56,10,56],[9,57,10,57],[9,58,10,58],[9,59,10,59],[9,60,10,60],[3,37,3,46],[3,47,3,52],[3,53,3,60],[9,39,10,39],[9,52,10,52],[1,1,1,3],[9,18,10,18],[9,19,10,19],[9,24,10,24],[9,21,10,21],[9,22,10,22],[3,21,3,28],[9,20,10,20],[9,23,10,23],[9,27,10,27],[9,28,10,28],[3,7,3,9],[9,2,10,2],[9,3,10,3],[9,4,10,4],[9,5,10,5],[3,10,3,11],[3,1,3,4],[9,1,10,1],[5,1,5,4],[3,29,3,36],[3,13,3,20],[9,13,10,13],[6,1,6,4],[7,1,7,4],[9,7,10,7],[9,8,10,8],[9,9,10,9],[9,10,10,10],[9,11,10,11],[9,31,10,31],[9,15,10,15],[9,16,10,16],[9,41,10,41],[9,42,10,42],[9,35,10,35],[9,36,10,36],[9,40,10,40],[175,91,176,93],[179,91,180,93],[9,49,10,49],[9,50,10,50],[9,43,10,43],[142,68,142,70],[84,65,84,67],[173,91,174,93],[9,51,10,51],[90,67,90,69],[9,46,10,46],[9,47,10,47],[9,48,10,48],[9,44,10,44],[9,45,10,45],[9,6,10,6],[160,6,160,8],[161,6,161,8],[167,91,168,96],[171,91,172,96],[9,17,10,17],[9,37,10,37],[9,38,10,38],[9,25,10,25],[9,26,10,26],[9,29,10,29],[9,30,10,30],[9,32,10,32],[9,14,10,14],[9,33,10,33],[9,34,10,34]]}
[null,"Green Infrastructure Plant Selection Spreadsheet"]
[null,"Milwaukee Metropolitan Sewerage District"]
[]
["STEP THREE","YOUR CUSTOMIZED NATURALIZED PLANT LIST",null,null,null,null,null,"NATIVE RANGE",null,null,"TOLERANCE TO",null,null,"SOIL pH",null,null,null,null,null,null,null,"TOLERANCE TO SALT",null,null,null,null,null,null,null,"FLOOD DURATION",null,null,null,null,null,null,null,"PREFERRED SOIL MOISTURE",null,null,null,null,null,null,null,null,null,"PREFERRED SUN EXPOSURE",null,null,null,null,null,"PLANTING SOIL DEPTH",null,null,null,null,null,null,null,"FLOWER COLOR / HEIGHT"]
[]
[null,"* Midwest is defined as the states of Minnesota, Wisconsin, Iowa, Missouri, Illinois, Indiana, Michigan, and Ohio. \n** See green vendor's list for plant suppliers."]
[null,"Recommended Street Tree"]
[null,"High performance plants"]
[]
[null,null,"Symbol","Scientific Name","Common Name","Spacing","Comments","NOT NATIVE"," MID-\nWEST*","SOUTH WI","DEER ","RABBIT",null,null,"UNKNOWN",null,"ACIDIC\n(6.1-6.5)",null,"NEUTRAL\n(6.6-7.5)",null,"ALKALINE\n(7.6-7.8)",null,"UNKNOWN",null,"LOW",null,"MED",null,"HIGH",null,"UNKNOWN",null,"SHORT \n(2 days or less)",null,"MEDIUM \n(3 or 4 days)",null,"LONG \n(5 days or more)",null,"DRY",null,"MESIC",null,"WET",null,"EMERGENT TYPE 1 \n0-6\" DEPTH",null,"EMERGENT TYPE 2 \n6\"-12\" DEPTH",null,"FULL SUN \n(more than 6 hrs/day)",null,"SUN/SHADE \n(4-6 hrs/day)",null,"FULL SHADE\n(less than 4 hrs/day)",null,"3\" to 5\" \n(Extensive Green Roof)",null,"6\" to 17\" \n(Semi-intensive Green Roof)",null,"18\" to 29\" \n(Typical Bioretention)",null,"30\" and Greater"]
[null,null,null,null,null,null,null,null,null,null,null,null,null,null,null,null,null,null,null,null,null,null,null,null,null,null,null,null,null,null,null,null,null,null,null,null,null,null,null,null,null,null,null,null,null,null,null,null,null,null,null,null,null,null,null,null,null,null,null,null,null,"JAN","FEB","MARCH","APRIL","MAY","JUNE","JULY","AUG","SEPT","OCT","NOV ","DEC"]
["Grasses, Sedges, Rushes",2]
[]
[null,{"$f":"SUM((N14+P14+R14+T14)*(V14+X14+Z14+AB14)*(AD14+AF14+AH14+AJ14)*(AL14+AN14+AP14+AR14+AT14)*(AV14+AX14+AZ14)*(BB14+BD14+BF14+BH14))+1","v":1},"AN GE","Andropogon gerardii","Big Bluestem","30\" O.C.","Tall (4'-6') warm season grass, tolerates dry infertile soil, can spread under moist conditions"," ","X","X","X",null,null,{"$f":"IF(O14=\"X\",1,0)","v":0},null,{"$f":"IF(AND('Step 2 - Naturalized'!$AA$21=\"X\",Q14=\"X\"),1,0)","v":0},"X",{"$f":"IF(AND('Step 2 - Naturalized'!$AB$21=\"X\",S14=\"X\"),1,0)","v":0},"X",{"$f":"IF(AND('Step 2 - Naturalized'!$AC$21=\"X\",U14=\"X\"),1,0)","v":0},null,{"$f":"IF(AND('Step 2 - Naturalized'!$AA$19=\"X\",W14=\"X\"),1,0)","v":0},null,{"$f":"IF(AND('Step 2 - Naturalized'!$AA$19=\"X\",Y14=\"X\"),1,0)","v":0},"X",{"$f":"IF(AND('Step 2 - Naturalized'!$AB$19=\"X\",AA14=\"X\"),1,0)","v":0},null,{"$f":"IF(AND('Step 2 - Naturalized'!$AC$19=\"X\",AC14=\"X\"),1,0)","v":0},null,{"$f":"IF(AND('Step 2 - Naturalized'!$AA$20=\"X\",AE14=\"X\"),1,0)","v":0},null,{"$f":"IF(AND('Step 2 - Naturalized'!$AA$20=\"X\",AG14=\"X\"),1,0)","v":0},"X",{"$f":"IF(AND('Step 2 - Naturalized'!$AB$20=\"X\",AI14=\"X\"),1,0)","v":0},null,{"$f":"IF(AND('Step 2 - Naturalized'!$AC$20=\"X\",AK14=\"X\"),1,0)","v":0},null,{"$f":"IF(AND('Step 2 - Naturalized'!$AA$18=\"X\",AM14=\"X\"),1,0)","v":0},"X",{"$f":"IF(AND('Step 2 - Naturalized'!$AB$18=\"X\",AO14=\"X\"),1,0)","v":0},"X",{"$f":"IF(AND('Step 2 - Naturalized'!$AC$18=\"X\",AQ14=\"X\"),1,0)","v":0},null,{"$f":"IF(AND('Step 2 - Naturalized'!$AD$18=\"X\",AS14=\"X\"),1,0)","v":0},null,{"$f":"IF(AND('Step 2 - Naturalized'!$AE$18=\"X\",AU14=\"X\"),1,0)","v":0},null,{"$f":"IF(AND('Step 2 - Naturalized'!$AA$17=\"X\",AW14=\"X\"),1,0)","v":0},"X",{"$f":"IF(AND('Step 2 - Naturalized'!$AB$17=\"X\",AY14=\"X\"),1,0)","v":0},null,{"$f":"IF(AND('Step 2 - Naturalized'!$AC$17=\"X\",BA14=\"X\"),1,0)","v":0},null,{"$f":"IF(AND('Step 2 - Naturalized'!$AA$22=\"X\",BC14=\"X\"),1,0)","v":0},null,{"$f":"IF(AND('Step 2 - Naturalized'!$AB$22=\"X\",BE14=\"X\"),1,0)","v":0},null,{"$f":"IF(AND('Step 2 - Naturalized'!$AC$22=\"X\",BG14=\"X\"),1,0)","v":0},"X",{"$f":"IF(AND('Step 2 - Naturalized'!$AD$22=\"X\",BI14=\"X\"),1,0)","v":0},"X"]
[" ",1,"BO CU","Bouteloua curtipendula","Side Oats Grama Grass","18\" O.C.","low (24\" tall), drought tolerant grass, self seeds",null,"X","X",null,null,null,0,null,{"$f":"IF(AND('Step 2 - Naturalized'!$AA$21=\"X\",Q15=\"X\"),1,0)","v":0},"X",{"$f":"IF(AND('Step 2 - Naturalized'!$AB$21=\"X\",S15=\"X\"),1,0)","v":0},"X",{"$f":"IF(AND('Step 2 - Naturalized'!$AC$21=\"X\",U15=\"X\"),1,0)","v":0},"X",{"$f":"IF(AND('Step 2 - Naturalized'!$AA$19=\"X\",W15=\"X\"),1,0)","v":0},null,{"$f":"IF(AND('Step 2 - Naturalized'!$AA$19=\"X\",Y15=\"X\"),1,0)","v":0},"X",{"$f":"IF(AND('Step 2 - Naturalized'!$AB$19=\"X\",AA15=\"X\"),1,0)","v":0},"X",{"$f":"IF(AND('Step 2 - Naturalized'!$AC$19=\"X\",AC15=\"X\"),1,0)","v":0},null,{"$f":"IF(AND('Step 2 - Naturalized'!$AA$20=\"X\",AE15=\"X\"),1,0)","v":0},null,{"$f":"IF(AND('Step 2 - Naturalized'!$AA$20=\"X\",AG15=\"X\"),1,0)","v":0},"X",{"$f":"IF(AND('Step 2 - Naturalized'!$AB$20=\"X\",AI15=\"X\"),1,0)","v":0},null,{"$f":"IF(AND('Step 2 - Naturalized'!$AC$20=\"X\",AK15=\"X\"),1,0)","v":0},null,{"$f":"IF(AND('Step 2 - Naturalized'!$AA$18=\"X\",AM15=\"X\"),1,0)","v":0},"X",{"$f":"IF(AND('Step 2 - Naturalized'!$AB$18=\"X\",AO15=\"X\"),1,0)","v":0},"X",{"$f":"IF(AND('Step 2 - Naturalized'!$AC$18=\"X\",AQ15=\"X\"),1,0)","v":0},null,{"$f":"IF(AND('Step 2 - Naturalized'!$AD$18=\"X\",AS15=\"X\"),1,0)","v":0},null,{"$f":"IF(AND('Step 2 - Naturalized'!$AE$18=\"X\",AU15=\"X\"),1,0)","v":0},null,{"$f":"IF(AND('Step 2 - Naturalized'!$AA$17=\"X\",AW15=\"X\"),1,0)","v":0},"X",{"$f":"IF(AND('Step 2 - Naturalized'!$AB$17=\"X\",AY15=\"X\"),1,0)","v":0},"X",{"$f":"IF(AND('Step 2 - Naturalized'!$AC$17=\"X\",BA15=\"X\"),1,0)","v":0},null,{"$f":"IF(AND('Step 2 - Naturalized'!$AA$22=\"X\",BC15=\"X\"),1,0)","v":0},null,{"$f":"IF(AND('Step 2 - Naturalized'!$AB$22=\"X\",BE15=\"X\"),1,0)","v":0},"X",{"$f":"IF(AND('Step 2 - Naturalized'!$AC$22=\"X\",BG15=\"X\"),1,0)","v":0},"X",{"$f":"IF(AND('Step 2 - Naturalized'!$AD$22=\"X\",BI15=\"X\"),1,0)","v":0},"X"]
[null,1,"BR CI","Bromus ciliatus ","Fringed Brome","18\" O.C.","Cool season clump grass (2'-4' tall) prefers wet soils",null,"X","X",null,null,null,1,"X",{"$f":"IF(AND('Step 2 - Naturalized'!$AA$21=\"X\",Q16=\"X\"),1,0)","v":0},null,{"$f":"IF(AND('Step 2 - Naturalized'!$AB$21=\"X\",S16=\"X\"),1,0)","v":0},null,{"$f":"IF(AND('Step 2 - Naturalized'!$AC$21=\"X\",U16=\"X\"),1,0)","v":0},null,{"$f":"IF(AND('Step 2 - Naturalized'!$AA$19=\"X\",W16=\"X\"),1,0)","v":0},"X",{"$f":"IF(AND('Step 2 - Naturalized'!$AA$19=\"X\",Y16=\"X\"),1,0)","v":0},null,{"$f":"IF(AND('Step 2 - Naturalized'!$AB$19=\"X\",AA16=\"X\"),1,0)","v":0},null,{"$f":"IF(AND('Step 2 - Naturalized'!$AC$19=\"X\",AC16=\"X\"),1,0)","v":0},null,{"$f":"IF(AND('Step 2 - Naturalized'!$AA$20=\"X\",AE16=\"X\"),1,0)","v":0},null,{"$f":"IF(AND('Step 2 - Naturalized'!$AA$20=\"X\",AG16=\"X\"),1,0)","v":0},"X",{"$f":"IF(AND('Step 2 - Naturalized'!$AB$20=\"X\",AI16=\"X\"),1,0)","v":0},"X",{"$f":"IF(AND('Step 2 - Naturalized'!$AC$20=\"X\",AK16=\"X\"),1,0)","v":0},null,{"$f":"IF(AND('Step 2 - Naturalized'!$AA$18=\"X\",AM16=\"X\"),1,0)","v":0},null,{"$f":"IF(AND('Step 2 - Naturalized'!$AB$18=\"X\",AO16=\"X\"),1,0)","v":0},"X",{"$f":"IF(AND('Step 2 - Naturalized'!$AC$18=\"X\",AQ16=\"X\"),1,0)","v":0},"X",{"$f":"IF(AND('Step 2 - Naturalized'!$AD$18=\"X\",AS16=\"X\"),1,0)","v":0},null,{"$f":"IF(AND('Step 2 - Naturalized'!$AE$18=\"X\",AU16=\"X\"),1,0)","v":0},null,{"$f":"IF(AND('Step 2 - Naturalized'!$AA$17=\"X\",AW16=\"X\"),1,0)","v":0},"X",{"$f":"IF(AND('Step 2 - Naturalized'!$AB$17=\"X\",AY16=\"X\"),1,0)","v":0},"X",{"$f":"IF(AND('Step 2 - Naturalized'!$AC$17=\"X\",BA16=\"X\"),1,0)","v":0},null,{"$f":"IF(AND('Step 2 - Naturalized'!$AA$22=\"X\",BC16=\"X\"),1,0)","v":0},null,{"$f":"IF(AND('Step 2 - Naturalized'!$AB$22=\"X\",BE16=\"X\"),1,0)","v":0},null,{"$f":"IF(AND('Step 2 - Naturalized'!$AC$22=\"X\",BG16=\"X\"),1,0)","v":0},"X",{"$f":"IF(AND('Step 2 - Naturalized'!$AD$22=\"X\",BI16=\"X\"),1,0)","v":0},"X"]
[null,1,"BR KA","Bromus kalmii","Prairie Brome, Kalm's Brome","18\" O.C.","Shorter Brome (3' tall), cool season grass, good for stabilization, more tolerant of dry soils than B. ciliatus"," ","X","X",null,null,null,1,"X",{"$f":"IF(AND('Step 2 - Naturalized'!$AA$21=\"X\",Q17=\"X\"),1,0)","v":0},null,{"$f":"IF(AND('Step 2 - Naturalized'!$AB$21=\"X\",S17=\"X\"),1,0)","v":0},null,{"$f":"IF(AND('Step 2 - Naturalized'!$AC$21=\"X\",U17=\"X\"),1,0)","v":0},null,{"$f":"IF(AND('Step 2 - Naturalized'!$AA$19=\"X\",W17=\"X\"),1,0)","v":0},"X",{"$f":"IF(AND('Step 2 - Naturalized'!$AA$19=\"X\",Y17=\"X\"),1,0)","v":0},null,{"$f":"IF(AND('Step 2 - Naturalized'!$AB$19=\"X\",AA17=\"X\"),1,0)","v":0},null,{"$f":"IF(AND('Step 2 - Naturalized'!$AC$19=\"X\",AC17=\"X\"),1,0)","v":0},null,{"$f":"IF(AND('Step 2 - Naturalized'!$AA$20=\"X\",AE17=\"X\"),1,0)","v":0},null,{"$f":"IF(AND('Step 2 - Naturalized'!$AA$20=\"X\",AG17=\"X\"),1,0)","v":0},"X",{"$f":"IF(AND('Step 2 - Naturalized'!$AB$20=\"X\",AI17=\"X\"),1,0)","v":0},null,{"$f":"IF(AND('Step 2 - Naturalized'!$AC$20=\"X\",AK17=\"X\"),1,0)","v":0},null,{"$f":"IF(AND('Step 2 - Naturalized'!$AA$18=\"X\",AM17=\"X\"),1,0)","v":0},null,{"$f":"IF(AND('Step 2 - Naturalized'!$AB$18=\"X\",AO17=\"X\"),1,0)","v":0},"X",{"$f":"IF(AND('Step 2 - Naturalized'!$AC$18=\"X\",AQ17=\"X\"),1,0)","v":0},"X",{"$f":"IF(AND('Step 2 - Naturalized'!$AD$18=\"X\",AS17=\"X\"),1,0)","v":0},null,{"$f":"IF(AND('Step 2 - Naturalized'!$AE$18=\"X\",AU17=\"X\"),1,0)","v":0},null,{"$f":"IF(AND('Step 2 - Naturalized'!$AA$17=\"X\",AW17=\"X\"),1,0)","v":0},"X",{"$f":"IF(AND('Step 2 - Naturalized'!$AB$17=\"X\",AY17=\"X\"),1,0)","v":0},null,{"$f":"IF(AND('Step 2 - Naturalized'!$AC$17=\"X\",BA17=\"X\"),1,0)","v":0},null,{"$f":"IF(AND('Step 2 - Naturalized'!$AA$22=\"X\",BC17=\"X\"),1,0)","v":0},null,{"$f":"IF(AND('Step 2 - Naturalized'!$AB$22=\"X\",BE17=\"X\"),1,0)","v":0},null,{"$f":"IF(AND('Step 2 - Naturalized'!$AC$22=\"X\",BG17=\"X\"),1,0)","v":0},"X",{"$f":"IF(AND('Step 2 - Naturalized'!$AD$22=\"X\",BI17=\"X\"),1,0)","v":0},"X"]
[null,1,"BR PU","Bromus pubescens","Hairy Woodland Brome, Hairy Wood Chess","18\" O.C.","Cool season, clump grass (4' tall) for partial to full shade",null,"X","X",null,null,null,1,"X",{"$f":"IF(AND('Step 2 - Naturalized'!$AA$21=\"X\",Q18=\"X\"),1,0)","v":0},null,{"$f":"IF(AND('Step 2 - Naturalized'!$AB$21=\"X\",S18=\"X\"),1,0)","v":0},null,{"$f":"IF(AND('Step 2 - Naturalized'!$AC$21=\"X\",U18=\"X\"),1,0)","v":0},null,{"$f":"IF(AND('Step 2 - Naturalized'!$AA$19=\"X\",W18=\"X\"),1,0)","v":0},"X",{"$f":"IF(AND('Step 2 - Naturalized'!$AA$19=\"X\",Y18=\"X\"),1,0)","v":0},null,{"$f":"IF(AND('Step 2 - Naturalized'!$AB$19=\"X\",AA18=\"X\"),1,0)","v":0},null,{"$f":"IF(AND('Step 2 - Naturalized'!$AC$19=\"X\",AC18=\"X\"),1,0)","v":0},null,{"$f":"IF(AND('Step 2 - Naturalized'!$AA$20=\"X\",AE18=\"X\"),1,0)","v":0},null,{"$f":"IF(AND('Step 2 - Naturalized'!$AA$20=\"X\",AG18=\"X\"),1,0)","v":0},"X",{"$f":"IF(AND('Step 2 - Naturalized'!$AB$20=\"X\",AI18=\"X\"),1,0)","v":0},null,{"$f":"IF(AND('Step 2 - Naturalized'!$AC$20=\"X\",AK18=\"X\"),1,0)","v":0},null,{"$f":"IF(AND('Step 2 - Naturalized'!$AA$18=\"X\",AM18=\"X\"),1,0)","v":0},null,{"$f":"IF(AND('Step 2 - Naturalized'!$AB$18=\"X\",AO18=\"X\"),1,0)","v":0},"X",{"$f":"IF(AND('Step 2 - Naturalized'!$AC$18=\"X\",AQ18=\"X\"),1,0)","v":0},"X",{"$f":"IF(AND('Step 2 - Naturalized'!$AD$18=\"X\",AS18=\"X\"),1,0)","v":0},null,{"$f":"IF(AND('Step 2 - Naturalized'!$AE$18=\"X\",AU18=\"X\"),1,0)","v":0},null,{"$f":"IF(AND('Step 2 - Naturalized'!$AA$17=\"X\",AW18=\"X\"),1,0)","v":0},null,{"$f":"IF(AND('Step 2 - Naturalized'!$AB$17=\"X\",AY18=\"X\"),1,0)","v":0},"X",{"$f":"IF(AND('Step 2 - Naturalized'!$AC$17=\"X\",BA18=\"X\"),1,0)","v":0},"X",{"$f":"IF(AND('Step 2 - Naturalized'!$AA$22=\"X\",BC18=\"X\"),1,0)","v":0},null,{"$f":"IF(AND('Step 2 - Naturalized'!$AB$22=\"X\",BE18=\"X\"),1,0)","v":0},null,{"$f":"IF(AND('Step 2 - Naturalized'!$AC$22=\"X\",BG18=\"X\"),1,0)","v":0},"X",{"$f":"IF(AND('Step 2 - Naturalized'!$AD$22=\"X\",BI18=\"X\"),1,0)","v":0},"X"]
[null,1,"CL CA","Calamagrostis canadensis","Blue-joint grass","30\" O.C.","Cool season, Beautiful long blue-green leaf blades, grows in dense clumps"," ","X","X","X","X",null,0,null,{"$f":"IF(AND('Step 2 - Naturalized'!$AA$21=\"X\",Q19=\"X\"),1,0)","v":0},"X",{"$f":"IF(AND('Step 2 - Naturalized'!$AB$21=\"X\",S19=\"X\"),1,0)","v":0},"X",{"$f":"IF(AND('Step 2 - Naturalized'!$AC$21=\"X\",U19=\"X\"),1,0)","v":0},"X",{"$f":"IF(AND('Step 2 - Naturalized'!$AA$19=\"X\",W19=\"X\"),1,0)","v":0},null,{"$f":"IF(AND('Step 2 - Naturalized'!$AA$19=\"X\",Y19=\"X\"),1,0)","v":0},"X",{"$f":"IF(AND('Step 2 - Naturalized'!$AB$19=\"X\",AA19=\"X\"),1,0)","v":0},null,{"$f":"IF(AND('Step 2 - Naturalized'!$AC$19=\"X\",AC19=\"X\"),1,0)","v":0},null,{"$f":"IF(AND('Step 2 - Naturalized'!$AA$20=\"X\",AE19=\"X\"),1,0)","v":0},null,{"$f":"IF(AND('Step 2 - Naturalized'!$AA$20=\"X\",AG19=\"X\"),1,0)","v":0},"X",{"$f":"IF(AND('Step 2 - Naturalized'!$AB$20=\"X\",AI19=\"X\"),1,0)","v":0},"X",{"$f":"IF(AND('Step 2 - Naturalized'!$AC$20=\"X\",AK19=\"X\"),1,0)","v":0},null,{"$f":"IF(AND('Step 2 - Naturalized'!$AA$18=\"X\",AM19=\"X\"),1,0)","v":0},null,{"$f":"IF(AND('Step 2 - Naturalized'!$AB$18=\"X\",AO19=\"X\"),1,0)","v":0},"X",{"$f":"IF(AND('Step 2 - Naturalized'!$AC$18=\"X\",AQ19=\"X\"),1,0)","v":0},"X",{"$f":"IF(AND('Step 2 - Naturalized'!$AD$18=\"X\",AS19=\"X\"),1,0)","v":0},null,{"$f":"IF(AND('Step 2 - Naturalized'!$AE$18=\"X\",AU19=\"X\"),1,0)","v":0},null,{"$f":"IF(AND('Step 2 - Naturalized'!$AA$17=\"X\",AW19=\"X\"),1,0)","v":0},"X",{"$f":"IF(AND('Step 2 - Naturalized'!$AB$17=\"X\",AY19=\"X\"),1,0)","v":0},"X",{"$f":"IF(AND('Step 2 - Naturalized'!$AC$17=\"X\",BA19=\"X\"),1,0)","v":0},null,{"$f":"IF(AND('Step 2 - Naturalized'!$AA$22=\"X\",BC19=\"X\"),1,0)","v":0},null,{"$f":"IF(AND('Step 2 - Naturalized'!$AB$22=\"X\",BE19=\"X\"),1,0)","v":0},null,{"$f":"IF(AND('Step 2 - Naturalized'!$AC$22=\"X\",BG19=\"X\"),1,0)","v":0},"X",{"$f":"IF(AND('Step 2 - Naturalized'!$AD$22=\"X\",BI19=\"X\"),1,0)","v":0},"X"]
[null,1,"CA AL","Carex albicans","White-Tinged Sedge","12\" O.C.","Tolerates dry soil better than most carex, 12\"-18\" tall",null,"X","X","X",null,null,1,"X",{"$f":"IF(AND('Step 2 - Naturalized'!$AA$21=\"X\",Q20=\"X\"),1,0)","v":0},null,{"$f":"IF(AND('Step 2 - Naturalized'!$AB$21=\"X\",S20=\"X\"),1,0)","v":0},null,{"$f":"IF(AND('Step 2 - Naturalized'!$AC$21=\"X\",U20=\"X\"),1,0)","v":0},null,{"$f":"IF(AND('Step 2 - Naturalized'!$AA$19=\"X\",W20=\"X\"),1,0)","v":0},"X",{"$f":"IF(AND('Step 2 - Naturalized'!$AA$19=\"X\",Y20=\"X\"),1,0)","v":0},null,{"$f":"IF(AND('Step 2 - Naturalized'!$AB$19=\"X\",AA20=\"X\"),1,0)","v":0},null,{"$f":"IF(AND('Step 2 - Naturalized'!$AC$19=\"X\",AC20=\"X\"),1,0)","v":0},null,{"$f":"IF(AND('Step 2 - Naturalized'!$AA$20=\"X\",AE20=\"X\"),1,0)","v":0},null,{"$f":"IF(AND('Step 2 - Naturalized'!$AA$20=\"X\",AG20=\"X\"),1,0)","v":0},"X",{"$f":"IF(AND('Step 2 - Naturalized'!$AB$20=\"X\",AI20=\"X\"),1,0)","v":0},null,{"$f":"IF(AND('Step 2 - Naturalized'!$AC$20=\"X\",AK20=\"X\"),1,0)","v":0},null,{"$f":"IF(AND('Step 2 - Naturalized'!$AA$18=\"X\",AM20=\"X\"),1,0)","v":0},"X",{"$f":"IF(AND('Step 2 - Naturalized'!$AB$18=\"X\",AO20=\"X\"),1,0)","v":0},null,{"$f":"IF(AND('Step 2 - Naturalized'!$AC$18=\"X\",AQ20=\"X\"),1,0)","v":0},null,{"$f":"IF(AND('Step 2 - Naturalized'!$AD$18=\"X\",AS20=\"X\"),1,0)","v":0},null,{"$f":"IF(AND('Step 2 - Naturalized'!$AE$18=\"X\",AU20=\"X\"),1,0)","v":0},null,{"$f":"IF(AND('Step 2 - Naturalized'!$AA$17=\"X\",AW20=\"X\"),1,0)","v":0},null,{"$f":"IF(AND('Step 2 - Naturalized'!$AB$17=\"X\",AY20=\"X\"),1,0)","v":0},"X",{"$f":"IF(AND('Step 2 - Naturalized'!$AC$17=\"X\",BA20=\"X\"),1,0)","v":0},"X",{"$f":"IF(AND('Step 2 - Naturalized'!$AA$22=\"X\",BC20=\"X\"),1,0)","v":0},null,{"$f":"IF(AND('Step 2 - Naturalized'!$AB$22=\"X\",BE20=\"X\"),1,0)","v":0},null,{"$f":"IF(AND('Step 2 - Naturalized'!$AC$22=\"X\",BG20=\"X\"),1,0)","v":0},"X",{"$f":"IF(AND('Step 2 - Naturalized'!$AD$22=\"X\",BI20=\"X\"),1,0)","v":0},"X"]
[null,1,"CA AN","Carex annectens (Carex brachyglossa)","Yellowfruit Sedge, Small Yellow Fox Sedge","18\" O.C.","Dense clumps (2' tall and wide), for full sun/part shade, wet soils",null,"X","X",null,null,null,1,"X",{"$f":"IF(AND('Step 2 - Naturalized'!$AA$21=\"X\",Q21=\"X\"),1,0)","v":0},null,{"$f":"IF(AND('Step 2 - Naturalized'!$AB$21=\"X\",S21=\"X\"),1,0)","v":0},null,{"$f":"IF(AND('Step 2 - Naturalized'!$AC$21=\"X\",U21=\"X\"),1,0)","v":0},null,{"$f":"IF(AND('Step 2 - Naturalized'!$AA$19=\"X\",W21=\"X\"),1,0)","v":0},"X",{"$f":"IF(AND('Step 2 - Naturalized'!$AA$19=\"X\",Y21=\"X\"),1,0)","v":0},null,{"$f":"IF(AND('Step 2 - Naturalized'!$AB$19=\"X\",AA21=\"X\"),1,0)","v":0},null,{"$f":"IF(AND('Step 2 - Naturalized'!$AC$19=\"X\",AC21=\"X\"),1,0)","v":0},null,{"$f":"IF(AND('Step 2 - Naturalized'!$AA$20=\"X\",AE21=\"X\"),1,0)","v":0},null,{"$f":"IF(AND('Step 2 - Naturalized'!$AA$20=\"X\",AG21=\"X\"),1,0)","v":0},"X",{"$f":"IF(AND('Step 2 - Naturalized'!$AB$20=\"X\",AI21=\"X\"),1,0)","v":0},"X",{"$f":"IF(AND('Step 2 - Naturalized'!$AC$20=\"X\",AK21=\"X\"),1,0)","v":0},null,{"$f":"IF(AND('Step 2 - Naturalized'!$AA$18=\"X\",AM21=\"X\"),1,0)","v":0},null,{"$f":"IF(AND('Step 2 - Naturalized'!$AB$18=\"X\",AO21=\"X\"),1,0)","v":0},"X",{"$f":"IF(AND('Step 2 - Naturalized'!$AC$18=\"X\",AQ21=\"X\"),1,0)","v":0},"X",{"$f":"IF(AND('Step 2 - Naturalized'!$AD$18=\"X\",AS21=\"X\"),1,0)","v":0},"X",{"$f":"IF(AND('Step 2 - Naturalized'!$AE$18=\"X\",AU21=\"X\"),1,0)","v":0},null,{"$f":"IF(AND('Step 2 - Naturalized'!$AA$17=\"X\",AW21=\"X\"),1,0)","v":0},"X",{"$f":"IF(AND('Step 2 - Naturalized'!$AB$17=\"X\",AY21=\"X\"),1,0)","v":0},"X",{"$f":"IF(AND('Step 2 - Naturalized'!$AC$17=\"X\",BA21=\"X\"),1,0)","v":0},null,{"$f":"IF(AND('Step 2 - Naturalized'!$AA$22=\"X\",BC21=\"X\"),1,0)","v":0},null,{"$f":"IF(AND('Step 2 - Naturalized'!$AB$22=\"X\",BE21=\"X\"),1,0)","v":0},null,{"$f":"IF(AND('Step 2 - Naturalized'!$AC$22=\"X\",BG21=\"X\"),1,0)","v":0},"X",{"$f":"IF(AND('Step 2 - Naturalized'!$AD$22=\"X\",BI21=\"X\"),1,0)","v":0},"X"]
[null,1,"CA BB","Carex bebbii","Bebb's Oval Sedge","18\" O.C.","30\" tall great rain garden plant for partial shade, ",null,"X","X",null,null,null,1,"X",{"$f":"IF(AND('Step 2 - Naturalized'!$AA$21=\"X\",Q22=\"X\"),1,0)","v":0},null,{"$f":"IF(AND('Step 2 - Naturalized'!$AB$21=\"X\",S22=\"X\"),1,0)","v":0},null,{"$f":"IF(AND('Step 2 - Naturalized'!$AC$21=\"X\",U22=\"X\"),1,0)","v":0},null,{"$f":"IF(AND('Step 2 - Naturalized'!$AA$19=\"X\",W22=\"X\"),1,0)","v":0},"X",{"$f":"IF(AND('Step 2 - Naturalized'!$AA$19=\"X\",Y22=\"X\"),1,0)","v":0},null,{"$f":"IF(AND('Step 2 - Naturalized'!$AB$19=\"X\",AA22=\"X\"),1,0)","v":0},null,{"$f":"IF(AND('Step 2 - Naturalized'!$AC$19=\"X\",AC22=\"X\"),1,0)","v":0},null,{"$f":"IF(AND('Step 2 - Naturalized'!$AA$20=\"X\",AE22=\"X\"),1,0)","v":0},null,{"$f":"IF(AND('Step 2 - Naturalized'!$AA$20=\"X\",AG22=\"X\"),1,0)","v":0},"X",{"$f":"IF(AND('Step 2 - Naturalized'!$AB$20=\"X\",AI22=\"X\"),1,0)","v":0},"X",{"$f":"IF(AND('Step 2 - Naturalized'!$AC$20=\"X\",AK22=\"X\"),1,0)","v":0},null,{"$f":"IF(AND('Step 2 - Naturalized'!$AA$18=\"X\",AM22=\"X\"),1,0)","v":0}," ",{"$f":"IF(AND('Step 2 - Naturalized'!$AB$18=\"X\",AO22=\"X\"),1,0)","v":0},"X",{"$f":"IF(AND('Step 2 - Naturalized'!$AC$18=\"X\",AQ22=\"X\"),1,0)","v":0},"X",{"$f":"IF(AND('Step 2 - Naturalized'!$AD$18=\"X\",AS22=\"X\"),1,0)","v":0},null,{"$f":"IF(AND('Step 2 - Naturalized'!$AE$18=\"X\",AU22=\"X\"),1,0)","v":0},null,{"$f":"IF(AND('Step 2 - Naturalized'!$AA$17=\"X\",AW22=\"X\"),1,0)","v":0},"X",{"$f":"IF(AND('Step 2 - Naturalized'!$AB$17=\"X\",AY22=\"X\"),1,0)","v":0},"X",{"$f":"IF(AND('Step 2 - Naturalized'!$AC$17=\"X\",BA22=\"X\"),1,0)","v":0}," ",{"$f":"IF(AND('Step 2 - Naturalized'!$AA$22=\"X\",BC22=\"X\"),1,0)","v":0},null,{"$f":"IF(AND('Step 2 - Naturalized'!$AB$22=\"X\",BE22=\"X\"),1,0)","v":0},null,{"$f":"IF(AND('Step 2 - Naturalized'!$AC$22=\"X\",BG22=\"X\"),1,0)","v":0},"X",{"$f":"IF(AND('Step 2 - Naturalized'!$AD$22=\"X\",BI22=\"X\"),1,0)","v":0},"X"]
[null,1,"CA BI","Carex bicknellii","Prairie Sedge, Bicknell's Sedge","18\" O.C.","Adaptable small sedge (1'-3' tall and wide), for drier sites in full sun to part shade"," ","X","X","X",null,null,1,"X",{"$f":"IF(AND('Step 2 - Naturalized'!$AA$21=\"X\",Q23=\"X\"),1,0)","v":0},null,{"$f":"IF(AND('Step 2 - Naturalized'!$AB$21=\"X\",S23=\"X\"),1,0)","v":0},null,{"$f":"IF(AND('Step 2 - Naturalized'!$AC$21=\"X\",U23=\"X\"),1,0)","v":0},null,{"$f":"IF(AND('Step 2 - Naturalized'!$AA$19=\"X\",W23=\"X\"),1,0)","v":0},"X",{"$f":"IF(AND('Step 2 - Naturalized'!$AA$19=\"X\",Y23=\"X\"),1,0)","v":0},null,{"$f":"IF(AND('Step 2 - Naturalized'!$AB$19=\"X\",AA23=\"X\"),1,0)","v":0},null,{"$f":"IF(AND('Step 2 - Naturalized'!$AC$19=\"X\",AC23=\"X\"),1,0)","v":0},null,{"$f":"IF(AND('Step 2 - Naturalized'!$AA$20=\"X\",AE23=\"X\"),1,0)","v":0},"X",{"$f":"IF(AND('Step 2 - Naturalized'!$AA$20=\"X\",AG23=\"X\"),1,0)","v":0},null,{"$f":"IF(AND('Step 2 - Naturalized'!$AB$20=\"X\",AI23=\"X\"),1,0)","v":0},null,{"$f":"IF(AND('Step 2 - Naturalized'!$AC$20=\"X\",AK23=\"X\"),1,0)","v":0},null,{"$f":"IF(AND('Step 2 - Naturalized'!$AA$18=\"X\",AM23=\"X\"),1,0)","v":0},"X",{"$f":"IF(AND('Step 2 - Naturalized'!$AB$18=\"X\",AO23=\"X\"),1,0)","v":0},"X",{"$f":"IF(AND('Step 2 - Naturalized'!$AC$18=\"X\",AQ23=\"X\"),1,0)","v":0},"X",{"$f":"IF(AND('Step 2 - Naturalized'!$AD$18=\"X\",AS23=\"X\"),1,0)","v":0},null,{"$f":"IF(AND('Step 2 - Naturalized'!$AE$18=\"X\",AU23=\"X\"),1,0)","v":0},null,{"$f":"IF(AND('Step 2 - Naturalized'!$AA$17=\"X\",AW23=\"X\"),1,0)","v":0},"X",{"$f":"IF(AND('Step 2 - Naturalized'!$AB$17=\"X\",AY23=\"X\"),1,0)","v":0},"X",{"$f":"IF(AND('Step 2 - Naturalized'!$AC$17=\"X\",BA23=\"X\"),1,0)","v":0},"X",{"$f":"IF(AND('Step 2 - Naturalized'!$AA$22=\"X\",BC23=\"X\"),1,0)","v":0},null,{"$f":"IF(AND('Step 2 - Naturalized'!$AB$22=\"X\",BE23=\"X\"),1,0)","v":0},"X",{"$f":"IF(AND('Step 2 - Naturalized'!$AC$22=\"X\",BG23=\"X\"),1,0)","v":0},"X",{"$f":"IF(AND('Step 2 - Naturalized'!$AD$22=\"X\",BI23=\"X\"),1,0)","v":0},"X"]
[null,1,"CA BV","Carex brevior","Plains Oval Sedge","10\" O.C.","short 12\" sedge",null,"X","X","X","X",null,1,"X",{"$f":"IF(AND('Step 2 - Naturalized'!$AA$21=\"X\",Q24=\"X\"),1,0)","v":0},null,{"$f":"IF(AND('Step 2 - Naturalized'!$AB$21=\"X\",S24=\"X\"),1,0)","v":0},null,{"$f":"IF(AND('Step 2 - Naturalized'!$AC$21=\"X\",U24=\"X\"),1,0)","v":0},null,{"$f":"IF(AND('Step 2 - Naturalized'!$AA$19=\"X\",W24=\"X\"),1,0)","v":0},"X",{"$f":"IF(AND('Step 2 - Naturalized'!$AA$19=\"X\",Y24=\"X\"),1,0)","v":0},null,{"$f":"IF(AND('Step 2 - Naturalized'!$AB$19=\"X\",AA24=\"X\"),1,0)","v":0},null,{"$f":"IF(AND('Step 2 - Naturalized'!$AC$19=\"X\",AC24=\"X\"),1,0)","v":0},null,{"$f":"IF(AND('Step 2 - Naturalized'!$AA$20=\"X\",AE24=\"X\"),1,0)","v":0},"X",{"$f":"IF(AND('Step 2 - Naturalized'!$AA$20=\"X\",AG24=\"X\"),1,0)","v":0},null,{"$f":"IF(AND('Step 2 - Naturalized'!$AB$20=\"X\",AI24=\"X\"),1,0)","v":0},null,{"$f":"IF(AND('Step 2 - Naturalized'!$AC$20=\"X\",AK24=\"X\"),1,0)","v":0},null,{"$f":"IF(AND('Step 2 - Naturalized'!$AA$18=\"X\",AM24=\"X\"),1,0)","v":0},"X",{"$f":"IF(AND('Step 2 - Naturalized'!$AB$18=\"X\",AO24=\"X\"),1,0)","v":0},"X",{"$f":"IF(AND('Step 2 - Naturalized'!$AC$18=\"X\",AQ24=\"X\"),1,0)","v":0},"X",{"$f":"IF(AND('Step 2 - Naturalized'!$AD$18=\"X\",AS24=\"X\"),1,0)","v":0},null,{"$f":"IF(AND('Step 2 - Naturalized'!$AE$18=\"X\",AU24=\"X\"),1,0)","v":0},null,{"$f":"IF(AND('Step 2 - Naturalized'!$AA$17=\"X\",AW24=\"X\"),1,0)","v":0},"X",{"$f":"IF(AND('Step 2 - Naturalized'!$AB$17=\"X\",AY24=\"X\"),1,0)","v":0},"X",{"$f":"IF(AND('Step 2 - Naturalized'!$AC$17=\"X\",BA24=\"X\"),1,0)","v":0},"X",{"$f":"IF(AND('Step 2 - Naturalized'!$AA$22=\"X\",BC24=\"X\"),1,0)","v":0},null,{"$f":"IF(AND('Step 2 - Naturalized'!$AB$22=\"X\",BE24=\"X\"),1,0)","v":0},"X",{"$f":"IF(AND('Step 2 - Naturalized'!$AC$22=\"X\",BG24=\"X\"),1,0)","v":0},"X",{"$f":"IF(AND('Step 2 - Naturalized'!$AD$22=\"X\",BI24=\"X\"),1,0)","v":0},"X"]
[null,1,"CA BR","Carex bromoides","Brome-Like Sedge","18\" O.C. ","8\"-12\" tall, prefers moist soil, tolerates partial shade",null,"X","X",null,null,null,1,"X",{"$f":"IF(AND('Step 2 - Naturalized'!$AA$21=\"X\",Q25=\"X\"),1,0)","v":0},null,{"$f":"IF(AND('Step 2 - Naturalized'!$AB$21=\"X\",S25=\"X\"),1,0)","v":0},null,{"$f":"IF(AND('Step 2 - Naturalized'!$AC$21=\"X\",U25=\"X\"),1,0)","v":0},null,{"$f":"IF(AND('Step 2 - Naturalized'!$AA$19=\"X\",W25=\"X\"),1,0)","v":0},"X",{"$f":"IF(AND('Step 2 - Naturalized'!$AA$19=\"X\",Y25=\"X\"),1,0)","v":0},null,{"$f":"IF(AND('Step 2 - Naturalized'!$AB$19=\"X\",AA25=\"X\"),1,0)","v":0},null,{"$f":"IF(AND('Step 2 - Naturalized'!$AC$19=\"X\",AC25=\"X\"),1,0)","v":0},null,{"$f":"IF(AND('Step 2 - Naturalized'!$AA$20=\"X\",AE25=\"X\"),1,0)","v":0},null,{"$f":"IF(AND('Step 2 - Naturalized'!$AA$20=\"X\",AG25=\"X\"),1,0)","v":0},"X",{"$f":"IF(AND('Step 2 - Naturalized'!$AB$20=\"X\",AI25=\"X\"),1,0)","v":0},"X",{"$f":"IF(AND('Step 2 - Naturalized'!$AC$20=\"X\",AK25=\"X\"),1,0)","v":0},null,{"$f":"IF(AND('Step 2 - Naturalized'!$AA$18=\"X\",AM25=\"X\"),1,0)","v":0},null,{"$f":"IF(AND('Step 2 - Naturalized'!$AB$18=\"X\",AO25=\"X\"),1,0)","v":0},"X",{"$f":"IF(AND('Step 2 - Naturalized'!$AC$18=\"X\",AQ25=\"X\"),1,0)","v":0},"X",{"$f":"IF(AND('Step 2 - Naturalized'!$AD$18=\"X\",AS25=\"X\"),1,0)","v":0},null,{"$f":"IF(AND('Step 2 - Naturalized'!$AE$18=\"X\",AU25=\"X\"),1,0)","v":0},null,{"$f":"IF(AND('Step 2 - Naturalized'!$AA$17=\"X\",AW25=\"X\"),1,0)","v":0},"X",{"$f":"IF(AND('Step 2 - Naturalized'!$AB$17=\"X\",AY25=\"X\"),1,0)","v":0},"X",{"$f":"IF(AND('Step 2 - Naturalized'!$AC$17=\"X\",BA25=\"X\"),1,0)","v":0},null,{"$f":"IF(AND('Step 2 - Naturalized'!$AA$22=\"X\",BC25=\"X\"),1,0)","v":0},null,{"$f":"IF(AND('Step 2 - Naturalized'!$AB$22=\"X\",BE25=\"X\"),1,0)","v":0},"X",{"$f":"IF(AND('Step 2 - Naturalized'!$AC$22=\"X\",BG25=\"X\"),1,0)","v":0},"X",{"$f":"IF(AND('Step 2 - Naturalized'!$AD$22=\"X\",BI25=\"X\"),1,0)","v":0},"X"]
[null,1,"CA CO","Carex comosa","Bristly Sedge, Bottlebrush Sedge","24\" O.C.","Tall Sedge (2'-3' tall) for full to part sun in wet or emergent conditions"," ","X","X","X","X",null,0,null,{"$f":"IF(AND('Step 2 - Naturalized'!$AA$21=\"X\",Q26=\"X\"),1,0)","v":0},"X",{"$f":"IF(AND('Step 2 - Naturalized'!$AB$21=\"X\",S26=\"X\"),1,0)","v":0},"X",{"$f":"IF(AND('Step 2 - Naturalized'!$AC$21=\"X\",U26=\"X\"),1,0)","v":0},null,{"$f":"IF(AND('Step 2 - Naturalized'!$AA$19=\"X\",W26=\"X\"),1,0)","v":0},null,{"$f":"IF(AND('Step 2 - Naturalized'!$AA$19=\"X\",Y26=\"X\"),1,0)","v":0},"X",{"$f":"IF(AND('Step 2 - Naturalized'!$AB$19=\"X\",AA26=\"X\"),1,0)","v":0},null,{"$f":"IF(AND('Step 2 - Naturalized'!$AC$19=\"X\",AC26=\"X\"),1,0)","v":0},null,{"$f":"IF(AND('Step 2 - Naturalized'!$AA$20=\"X\",AE26=\"X\"),1,0)","v":0},null,{"$f":"IF(AND('Step 2 - Naturalized'!$AA$20=\"X\",AG26=\"X\"),1,0)","v":0},"X",{"$f":"IF(AND('Step 2 - Naturalized'!$AB$20=\"X\",AI26=\"X\"),1,0)","v":0},"X",{"$f":"IF(AND('Step 2 - Naturalized'!$AC$20=\"X\",AK26=\"X\"),1,0)","v":0},null,{"$f":"IF(AND('Step 2 - Naturalized'!$AA$18=\"X\",AM26=\"X\"),1,0)","v":0},null,{"$f":"IF(AND('Step 2 - Naturalized'!$AB$18=\"X\",AO26=\"X\"),1,0)","v":0},null,{"$f":"IF(AND('Step 2 - Naturalized'!$AC$18=\"X\",AQ26=\"X\"),1,0)","v":0},"X",{"$f":"IF(AND('Step 2 - Naturalized'!$AD$18=\"X\",AS26=\"X\"),1,0)","v":0},"X",{"$f":"IF(AND('Step 2 - Naturalized'!$AE$18=\"X\",AU26=\"X\"),1,0)","v":0},null,{"$f":"IF(AND('Step 2 - Naturalized'!$AA$17=\"X\",AW26=\"X\"),1,0)","v":0},"X",{"$f":"IF(AND('Step 2 - Naturalized'!$AB$17=\"X\",AY26=\"X\"),1,0)","v":0},"X",{"$f":"IF(AND('Step 2 - Naturalized'!$AC$17=\"X\",BA26=\"X\"),1,0)","v":0},null,{"$f":"IF(AND('Step 2 - Naturalized'!$AA$22=\"X\",BC26=\"X\"),1,0)","v":0},null,{"$f":"IF(AND('Step 2 - Naturalized'!$AB$22=\"X\",BE26=\"X\"),1,0)","v":0},null,{"$f":"IF(AND('Step 2 - Naturalized'!$AC$22=\"X\",BG26=\"X\"),1,0)","v":0},"X",{"$f":"IF(AND('Step 2 - Naturalized'!$AD$22=\"X\",BI26=\"X\"),1,0)","v":0},"X"]
[null,1,"CA CR","Carex cristatella","Crested Oval Sedge","18\" O.C.","1'-3' tall Sedge for wet areas, will spread by rhizomes",null,"X","X","X",null,null,0,null,{"$f":"IF(AND('Step 2 - Naturalized'!$AA$21=\"X\",Q27=\"X\"),1,0)","v":0},"X",{"$f":"IF(AND('Step 2 - Naturalized'!$AB$21=\"X\",S27=\"X\"),1,0)","v":0},"X",{"$f":"IF(AND('Step 2 - Naturalized'!$AC$21=\"X\",U27=\"X\"),1,0)","v":0},null,{"$f":"IF(AND('Step 2 - Naturalized'!$AA$19=\"X\",W27=\"X\"),1,0)","v":0},null,{"$f":"IF(AND('Step 2 - Naturalized'!$AA$19=\"X\",Y27=\"X\"),1,0)","v":0},"X",{"$f":"IF(AND('Step 2 - Naturalized'!$AB$19=\"X\",AA27=\"X\"),1,0)","v":0},null,{"$f":"IF(AND('Step 2 - Naturalized'!$AC$19=\"X\",AC27=\"X\"),1,0)","v":0},null,{"$f":"IF(AND('Step 2 - Naturalized'!$AA$20=\"X\",AE27=\"X\"),1,0)","v":0},null,{"$f":"IF(AND('Step 2 - Naturalized'!$AA$20=\"X\",AG27=\"X\"),1,0)","v":0},"X",{"$f":"IF(AND('Step 2 - Naturalized'!$AB$20=\"X\",AI27=\"X\"),1,0)","v":0},null,{"$f":"IF(AND('Step 2 - Naturalized'!$AC$20=\"X\",AK27=\"X\"),1,0)","v":0},null,{"$f":"IF(AND('Step 2 - Naturalized'!$AA$18=\"X\",AM27=\"X\"),1,0)","v":0},null,{"$f":"IF(AND('Step 2 - Naturalized'!$AB$18=\"X\",AO27=\"X\"),1,0)","v":0},"X",{"$f":"IF(AND('Step 2 - Naturalized'!$AC$18=\"X\",AQ27=\"X\"),1,0)","v":0},"X",{"$f":"IF(AND('Step 2 - Naturalized'!$AD$18=\"X\",AS27=\"X\"),1,0)","v":0},"X",{"$f":"IF(AND('Step 2 - Naturalized'!$AE$18=\"X\",AU27=\"X\"),1,0)","v":0},null,{"$f":"IF(AND('Step 2 - Naturalized'!$AA$17=\"X\",AW27=\"X\"),1,0)","v":0},"X",{"$f":"IF(AND('Step 2 - Naturalized'!$AB$17=\"X\",AY27=\"X\"),1,0)","v":0},"X",{"$f":"IF(AND('Step 2 - Naturalized'!$AC$17=\"X\",BA27=\"X\"),1,0)","v":0},null,{"$f":"IF(AND('Step 2 - Naturalized'!$AA$22=\"X\",BC27=\"X\"),1,0)","v":0},null,{"$f":"IF(AND('Step 2 - Naturalized'!$AB$22=\"X\",BE27=\"X\"),1,0)","v":0},null,{"$f":"IF(AND('Step 2 - Naturalized'!$AC$22=\"X\",BG27=\"X\"),1,0)","v":0},"X",{"$f":"IF(AND('Step 2 - Naturalized'!$AD$22=\"X\",BI27=\"X\"),1,0)","v":0},"X"]
[null,1,"CA GR","Carex granularis","Limestone Meadow Sedge","24\" O.C.","6\"-24\" tall sedge for moist, alkaline locations",null,"X","X",null,null,null,0,null,{"$f":"IF(AND('Step 2 - Naturalized'!$AA$21=\"X\",Q28=\"X\"),1,0)","v":0},"X",{"$f":"IF(AND('Step 2 - Naturalized'!$AB$21=\"X\",S28=\"X\"),1,0)","v":0},"X",{"$f":"IF(AND('Step 2 - Naturalized'!$AC$21=\"X\",U28=\"X\"),1,0)","v":0},null,{"$f":"IF(AND('Step 2 - Naturalized'!$AA$19=\"X\",W28=\"X\"),1,0)","v":0},"X",{"$f":"IF(AND('Step 2 - Naturalized'!$AA$19=\"X\",Y28=\"X\"),1,0)","v":0},null,{"$f":"IF(AND('Step 2 - Naturalized'!$AB$19=\"X\",AA28=\"X\"),1,0)","v":0},null,{"$f":"IF(AND('Step 2 - Naturalized'!$AC$19=\"X\",AC28=\"X\"),1,0)","v":0},null,{"$f":"IF(AND('Step 2 - Naturalized'!$AA$20=\"X\",AE28=\"X\"),1,0)","v":0},null,{"$f":"IF(AND('Step 2 - Naturalized'!$AA$20=\"X\",AG28=\"X\"),1,0)","v":0},"X",{"$f":"IF(AND('Step 2 - Naturalized'!$AB$20=\"X\",AI28=\"X\"),1,0)","v":0},"X",{"$f":"IF(AND('Step 2 - Naturalized'!$AC$20=\"X\",AK28=\"X\"),1,0)","v":0},null,{"$f":"IF(AND('Step 2 - Naturalized'!$AA$18=\"X\",AM28=\"X\"),1,0)","v":0},null,{"$f":"IF(AND('Step 2 - Naturalized'!$AB$18=\"X\",AO28=\"X\"),1,0)","v":0},"X",{"$f":"IF(AND('Step 2 - Naturalized'!$AC$18=\"X\",AQ28=\"X\"),1,0)","v":0},"X",{"$f":"IF(AND('Step 2 - Naturalized'!$AD$18=\"X\",AS28=\"X\"),1,0)","v":0},null,{"$f":"IF(AND('Step 2 - Naturalized'!$AE$18=\"X\",AU28=\"X\"),1,0)","v":0},null,{"$f":"IF(AND('Step 2 - Naturalized'!$AA$17=\"X\",AW28=\"X\"),1,0)","v":0},"X",{"$f":"IF(AND('Step 2 - Naturalized'!$AB$17=\"X\",AY28=\"X\"),1,0)","v":0},"X",{"$f":"IF(AND('Step 2 - Naturalized'!$AC$17=\"X\",BA28=\"X\"),1,0)","v":0},null,{"$f":"IF(AND('Step 2 - Naturalized'!$AA$22=\"X\",BC28=\"X\"),1,0)","v":0},null,{"$f":"IF(AND('Step 2 - Naturalized'!$AB$22=\"X\",BE28=\"X\"),1,0)","v":0},null,{"$f":"IF(AND('Step 2 - Naturalized'!$AC$22=\"X\",BG28=\"X\"),1,0)","v":0},"X",{"$f":"IF(AND('Step 2 - Naturalized'!$AD$22=\"X\",BI28=\"X\"),1,0)","v":0},"X"]
[null,1,"CA GI","Carex grisea","Wood Gray Sedge","12\" O.C.","18\"-24\" tall sedge for moist, partial shade, native to open woodlands",null,"X","X",null,null,null,1,"X",{"$f":"IF(AND('Step 2 - Naturalized'!$AA$21=\"X\",Q29=\"X\"),1,0)","v":0},null,{"$f":"IF(AND('Step 2 - Naturalized'!$AB$21=\"X\",S29=\"X\"),1,0)","v":0},null,{"$f":"IF(AND('Step 2 - Naturalized'!$AC$21=\"X\",U29=\"X\"),1,0)","v":0},null,{"$f":"IF(AND('Step 2 - Naturalized'!$AA$19=\"X\",W29=\"X\"),1,0)","v":0},"X",{"$f":"IF(AND('Step 2 - Naturalized'!$AA$19=\"X\",Y29=\"X\"),1,0)","v":0},null,{"$f":"IF(AND('Step 2 - Naturalized'!$AB$19=\"X\",AA29=\"X\"),1,0)","v":0},null,{"$f":"IF(AND('Step 2 - Naturalized'!$AC$19=\"X\",AC29=\"X\"),1,0)","v":0},null,{"$f":"IF(AND('Step 2 - Naturalized'!$AA$20=\"X\",AE29=\"X\"),1,0)","v":0},null,{"$f":"IF(AND('Step 2 - Naturalized'!$AA$20=\"X\",AG29=\"X\"),1,0)","v":0},"X",{"$f":"IF(AND('Step 2 - Naturalized'!$AB$20=\"X\",AI29=\"X\"),1,0)","v":0},null,{"$f":"IF(AND('Step 2 - Naturalized'!$AC$20=\"X\",AK29=\"X\"),1,0)","v":0},null,{"$f":"IF(AND('Step 2 - Naturalized'!$AA$18=\"X\",AM29=\"X\"),1,0)","v":0},null,{"$f":"IF(AND('Step 2 - Naturalized'!$AB$18=\"X\",AO29=\"X\"),1,0)","v":0},"X",{"$f":"IF(AND('Step 2 - Naturalized'!$AC$18=\"X\",AQ29=\"X\"),1,0)","v":0},null,{"$f":"IF(AND('Step 2 - Naturalized'!$AD$18=\"X\",AS29=\"X\"),1,0)","v":0},null,{"$f":"IF(AND('Step 2 - Naturalized'!$AE$18=\"X\",AU29=\"X\"),1,0)","v":0},null,{"$f":"IF(AND('Step 2 - Naturalized'!$AA$17=\"X\",AW29=\"X\"),1,0)","v":0},"X",{"$f":"IF(AND('Step 2 - Naturalized'!$AB$17=\"X\",AY29=\"X\"),1,0)","v":0},"X",{"$f":"IF(AND('Step 2 - Naturalized'!$AC$17=\"X\",BA29=\"X\"),1,0)","v":0},null,{"$f":"IF(AND('Step 2 - Naturalized'!$AA$22=\"X\",BC29=\"X\"),1,0)","v":0},null,{"$f":"IF(AND('Step 2 - Naturalized'!$AB$22=\"X\",BE29=\"X\"),1,0)","v":0},null,{"$f":"IF(AND('Step 2 - Naturalized'!$AC$22=\"X\",BG29=\"X\"),1,0)","v":0},"X",{"$f":"IF(AND('Step 2 - Naturalized'!$AD$22=\"X\",BI29=\"X\"),1,0)","v":0},"X"]
[null,1,"CA HY","Carex hystericina","Bottlebrush Sedge, Porcupine Sedge","18\" O.C.","36\" tall fine-leaved sedge for wet soils in full sun",null,"X","X",null,null,null,0,null,{"$f":"IF(AND('Step 2 - Naturalized'!$AA$21=\"X\",Q30=\"X\"),1,0)","v":0}," ",{"$f":"IF(AND('Step 2 - Naturalized'!$AB$21=\"X\",S30=\"X\"),1,0)","v":0},"X",{"$f":"IF(AND('Step 2 - Naturalized'!$AC$21=\"X\",U30=\"X\"),1,0)","v":0},"X",{"$f":"IF(AND('Step 2 - Naturalized'!$AA$19=\"X\",W30=\"X\"),1,0)","v":0},null,{"$f":"IF(AND('Step 2 - Naturalized'!$AA$19=\"X\",Y30=\"X\"),1,0)","v":0},"X",{"$f":"IF(AND('Step 2 - Naturalized'!$AB$19=\"X\",AA30=\"X\"),1,0)","v":0},"X",{"$f":"IF(AND('Step 2 - Naturalized'!$AC$19=\"X\",AC30=\"X\"),1,0)","v":0},null,{"$f":"IF(AND('Step 2 - Naturalized'!$AA$20=\"X\",AE30=\"X\"),1,0)","v":0},null,{"$f":"IF(AND('Step 2 - Naturalized'!$AA$20=\"X\",AG30=\"X\"),1,0)","v":0},"X",{"$f":"IF(AND('Step 2 - Naturalized'!$AB$20=\"X\",AI30=\"X\"),1,0)","v":0},"X",{"$f":"IF(AND('Step 2 - Naturalized'!$AC$20=\"X\",AK30=\"X\"),1,0)","v":0},null,{"$f":"IF(AND('Step 2 - Naturalized'!$AA$18=\"X\",AM30=\"X\"),1,0)","v":0},null,{"$f":"IF(AND('Step 2 - Naturalized'!$AB$18=\"X\",AO30=\"X\"),1,0)","v":0},"X",{"$f":"IF(AND('Step 2 - Naturalized'!$AC$18=\"X\",AQ30=\"X\"),1,0)","v":0},"X",{"$f":"IF(AND('Step 2 - Naturalized'!$AD$18=\"X\",AS30=\"X\"),1,0)","v":0},"X",{"$f":"IF(AND('Step 2 - Naturalized'!$AE$18=\"X\",AU30=\"X\"),1,0)","v":0},null,{"$f":"IF(AND('Step 2 - Naturalized'!$AA$17=\"X\",AW30=\"X\"),1,0)","v":0},"X",{"$f":"IF(AND('Step 2 - Naturalized'!$AB$17=\"X\",AY30=\"X\"),1,0)","v":0},null,{"$f":"IF(AND('Step 2 - Naturalized'!$AC$17=\"X\",BA30=\"X\"),1,0)","v":0},null,{"$f":"IF(AND('Step 2 - Naturalized'!$AA$22=\"X\",BC30=\"X\"),1,0)","v":0},null,{"$f":"IF(AND('Step 2 - Naturalized'!$AB$22=\"X\",BE30=\"X\"),1,0)","v":0},null,{"$f":"IF(AND('Step 2 - Naturalized'!$AC$22=\"X\",BG30=\"X\"),1,0)","v":0},"X",{"$f":"IF(AND('Step 2 - Naturalized'!$AD$22=\"X\",BI30=\"X\"),1,0)","v":0},"X"]
[null,1,"CA NO","Carex normalis","Greater Straw Sedge, Spreading Oval Sedge, Troublesome Sedge","24\" O.C.","Larger sedge (2'-3' tall) for wet soils in part to full shade, plants need regular moisture for full sun"," ","X","X","X",null,null,1,"X",{"$f":"IF(AND('Step 2 - Naturalized'!$AA$21=\"X\",Q31=\"X\"),1,0)","v":0},null,{"$f":"IF(AND('Step 2 - Naturalized'!$AB$21=\"X\",S31=\"X\"),1,0)","v":0},null,{"$f":"IF(AND('Step 2 - Naturalized'!$AC$21=\"X\",U31=\"X\"),1,0)","v":0},null,{"$f":"IF(AND('Step 2 - Naturalized'!$AA$19=\"X\",W31=\"X\"),1,0)","v":0},"X",{"$f":"IF(AND('Step 2 - Naturalized'!$AA$19=\"X\",Y31=\"X\"),1,0)","v":0},null,{"$f":"IF(AND('Step 2 - Naturalized'!$AB$19=\"X\",AA31=\"X\"),1,0)","v":0},null,{"$f":"IF(AND('Step 2 - Naturalized'!$AC$19=\"X\",AC31=\"X\"),1,0)","v":0},null,{"$f":"IF(AND('Step 2 - Naturalized'!$AA$20=\"X\",AE31=\"X\"),1,0)","v":0},null,{"$f":"IF(AND('Step 2 - Naturalized'!$AA$20=\"X\",AG31=\"X\"),1,0)","v":0},"X",{"$f":"IF(AND('Step 2 - Naturalized'!$AB$20=\"X\",AI31=\"X\"),1,0)","v":0},"X",{"$f":"IF(AND('Step 2 - Naturalized'!$AC$20=\"X\",AK31=\"X\"),1,0)","v":0},null,{"$f":"IF(AND('Step 2 - Naturalized'!$AA$18=\"X\",AM31=\"X\"),1,0)","v":0},null,{"$f":"IF(AND('Step 2 - Naturalized'!$AB$18=\"X\",AO31=\"X\"),1,0)","v":0},"X",{"$f":"IF(AND('Step 2 - Naturalized'!$AC$18=\"X\",AQ31=\"X\"),1,0)","v":0},"X",{"$f":"IF(AND('Step 2 - Naturalized'!$AD$18=\"X\",AS31=\"X\"),1,0)","v":0},null,{"$f":"IF(AND('Step 2 - Naturalized'!$AE$18=\"X\",AU31=\"X\"),1,0)","v":0},null,{"$f":"IF(AND('Step 2 - Naturalized'!$AA$17=\"X\",AW31=\"X\"),1,0)","v":0},null,{"$f":"IF(AND('Step 2 - Naturalized'!$AB$17=\"X\",AY31=\"X\"),1,0)","v":0},"X",{"$f":"IF(AND('Step 2 - Naturalized'!$AC$17=\"X\",BA31=\"X\"),1,0)","v":0},"X",{"$f":"IF(AND('Step 2 - Naturalized'!$AA$22=\"X\",BC31=\"X\"),1,0)","v":0},null,{"$f":"IF(AND('Step 2 - Naturalized'!$AB$22=\"X\",BE31=\"X\"),1,0)","v":0},null,{"$f":"IF(AND('Step 2 - Naturalized'!$AC$22=\"X\",BG31=\"X\"),1,0)","v":0},"X",{"$f":"IF(AND('Step 2 - Naturalized'!$AD$22=\"X\",BI31=\"X\"),1,0)","v":0},"X"]
[null,1,"CA PE","Carex pellita","Wolly Sedge","18\" O.C.","36\" tall broad-leaved sedge for alkaline, wet soils",null,"X","X",null,null,null,1,"X",{"$f":"IF(AND('Step 2 - Naturalized'!$AA$21=\"X\",Q32=\"X\"),1,0)","v":0},null,{"$f":"IF(AND('Step 2 - Naturalized'!$AB$21=\"X\",S32=\"X\"),1,0)","v":0},null,{"$f":"IF(AND('Step 2 - Naturalized'!$AC$21=\"X\",U32=\"X\"),1,0)","v":0},null,{"$f":"IF(AND('Step 2 - Naturalized'!$AA$19=\"X\",W32=\"X\"),1,0)","v":0},"X",{"$f":"IF(AND('Step 2 - Naturalized'!$AA$19=\"X\",Y32=\"X\"),1,0)","v":0},null,{"$f":"IF(AND('Step 2 - Naturalized'!$AB$19=\"X\",AA32=\"X\"),1,0)","v":0},null,{"$f":"IF(AND('Step 2 - Naturalized'!$AC$19=\"X\",AC32=\"X\"),1,0)","v":0},null,{"$f":"IF(AND('Step 2 - Naturalized'!$AA$20=\"X\",AE32=\"X\"),1,0)","v":0},null,{"$f":"IF(AND('Step 2 - Naturalized'!$AA$20=\"X\",AG32=\"X\"),1,0)","v":0},"X",{"$f":"IF(AND('Step 2 - Naturalized'!$AB$20=\"X\",AI32=\"X\"),1,0)","v":0},"X",{"$f":"IF(AND('Step 2 - Naturalized'!$AC$20=\"X\",AK32=\"X\"),1,0)","v":0},null,{"$f":"IF(AND('Step 2 - Naturalized'!$AA$18=\"X\",AM32=\"X\"),1,0)","v":0},null,{"$f":"IF(AND('Step 2 - Naturalized'!$AB$18=\"X\",AO32=\"X\"),1,0)","v":0},null,{"$f":"IF(AND('Step 2 - Naturalized'!$AC$18=\"X\",AQ32=\"X\"),1,0)","v":0},"X",{"$f":"IF(AND('Step 2 - Naturalized'!$AD$18=\"X\",AS32=\"X\"),1,0)","v":0},null,{"$f":"IF(AND('Step 2 - Naturalized'!$AE$18=\"X\",AU32=\"X\"),1,0)","v":0},null,{"$f":"IF(AND('Step 2 - Naturalized'!$AA$17=\"X\",AW32=\"X\"),1,0)","v":0},"X",{"$f":"IF(AND('Step 2 - Naturalized'!$AB$17=\"X\",AY32=\"X\"),1,0)","v":0},"X",{"$f":"IF(AND('Step 2 - Naturalized'!$AC$17=\"X\",BA32=\"X\"),1,0)","v":0},null,{"$f":"IF(AND('Step 2 - Naturalized'!$AA$22=\"X\",BC32=\"X\"),1,0)","v":0},null,{"$f":"IF(AND('Step 2 - Naturalized'!$AB$22=\"X\",BE32=\"X\"),1,0)","v":0},null,{"$f":"IF(AND('Step 2 - Naturalized'!$AC$22=\"X\",BG32=\"X\"),1,0)","v":0},"X",{"$f":"IF(AND('Step 2 - Naturalized'!$AD$22=\"X\",BI32=\"X\"),1,0)","v":0},"X"]
[null,1,"CA SC","Carex scoparia","Pointed Broom Sedge, Lance-fruited oval sedge","24\" O.C.","Medium sized sedge (1'-3' tall/wide) for moist to wet soils in full sun",null,"X","X",null,null,null,1,"X",{"$f":"IF(AND('Step 2 - Naturalized'!$AA$21=\"X\",Q33=\"X\"),1,0)","v":0},null,{"$f":"IF(AND('Step 2 - Naturalized'!$AB$21=\"X\",S33=\"X\"),1,0)","v":0},null,{"$f":"IF(AND('Step 2 - Naturalized'!$AC$21=\"X\",U33=\"X\"),1,0)","v":0},null,{"$f":"IF(AND('Step 2 - Naturalized'!$AA$19=\"X\",W33=\"X\"),1,0)","v":0},"X",{"$f":"IF(AND('Step 2 - Naturalized'!$AA$19=\"X\",Y33=\"X\"),1,0)","v":0},null,{"$f":"IF(AND('Step 2 - Naturalized'!$AB$19=\"X\",AA33=\"X\"),1,0)","v":0},null,{"$f":"IF(AND('Step 2 - Naturalized'!$AC$19=\"X\",AC33=\"X\"),1,0)","v":0},null,{"$f":"IF(AND('Step 2 - Naturalized'!$AA$20=\"X\",AE33=\"X\"),1,0)","v":0},null,{"$f":"IF(AND('Step 2 - Naturalized'!$AA$20=\"X\",AG33=\"X\"),1,0)","v":0},"X",{"$f":"IF(AND('Step 2 - Naturalized'!$AB$20=\"X\",AI33=\"X\"),1,0)","v":0},"X",{"$f":"IF(AND('Step 2 - Naturalized'!$AC$20=\"X\",AK33=\"X\"),1,0)","v":0},null,{"$f":"IF(AND('Step 2 - Naturalized'!$AA$18=\"X\",AM33=\"X\"),1,0)","v":0},null,{"$f":"IF(AND('Step 2 - Naturalized'!$AB$18=\"X\",AO33=\"X\"),1,0)","v":0},"X",{"$f":"IF(AND('Step 2 - Naturalized'!$AC$18=\"X\",AQ33=\"X\"),1,0)","v":0},"X",{"$f":"IF(AND('Step 2 - Naturalized'!$AD$18=\"X\",AS33=\"X\"),1,0)","v":0},null,{"$f":"IF(AND('Step 2 - Naturalized'!$AE$18=\"X\",AU33=\"X\"),1,0)","v":0},null,{"$f":"IF(AND('Step 2 - Naturalized'!$AA$17=\"X\",AW33=\"X\"),1,0)","v":0},"X",{"$f":"IF(AND('Step 2 - Naturalized'!$AB$17=\"X\",AY33=\"X\"),1,0)","v":0},null,{"$f":"IF(AND('Step 2 - Naturalized'!$AC$17=\"X\",BA33=\"X\"),1,0)","v":0},null,{"$f":"IF(AND('Step 2 - Naturalized'!$AA$22=\"X\",BC33=\"X\"),1,0)","v":0},null,{"$f":"IF(AND('Step 2 - Naturalized'!$AB$22=\"X\",BE33=\"X\"),1,0)","v":0},null,{"$f":"IF(AND('Step 2 - Naturalized'!$AC$22=\"X\",BG33=\"X\"),1,0)","v":0},"X",{"$f":"IF(AND('Step 2 - Naturalized'!$AD$22=\"X\",BI33=\"X\"),1,0)","v":0},"X"]
[null,1,"CA SG","Carex sprengelii","Long-beaked Sedge","12\" O.C.","Tall 18\"-24\" native sedge with an ornamental seed head and clump forming nature"," ","X","X","X",null,null,1,"X",{"$f":"IF(AND('Step 2 - Naturalized'!$AA$21=\"X\",Q34=\"X\"),1,0)","v":0},null,{"$f":"IF(AND('Step 2 - Naturalized'!$AB$21=\"X\",S34=\"X\"),1,0)","v":0},null,{"$f":"IF(AND('Step 2 - Naturalized'!$AC$21=\"X\",U34=\"X\"),1,0)","v":0},null,{"$f":"IF(AND('Step 2 - Naturalized'!$AA$19=\"X\",W34=\"X\"),1,0)","v":0},"X",{"$f":"IF(AND('Step 2 - Naturalized'!$AA$19=\"X\",Y34=\"X\"),1,0)","v":0},null,{"$f":"IF(AND('Step 2 - Naturalized'!$AB$19=\"X\",AA34=\"X\"),1,0)","v":0},null,{"$f":"IF(AND('Step 2 - Naturalized'!$AC$19=\"X\",AC34=\"X\"),1,0)","v":0},null,{"$f":"IF(AND('Step 2 - Naturalized'!$AA$20=\"X\",AE34=\"X\"),1,0)","v":0},null,{"$f":"IF(AND('Step 2 - Naturalized'!$AA$20=\"X\",AG34=\"X\"),1,0)","v":0},"X",{"$f":"IF(AND('Step 2 - Naturalized'!$AB$20=\"X\",AI34=\"X\"),1,0)","v":0},null,{"$f":"IF(AND('Step 2 - Naturalized'!$AC$20=\"X\",AK34=\"X\"),1,0)","v":0},null,{"$f":"IF(AND('Step 2 - Naturalized'!$AA$18=\"X\",AM34=\"X\"),1,0)","v":0},null,{"$f":"IF(AND('Step 2 - Naturalized'!$AB$18=\"X\",AO34=\"X\"),1,0)","v":0},"X",{"$f":"IF(AND('Step 2 - Naturalized'!$AC$18=\"X\",AQ34=\"X\"),1,0)","v":0},"X",{"$f":"IF(AND('Step 2 - Naturalized'!$AD$18=\"X\",AS34=\"X\"),1,0)","v":0},null,{"$f":"IF(AND('Step 2 - Naturalized'!$AE$18=\"X\",AU34=\"X\"),1,0)","v":0},null,{"$f":"IF(AND('Step 2 - Naturalized'!$AA$17=\"X\",AW34=\"X\"),1,0)","v":0},null,{"$f":"IF(AND('Step 2 - Naturalized'!$AB$17=\"X\",AY34=\"X\"),1,0)","v":0},"X",{"$f":"IF(AND('Step 2 - Naturalized'!$AC$17=\"X\",BA34=\"X\"),1,0)","v":0},"X",{"$f":"IF(AND('Step 2 - Naturalized'!$AA$22=\"X\",BC34=\"X\"),1,0)","v":0},null,{"$f":"IF(AND('Step 2 - Naturalized'!$AB$22=\"X\",BE34=\"X\"),1,0)","v":0},null,{"$f":"IF(AND('Step 2 - Naturalized'!$AC$22=\"X\",BG34=\"X\"),1,0)","v":0},"X",{"$f":"IF(AND('Step 2 - Naturalized'!$AD$22=\"X\",BI34=\"X\"),1,0)","v":0},"X"]
[null,1,"CA ST","Carex stipata","Fox Sedge, Awl Fruit Sedge, Prickly Sedge","18\" O.C.","36\" tall Quick establishing sedge for wet soils, golden yellow seedheads"," ","X","X","X",null,null,0,null,{"$f":"IF(AND('Step 2 - Naturalized'!$AA$21=\"X\",Q35=\"X\"),1,0)","v":0},"X",{"$f":"IF(AND('Step 2 - Naturalized'!$AB$21=\"X\",S35=\"X\"),1,0)","v":0},"X",{"$f":"IF(AND('Step 2 - Naturalized'!$AC$21=\"X\",U35=\"X\"),1,0)","v":0},"X",{"$f":"IF(AND('Step 2 - Naturalized'!$AA$19=\"X\",W35=\"X\"),1,0)","v":0},null,{"$f":"IF(AND('Step 2 - Naturalized'!$AA$19=\"X\",Y35=\"X\"),1,0)","v":0},"X",{"$f":"IF(AND('Step 2 - Naturalized'!$AB$19=\"X\",AA35=\"X\"),1,0)","v":0},"X",{"$f":"IF(AND('Step 2 - Naturalized'!$AC$19=\"X\",AC35=\"X\"),1,0)","v":0},null,{"$f":"IF(AND('Step 2 - Naturalized'!$AA$20=\"X\",AE35=\"X\"),1,0)","v":0},null,{"$f":"IF(AND('Step 2 - Naturalized'!$AA$20=\"X\",AG35=\"X\"),1,0)","v":0},"X",{"$f":"IF(AND('Step 2 - Naturalized'!$AB$20=\"X\",AI35=\"X\"),1,0)","v":0},"X",{"$f":"IF(AND('Step 2 - Naturalized'!$AC$20=\"X\",AK35=\"X\"),1,0)","v":0},null,{"$f":"IF(AND('Step 2 - Naturalized'!$AA$18=\"X\",AM35=\"X\"),1,0)","v":0},null,{"$f":"IF(AND('Step 2 - Naturalized'!$AB$18=\"X\",AO35=\"X\"),1,0)","v":0},"X",{"$f":"IF(AND('Step 2 - Naturalized'!$AC$18=\"X\",AQ35=\"X\"),1,0)","v":0},"X",{"$f":"IF(AND('Step 2 - Naturalized'!$AD$18=\"X\",AS35=\"X\"),1,0)","v":0},null,{"$f":"IF(AND('Step 2 - Naturalized'!$AE$18=\"X\",AU35=\"X\"),1,0)","v":0},null,{"$f":"IF(AND('Step 2 - Naturalized'!$AA$17=\"X\",AW35=\"X\"),1,0)","v":0},"X",{"$f":"IF(AND('Step 2 - Naturalized'!$AB$17=\"X\",AY35=\"X\"),1,0)","v":0},"X",{"$f":"IF(AND('Step 2 - Naturalized'!$AC$17=\"X\",BA35=\"X\"),1,0)","v":0},null,{"$f":"IF(AND('Step 2 - Naturalized'!$AA$22=\"X\",BC35=\"X\"),1,0)","v":0},null,{"$f":"IF(AND('Step 2 - Naturalized'!$AB$22=\"X\",BE35=\"X\"),1,0)","v":0},null,{"$f":"IF(AND('Step 2 - Naturalized'!$AC$22=\"X\",BG35=\"X\"),1,0)","v":0},"X",{"$f":"IF(AND('Step 2 - Naturalized'!$AD$22=\"X\",BI35=\"X\"),1,0)","v":0},"X"]
[null,1,"CA VU","Carex vulpinoidea","Brown Fox Sedge","12\" O.C.","Tall 2'-3', Robust, Cool season clumping sedge",null,"X","X",null,null,null,0,null,{"$f":"IF(AND('Step 2 - Naturalized'!$AA$21=\"X\",Q36=\"X\"),1,0)","v":0},null,{"$f":"IF(AND('Step 2 - Naturalized'!$AB$21=\"X\",S36=\"X\"),1,0)","v":0},"X",{"$f":"IF(AND('Step 2 - Naturalized'!$AC$21=\"X\",U36=\"X\"),1,0)","v":0},"X",{"$f":"IF(AND('Step 2 - Naturalized'!$AA$19=\"X\",W36=\"X\"),1,0)","v":0},null,{"$f":"IF(AND('Step 2 - Naturalized'!$AA$19=\"X\",Y36=\"X\"),1,0)","v":0},"X",{"$f":"IF(AND('Step 2 - Naturalized'!$AB$19=\"X\",AA36=\"X\"),1,0)","v":0},"X",{"$f":"IF(AND('Step 2 - Naturalized'!$AC$19=\"X\",AC36=\"X\"),1,0)","v":0},null,{"$f":"IF(AND('Step 2 - Naturalized'!$AA$20=\"X\",AE36=\"X\"),1,0)","v":0},null,{"$f":"IF(AND('Step 2 - Naturalized'!$AA$20=\"X\",AG36=\"X\"),1,0)","v":0},"X",{"$f":"IF(AND('Step 2 - Naturalized'!$AB$20=\"X\",AI36=\"X\"),1,0)","v":0},"X",{"$f":"IF(AND('Step 2 - Naturalized'!$AC$20=\"X\",AK36=\"X\"),1,0)","v":0},null,{"$f":"IF(AND('Step 2 - Naturalized'!$AA$18=\"X\",AM36=\"X\"),1,0)","v":0},null,{"$f":"IF(AND('Step 2 - Naturalized'!$AB$18=\"X\",AO36=\"X\"),1,0)","v":0},"X",{"$f":"IF(AND('Step 2 - Naturalized'!$AC$18=\"X\",AQ36=\"X\"),1,0)","v":0},"X",{"$f":"IF(AND('Step 2 - Naturalized'!$AD$18=\"X\",AS36=\"X\"),1,0)","v":0},"X",{"$f":"IF(AND('Step 2 - Naturalized'!$AE$18=\"X\",AU36=\"X\"),1,0)","v":0},null,{"$f":"IF(AND('Step 2 - Naturalized'!$AA$17=\"X\",AW36=\"X\"),1,0)","v":0},"X",{"$f":"IF(AND('Step 2 - Naturalized'!$AB$17=\"X\",AY36=\"X\"),1,0)","v":0},"X",{"$f":"IF(AND('Step 2 - Naturalized'!$AC$17=\"X\",BA36=\"X\"),1,0)","v":0},null,{"$f":"IF(AND('Step 2 - Naturalized'!$AA$22=\"X\",BC36=\"X\"),1,0)","v":0},null,{"$f":"IF(AND('Step 2 - Naturalized'!$AB$22=\"X\",BE36=\"X\"),1,0)","v":0},null,{"$f":"IF(AND('Step 2 - Naturalized'!$AC$22=\"X\",BG36=\"X\"),1,0)","v":0},"X",{"$f":"IF(AND('Step 2 - Naturalized'!$AD$22=\"X\",BI36=\"X\"),1,0)","v":0},"X"]
[null,1,"EL CA","Elymus canadensis","Canada Wild Rye","24\" O.C.","2'-5' tall, Quickly establishing perennial, cool season, clump forming grass"," ","X","X",null,null,null,1,"X",{"$f":"IF(AND('Step 2 - Naturalized'!$AA$21=\"X\",Q37=\"X\"),1,0)","v":0},null,{"$f":"IF(AND('Step 2 - Naturalized'!$AB$21=\"X\",S37=\"X\"),1,0)","v":0},null,{"$f":"IF(AND('Step 2 - Naturalized'!$AC$21=\"X\",U37=\"X\"),1,0)","v":0},null,{"$f":"IF(AND('Step 2 - Naturalized'!$AA$19=\"X\",W37=\"X\"),1,0)","v":0},null,{"$f":"IF(AND('Step 2 - Naturalized'!$AA$19=\"X\",Y37=\"X\"),1,0)","v":0},"X",{"$f":"IF(AND('Step 2 - Naturalized'!$AB$19=\"X\",AA37=\"X\"),1,0)","v":0},"X",{"$f":"IF(AND('Step 2 - Naturalized'!$AC$19=\"X\",AC37=\"X\"),1,0)","v":0},"X",{"$f":"IF(AND('Step 2 - Naturalized'!$AA$20=\"X\",AE37=\"X\"),1,0)","v":0},null,{"$f":"IF(AND('Step 2 - Naturalized'!$AA$20=\"X\",AG37=\"X\"),1,0)","v":0},"X",{"$f":"IF(AND('Step 2 - Naturalized'!$AB$20=\"X\",AI37=\"X\"),1,0)","v":0},"X",{"$f":"IF(AND('Step 2 - Naturalized'!$AC$20=\"X\",AK37=\"X\"),1,0)","v":0},null,{"$f":"IF(AND('Step 2 - Naturalized'!$AA$18=\"X\",AM37=\"X\"),1,0)","v":0},"X",{"$f":"IF(AND('Step 2 - Naturalized'!$AB$18=\"X\",AO37=\"X\"),1,0)","v":0},"X",{"$f":"IF(AND('Step 2 - Naturalized'!$AC$18=\"X\",AQ37=\"X\"),1,0)","v":0},null,{"$f":"IF(AND('Step 2 - Naturalized'!$AD$18=\"X\",AS37=\"X\"),1,0)","v":0},null,{"$f":"IF(AND('Step 2 - Naturalized'!$AE$18=\"X\",AU37=\"X\"),1,0)","v":0},null,{"$f":"IF(AND('Step 2 - Naturalized'!$AA$17=\"X\",AW37=\"X\"),1,0)","v":0},"X",{"$f":"IF(AND('Step 2 - Naturalized'!$AB$17=\"X\",AY37=\"X\"),1,0)","v":0},null,{"$f":"IF(AND('Step 2 - Naturalized'!$AC$17=\"X\",BA37=\"X\"),1,0)","v":0},null,{"$f":"IF(AND('Step 2 - Naturalized'!$AA$22=\"X\",BC37=\"X\"),1,0)","v":0},null,{"$f":"IF(AND('Step 2 - Naturalized'!$AB$22=\"X\",BE37=\"X\"),1,0)","v":0},"X",{"$f":"IF(AND('Step 2 - Naturalized'!$AC$22=\"X\",BG37=\"X\"),1,0)","v":0},"X",{"$f":"IF(AND('Step 2 - Naturalized'!$AD$22=\"X\",BI37=\"X\"),1,0)","v":0},"X"]
[null,1,"EL HY","Elymus hystrix (Hystrix patula)","Bottlebrush Grass","18\" O.C.","Distinctive flower heads to 32\", prefers light shade",null,"X","X",null,null,null,0,null,{"$f":"IF(AND('Step 2 - Naturalized'!$AA$21=\"X\",Q38=\"X\"),1,0)","v":0},"X",{"$f":"IF(AND('Step 2 - Naturalized'!$AB$21=\"X\",S38=\"X\"),1,0)","v":0},"X",{"$f":"IF(AND('Step 2 - Naturalized'!$AC$21=\"X\",U38=\"X\"),1,0)","v":0},"X",{"$f":"IF(AND('Step 2 - Naturalized'!$AA$19=\"X\",W38=\"X\"),1,0)","v":0},null,{"$f":"IF(AND('Step 2 - Naturalized'!$AA$19=\"X\",Y38=\"X\"),1,0)","v":0},"X",{"$f":"IF(AND('Step 2 - Naturalized'!$AB$19=\"X\",AA38=\"X\"),1,0)","v":0},null,{"$f":"IF(AND('Step 2 - Naturalized'!$AC$19=\"X\",AC38=\"X\"),1,0)","v":0},null,{"$f":"IF(AND('Step 2 - Naturalized'!$AA$20=\"X\",AE38=\"X\"),1,0)","v":0},null,{"$f":"IF(AND('Step 2 - Naturalized'!$AA$20=\"X\",AG38=\"X\"),1,0)","v":0},"X",{"$f":"IF(AND('Step 2 - Naturalized'!$AB$20=\"X\",AI38=\"X\"),1,0)","v":0},null,{"$f":"IF(AND('Step 2 - Naturalized'!$AC$20=\"X\",AK38=\"X\"),1,0)","v":0},null,{"$f":"IF(AND('Step 2 - Naturalized'!$AA$18=\"X\",AM38=\"X\"),1,0)","v":0},"X",{"$f":"IF(AND('Step 2 - Naturalized'!$AB$18=\"X\",AO38=\"X\"),1,0)","v":0},"X",{"$f":"IF(AND('Step 2 - Naturalized'!$AC$18=\"X\",AQ38=\"X\"),1,0)","v":0},null,{"$f":"IF(AND('Step 2 - Naturalized'!$AD$18=\"X\",AS38=\"X\"),1,0)","v":0},null,{"$f":"IF(AND('Step 2 - Naturalized'!$AE$18=\"X\",AU38=\"X\"),1,0)","v":0},null,{"$f":"IF(AND('Step 2 - Naturalized'!$AA$17=\"X\",AW38=\"X\"),1,0)","v":0},null,{"$f":"IF(AND('Step 2 - Naturalized'!$AB$17=\"X\",AY38=\"X\"),1,0)","v":0},"X",{"$f":"IF(AND('Step 2 - Naturalized'!$AC$17=\"X\",BA38=\"X\"),1,0)","v":0},"X",{"$f":"IF(AND('Step 2 - Naturalized'!$AA$22=\"X\",BC38=\"X\"),1,0)","v":0},null,{"$f":"IF(AND('Step 2 - Naturalized'!$AB$22=\"X\",BE38=\"X\"),1,0)","v":0},"X",{"$f":"IF(AND('Step 2 - Naturalized'!$AC$22=\"X\",BG38=\"X\"),1,0)","v":0},"X",{"$f":"IF(AND('Step 2 - Naturalized'!$AD$22=\"X\",BI38=\"X\"),1,0)","v":0},"X"]
[null,1,"EL RI","Elymus riparius","Riverbank Wild-Rye","24\" O.C.","A good restoration plant (4' tall) for wet soil in full sun to part shade, will reseed"," ","X","X","X",null,null,1,"X",{"$f":"IF(AND('Step 2 - Naturalized'!$AA$21=\"X\",Q39=\"X\"),1,0)","v":0},null,{"$f":"IF(AND('Step 2 - Naturalized'!$AB$21=\"X\",S39=\"X\"),1,0)","v":0},null,{"$f":"IF(AND('Step 2 - Naturalized'!$AC$21=\"X\",U39=\"X\"),1,0)","v":0},null,{"$f":"IF(AND('Step 2 - Naturalized'!$AA$19=\"X\",W39=\"X\"),1,0)","v":0},"X",{"$f":"IF(AND('Step 2 - Naturalized'!$AA$19=\"X\",Y39=\"X\"),1,0)","v":0},null,{"$f":"IF(AND('Step 2 - Naturalized'!$AB$19=\"X\",AA39=\"X\"),1,0)","v":0},null,{"$f":"IF(AND('Step 2 - Naturalized'!$AC$19=\"X\",AC39=\"X\"),1,0)","v":0},null,{"$f":"IF(AND('Step 2 - Naturalized'!$AA$20=\"X\",AE39=\"X\"),1,0)","v":0},null,{"$f":"IF(AND('Step 2 - Naturalized'!$AA$20=\"X\",AG39=\"X\"),1,0)","v":0},"X",{"$f":"IF(AND('Step 2 - Naturalized'!$AB$20=\"X\",AI39=\"X\"),1,0)","v":0},null,{"$f":"IF(AND('Step 2 - Naturalized'!$AC$20=\"X\",AK39=\"X\"),1,0)","v":0},null,{"$f":"IF(AND('Step 2 - Naturalized'!$AA$18=\"X\",AM39=\"X\"),1,0)","v":0},null,{"$f":"IF(AND('Step 2 - Naturalized'!$AB$18=\"X\",AO39=\"X\"),1,0)","v":0},"X",{"$f":"IF(AND('Step 2 - Naturalized'!$AC$18=\"X\",AQ39=\"X\"),1,0)","v":0},"X",{"$f":"IF(AND('Step 2 - Naturalized'!$AD$18=\"X\",AS39=\"X\"),1,0)","v":0},null,{"$f":"IF(AND('Step 2 - Naturalized'!$AE$18=\"X\",AU39=\"X\"),1,0)","v":0},null,{"$f":"IF(AND('Step 2 - Naturalized'!$AA$17=\"X\",AW39=\"X\"),1,0)","v":0},"X",{"$f":"IF(AND('Step 2 - Naturalized'!$AB$17=\"X\",AY39=\"X\"),1,0)","v":0},"X",{"$f":"IF(AND('Step 2 - Naturalized'!$AC$17=\"X\",BA39=\"X\"),1,0)","v":0},null,{"$f":"IF(AND('Step 2 - Naturalized'!$AA$22=\"X\",BC39=\"X\"),1,0)","v":0},null,{"$f":"IF(AND('Step 2 - Naturalized'!$AB$22=\"X\",BE39=\"X\"),1,0)","v":0},null,{"$f":"IF(AND('Step 2 - Naturalized'!$AC$22=\"X\",BG39=\"X\"),1,0)","v":0},"X",{"$f":"IF(AND('Step 2 - Naturalized'!$AD$22=\"X\",BI39=\"X\"),1,0)","v":0},"X"]
[null,1,"EL VS","Elymus villosus","Downy Wild-Rye, Hairy Wild-Rye, Silky Wild-Rye","18\" O.C.","Light shade preferred over full shade, moist soils",null,"X","X","X",null,null,1,"X",{"$f":"IF(AND('Step 2 - Naturalized'!$AA$21=\"X\",Q40=\"X\"),1,0)","v":0},null,{"$f":"IF(AND('Step 2 - Naturalized'!$AB$21=\"X\",S40=\"X\"),1,0)","v":0},null,{"$f":"IF(AND('Step 2 - Naturalized'!$AC$21=\"X\",U40=\"X\"),1,0)","v":0},null,{"$f":"IF(AND('Step 2 - Naturalized'!$AA$19=\"X\",W40=\"X\"),1,0)","v":0},null,{"$f":"IF(AND('Step 2 - Naturalized'!$AA$19=\"X\",Y40=\"X\"),1,0)","v":0},"X",{"$f":"IF(AND('Step 2 - Naturalized'!$AB$19=\"X\",AA40=\"X\"),1,0)","v":0},null,{"$f":"IF(AND('Step 2 - Naturalized'!$AC$19=\"X\",AC40=\"X\"),1,0)","v":0},null,{"$f":"IF(AND('Step 2 - Naturalized'!$AA$20=\"X\",AE40=\"X\"),1,0)","v":0},null,{"$f":"IF(AND('Step 2 - Naturalized'!$AA$20=\"X\",AG40=\"X\"),1,0)","v":0},"X",{"$f":"IF(AND('Step 2 - Naturalized'!$AB$20=\"X\",AI40=\"X\"),1,0)","v":0},null,{"$f":"IF(AND('Step 2 - Naturalized'!$AC$20=\"X\",AK40=\"X\"),1,0)","v":0},null,{"$f":"IF(AND('Step 2 - Naturalized'!$AA$18=\"X\",AM40=\"X\"),1,0)","v":0},null,{"$f":"IF(AND('Step 2 - Naturalized'!$AB$18=\"X\",AO40=\"X\"),1,0)","v":0},"X",{"$f":"IF(AND('Step 2 - Naturalized'!$AC$18=\"X\",AQ40=\"X\"),1,0)","v":0},null,{"$f":"IF(AND('Step 2 - Naturalized'!$AD$18=\"X\",AS40=\"X\"),1,0)","v":0},null,{"$f":"IF(AND('Step 2 - Naturalized'!$AE$18=\"X\",AU40=\"X\"),1,0)","v":0},null,{"$f":"IF(AND('Step 2 - Naturalized'!$AA$17=\"X\",AW40=\"X\"),1,0)","v":0},null,{"$f":"IF(AND('Step 2 - Naturalized'!$AB$17=\"X\",AY40=\"X\"),1,0)","v":0},"X",{"$f":"IF(AND('Step 2 - Naturalized'!$AC$17=\"X\",BA40=\"X\"),1,0)","v":0},"X",{"$f":"IF(AND('Step 2 - Naturalized'!$AA$22=\"X\",BC40=\"X\"),1,0)","v":0},null,{"$f":"IF(AND('Step 2 - Naturalized'!$AB$22=\"X\",BE40=\"X\"),1,0)","v":0},null,{"$f":"IF(AND('Step 2 - Naturalized'!$AC$22=\"X\",BG40=\"X\"),1,0)","v":0},"X",{"$f":"IF(AND('Step 2 - Naturalized'!$AD$22=\"X\",BI40=\"X\"),1,0)","v":0},"X"]
[null,1,"EL VI","Elymus virginicus","Common Eastern Wild-Rye, Virginia Wild Rye","18\" O.C.","Quickly establishing perennial bunch grass, cool season"," ","X","X",null,null,null,0,null,{"$f":"IF(AND('Step 2 - Naturalized'!$AA$21=\"X\",Q41=\"X\"),1,0)","v":0},"X",{"$f":"IF(AND('Step 2 - Naturalized'!$AB$21=\"X\",S41=\"X\"),1,0)","v":0},"X",{"$f":"IF(AND('Step 2 - Naturalized'!$AC$21=\"X\",U41=\"X\"),1,0)","v":0},null,{"$f":"IF(AND('Step 2 - Naturalized'!$AA$19=\"X\",W41=\"X\"),1,0)","v":0},null,{"$f":"IF(AND('Step 2 - Naturalized'!$AA$19=\"X\",Y41=\"X\"),1,0)","v":0},"X",{"$f":"IF(AND('Step 2 - Naturalized'!$AB$19=\"X\",AA41=\"X\"),1,0)","v":0},"X",{"$f":"IF(AND('Step 2 - Naturalized'!$AC$19=\"X\",AC41=\"X\"),1,0)","v":0},null,{"$f":"IF(AND('Step 2 - Naturalized'!$AA$20=\"X\",AE41=\"X\"),1,0)","v":0},null,{"$f":"IF(AND('Step 2 - Naturalized'!$AA$20=\"X\",AG41=\"X\"),1,0)","v":0},"X",{"$f":"IF(AND('Step 2 - Naturalized'!$AB$20=\"X\",AI41=\"X\"),1,0)","v":0},"X",{"$f":"IF(AND('Step 2 - Naturalized'!$AC$20=\"X\",AK41=\"X\"),1,0)","v":0},"X",{"$f":"IF(AND('Step 2 - Naturalized'!$AA$18=\"X\",AM41=\"X\"),1,0)","v":0},null,{"$f":"IF(AND('Step 2 - Naturalized'!$AB$18=\"X\",AO41=\"X\"),1,0)","v":0},"X",{"$f":"IF(AND('Step 2 - Naturalized'!$AC$18=\"X\",AQ41=\"X\"),1,0)","v":0},null,{"$f":"IF(AND('Step 2 - Naturalized'!$AD$18=\"X\",AS41=\"X\"),1,0)","v":0},null,{"$f":"IF(AND('Step 2 - Naturalized'!$AE$18=\"X\",AU41=\"X\"),1,0)","v":0},null,{"$f":"IF(AND('Step 2 - Naturalized'!$AA$17=\"X\",AW41=\"X\"),1,0)","v":0},"X",{"$f":"IF(AND('Step 2 - Naturalized'!$AB$17=\"X\",AY41=\"X\"),1,0)","v":0},"X",{"$f":"IF(AND('Step 2 - Naturalized'!$AC$17=\"X\",BA41=\"X\"),1,0)","v":0},null,{"$f":"IF(AND('Step 2 - Naturalized'!$AA$22=\"X\",BC41=\"X\"),1,0)","v":0},null,{"$f":"IF(AND('Step 2 - Naturalized'!$AB$22=\"X\",BE41=\"X\"),1,0)","v":0},null,{"$f":"IF(AND('Step 2 - Naturalized'!$AC$22=\"X\",BG41=\"X\"),1,0)","v":0},"X",{"$f":"IF(AND('Step 2 - Naturalized'!$AD$22=\"X\",BI41=\"X\"),1,0)","v":0},"X"]
[null,1,"GL GR","Glyceria grandis","American Manna Grass, Reed Manna Grass","36\" O.C.","Tall cool season grass for wet soils in full sun, ",null,"X","X",null,null,null,1,"X",{"$f":"IF(AND('Step 2 - Naturalized'!$AA$21=\"X\",Q42=\"X\"),1,0)","v":0},null,{"$f":"IF(AND('Step 2 - Naturalized'!$AB$21=\"X\",S42=\"X\"),1,0)","v":0},null,{"$f":"IF(AND('Step 2 - Naturalized'!$AC$21=\"X\",U42=\"X\"),1,0)","v":0},null,{"$f":"IF(AND('Step 2 - Naturalized'!$AA$19=\"X\",W42=\"X\"),1,0)","v":0},null,{"$f":"IF(AND('Step 2 - Naturalized'!$AA$19=\"X\",Y42=\"X\"),1,0)","v":0},"X",{"$f":"IF(AND('Step 2 - Naturalized'!$AB$19=\"X\",AA42=\"X\"),1,0)","v":0},null,{"$f":"IF(AND('Step 2 - Naturalized'!$AC$19=\"X\",AC42=\"X\"),1,0)","v":0},null,{"$f":"IF(AND('Step 2 - Naturalized'!$AA$20=\"X\",AE42=\"X\"),1,0)","v":0},null,{"$f":"IF(AND('Step 2 - Naturalized'!$AA$20=\"X\",AG42=\"X\"),1,0)","v":0},"X",{"$f":"IF(AND('Step 2 - Naturalized'!$AB$20=\"X\",AI42=\"X\"),1,0)","v":0},"X",{"$f":"IF(AND('Step 2 - Naturalized'!$AC$20=\"X\",AK42=\"X\"),1,0)","v":0},"X",{"$f":"IF(AND('Step 2 - Naturalized'!$AA$18=\"X\",AM42=\"X\"),1,0)","v":0},null,{"$f":"IF(AND('Step 2 - Naturalized'!$AB$18=\"X\",AO42=\"X\"),1,0)","v":0},null,{"$f":"IF(AND('Step 2 - Naturalized'!$AC$18=\"X\",AQ42=\"X\"),1,0)","v":0},"X",{"$f":"IF(AND('Step 2 - Naturalized'!$AD$18=\"X\",AS42=\"X\"),1,0)","v":0},"X",{"$f":"IF(AND('Step 2 - Naturalized'!$AE$18=\"X\",AU42=\"X\"),1,0)","v":0},null,{"$f":"IF(AND('Step 2 - Naturalized'!$AA$17=\"X\",AW42=\"X\"),1,0)","v":0},"X",{"$f":"IF(AND('Step 2 - Naturalized'!$AB$17=\"X\",AY42=\"X\"),1,0)","v":0},null,{"$f":"IF(AND('Step 2 - Naturalized'!$AC$17=\"X\",BA42=\"X\"),1,0)","v":0},null,{"$f":"IF(AND('Step 2 - Naturalized'!$AA$22=\"X\",BC42=\"X\"),1,0)","v":0},null,{"$f":"IF(AND('Step 2 - Naturalized'!$AB$22=\"X\",BE42=\"X\"),1,0)","v":0},null,{"$f":"IF(AND('Step 2 - Naturalized'!$AC$22=\"X\",BG42=\"X\"),1,0)","v":0},null,{"$f":"IF(AND('Step 2 - Naturalized'!$AD$22=\"X\",BI42=\"X\"),1,0)","v":0},"X"]
[null,1,"GL ST","Glyceria striata","Fowl Manna Grass","24\" O.C.","Food source for grazing animals, bright green foliage"," ","X","X",null,null,null,0,null,{"$f":"IF(AND('Step 2 - Naturalized'!$AA$21=\"X\",Q43=\"X\"),1,0)","v":0},"X",{"$f":"IF(AND('Step 2 - Naturalized'!$AB$21=\"X\",S43=\"X\"),1,0)","v":0},"X",{"$f":"IF(AND('Step 2 - Naturalized'!$AC$21=\"X\",U43=\"X\"),1,0)","v":0},"X",{"$f":"IF(AND('Step 2 - Naturalized'!$AA$19=\"X\",W43=\"X\"),1,0)","v":0},null,{"$f":"IF(AND('Step 2 - Naturalized'!$AA$19=\"X\",Y43=\"X\"),1,0)","v":0},"X",{"$f":"IF(AND('Step 2 - Naturalized'!$AB$19=\"X\",AA43=\"X\"),1,0)","v":0},null,{"$f":"IF(AND('Step 2 - Naturalized'!$AC$19=\"X\",AC43=\"X\"),1,0)","v":0},null,{"$f":"IF(AND('Step 2 - Naturalized'!$AA$20=\"X\",AE43=\"X\"),1,0)","v":0},null,{"$f":"IF(AND('Step 2 - Naturalized'!$AA$20=\"X\",AG43=\"X\"),1,0)","v":0},"X",{"$f":"IF(AND('Step 2 - Naturalized'!$AB$20=\"X\",AI43=\"X\"),1,0)","v":0},"X",{"$f":"IF(AND('Step 2 - Naturalized'!$AC$20=\"X\",AK43=\"X\"),1,0)","v":0},"X",{"$f":"IF(AND('Step 2 - Naturalized'!$AA$18=\"X\",AM43=\"X\"),1,0)","v":0},null,{"$f":"IF(AND('Step 2 - Naturalized'!$AB$18=\"X\",AO43=\"X\"),1,0)","v":0},"X",{"$f":"IF(AND('Step 2 - Naturalized'!$AC$18=\"X\",AQ43=\"X\"),1,0)","v":0},"X",{"$f":"IF(AND('Step 2 - Naturalized'!$AD$18=\"X\",AS43=\"X\"),1,0)","v":0},null,{"$f":"IF(AND('Step 2 - Naturalized'!$AE$18=\"X\",AU43=\"X\"),1,0)","v":0},null,{"$f":"IF(AND('Step 2 - Naturalized'!$AA$17=\"X\",AW43=\"X\"),1,0)","v":0},"X",{"$f":"IF(AND('Step 2 - Naturalized'!$AB$17=\"X\",AY43=\"X\"),1,0)","v":0},"X",{"$f":"IF(AND('Step 2 - Naturalized'!$AC$17=\"X\",BA43=\"X\"),1,0)","v":0},null,{"$f":"IF(AND('Step 2 - Naturalized'!$AA$22=\"X\",BC43=\"X\"),1,0)","v":0},null,{"$f":"IF(AND('Step 2 - Naturalized'!$AB$22=\"X\",BE43=\"X\"),1,0)","v":0},null,{"$f":"IF(AND('Step 2 - Naturalized'!$AC$22=\"X\",BG43=\"X\"),1,0)","v":0},"X",{"$f":"IF(AND('Step 2 - Naturalized'!$AD$22=\"X\",BI43=\"X\"),1,0)","v":0},"X"]
[null,1,"JU DU","Juncus dudleyi","Dudley's Rush","18\" O.C.","Smaller rush (1.5'-2.5' tall), for med to wet soils in full sun, spreads",null,"X","X",null,null,null,1,"X",{"$f":"IF(AND('Step 2 - Naturalized'!$AA$21=\"X\",Q44=\"X\"),1,0)","v":0},null,{"$f":"IF(AND('Step 2 - Naturalized'!$AB$21=\"X\",S44=\"X\"),1,0)","v":0},null,{"$f":"IF(AND('Step 2 - Naturalized'!$AC$21=\"X\",U44=\"X\"),1,0)","v":0},null,{"$f":"IF(AND('Step 2 - Naturalized'!$AA$19=\"X\",W44=\"X\"),1,0)","v":0},"X",{"$f":"IF(AND('Step 2 - Naturalized'!$AA$19=\"X\",Y44=\"X\"),1,0)","v":0},null,{"$f":"IF(AND('Step 2 - Naturalized'!$AB$19=\"X\",AA44=\"X\"),1,0)","v":0},null,{"$f":"IF(AND('Step 2 - Naturalized'!$AC$19=\"X\",AC44=\"X\"),1,0)","v":0},null,{"$f":"IF(AND('Step 2 - Naturalized'!$AA$20=\"X\",AE44=\"X\"),1,0)","v":0},null,{"$f":"IF(AND('Step 2 - Naturalized'!$AA$20=\"X\",AG44=\"X\"),1,0)","v":0},"X",{"$f":"IF(AND('Step 2 - Naturalized'!$AB$20=\"X\",AI44=\"X\"),1,0)","v":0},"X",{"$f":"IF(AND('Step 2 - Naturalized'!$AC$20=\"X\",AK44=\"X\"),1,0)","v":0},null,{"$f":"IF(AND('Step 2 - Naturalized'!$AA$18=\"X\",AM44=\"X\"),1,0)","v":0},null,{"$f":"IF(AND('Step 2 - Naturalized'!$AB$18=\"X\",AO44=\"X\"),1,0)","v":0},"X",{"$f":"IF(AND('Step 2 - Naturalized'!$AC$18=\"X\",AQ44=\"X\"),1,0)","v":0},"X",{"$f":"IF(AND('Step 2 - Naturalized'!$AD$18=\"X\",AS44=\"X\"),1,0)","v":0},null,{"$f":"IF(AND('Step 2 - Naturalized'!$AE$18=\"X\",AU44=\"X\"),1,0)","v":0},null,{"$f":"IF(AND('Step 2 - Naturalized'!$AA$17=\"X\",AW44=\"X\"),1,0)","v":0},"X",{"$f":"IF(AND('Step 2 - Naturalized'!$AB$17=\"X\",AY44=\"X\"),1,0)","v":0},null,{"$f":"IF(AND('Step 2 - Naturalized'!$AC$17=\"X\",BA44=\"X\"),1,0)","v":0},null,{"$f":"IF(AND('Step 2 - Naturalized'!$AA$22=\"X\",BC44=\"X\"),1,0)","v":0},null,{"$f":"IF(AND('Step 2 - Naturalized'!$AB$22=\"X\",BE44=\"X\"),1,0)","v":0},null,{"$f":"IF(AND('Step 2 - Naturalized'!$AC$22=\"X\",BG44=\"X\"),1,0)","v":0},"X",{"$f":"IF(AND('Step 2 - Naturalized'!$AD$22=\"X\",BI44=\"X\"),1,0)","v":0},"X"]
[null,1,"JU EF","Juncus effusus","Sof Rush","24\" O.C.","2-'4- tall, tolerates 3\" inundation, spreads",null,"X","X",null,null,null,0,null,{"$f":"IF(AND('Step 2 - Naturalized'!$AA$21=\"X\",Q45=\"X\"),1,0)","v":0},"X",{"$f":"IF(AND('Step 2 - Naturalized'!$AB$21=\"X\",S45=\"X\"),1,0)","v":0},"X",{"$f":"IF(AND('Step 2 - Naturalized'!$AC$21=\"X\",U45=\"X\"),1,0)","v":0},"X",{"$f":"IF(AND('Step 2 - Naturalized'!$AA$19=\"X\",W45=\"X\"),1,0)","v":0},"X",{"$f":"IF(AND('Step 2 - Naturalized'!$AA$19=\"X\",Y45=\"X\"),1,0)","v":0},null,{"$f":"IF(AND('Step 2 - Naturalized'!$AB$19=\"X\",AA45=\"X\"),1,0)","v":0},null,{"$f":"IF(AND('Step 2 - Naturalized'!$AC$19=\"X\",AC45=\"X\"),1,0)","v":0},null,{"$f":"IF(AND('Step 2 - Naturalized'!$AA$20=\"X\",AE45=\"X\"),1,0)","v":0},null,{"$f":"IF(AND('Step 2 - Naturalized'!$AA$20=\"X\",AG45=\"X\"),1,0)","v":0},"X",{"$f":"IF(AND('Step 2 - Naturalized'!$AB$20=\"X\",AI45=\"X\"),1,0)","v":0},"X",{"$f":"IF(AND('Step 2 - Naturalized'!$AC$20=\"X\",AK45=\"X\"),1,0)","v":0},null,{"$f":"IF(AND('Step 2 - Naturalized'!$AA$18=\"X\",AM45=\"X\"),1,0)","v":0},null,{"$f":"IF(AND('Step 2 - Naturalized'!$AB$18=\"X\",AO45=\"X\"),1,0)","v":0},null,{"$f":"IF(AND('Step 2 - Naturalized'!$AC$18=\"X\",AQ45=\"X\"),1,0)","v":0},"X",{"$f":"IF(AND('Step 2 - Naturalized'!$AD$18=\"X\",AS45=\"X\"),1,0)","v":0},"X",{"$f":"IF(AND('Step 2 - Naturalized'!$AE$18=\"X\",AU45=\"X\"),1,0)","v":0},null,{"$f":"IF(AND('Step 2 - Naturalized'!$AA$17=\"X\",AW45=\"X\"),1,0)","v":0},"X",{"$f":"IF(AND('Step 2 - Naturalized'!$AB$17=\"X\",AY45=\"X\"),1,0)","v":0},null,{"$f":"IF(AND('Step 2 - Naturalized'!$AC$17=\"X\",BA45=\"X\"),1,0)","v":0},null,{"$f":"IF(AND('Step 2 - Naturalized'!$AA$22=\"X\",BC45=\"X\"),1,0)","v":0},null,{"$f":"IF(AND('Step 2 - Naturalized'!$AB$22=\"X\",BE45=\"X\"),1,0)","v":0},null,{"$f":"IF(AND('Step 2 - Naturalized'!$AC$22=\"X\",BG45=\"X\"),1,0)","v":0},"X",{"$f":"IF(AND('Step 2 - Naturalized'!$AD$22=\"X\",BI45=\"X\"),1,0)","v":0},"X"]
[null,1,"JU TE","Juncus tenuis","Path Rush, Slender Rush, Field Rush, Poverty Rush","18\" O.C.","Small rush (0.5'-2' tall), tolerant of foot traffic/compaction",null,"X","X",null,null,null,1,"X",{"$f":"IF(AND('Step 2 - Naturalized'!$AA$21=\"X\",Q46=\"X\"),1,0)","v":0},null,{"$f":"IF(AND('Step 2 - Naturalized'!$AB$21=\"X\",S46=\"X\"),1,0)","v":0},null,{"$f":"IF(AND('Step 2 - Naturalized'!$AC$21=\"X\",U46=\"X\"),1,0)","v":0},null,{"$f":"IF(AND('Step 2 - Naturalized'!$AA$19=\"X\",W46=\"X\"),1,0)","v":0},null,{"$f":"IF(AND('Step 2 - Naturalized'!$AA$19=\"X\",Y46=\"X\"),1,0)","v":0},"X",{"$f":"IF(AND('Step 2 - Naturalized'!$AB$19=\"X\",AA46=\"X\"),1,0)","v":0},"X",{"$f":"IF(AND('Step 2 - Naturalized'!$AC$19=\"X\",AC46=\"X\"),1,0)","v":0},null,{"$f":"IF(AND('Step 2 - Naturalized'!$AA$20=\"X\",AE46=\"X\"),1,0)","v":0},null,{"$f":"IF(AND('Step 2 - Naturalized'!$AA$20=\"X\",AG46=\"X\"),1,0)","v":0},"X",{"$f":"IF(AND('Step 2 - Naturalized'!$AB$20=\"X\",AI46=\"X\"),1,0)","v":0},"X",{"$f":"IF(AND('Step 2 - Naturalized'!$AC$20=\"X\",AK46=\"X\"),1,0)","v":0},"X",{"$f":"IF(AND('Step 2 - Naturalized'!$AA$18=\"X\",AM46=\"X\"),1,0)","v":0},null,{"$f":"IF(AND('Step 2 - Naturalized'!$AB$18=\"X\",AO46=\"X\"),1,0)","v":0},"X",{"$f":"IF(AND('Step 2 - Naturalized'!$AC$18=\"X\",AQ46=\"X\"),1,0)","v":0},"X",{"$f":"IF(AND('Step 2 - Naturalized'!$AD$18=\"X\",AS46=\"X\"),1,0)","v":0},null,{"$f":"IF(AND('Step 2 - Naturalized'!$AE$18=\"X\",AU46=\"X\"),1,0)","v":0},null,{"$f":"IF(AND('Step 2 - Naturalized'!$AA$17=\"X\",AW46=\"X\"),1,0)","v":0},"X",{"$f":"IF(AND('Step 2 - Naturalized'!$AB$17=\"X\",AY46=\"X\"),1,0)","v":0},"X",{"$f":"IF(AND('Step 2 - Naturalized'!$AC$17=\"X\",BA46=\"X\"),1,0)","v":0},null,{"$f":"IF(AND('Step 2 - Naturalized'!$AA$22=\"X\",BC46=\"X\"),1,0)","v":0},null,{"$f":"IF(AND('Step 2 - Naturalized'!$AB$22=\"X\",BE46=\"X\"),1,0)","v":0},"X",{"$f":"IF(AND('Step 2 - Naturalized'!$AC$22=\"X\",BG46=\"X\"),1,0)","v":0},"X",{"$f":"IF(AND('Step 2 - Naturalized'!$AD$22=\"X\",BI46=\"X\"),1,0)","v":0},"X"]
[null,1,"JU TO","Juncus torreyi","Torrey's Rush","24\" O.C.","Aggressive rush, 2-3' tall, can be used to outcompete invasives",null,"X","X",null,null,null,0,null,{"$f":"IF(AND('Step 2 - Naturalized'!$AA$21=\"X\",Q47=\"X\"),1,0)","v":0},"X",{"$f":"IF(AND('Step 2 - Naturalized'!$AB$21=\"X\",S47=\"X\"),1,0)","v":0},"X",{"$f":"IF(AND('Step 2 - Naturalized'!$AC$21=\"X\",U47=\"X\"),1,0)","v":0},"X",{"$f":"IF(AND('Step 2 - Naturalized'!$AA$19=\"X\",W47=\"X\"),1,0)","v":0},null,{"$f":"IF(AND('Step 2 - Naturalized'!$AA$19=\"X\",Y47=\"X\"),1,0)","v":0},"X",{"$f":"IF(AND('Step 2 - Naturalized'!$AB$19=\"X\",AA47=\"X\"),1,0)","v":0},null,{"$f":"IF(AND('Step 2 - Naturalized'!$AC$19=\"X\",AC47=\"X\"),1,0)","v":0},null,{"$f":"IF(AND('Step 2 - Naturalized'!$AA$20=\"X\",AE47=\"X\"),1,0)","v":0},null,{"$f":"IF(AND('Step 2 - Naturalized'!$AA$20=\"X\",AG47=\"X\"),1,0)","v":0},"X",{"$f":"IF(AND('Step 2 - Naturalized'!$AB$20=\"X\",AI47=\"X\"),1,0)","v":0},"X",{"$f":"IF(AND('Step 2 - Naturalized'!$AC$20=\"X\",AK47=\"X\"),1,0)","v":0},"X",{"$f":"IF(AND('Step 2 - Naturalized'!$AA$18=\"X\",AM47=\"X\"),1,0)","v":0},null,{"$f":"IF(AND('Step 2 - Naturalized'!$AB$18=\"X\",AO47=\"X\"),1,0)","v":0},"X",{"$f":"IF(AND('Step 2 - Naturalized'!$AC$18=\"X\",AQ47=\"X\"),1,0)","v":0},"X",{"$f":"IF(AND('Step 2 - Naturalized'!$AD$18=\"X\",AS47=\"X\"),1,0)","v":0},"X",{"$f":"IF(AND('Step 2 - Naturalized'!$AE$18=\"X\",AU47=\"X\"),1,0)","v":0},null,{"$f":"IF(AND('Step 2 - Naturalized'!$AA$17=\"X\",AW47=\"X\"),1,0)","v":0},"X",{"$f":"IF(AND('Step 2 - Naturalized'!$AB$17=\"X\",AY47=\"X\"),1,0)","v":0},null,{"$f":"IF(AND('Step 2 - Naturalized'!$AC$17=\"X\",BA47=\"X\"),1,0)","v":0},null,{"$f":"IF(AND('Step 2 - Naturalized'!$AA$22=\"X\",BC47=\"X\"),1,0)","v":0},null,{"$f":"IF(AND('Step 2 - Naturalized'!$AB$22=\"X\",BE47=\"X\"),1,0)","v":0},null,{"$f":"IF(AND('Step 2 - Naturalized'!$AC$22=\"X\",BG47=\"X\"),1,0)","v":0},"X",{"$f":"IF(AND('Step 2 - Naturalized'!$AD$22=\"X\",BI47=\"X\"),1,0)","v":0},"X"]
[null,1,"KO MA","Koeleria macrantha","June Grass","12\" O.C.","1'-2' tall, Early growing native prairie grass, needs good drainage",null,"X","X",null,null,null,0,null,{"$f":"IF(AND('Step 2 - Naturalized'!$AA$21=\"X\",Q48=\"X\"),1,0)","v":0},null,{"$f":"IF(AND('Step 2 - Naturalized'!$AB$21=\"X\",S48=\"X\"),1,0)","v":0},"X",{"$f":"IF(AND('Step 2 - Naturalized'!$AC$21=\"X\",U48=\"X\"),1,0)","v":0},"X",{"$f":"IF(AND('Step 2 - Naturalized'!$AA$19=\"X\",W48=\"X\"),1,0)","v":0},null,{"$f":"IF(AND('Step 2 - Naturalized'!$AA$19=\"X\",Y48=\"X\"),1,0)","v":0},"X",{"$f":"IF(AND('Step 2 - Naturalized'!$AB$19=\"X\",AA48=\"X\"),1,0)","v":0},null,{"$f":"IF(AND('Step 2 - Naturalized'!$AC$19=\"X\",AC48=\"X\"),1,0)","v":0},null,{"$f":"IF(AND('Step 2 - Naturalized'!$AA$20=\"X\",AE48=\"X\"),1,0)","v":0},"X",{"$f":"IF(AND('Step 2 - Naturalized'!$AA$20=\"X\",AG48=\"X\"),1,0)","v":0},null,{"$f":"IF(AND('Step 2 - Naturalized'!$AB$20=\"X\",AI48=\"X\"),1,0)","v":0},null,{"$f":"IF(AND('Step 2 - Naturalized'!$AC$20=\"X\",AK48=\"X\"),1,0)","v":0},null,{"$f":"IF(AND('Step 2 - Naturalized'!$AA$18=\"X\",AM48=\"X\"),1,0)","v":0},"X",{"$f":"IF(AND('Step 2 - Naturalized'!$AB$18=\"X\",AO48=\"X\"),1,0)","v":0},null,{"$f":"IF(AND('Step 2 - Naturalized'!$AC$18=\"X\",AQ48=\"X\"),1,0)","v":0},null,{"$f":"IF(AND('Step 2 - Naturalized'!$AD$18=\"X\",AS48=\"X\"),1,0)","v":0},null,{"$f":"IF(AND('Step 2 - Naturalized'!$AE$18=\"X\",AU48=\"X\"),1,0)","v":0},null,{"$f":"IF(AND('Step 2 - Naturalized'!$AA$17=\"X\",AW48=\"X\"),1,0)","v":0},"X",{"$f":"IF(AND('Step 2 - Naturalized'!$AB$17=\"X\",AY48=\"X\"),1,0)","v":0},null,{"$f":"IF(AND('Step 2 - Naturalized'!$AC$17=\"X\",BA48=\"X\"),1,0)","v":0},null,{"$f":"IF(AND('Step 2 - Naturalized'!$AA$22=\"X\",BC48=\"X\"),1,0)","v":0},null,{"$f":"IF(AND('Step 2 - Naturalized'!$AB$22=\"X\",BE48=\"X\"),1,0)","v":0},"X",{"$f":"IF(AND('Step 2 - Naturalized'!$AC$22=\"X\",BG48=\"X\"),1,0)","v":0},"X",{"$f":"IF(AND('Step 2 - Naturalized'!$AD$22=\"X\",BI48=\"X\"),1,0)","v":0},"X"]
[null,1,"LE OR","Leersia oryzoides","Rice Cut Grass","24\" O.C.","Somewhat aggressive grass for wet to moist soils",null,"X","X",null,null,null,0,null,{"$f":"IF(AND('Step 2 - Naturalized'!$AA$21=\"X\",Q49=\"X\"),1,0)","v":0},"X",{"$f":"IF(AND('Step 2 - Naturalized'!$AB$21=\"X\",S49=\"X\"),1,0)","v":0},"X",{"$f":"IF(AND('Step 2 - Naturalized'!$AC$21=\"X\",U49=\"X\"),1,0)","v":0},"X",{"$f":"IF(AND('Step 2 - Naturalized'!$AA$19=\"X\",W49=\"X\"),1,0)","v":0},null,{"$f":"IF(AND('Step 2 - Naturalized'!$AA$19=\"X\",Y49=\"X\"),1,0)","v":0},"X",{"$f":"IF(AND('Step 2 - Naturalized'!$AB$19=\"X\",AA49=\"X\"),1,0)","v":0},"X",{"$f":"IF(AND('Step 2 - Naturalized'!$AC$19=\"X\",AC49=\"X\"),1,0)","v":0},null,{"$f":"IF(AND('Step 2 - Naturalized'!$AA$20=\"X\",AE49=\"X\"),1,0)","v":0},null,{"$f":"IF(AND('Step 2 - Naturalized'!$AA$20=\"X\",AG49=\"X\"),1,0)","v":0},"X",{"$f":"IF(AND('Step 2 - Naturalized'!$AB$20=\"X\",AI49=\"X\"),1,0)","v":0},"X",{"$f":"IF(AND('Step 2 - Naturalized'!$AC$20=\"X\",AK49=\"X\"),1,0)","v":0},"X",{"$f":"IF(AND('Step 2 - Naturalized'!$AA$18=\"X\",AM49=\"X\"),1,0)","v":0},null,{"$f":"IF(AND('Step 2 - Naturalized'!$AB$18=\"X\",AO49=\"X\"),1,0)","v":0},null,{"$f":"IF(AND('Step 2 - Naturalized'!$AC$18=\"X\",AQ49=\"X\"),1,0)","v":0},"X",{"$f":"IF(AND('Step 2 - Naturalized'!$AD$18=\"X\",AS49=\"X\"),1,0)","v":0},"X",{"$f":"IF(AND('Step 2 - Naturalized'!$AE$18=\"X\",AU49=\"X\"),1,0)","v":0},null,{"$f":"IF(AND('Step 2 - Naturalized'!$AA$17=\"X\",AW49=\"X\"),1,0)","v":0},"X",{"$f":"IF(AND('Step 2 - Naturalized'!$AB$17=\"X\",AY49=\"X\"),1,0)","v":0},"X",{"$f":"IF(AND('Step 2 - Naturalized'!$AC$17=\"X\",BA49=\"X\"),1,0)","v":0},null,{"$f":"IF(AND('Step 2 - Naturalized'!$AA$22=\"X\",BC49=\"X\"),1,0)","v":0},null,{"$f":"IF(AND('Step 2 - Naturalized'!$AB$22=\"X\",BE49=\"X\"),1,0)","v":0},null,{"$f":"IF(AND('Step 2 - Naturalized'!$AC$22=\"X\",BG49=\"X\"),1,0)","v":0},"X",{"$f":"IF(AND('Step 2 - Naturalized'!$AD$22=\"X\",BI49=\"X\"),1,0)","v":0},"X"]
[null,1,"LU MU","Luzula multiflora","Common Wood Rush","12\" O.C.","A small rush for shady upland conditions (0.5'-1.5' tall)",null,"X","X",null,null,null,1,"X",{"$f":"IF(AND('Step 2 - Naturalized'!$AA$21=\"X\",Q50=\"X\"),1,0)","v":0},null,{"$f":"IF(AND('Step 2 - Naturalized'!$AB$21=\"X\",S50=\"X\"),1,0)","v":0},null,{"$f":"IF(AND('Step 2 - Naturalized'!$AC$21=\"X\",U50=\"X\"),1,0)","v":0},null,{"$f":"IF(AND('Step 2 - Naturalized'!$AA$19=\"X\",W50=\"X\"),1,0)","v":0},"X",{"$f":"IF(AND('Step 2 - Naturalized'!$AA$19=\"X\",Y50=\"X\"),1,0)","v":0},null,{"$f":"IF(AND('Step 2 - Naturalized'!$AB$19=\"X\",AA50=\"X\"),1,0)","v":0},null,{"$f":"IF(AND('Step 2 - Naturalized'!$AC$19=\"X\",AC50=\"X\"),1,0)","v":0},null,{"$f":"IF(AND('Step 2 - Naturalized'!$AA$20=\"X\",AE50=\"X\"),1,0)","v":0},"X",{"$f":"IF(AND('Step 2 - Naturalized'!$AA$20=\"X\",AG50=\"X\"),1,0)","v":0},null,{"$f":"IF(AND('Step 2 - Naturalized'!$AB$20=\"X\",AI50=\"X\"),1,0)","v":0},null,{"$f":"IF(AND('Step 2 - Naturalized'!$AC$20=\"X\",AK50=\"X\"),1,0)","v":0},null,{"$f":"IF(AND('Step 2 - Naturalized'!$AA$18=\"X\",AM50=\"X\"),1,0)","v":0},"X",{"$f":"IF(AND('Step 2 - Naturalized'!$AB$18=\"X\",AO50=\"X\"),1,0)","v":0},"X",{"$f":"IF(AND('Step 2 - Naturalized'!$AC$18=\"X\",AQ50=\"X\"),1,0)","v":0},null,{"$f":"IF(AND('Step 2 - Naturalized'!$AD$18=\"X\",AS50=\"X\"),1,0)","v":0},null,{"$f":"IF(AND('Step 2 - Naturalized'!$AE$18=\"X\",AU50=\"X\"),1,0)","v":0},null,{"$f":"IF(AND('Step 2 - Naturalized'!$AA$17=\"X\",AW50=\"X\"),1,0)","v":0},null,{"$f":"IF(AND('Step 2 - Naturalized'!$AB$17=\"X\",AY50=\"X\"),1,0)","v":0},"X",{"$f":"IF(AND('Step 2 - Naturalized'!$AC$17=\"X\",BA50=\"X\"),1,0)","v":0},null,{"$f":"IF(AND('Step 2 - Naturalized'!$AA$22=\"X\",BC50=\"X\"),1,0)","v":0},"X",{"$f":"IF(AND('Step 2 - Naturalized'!$AB$22=\"X\",BE50=\"X\"),1,0)","v":0},"X",{"$f":"IF(AND('Step 2 - Naturalized'!$AC$22=\"X\",BG50=\"X\"),1,0)","v":0},"X",{"$f":"IF(AND('Step 2 - Naturalized'!$AD$22=\"X\",BI50=\"X\"),1,0)","v":0},"X"]
[null,1,"MU ME","Muhlenbergia mexicana","Wood Satin Grass, Mexican Muhly","18\" O.C.","A warm-season grass (24\" tall) for moist soils in sun to shade, rhizatomous"," ","X","X",null,null,null,1,"X",{"$f":"IF(AND('Step 2 - Naturalized'!$AA$21=\"X\",Q51=\"X\"),1,0)","v":0},null,{"$f":"IF(AND('Step 2 - Naturalized'!$AB$21=\"X\",S51=\"X\"),1,0)","v":0},null,{"$f":"IF(AND('Step 2 - Naturalized'!$AC$21=\"X\",U51=\"X\"),1,0)","v":0},null,{"$f":"IF(AND('Step 2 - Naturalized'!$AA$19=\"X\",W51=\"X\"),1,0)","v":0},"X",{"$f":"IF(AND('Step 2 - Naturalized'!$AA$19=\"X\",Y51=\"X\"),1,0)","v":0},null,{"$f":"IF(AND('Step 2 - Naturalized'!$AB$19=\"X\",AA51=\"X\"),1,0)","v":0},null,{"$f":"IF(AND('Step 2 - Naturalized'!$AC$19=\"X\",AC51=\"X\"),1,0)","v":0},null,{"$f":"IF(AND('Step 2 - Naturalized'!$AA$20=\"X\",AE51=\"X\"),1,0)","v":0},"X",{"$f":"IF(AND('Step 2 - Naturalized'!$AA$20=\"X\",AG51=\"X\"),1,0)","v":0},null,{"$f":"IF(AND('Step 2 - Naturalized'!$AB$20=\"X\",AI51=\"X\"),1,0)","v":0},null,{"$f":"IF(AND('Step 2 - Naturalized'!$AC$20=\"X\",AK51=\"X\"),1,0)","v":0},null,{"$f":"IF(AND('Step 2 - Naturalized'!$AA$18=\"X\",AM51=\"X\"),1,0)","v":0},null,{"$f":"IF(AND('Step 2 - Naturalized'!$AB$18=\"X\",AO51=\"X\"),1,0)","v":0},"X",{"$f":"IF(AND('Step 2 - Naturalized'!$AC$18=\"X\",AQ51=\"X\"),1,0)","v":0},"X",{"$f":"IF(AND('Step 2 - Naturalized'!$AD$18=\"X\",AS51=\"X\"),1,0)","v":0},null,{"$f":"IF(AND('Step 2 - Naturalized'!$AE$18=\"X\",AU51=\"X\"),1,0)","v":0},null,{"$f":"IF(AND('Step 2 - Naturalized'!$AA$17=\"X\",AW51=\"X\"),1,0)","v":0},"X",{"$f":"IF(AND('Step 2 - Naturalized'!$AB$17=\"X\",AY51=\"X\"),1,0)","v":0},"X",{"$f":"IF(AND('Step 2 - Naturalized'!$AC$17=\"X\",BA51=\"X\"),1,0)","v":0},null,{"$f":"IF(AND('Step 2 - Naturalized'!$AA$22=\"X\",BC51=\"X\"),1,0)","v":0},null,{"$f":"IF(AND('Step 2 - Naturalized'!$AB$22=\"X\",BE51=\"X\"),1,0)","v":0},null,{"$f":"IF(AND('Step 2 - Naturalized'!$AC$22=\"X\",BG51=\"X\"),1,0)","v":0},"X",{"$f":"IF(AND('Step 2 - Naturalized'!$AD$22=\"X\",BI51=\"X\"),1,0)","v":0},"X"]
[null,1,"PA CN","Panicum virgatum ","Switch Grass","36\" O.C.","3'-5' tall, airy inflorescence, yellow fall color",null,"X","X",null,null,null,0,null,{"$f":"IF(AND('Step 2 - Naturalized'!$AA$21=\"X\",Q52=\"X\"),1,0)","v":0},"X",{"$f":"IF(AND('Step 2 - Naturalized'!$AB$21=\"X\",S52=\"X\"),1,0)","v":0},"X",{"$f":"IF(AND('Step 2 - Naturalized'!$AC$21=\"X\",U52=\"X\"),1,0)","v":0},"X",{"$f":"IF(AND('Step 2 - Naturalized'!$AA$19=\"X\",W52=\"X\"),1,0)","v":0},null,{"$f":"IF(AND('Step 2 - Naturalized'!$AA$19=\"X\",Y52=\"X\"),1,0)","v":0},"X",{"$f":"IF(AND('Step 2 - Naturalized'!$AB$19=\"X\",AA52=\"X\"),1,0)","v":0},"X",{"$f":"IF(AND('Step 2 - Naturalized'!$AC$19=\"X\",AC52=\"X\"),1,0)","v":0},"X",{"$f":"IF(AND('Step 2 - Naturalized'!$AA$20=\"X\",AE52=\"X\"),1,0)","v":0},null,{"$f":"IF(AND('Step 2 - Naturalized'!$AA$20=\"X\",AG52=\"X\"),1,0)","v":0},"X",{"$f":"IF(AND('Step 2 - Naturalized'!$AB$20=\"X\",AI52=\"X\"),1,0)","v":0},"X",{"$f":"IF(AND('Step 2 - Naturalized'!$AC$20=\"X\",AK52=\"X\"),1,0)","v":0},null,{"$f":"IF(AND('Step 2 - Naturalized'!$AA$18=\"X\",AM52=\"X\"),1,0)","v":0},null,{"$f":"IF(AND('Step 2 - Naturalized'!$AB$18=\"X\",AO52=\"X\"),1,0)","v":0},null,{"$f":"IF(AND('Step 2 - Naturalized'!$AC$18=\"X\",AQ52=\"X\"),1,0)","v":0},"X",{"$f":"IF(AND('Step 2 - Naturalized'!$AD$18=\"X\",AS52=\"X\"),1,0)","v":0},null,{"$f":"IF(AND('Step 2 - Naturalized'!$AE$18=\"X\",AU52=\"X\"),1,0)","v":0},null,{"$f":"IF(AND('Step 2 - Naturalized'!$AA$17=\"X\",AW52=\"X\"),1,0)","v":0},"X",{"$f":"IF(AND('Step 2 - Naturalized'!$AB$17=\"X\",AY52=\"X\"),1,0)","v":0},null,{"$f":"IF(AND('Step 2 - Naturalized'!$AC$17=\"X\",BA52=\"X\"),1,0)","v":0},null,{"$f":"IF(AND('Step 2 - Naturalized'!$AA$22=\"X\",BC52=\"X\"),1,0)","v":0},null,{"$f":"IF(AND('Step 2 - Naturalized'!$AB$22=\"X\",BE52=\"X\"),1,0)","v":0},null,{"$f":"IF(AND('Step 2 - Naturalized'!$AC$22=\"X\",BG52=\"X\"),1,0)","v":0},"X",{"$f":"IF(AND('Step 2 - Naturalized'!$AD$22=\"X\",BI52=\"X\"),1,0)","v":0},"X"]
[null,1,"PO PA","Poa palustris","Marsh Bluegrass, Fowl Meadow Grass","36\" O.C.","1'-4' tall grass for wet meadows and moist woods",null,"X","X",null,null,null,0,null,{"$f":"IF(AND('Step 2 - Naturalized'!$AA$21=\"X\",Q53=\"X\"),1,0)","v":0},"X",{"$f":"IF(AND('Step 2 - Naturalized'!$AB$21=\"X\",S53=\"X\"),1,0)","v":0},"X",{"$f":"IF(AND('Step 2 - Naturalized'!$AC$21=\"X\",U53=\"X\"),1,0)","v":0},null,{"$f":"IF(AND('Step 2 - Naturalized'!$AA$19=\"X\",W53=\"X\"),1,0)","v":0},null,{"$f":"IF(AND('Step 2 - Naturalized'!$AA$19=\"X\",Y53=\"X\"),1,0)","v":0},"X",{"$f":"IF(AND('Step 2 - Naturalized'!$AB$19=\"X\",AA53=\"X\"),1,0)","v":0},"X",{"$f":"IF(AND('Step 2 - Naturalized'!$AC$19=\"X\",AC53=\"X\"),1,0)","v":0},null,{"$f":"IF(AND('Step 2 - Naturalized'!$AA$20=\"X\",AE53=\"X\"),1,0)","v":0},null,{"$f":"IF(AND('Step 2 - Naturalized'!$AA$20=\"X\",AG53=\"X\"),1,0)","v":0},"X",{"$f":"IF(AND('Step 2 - Naturalized'!$AB$20=\"X\",AI53=\"X\"),1,0)","v":0},"X",{"$f":"IF(AND('Step 2 - Naturalized'!$AC$20=\"X\",AK53=\"X\"),1,0)","v":0},null,{"$f":"IF(AND('Step 2 - Naturalized'!$AA$18=\"X\",AM53=\"X\"),1,0)","v":0},null,{"$f":"IF(AND('Step 2 - Naturalized'!$AB$18=\"X\",AO53=\"X\"),1,0)","v":0},null,{"$f":"IF(AND('Step 2 - Naturalized'!$AC$18=\"X\",AQ53=\"X\"),1,0)","v":0},"X",{"$f":"IF(AND('Step 2 - Naturalized'!$AD$18=\"X\",AS53=\"X\"),1,0)","v":0},null,{"$f":"IF(AND('Step 2 - Naturalized'!$AE$18=\"X\",AU53=\"X\"),1,0)","v":0},null,{"$f":"IF(AND('Step 2 - Naturalized'!$AA$17=\"X\",AW53=\"X\"),1,0)","v":0},"X",{"$f":"IF(AND('Step 2 - Naturalized'!$AB$17=\"X\",AY53=\"X\"),1,0)","v":0},"X",{"$f":"IF(AND('Step 2 - Naturalized'!$AC$17=\"X\",BA53=\"X\"),1,0)","v":0},null,{"$f":"IF(AND('Step 2 - Naturalized'!$AA$22=\"X\",BC53=\"X\"),1,0)","v":0},null,{"$f":"IF(AND('Step 2 - Naturalized'!$AB$22=\"X\",BE53=\"X\"),1,0)","v":0},null,{"$f":"IF(AND('Step 2 - Naturalized'!$AC$22=\"X\",BG53=\"X\"),1,0)","v":0},"X",{"$f":"IF(AND('Step 2 - Naturalized'!$AD$22=\"X\",BI53=\"X\"),1,0)","v":0},"X"]
[null,1,"SC CA","Schizachyrium scoparium ","Little Bluestem","24\" O.C.","2'-4' tall, orange fall color, ",null,"X","X","X",null,null,0,null,{"$f":"IF(AND('Step 2 - Naturalized'!$AA$21=\"X\",Q54=\"X\"),1,0)","v":0},"X",{"$f":"IF(AND('Step 2 - Naturalized'!$AB$21=\"X\",S54=\"X\"),1,0)","v":0},"X",{"$f":"IF(AND('Step 2 - Naturalized'!$AC$21=\"X\",U54=\"X\"),1,0)","v":0},null,{"$f":"IF(AND('Step 2 - Naturalized'!$AA$19=\"X\",W54=\"X\"),1,0)","v":0},null,{"$f":"IF(AND('Step 2 - Naturalized'!$AA$19=\"X\",Y54=\"X\"),1,0)","v":0},"X",{"$f":"IF(AND('Step 2 - Naturalized'!$AB$19=\"X\",AA54=\"X\"),1,0)","v":0},"X",{"$f":"IF(AND('Step 2 - Naturalized'!$AC$19=\"X\",AC54=\"X\"),1,0)","v":0},null,{"$f":"IF(AND('Step 2 - Naturalized'!$AA$20=\"X\",AE54=\"X\"),1,0)","v":0},null,{"$f":"IF(AND('Step 2 - Naturalized'!$AA$20=\"X\",AG54=\"X\"),1,0)","v":0},"X",{"$f":"IF(AND('Step 2 - Naturalized'!$AB$20=\"X\",AI54=\"X\"),1,0)","v":0},null,{"$f":"IF(AND('Step 2 - Naturalized'!$AC$20=\"X\",AK54=\"X\"),1,0)","v":0},null,{"$f":"IF(AND('Step 2 - Naturalized'!$AA$18=\"X\",AM54=\"X\"),1,0)","v":0},"X",{"$f":"IF(AND('Step 2 - Naturalized'!$AB$18=\"X\",AO54=\"X\"),1,0)","v":0},null,{"$f":"IF(AND('Step 2 - Naturalized'!$AC$18=\"X\",AQ54=\"X\"),1,0)","v":0}," ",{"$f":"IF(AND('Step 2 - Naturalized'!$AD$18=\"X\",AS54=\"X\"),1,0)","v":0},null,{"$f":"IF(AND('Step 2 - Naturalized'!$AE$18=\"X\",AU54=\"X\"),1,0)","v":0},null,{"$f":"IF(AND('Step 2 - Naturalized'!$AA$17=\"X\",AW54=\"X\"),1,0)","v":0},"X",{"$f":"IF(AND('Step 2 - Naturalized'!$AB$17=\"X\",AY54=\"X\"),1,0)","v":0},null,{"$f":"IF(AND('Step 2 - Naturalized'!$AC$17=\"X\",BA54=\"X\"),1,0)","v":0},null,{"$f":"IF(AND('Step 2 - Naturalized'!$AA$22=\"X\",BC54=\"X\"),1,0)","v":0},null,{"$f":"IF(AND('Step 2 - Naturalized'!$AB$22=\"X\",BE54=\"X\"),1,0)","v":0},"X",{"$f":"IF(AND('Step 2 - Naturalized'!$AC$22=\"X\",BG54=\"X\"),1,0)","v":0},"X",{"$f":"IF(AND('Step 2 - Naturalized'!$AD$22=\"X\",BI54=\"X\"),1,0)","v":0},"X"]
[null,1,"SC TA","Schoenoplectus tabernaemontani","Soft-stem Bulrush","48\" O.C.","Large, rhizomatous plant for standing water (4'-8' tall, 3'-6' wide)",null,"X","X",null,null,null,1,"X",{"$f":"IF(AND('Step 2 - Naturalized'!$AA$21=\"X\",Q55=\"X\"),1,0)","v":0},null,{"$f":"IF(AND('Step 2 - Naturalized'!$AB$21=\"X\",S55=\"X\"),1,0)","v":0},null,{"$f":"IF(AND('Step 2 - Naturalized'!$AC$21=\"X\",U55=\"X\"),1,0)","v":0},null,{"$f":"IF(AND('Step 2 - Naturalized'!$AA$19=\"X\",W55=\"X\"),1,0)","v":0},"X",{"$f":"IF(AND('Step 2 - Naturalized'!$AA$19=\"X\",Y55=\"X\"),1,0)","v":0},null,{"$f":"IF(AND('Step 2 - Naturalized'!$AB$19=\"X\",AA55=\"X\"),1,0)","v":0},null,{"$f":"IF(AND('Step 2 - Naturalized'!$AC$19=\"X\",AC55=\"X\"),1,0)","v":0},null,{"$f":"IF(AND('Step 2 - Naturalized'!$AA$20=\"X\",AE55=\"X\"),1,0)","v":0},null,{"$f":"IF(AND('Step 2 - Naturalized'!$AA$20=\"X\",AG55=\"X\"),1,0)","v":0},"X",{"$f":"IF(AND('Step 2 - Naturalized'!$AB$20=\"X\",AI55=\"X\"),1,0)","v":0},"X",{"$f":"IF(AND('Step 2 - Naturalized'!$AC$20=\"X\",AK55=\"X\"),1,0)","v":0},"X",{"$f":"IF(AND('Step 2 - Naturalized'!$AA$18=\"X\",AM55=\"X\"),1,0)","v":0},null,{"$f":"IF(AND('Step 2 - Naturalized'!$AB$18=\"X\",AO55=\"X\"),1,0)","v":0},null,{"$f":"IF(AND('Step 2 - Naturalized'!$AC$18=\"X\",AQ55=\"X\"),1,0)","v":0},"X",{"$f":"IF(AND('Step 2 - Naturalized'!$AD$18=\"X\",AS55=\"X\"),1,0)","v":0},"X",{"$f":"IF(AND('Step 2 - Naturalized'!$AE$18=\"X\",AU55=\"X\"),1,0)","v":0},"X",{"$f":"IF(AND('Step 2 - Naturalized'!$AA$17=\"X\",AW55=\"X\"),1,0)","v":0},"X",{"$f":"IF(AND('Step 2 - Naturalized'!$AB$17=\"X\",AY55=\"X\"),1,0)","v":0},null,{"$f":"IF(AND('Step 2 - Naturalized'!$AC$17=\"X\",BA55=\"X\"),1,0)","v":0},null,{"$f":"IF(AND('Step 2 - Naturalized'!$AA$22=\"X\",BC55=\"X\"),1,0)","v":0},null,{"$f":"IF(AND('Step 2 - Naturalized'!$AB$22=\"X\",BE55=\"X\"),1,0)","v":0},null,{"$f":"IF(AND('Step 2 - Naturalized'!$AC$22=\"X\",BG55=\"X\"),1,0)","v":0},null,{"$f":"IF(AND('Step 2 - Naturalized'!$AD$22=\"X\",BI55=\"X\"),1,0)","v":0},"X"]
[null,1,"SC AT","Scirpus atrovirens","Dark Green Bulrush","48\" O.C.","Medium, rhizomatous plant for standing water (4'-5' tall, 3'-4' wide), can handle part shade"," ","X","X",null,null,null,1,"X",{"$f":"IF(AND('Step 2 - Naturalized'!$AA$21=\"X\",Q56=\"X\"),1,0)","v":0},null,{"$f":"IF(AND('Step 2 - Naturalized'!$AB$21=\"X\",S56=\"X\"),1,0)","v":0},null,{"$f":"IF(AND('Step 2 - Naturalized'!$AC$21=\"X\",U56=\"X\"),1,0)","v":0},null,{"$f":"IF(AND('Step 2 - Naturalized'!$AA$19=\"X\",W56=\"X\"),1,0)","v":0},null,{"$f":"IF(AND('Step 2 - Naturalized'!$AA$19=\"X\",Y56=\"X\"),1,0)","v":0},"X",{"$f":"IF(AND('Step 2 - Naturalized'!$AB$19=\"X\",AA56=\"X\"),1,0)","v":0},"X",{"$f":"IF(AND('Step 2 - Naturalized'!$AC$19=\"X\",AC56=\"X\"),1,0)","v":0},null,{"$f":"IF(AND('Step 2 - Naturalized'!$AA$20=\"X\",AE56=\"X\"),1,0)","v":0},null,{"$f":"IF(AND('Step 2 - Naturalized'!$AA$20=\"X\",AG56=\"X\"),1,0)","v":0},"X",{"$f":"IF(AND('Step 2 - Naturalized'!$AB$20=\"X\",AI56=\"X\"),1,0)","v":0},"X",{"$f":"IF(AND('Step 2 - Naturalized'!$AC$20=\"X\",AK56=\"X\"),1,0)","v":0},null,{"$f":"IF(AND('Step 2 - Naturalized'!$AA$18=\"X\",AM56=\"X\"),1,0)","v":0},null,{"$f":"IF(AND('Step 2 - Naturalized'!$AB$18=\"X\",AO56=\"X\"),1,0)","v":0},null,{"$f":"IF(AND('Step 2 - Naturalized'!$AC$18=\"X\",AQ56=\"X\"),1,0)","v":0},"X",{"$f":"IF(AND('Step 2 - Naturalized'!$AD$18=\"X\",AS56=\"X\"),1,0)","v":0},"X",{"$f":"IF(AND('Step 2 - Naturalized'!$AE$18=\"X\",AU56=\"X\"),1,0)","v":0},"X",{"$f":"IF(AND('Step 2 - Naturalized'!$AA$17=\"X\",AW56=\"X\"),1,0)","v":0},"X",{"$f":"IF(AND('Step 2 - Naturalized'!$AB$17=\"X\",AY56=\"X\"),1,0)","v":0},"X",{"$f":"IF(AND('Step 2 - Naturalized'!$AC$17=\"X\",BA56=\"X\"),1,0)","v":0},null,{"$f":"IF(AND('Step 2 - Naturalized'!$AA$22=\"X\",BC56=\"X\"),1,0)","v":0},null,{"$f":"IF(AND('Step 2 - Naturalized'!$AB$22=\"X\",BE56=\"X\"),1,0)","v":0},null,{"$f":"IF(AND('Step 2 - Naturalized'!$AC$22=\"X\",BG56=\"X\"),1,0)","v":0},null,{"$f":"IF(AND('Step 2 - Naturalized'!$AD$22=\"X\",BI56=\"X\"),1,0)","v":0},"X"]
[null,1,"SC CY","Scirpus cyperinus","Wool Grass","36\" O.C.","Medium, rhizomatous plant for wet soil and standing water (3'-5' tall, 2'-4' wide), attractive seedheads persist into winter"," ","X","X",null,null,null,1,"X",{"$f":"IF(AND('Step 2 - Naturalized'!$AA$21=\"X\",Q57=\"X\"),1,0)","v":0},null,{"$f":"IF(AND('Step 2 - Naturalized'!$AB$21=\"X\",S57=\"X\"),1,0)","v":0},null,{"$f":"IF(AND('Step 2 - Naturalized'!$AC$21=\"X\",U57=\"X\"),1,0)","v":0},null,{"$f":"IF(AND('Step 2 - Naturalized'!$AA$19=\"X\",W57=\"X\"),1,0)","v":0},null,{"$f":"IF(AND('Step 2 - Naturalized'!$AA$19=\"X\",Y57=\"X\"),1,0)","v":0},"X",{"$f":"IF(AND('Step 2 - Naturalized'!$AB$19=\"X\",AA57=\"X\"),1,0)","v":0},"X",{"$f":"IF(AND('Step 2 - Naturalized'!$AC$19=\"X\",AC57=\"X\"),1,0)","v":0},null,{"$f":"IF(AND('Step 2 - Naturalized'!$AA$20=\"X\",AE57=\"X\"),1,0)","v":0},null,{"$f":"IF(AND('Step 2 - Naturalized'!$AA$20=\"X\",AG57=\"X\"),1,0)","v":0},"X",{"$f":"IF(AND('Step 2 - Naturalized'!$AB$20=\"X\",AI57=\"X\"),1,0)","v":0},"X",{"$f":"IF(AND('Step 2 - Naturalized'!$AC$20=\"X\",AK57=\"X\"),1,0)","v":0},"X",{"$f":"IF(AND('Step 2 - Naturalized'!$AA$18=\"X\",AM57=\"X\"),1,0)","v":0},null,{"$f":"IF(AND('Step 2 - Naturalized'!$AB$18=\"X\",AO57=\"X\"),1,0)","v":0},null,{"$f":"IF(AND('Step 2 - Naturalized'!$AC$18=\"X\",AQ57=\"X\"),1,0)","v":0},"X",{"$f":"IF(AND('Step 2 - Naturalized'!$AD$18=\"X\",AS57=\"X\"),1,0)","v":0},"X",{"$f":"IF(AND('Step 2 - Naturalized'!$AE$18=\"X\",AU57=\"X\"),1,0)","v":0},null,{"$f":"IF(AND('Step 2 - Naturalized'!$AA$17=\"X\",AW57=\"X\"),1,0)","v":0},"X",{"$f":"IF(AND('Step 2 - Naturalized'!$AB$17=\"X\",AY57=\"X\"),1,0)","v":0},"X",{"$f":"IF(AND('Step 2 - Naturalized'!$AC$17=\"X\",BA57=\"X\"),1,0)","v":0},null,{"$f":"IF(AND('Step 2 - Naturalized'!$AA$22=\"X\",BC57=\"X\"),1,0)","v":0},null,{"$f":"IF(AND('Step 2 - Naturalized'!$AB$22=\"X\",BE57=\"X\"),1,0)","v":0},null,{"$f":"IF(AND('Step 2 - Naturalized'!$AC$22=\"X\",BG57=\"X\"),1,0)","v":0},null,{"$f":"IF(AND('Step 2 - Naturalized'!$AD$22=\"X\",BI57=\"X\"),1,0)","v":0},"X"]
[null,1,"SO NU","Sorghastrum nutans ","Indian Grass","36\" O.C.","blue foliage, (3-5' tall), likes lean soil",null,"X","X",null,null,null,0,null,{"$f":"IF(AND('Step 2 - Naturalized'!$AA$21=\"X\",Q58=\"X\"),1,0)","v":0},"X",{"$f":"IF(AND('Step 2 - Naturalized'!$AB$21=\"X\",S58=\"X\"),1,0)","v":0},"X",{"$f":"IF(AND('Step 2 - Naturalized'!$AC$21=\"X\",U58=\"X\"),1,0)","v":0},"X",{"$f":"IF(AND('Step 2 - Naturalized'!$AA$19=\"X\",W58=\"X\"),1,0)","v":0},null,{"$f":"IF(AND('Step 2 - Naturalized'!$AA$19=\"X\",Y58=\"X\"),1,0)","v":0},"X",{"$f":"IF(AND('Step 2 - Naturalized'!$AB$19=\"X\",AA58=\"X\"),1,0)","v":0},"X",{"$f":"IF(AND('Step 2 - Naturalized'!$AC$19=\"X\",AC58=\"X\"),1,0)","v":0},null,{"$f":"IF(AND('Step 2 - Naturalized'!$AA$20=\"X\",AE58=\"X\"),1,0)","v":0},null,{"$f":"IF(AND('Step 2 - Naturalized'!$AA$20=\"X\",AG58=\"X\"),1,0)","v":0},"X",{"$f":"IF(AND('Step 2 - Naturalized'!$AB$20=\"X\",AI58=\"X\"),1,0)","v":0},null,{"$f":"IF(AND('Step 2 - Naturalized'!$AC$20=\"X\",AK58=\"X\"),1,0)","v":0},null,{"$f":"IF(AND('Step 2 - Naturalized'!$AA$18=\"X\",AM58=\"X\"),1,0)","v":0},"X",{"$f":"IF(AND('Step 2 - Naturalized'!$AB$18=\"X\",AO58=\"X\"),1,0)","v":0},null,{"$f":"IF(AND('Step 2 - Naturalized'!$AC$18=\"X\",AQ58=\"X\"),1,0)","v":0},null,{"$f":"IF(AND('Step 2 - Naturalized'!$AD$18=\"X\",AS58=\"X\"),1,0)","v":0},null,{"$f":"IF(AND('Step 2 - Naturalized'!$AE$18=\"X\",AU58=\"X\"),1,0)","v":0},null,{"$f":"IF(AND('Step 2 - Naturalized'!$AA$17=\"X\",AW58=\"X\"),1,0)","v":0},"X",{"$f":"IF(AND('Step 2 - Naturalized'!$AB$17=\"X\",AY58=\"X\"),1,0)","v":0},null,{"$f":"IF(AND('Step 2 - Naturalized'!$AC$17=\"X\",BA58=\"X\"),1,0)","v":0},null,{"$f":"IF(AND('Step 2 - Naturalized'!$AA$22=\"X\",BC58=\"X\"),1,0)","v":0},null,{"$f":"IF(AND('Step 2 - Naturalized'!$AB$22=\"X\",BE58=\"X\"),1,0)","v":0},null,{"$f":"IF(AND('Step 2 - Naturalized'!$AC$22=\"X\",BG58=\"X\"),1,0)","v":0},"X",{"$f":"IF(AND('Step 2 - Naturalized'!$AD$22=\"X\",BI58=\"X\"),1,0)","v":0},"X"]
[null,1,"SP PE","Spartina pectinata","Prairie Cord Grass","48\" O.C.","Tall warm season grass, grows to 7', can compete w/ invasives such as reed canary grass"," ","X","X",null,null,null,0,null,{"$f":"IF(AND('Step 2 - Naturalized'!$AA$21=\"X\",Q59=\"X\"),1,0)","v":0},"X",{"$f":"IF(AND('Step 2 - Naturalized'!$AB$21=\"X\",S59=\"X\"),1,0)","v":0},"X",{"$f":"IF(AND('Step 2 - Naturalized'!$AC$21=\"X\",U59=\"X\"),1,0)","v":0},"X",{"$f":"IF(AND('Step 2 - Naturalized'!$AA$19=\"X\",W59=\"X\"),1,0)","v":0},null,{"$f":"IF(AND('Step 2 - Naturalized'!$AA$19=\"X\",Y59=\"X\"),1,0)","v":0},"X",{"$f":"IF(AND('Step 2 - Naturalized'!$AB$19=\"X\",AA59=\"X\"),1,0)","v":0},"X",{"$f":"IF(AND('Step 2 - Naturalized'!$AC$19=\"X\",AC59=\"X\"),1,0)","v":0},null,{"$f":"IF(AND('Step 2 - Naturalized'!$AA$20=\"X\",AE59=\"X\"),1,0)","v":0},null,{"$f":"IF(AND('Step 2 - Naturalized'!$AA$20=\"X\",AG59=\"X\"),1,0)","v":0},"X",{"$f":"IF(AND('Step 2 - Naturalized'!$AB$20=\"X\",AI59=\"X\"),1,0)","v":0},"X",{"$f":"IF(AND('Step 2 - Naturalized'!$AC$20=\"X\",AK59=\"X\"),1,0)","v":0},null,{"$f":"IF(AND('Step 2 - Naturalized'!$AA$18=\"X\",AM59=\"X\"),1,0)","v":0},null,{"$f":"IF(AND('Step 2 - Naturalized'!$AB$18=\"X\",AO59=\"X\"),1,0)","v":0},"X",{"$f":"IF(AND('Step 2 - Naturalized'!$AC$18=\"X\",AQ59=\"X\"),1,0)","v":0},"X",{"$f":"IF(AND('Step 2 - Naturalized'!$AD$18=\"X\",AS59=\"X\"),1,0)","v":0},null,{"$f":"IF(AND('Step 2 - Naturalized'!$AE$18=\"X\",AU59=\"X\"),1,0)","v":0},null,{"$f":"IF(AND('Step 2 - Naturalized'!$AA$17=\"X\",AW59=\"X\"),1,0)","v":0},"X",{"$f":"IF(AND('Step 2 - Naturalized'!$AB$17=\"X\",AY59=\"X\"),1,0)","v":0},"X",{"$f":"IF(AND('Step 2 - Naturalized'!$AC$17=\"X\",BA59=\"X\"),1,0)","v":0},null,{"$f":"IF(AND('Step 2 - Naturalized'!$AA$22=\"X\",BC59=\"X\"),1,0)","v":0},null,{"$f":"IF(AND('Step 2 - Naturalized'!$AB$22=\"X\",BE59=\"X\"),1,0)","v":0},null,{"$f":"IF(AND('Step 2 - Naturalized'!$AC$22=\"X\",BG59=\"X\"),1,0)","v":0},"X",{"$f":"IF(AND('Step 2 - Naturalized'!$AD$22=\"X\",BI59=\"X\"),1,0)","v":0},"X"]
[null,1,"SP HE","Sporobolus heterolepis","Prairie Dropseed","30\" O.C.","2-3' tall, trouble-free native for all situations, beautiful fall color, airy seedheads"," ","X","X","X",null,null,1,"X",{"$f":"IF(AND('Step 2 - Naturalized'!$AA$21=\"X\",Q60=\"X\"),1,0)","v":0},null,{"$f":"IF(AND('Step 2 - Naturalized'!$AB$21=\"X\",S60=\"X\"),1,0)","v":0},null,{"$f":"IF(AND('Step 2 - Naturalized'!$AC$21=\"X\",U60=\"X\"),1,0)","v":0},null,{"$f":"IF(AND('Step 2 - Naturalized'!$AA$19=\"X\",W60=\"X\"),1,0)","v":0},null,{"$f":"IF(AND('Step 2 - Naturalized'!$AA$19=\"X\",Y60=\"X\"),1,0)","v":0},"X",{"$f":"IF(AND('Step 2 - Naturalized'!$AB$19=\"X\",AA60=\"X\"),1,0)","v":0},"X",{"$f":"IF(AND('Step 2 - Naturalized'!$AC$19=\"X\",AC60=\"X\"),1,0)","v":0},null,{"$f":"IF(AND('Step 2 - Naturalized'!$AA$20=\"X\",AE60=\"X\"),1,0)","v":0},null,{"$f":"IF(AND('Step 2 - Naturalized'!$AA$20=\"X\",AG60=\"X\"),1,0)","v":0},"X",{"$f":"IF(AND('Step 2 - Naturalized'!$AB$20=\"X\",AI60=\"X\"),1,0)","v":0},null,{"$f":"IF(AND('Step 2 - Naturalized'!$AC$20=\"X\",AK60=\"X\"),1,0)","v":0},null,{"$f":"IF(AND('Step 2 - Naturalized'!$AA$18=\"X\",AM60=\"X\"),1,0)","v":0},"X",{"$f":"IF(AND('Step 2 - Naturalized'!$AB$18=\"X\",AO60=\"X\"),1,0)","v":0},"X",{"$f":"IF(AND('Step 2 - Naturalized'!$AC$18=\"X\",AQ60=\"X\"),1,0)","v":0},null,{"$f":"IF(AND('Step 2 - Naturalized'!$AD$18=\"X\",AS60=\"X\"),1,0)","v":0},null,{"$f":"IF(AND('Step 2 - Naturalized'!$AE$18=\"X\",AU60=\"X\"),1,0)","v":0},null,{"$f":"IF(AND('Step 2 - Naturalized'!$AA$17=\"X\",AW60=\"X\"),1,0)","v":0},"X",{"$f":"IF(AND('Step 2 - Naturalized'!$AB$17=\"X\",AY60=\"X\"),1,0)","v":0},null,{"$f":"IF(AND('Step 2 - Naturalized'!$AC$17=\"X\",BA60=\"X\"),1,0)","v":0},null,{"$f":"IF(AND('Step 2 - Naturalized'!$AA$22=\"X\",BC60=\"X\"),1,0)","v":0},null,{"$f":"IF(AND('Step 2 - Naturalized'!$AB$22=\"X\",BE60=\"X\"),1,0)","v":0},"X",{"$f":"IF(AND('Step 2 - Naturalized'!$AC$22=\"X\",BG60=\"X\"),1,0)","v":0},"X",{"$f":"IF(AND('Step 2 - Naturalized'!$AD$22=\"X\",BI60=\"X\"),1,0)","v":0},"X"]
[" ",null," "]
["Perennials",2]
[]
[null,{"$f":"SUM((N64+P64+R64+T64)*(V64+X64+Z64+AB64)*(AD64+AF64+AH64+AJ64)*(AL64+AN64+AP64+AR64+AT64)*(AV64+AX64+AZ64)*(BB64+BD64+BF64+BH64))+1","v":1},"AL CE","Allium cernuum","Nodding Wild Onion","12\" O.C.","pink flowers 12\" tall in June/August, will naturalize",null,"X","X","X",null,null,{"$f":"IF(O64=\"X\",1,0)","v":0},null,{"$f":"IF(AND('Step 2 - Naturalized'!$AA$21=\"X\",Q64=\"X\"),1,0)","v":0},null,{"$f":"IF(AND('Step 2 - Naturalized'!$AB$21=\"X\",S64=\"X\"),1,0)","v":0},"X",{"$f":"IF(AND('Step 2 - Naturalized'!$AC$21=\"X\",U64=\"X\"),1,0)","v":0},null,{"$f":"IF(AND('Step 2 - Naturalized'!$AA$19=\"X\",W64=\"X\"),1,0)","v":0},null,{"$f":"IF(AND('Step 2 - Naturalized'!$AA$19=\"X\",Y64=\"X\"),1,0)","v":0},"X",{"$f":"IF(AND('Step 2 - Naturalized'!$AB$19=\"X\",AA64=\"X\"),1,0)","v":0},"X",{"$f":"IF(AND('Step 2 - Naturalized'!$AC$19=\"X\",AC64=\"X\"),1,0)","v":0},null,{"$f":"IF(AND('Step 2 - Naturalized'!$AA$20=\"X\",AE64=\"X\"),1,0)","v":0},null,{"$f":"IF(AND('Step 2 - Naturalized'!$AA$20=\"X\",AG64=\"X\"),1,0)","v":0},"X",{"$f":"IF(AND('Step 2 - Naturalized'!$AB$20=\"X\",AI64=\"X\"),1,0)","v":0},null,{"$f":"IF(AND('Step 2 - Naturalized'!$AC$20=\"X\",AK64=\"X\"),1,0)","v":0},null,{"$f":"IF(AND('Step 2 - Naturalized'!$AA$18=\"X\",AM64=\"X\"),1,0)","v":0},"X",{"$f":"IF(AND('Step 2 - Naturalized'!$AB$18=\"X\",AO64=\"X\"),1,0)","v":0},"X",{"$f":"IF(AND('Step 2 - Naturalized'!$AC$18=\"X\",AQ64=\"X\"),1,0)","v":0},null,{"$f":"IF(AND('Step 2 - Naturalized'!$AD$18=\"X\",AS64=\"X\"),1,0)","v":0},null,{"$f":"IF(AND('Step 2 - Naturalized'!$AE$18=\"X\",AU64=\"X\"),1,0)","v":0},null,{"$f":"IF(AND('Step 2 - Naturalized'!$AA$17=\"X\",AW64=\"X\"),1,0)","v":0},"X",{"$f":"IF(AND('Step 2 - Naturalized'!$AB$17=\"X\",AY64=\"X\"),1,0)","v":0},"X",{"$f":"IF(AND('Step 2 - Naturalized'!$AC$17=\"X\",BA64=\"X\"),1,0)","v":0},null,{"$f":"IF(AND('Step 2 - Naturalized'!$AA$22=\"X\",BC64=\"X\"),1,0)","v":0},"X",{"$f":"IF(AND('Step 2 - Naturalized'!$AB$22=\"X\",BE64=\"X\"),1,0)","v":0},"X",{"$f":"IF(AND('Step 2 - Naturalized'!$AC$22=\"X\",BG64=\"X\"),1,0)","v":0},"X",{"$f":"IF(AND('Step 2 - Naturalized'!$AD$22=\"X\",BI64=\"X\"),1,0)","v":0},"X",null,null,null,null,null,"Pink / 0.25'-0.5'"]
["Legume",1,"AM CA","Amorpha canescens","Lead Plant","24\" O.C.","spike-like bluish-purple flowers in May-June, becomes woody with age"," ","X","X",null,null,null,0,null,{"$f":"IF(AND('Step 2 - Naturalized'!$AA$21=\"X\",Q65=\"X\"),1,0)","v":0},null,{"$f":"IF(AND('Step 2 - Naturalized'!$AB$21=\"X\",S65=\"X\"),1,0)","v":0},"X",{"$f":"IF(AND('Step 2 - Naturalized'!$AC$21=\"X\",U65=\"X\"),1,0)","v":0},"X",{"$f":"IF(AND('Step 2 - Naturalized'!$AA$19=\"X\",W65=\"X\"),1,0)","v":0},"X",{"$f":"IF(AND('Step 2 - Naturalized'!$AA$19=\"X\",Y65=\"X\"),1,0)","v":0},null,{"$f":"IF(AND('Step 2 - Naturalized'!$AB$19=\"X\",AA65=\"X\"),1,0)","v":0},null,{"$f":"IF(AND('Step 2 - Naturalized'!$AC$19=\"X\",AC65=\"X\"),1,0)","v":0},null,{"$f":"IF(AND('Step 2 - Naturalized'!$AA$20=\"X\",AE65=\"X\"),1,0)","v":0},"X",{"$f":"IF(AND('Step 2 - Naturalized'!$AA$20=\"X\",AG65=\"X\"),1,0)","v":0},null,{"$f":"IF(AND('Step 2 - Naturalized'!$AB$20=\"X\",AI65=\"X\"),1,0)","v":0},null,{"$f":"IF(AND('Step 2 - Naturalized'!$AC$20=\"X\",AK65=\"X\"),1,0)","v":0},null,{"$f":"IF(AND('Step 2 - Naturalized'!$AA$18=\"X\",AM65=\"X\"),1,0)","v":0},"X",{"$f":"IF(AND('Step 2 - Naturalized'!$AB$18=\"X\",AO65=\"X\"),1,0)","v":0},"X",{"$f":"IF(AND('Step 2 - Naturalized'!$AC$18=\"X\",AQ65=\"X\"),1,0)","v":0},null,{"$f":"IF(AND('Step 2 - Naturalized'!$AD$18=\"X\",AS65=\"X\"),1,0)","v":0},null,{"$f":"IF(AND('Step 2 - Naturalized'!$AE$18=\"X\",AU65=\"X\"),1,0)","v":0},null,{"$f":"IF(AND('Step 2 - Naturalized'!$AA$17=\"X\",AW65=\"X\"),1,0)","v":0},"X",{"$f":"IF(AND('Step 2 - Naturalized'!$AB$17=\"X\",AY65=\"X\"),1,0)","v":0},null,{"$f":"IF(AND('Step 2 - Naturalized'!$AC$17=\"X\",BA65=\"X\"),1,0)","v":0},null,{"$f":"IF(AND('Step 2 - Naturalized'!$AA$22=\"X\",BC65=\"X\"),1,0)","v":0},null,{"$f":"IF(AND('Step 2 - Naturalized'!$AB$22=\"X\",BE65=\"X\"),1,0)","v":0},"X",{"$f":"IF(AND('Step 2 - Naturalized'!$AC$22=\"X\",BG65=\"X\"),1,0)","v":0},"X",{"$f":"IF(AND('Step 2 - Naturalized'!$AD$22=\"X\",BI65=\"X\"),1,0)","v":0},"X",null,null,null,null,null,"Bluish purple /  2.0' - 3.0'"]
[null,1,"AN CA","Anemone canadensis","Meadow Anemone","24\" O.C.","white flower April-June, aggressive spreader, native",null,"X","X","X",null,null,0,null,{"$f":"IF(AND('Step 2 - Naturalized'!$AA$21=\"X\",Q66=\"X\"),1,0)","v":0},"X",{"$f":"IF(AND('Step 2 - Naturalized'!$AB$21=\"X\",S66=\"X\"),1,0)","v":0},"X",{"$f":"IF(AND('Step 2 - Naturalized'!$AC$21=\"X\",U66=\"X\"),1,0)","v":0},null,{"$f":"IF(AND('Step 2 - Naturalized'!$AA$19=\"X\",W66=\"X\"),1,0)","v":0},null,{"$f":"IF(AND('Step 2 - Naturalized'!$AA$19=\"X\",Y66=\"X\"),1,0)","v":0},"X",{"$f":"IF(AND('Step 2 - Naturalized'!$AB$19=\"X\",AA66=\"X\"),1,0)","v":0},null,{"$f":"IF(AND('Step 2 - Naturalized'!$AC$19=\"X\",AC66=\"X\"),1,0)","v":0},null,{"$f":"IF(AND('Step 2 - Naturalized'!$AA$20=\"X\",AE66=\"X\"),1,0)","v":0},null,{"$f":"IF(AND('Step 2 - Naturalized'!$AA$20=\"X\",AG66=\"X\"),1,0)","v":0},"X",{"$f":"IF(AND('Step 2 - Naturalized'!$AB$20=\"X\",AI66=\"X\"),1,0)","v":0},"X",{"$f":"IF(AND('Step 2 - Naturalized'!$AC$20=\"X\",AK66=\"X\"),1,0)","v":0},null,{"$f":"IF(AND('Step 2 - Naturalized'!$AA$18=\"X\",AM66=\"X\"),1,0)","v":0},null,{"$f":"IF(AND('Step 2 - Naturalized'!$AB$18=\"X\",AO66=\"X\"),1,0)","v":0},"X",{"$f":"IF(AND('Step 2 - Naturalized'!$AC$18=\"X\",AQ66=\"X\"),1,0)","v":0},"X",{"$f":"IF(AND('Step 2 - Naturalized'!$AD$18=\"X\",AS66=\"X\"),1,0)","v":0},null,{"$f":"IF(AND('Step 2 - Naturalized'!$AE$18=\"X\",AU66=\"X\"),1,0)","v":0},null,{"$f":"IF(AND('Step 2 - Naturalized'!$AA$17=\"X\",AW66=\"X\"),1,0)","v":0},"X",{"$f":"IF(AND('Step 2 - Naturalized'!$AB$17=\"X\",AY66=\"X\"),1,0)","v":0},"X",{"$f":"IF(AND('Step 2 - Naturalized'!$AC$17=\"X\",BA66=\"X\"),1,0)","v":0},null,{"$f":"IF(AND('Step 2 - Naturalized'!$AA$22=\"X\",BC66=\"X\"),1,0)","v":0},null,{"$f":"IF(AND('Step 2 - Naturalized'!$AB$22=\"X\",BE66=\"X\"),1,0)","v":0},null,{"$f":"IF(AND('Step 2 - Naturalized'!$AC$22=\"X\",BG66=\"X\"),1,0)","v":0},"X",{"$f":"IF(AND('Step 2 - Naturalized'!$AD$22=\"X\",BI66=\"X\"),1,0)","v":0},"X",null,null,null,"White / 1.0'-2.0'"]
[null,1,"AN VI","Anemone viginiana","Tall Anemone, Thimbleweed","12\" O.C.","Small plant (1'-2' tall) with showy white flowers in April/May",null,"X","X","X",null,null,0,null,{"$f":"IF(AND('Step 2 - Naturalized'!$AA$21=\"X\",Q67=\"X\"),1,0)","v":0},"X",{"$f":"IF(AND('Step 2 - Naturalized'!$AB$21=\"X\",S67=\"X\"),1,0)","v":0},"X",{"$f":"IF(AND('Step 2 - Naturalized'!$AC$21=\"X\",U67=\"X\"),1,0)","v":0},"X",{"$f":"IF(AND('Step 2 - Naturalized'!$AA$19=\"X\",W67=\"X\"),1,0)","v":0},"X",{"$f":"IF(AND('Step 2 - Naturalized'!$AA$19=\"X\",Y67=\"X\"),1,0)","v":0},null,{"$f":"IF(AND('Step 2 - Naturalized'!$AB$19=\"X\",AA67=\"X\"),1,0)","v":0},null,{"$f":"IF(AND('Step 2 - Naturalized'!$AC$19=\"X\",AC67=\"X\"),1,0)","v":0},null,{"$f":"IF(AND('Step 2 - Naturalized'!$AA$20=\"X\",AE67=\"X\"),1,0)","v":0},"X",{"$f":"IF(AND('Step 2 - Naturalized'!$AA$20=\"X\",AG67=\"X\"),1,0)","v":0},null,{"$f":"IF(AND('Step 2 - Naturalized'!$AB$20=\"X\",AI67=\"X\"),1,0)","v":0},null,{"$f":"IF(AND('Step 2 - Naturalized'!$AC$20=\"X\",AK67=\"X\"),1,0)","v":0},null,{"$f":"IF(AND('Step 2 - Naturalized'!$AA$18=\"X\",AM67=\"X\"),1,0)","v":0},null,{"$f":"IF(AND('Step 2 - Naturalized'!$AB$18=\"X\",AO67=\"X\"),1,0)","v":0},"X",{"$f":"IF(AND('Step 2 - Naturalized'!$AC$18=\"X\",AQ67=\"X\"),1,0)","v":0},null,{"$f":"IF(AND('Step 2 - Naturalized'!$AD$18=\"X\",AS67=\"X\"),1,0)","v":0},null,{"$f":"IF(AND('Step 2 - Naturalized'!$AE$18=\"X\",AU67=\"X\"),1,0)","v":0},null,{"$f":"IF(AND('Step 2 - Naturalized'!$AA$17=\"X\",AW67=\"X\"),1,0)","v":0},"X",{"$f":"IF(AND('Step 2 - Naturalized'!$AB$17=\"X\",AY67=\"X\"),1,0)","v":0},"X",{"$f":"IF(AND('Step 2 - Naturalized'!$AC$17=\"X\",BA67=\"X\"),1,0)","v":0},null,{"$f":"IF(AND('Step 2 - Naturalized'!$AA$22=\"X\",BC67=\"X\"),1,0)","v":0},null,{"$f":"IF(AND('Step 2 - Naturalized'!$AB$22=\"X\",BE67=\"X\"),1,0)","v":0},"X",{"$f":"IF(AND('Step 2 - Naturalized'!$AC$22=\"X\",BG67=\"X\"),1,0)","v":0},"X",{"$f":"IF(AND('Step 2 - Naturalized'!$AD$22=\"X\",BI67=\"X\"),1,0)","v":0},"X",null,null,null,"White / 1.0-2.0'"]
[null,1,"AQ CA","Aquilegia canadensis","Columbine","18\" O.C.","Good for naturalizing, reliable self-seeder, pink/red flowers in April-May"," ","X","X","X","X",null,0,null,{"$f":"IF(AND('Step 2 - Naturalized'!$AA$21=\"X\",Q68=\"X\"),1,0)","v":0},"X",{"$f":"IF(AND('Step 2 - Naturalized'!$AB$21=\"X\",S68=\"X\"),1,0)","v":0},"X",{"$f":"IF(AND('Step 2 - Naturalized'!$AC$21=\"X\",U68=\"X\"),1,0)","v":0},null,{"$f":"IF(AND('Step 2 - Naturalized'!$AA$19=\"X\",W68=\"X\"),1,0)","v":0},null,{"$f":"IF(AND('Step 2 - Naturalized'!$AA$19=\"X\",Y68=\"X\"),1,0)","v":0},"X",{"$f":"IF(AND('Step 2 - Naturalized'!$AB$19=\"X\",AA68=\"X\"),1,0)","v":0},null,{"$f":"IF(AND('Step 2 - Naturalized'!$AC$19=\"X\",AC68=\"X\"),1,0)","v":0},null,{"$f":"IF(AND('Step 2 - Naturalized'!$AA$20=\"X\",AE68=\"X\"),1,0)","v":0},null,{"$f":"IF(AND('Step 2 - Naturalized'!$AA$20=\"X\",AG68=\"X\"),1,0)","v":0},"X",{"$f":"IF(AND('Step 2 - Naturalized'!$AB$20=\"X\",AI68=\"X\"),1,0)","v":0},null,{"$f":"IF(AND('Step 2 - Naturalized'!$AC$20=\"X\",AK68=\"X\"),1,0)","v":0},null,{"$f":"IF(AND('Step 2 - Naturalized'!$AA$18=\"X\",AM68=\"X\"),1,0)","v":0},"X",{"$f":"IF(AND('Step 2 - Naturalized'!$AB$18=\"X\",AO68=\"X\"),1,0)","v":0},"X",{"$f":"IF(AND('Step 2 - Naturalized'!$AC$18=\"X\",AQ68=\"X\"),1,0)","v":0},null,{"$f":"IF(AND('Step 2 - Naturalized'!$AD$18=\"X\",AS68=\"X\"),1,0)","v":0},null,{"$f":"IF(AND('Step 2 - Naturalized'!$AE$18=\"X\",AU68=\"X\"),1,0)","v":0},null,{"$f":"IF(AND('Step 2 - Naturalized'!$AA$17=\"X\",AW68=\"X\"),1,0)","v":0}," ",{"$f":"IF(AND('Step 2 - Naturalized'!$AB$17=\"X\",AY68=\"X\"),1,0)","v":0},"X",{"$f":"IF(AND('Step 2 - Naturalized'!$AC$17=\"X\",BA68=\"X\"),1,0)","v":0},null,{"$f":"IF(AND('Step 2 - Naturalized'!$AA$22=\"X\",BC68=\"X\"),1,0)","v":0},null,{"$f":"IF(AND('Step 2 - Naturalized'!$AB$22=\"X\",BE68=\"X\"),1,0)","v":0},"X",{"$f":"IF(AND('Step 2 - Naturalized'!$AC$22=\"X\",BG68=\"X\"),1,0)","v":0},"X",{"$f":"IF(AND('Step 2 - Naturalized'!$AD$22=\"X\",BI68=\"X\"),1,0)","v":0},"X",null,null,null,"Red / 0.5'-2.5'"]
[null,1,"AS IN","Asclepias incarnata","Swamp Milkweed","24\" O.C.","taller and more tolerant of wet soil than tuberosa, pink flowers in July/Aug"," ","X","X","X",null,null,0,null,{"$f":"IF(AND('Step 2 - Naturalized'!$AA$21=\"X\",Q69=\"X\"),1,0)","v":0},"X",{"$f":"IF(AND('Step 2 - Naturalized'!$AB$21=\"X\",S69=\"X\"),1,0)","v":0},"X",{"$f":"IF(AND('Step 2 - Naturalized'!$AC$21=\"X\",U69=\"X\"),1,0)","v":0},null,{"$f":"IF(AND('Step 2 - Naturalized'!$AA$19=\"X\",W69=\"X\"),1,0)","v":0},null,{"$f":"IF(AND('Step 2 - Naturalized'!$AA$19=\"X\",Y69=\"X\"),1,0)","v":0},"X",{"$f":"IF(AND('Step 2 - Naturalized'!$AB$19=\"X\",AA69=\"X\"),1,0)","v":0},"X",{"$f":"IF(AND('Step 2 - Naturalized'!$AC$19=\"X\",AC69=\"X\"),1,0)","v":0},null,{"$f":"IF(AND('Step 2 - Naturalized'!$AA$20=\"X\",AE69=\"X\"),1,0)","v":0},null,{"$f":"IF(AND('Step 2 - Naturalized'!$AA$20=\"X\",AG69=\"X\"),1,0)","v":0},"X",{"$f":"IF(AND('Step 2 - Naturalized'!$AB$20=\"X\",AI69=\"X\"),1,0)","v":0},"X",{"$f":"IF(AND('Step 2 - Naturalized'!$AC$20=\"X\",AK69=\"X\"),1,0)","v":0},null,{"$f":"IF(AND('Step 2 - Naturalized'!$AA$18=\"X\",AM69=\"X\"),1,0)","v":0},null,{"$f":"IF(AND('Step 2 - Naturalized'!$AB$18=\"X\",AO69=\"X\"),1,0)","v":0},"X",{"$f":"IF(AND('Step 2 - Naturalized'!$AC$18=\"X\",AQ69=\"X\"),1,0)","v":0},"X",{"$f":"IF(AND('Step 2 - Naturalized'!$AD$18=\"X\",AS69=\"X\"),1,0)","v":0},null,{"$f":"IF(AND('Step 2 - Naturalized'!$AE$18=\"X\",AU69=\"X\"),1,0)","v":0},null,{"$f":"IF(AND('Step 2 - Naturalized'!$AA$17=\"X\",AW69=\"X\"),1,0)","v":0},"X",{"$f":"IF(AND('Step 2 - Naturalized'!$AB$17=\"X\",AY69=\"X\"),1,0)","v":0},"X",{"$f":"IF(AND('Step 2 - Naturalized'!$AC$17=\"X\",BA69=\"X\"),1,0)","v":0},null,{"$f":"IF(AND('Step 2 - Naturalized'!$AA$22=\"X\",BC69=\"X\"),1,0)","v":0},null,{"$f":"IF(AND('Step 2 - Naturalized'!$AB$22=\"X\",BE69=\"X\"),1,0)","v":0},null,{"$f":"IF(AND('Step 2 - Naturalized'!$AC$22=\"X\",BG69=\"X\"),1,0)","v":0},"X",{"$f":"IF(AND('Step 2 - Naturalized'!$AD$22=\"X\",BI69=\"X\"),1,0)","v":0},"X",null,null,null,null,null,null,"Pink / 3'-4'"]
[null,1,"AS SY","Asclepias syriaca","Common Milkweed","30\" O.C.","Leaves are a food source for monarch caterpillars, tall mauve-pink flowers to 4' to 5' in late summer, weedy spread"," ","X","X","X","X",null,0,null,{"$f":"IF(AND('Step 2 - Naturalized'!$AA$21=\"X\",Q70=\"X\"),1,0)","v":0},"X",{"$f":"IF(AND('Step 2 - Naturalized'!$AB$21=\"X\",S70=\"X\"),1,0)","v":0},"X",{"$f":"IF(AND('Step 2 - Naturalized'!$AC$21=\"X\",U70=\"X\"),1,0)","v":0},null,{"$f":"IF(AND('Step 2 - Naturalized'!$AA$19=\"X\",W70=\"X\"),1,0)","v":0},"X",{"$f":"IF(AND('Step 2 - Naturalized'!$AA$19=\"X\",Y70=\"X\"),1,0)","v":0},null,{"$f":"IF(AND('Step 2 - Naturalized'!$AB$19=\"X\",AA70=\"X\"),1,0)","v":0},null,{"$f":"IF(AND('Step 2 - Naturalized'!$AC$19=\"X\",AC70=\"X\"),1,0)","v":0},null,{"$f":"IF(AND('Step 2 - Naturalized'!$AA$20=\"X\",AE70=\"X\"),1,0)","v":0},"X",{"$f":"IF(AND('Step 2 - Naturalized'!$AA$20=\"X\",AG70=\"X\"),1,0)","v":0},null,{"$f":"IF(AND('Step 2 - Naturalized'!$AB$20=\"X\",AI70=\"X\"),1,0)","v":0},null,{"$f":"IF(AND('Step 2 - Naturalized'!$AC$20=\"X\",AK70=\"X\"),1,0)","v":0},null,{"$f":"IF(AND('Step 2 - Naturalized'!$AA$18=\"X\",AM70=\"X\"),1,0)","v":0},"X",{"$f":"IF(AND('Step 2 - Naturalized'!$AB$18=\"X\",AO70=\"X\"),1,0)","v":0},"X",{"$f":"IF(AND('Step 2 - Naturalized'!$AC$18=\"X\",AQ70=\"X\"),1,0)","v":0},null,{"$f":"IF(AND('Step 2 - Naturalized'!$AD$18=\"X\",AS70=\"X\"),1,0)","v":0},null,{"$f":"IF(AND('Step 2 - Naturalized'!$AE$18=\"X\",AU70=\"X\"),1,0)","v":0},null,{"$f":"IF(AND('Step 2 - Naturalized'!$AA$17=\"X\",AW70=\"X\"),1,0)","v":0},"X",{"$f":"IF(AND('Step 2 - Naturalized'!$AB$17=\"X\",AY70=\"X\"),1,0)","v":0},null,{"$f":"IF(AND('Step 2 - Naturalized'!$AC$17=\"X\",BA70=\"X\"),1,0)","v":0},null,{"$f":"IF(AND('Step 2 - Naturalized'!$AA$22=\"X\",BC70=\"X\"),1,0)","v":0},null,{"$f":"IF(AND('Step 2 - Naturalized'!$AB$22=\"X\",BE70=\"X\"),1,0)","v":0},"X",{"$f":"IF(AND('Step 2 - Naturalized'!$AC$22=\"X\",BG70=\"X\"),1,0)","v":0},"X",{"$f":"IF(AND('Step 2 - Naturalized'!$AD$22=\"X\",BI70=\"X\"),1,0)","v":0},"X",null,null,null,null,null,"Mauve-pink / 3'-4'"]
[null,1,"AS TU","Asclepias tuberosa","Butterfly Weed","18\" O.C.","slow to produce flowers, flowers are orange/yellow from June-Aug"," ","X","X","X",null,null,0,null,{"$f":"IF(AND('Step 2 - Naturalized'!$AA$21=\"X\",Q71=\"X\"),1,0)","v":0},"X",{"$f":"IF(AND('Step 2 - Naturalized'!$AB$21=\"X\",S71=\"X\"),1,0)","v":0},"X",{"$f":"IF(AND('Step 2 - Naturalized'!$AC$21=\"X\",U71=\"X\"),1,0)","v":0},null,{"$f":"IF(AND('Step 2 - Naturalized'!$AA$19=\"X\",W71=\"X\"),1,0)","v":0},null,{"$f":"IF(AND('Step 2 - Naturalized'!$AA$19=\"X\",Y71=\"X\"),1,0)","v":0},"X",{"$f":"IF(AND('Step 2 - Naturalized'!$AB$19=\"X\",AA71=\"X\"),1,0)","v":0},"X",{"$f":"IF(AND('Step 2 - Naturalized'!$AC$19=\"X\",AC71=\"X\"),1,0)","v":0},null,{"$f":"IF(AND('Step 2 - Naturalized'!$AA$20=\"X\",AE71=\"X\"),1,0)","v":0},null,{"$f":"IF(AND('Step 2 - Naturalized'!$AA$20=\"X\",AG71=\"X\"),1,0)","v":0},"X",{"$f":"IF(AND('Step 2 - Naturalized'!$AB$20=\"X\",AI71=\"X\"),1,0)","v":0},null,{"$f":"IF(AND('Step 2 - Naturalized'!$AC$20=\"X\",AK71=\"X\"),1,0)","v":0},null,{"$f":"IF(AND('Step 2 - Naturalized'!$AA$18=\"X\",AM71=\"X\"),1,0)","v":0},"X",{"$f":"IF(AND('Step 2 - Naturalized'!$AB$18=\"X\",AO71=\"X\"),1,0)","v":0},"X",{"$f":"IF(AND('Step 2 - Naturalized'!$AC$18=\"X\",AQ71=\"X\"),1,0)","v":0},null,{"$f":"IF(AND('Step 2 - Naturalized'!$AD$18=\"X\",AS71=\"X\"),1,0)","v":0},null,{"$f":"IF(AND('Step 2 - Naturalized'!$AE$18=\"X\",AU71=\"X\"),1,0)","v":0},null,{"$f":"IF(AND('Step 2 - Naturalized'!$AA$17=\"X\",AW71=\"X\"),1,0)","v":0},"X",{"$f":"IF(AND('Step 2 - Naturalized'!$AB$17=\"X\",AY71=\"X\"),1,0)","v":0},null,{"$f":"IF(AND('Step 2 - Naturalized'!$AC$17=\"X\",BA71=\"X\"),1,0)","v":0},null,{"$f":"IF(AND('Step 2 - Naturalized'!$AA$22=\"X\",BC71=\"X\"),1,0)","v":0},null,{"$f":"IF(AND('Step 2 - Naturalized'!$AB$22=\"X\",BE71=\"X\"),1,0)","v":0},"X",{"$f":"IF(AND('Step 2 - Naturalized'!$AC$22=\"X\",BG71=\"X\"),1,0)","v":0},"X",{"$f":"IF(AND('Step 2 - Naturalized'!$AD$22=\"X\",BI71=\"X\"),1,0)","v":0},"X",null,null,null,null,null,"Yellow-Orange/ 1.0'-2.5'"]
[null,1,"AS VE","Asclepias verticillata","Whorled Milkweed","24\" O.C.","Poisonous to livestock.",null,"X","X","X","X",null,0,null,{"$f":"IF(AND('Step 2 - Naturalized'!$AA$21=\"X\",Q72=\"X\"),1,0)","v":0},"X",{"$f":"IF(AND('Step 2 - Naturalized'!$AB$21=\"X\",S72=\"X\"),1,0)","v":0},"X",{"$f":"IF(AND('Step 2 - Naturalized'!$AC$21=\"X\",U72=\"X\"),1,0)","v":0},null,{"$f":"IF(AND('Step 2 - Naturalized'!$AA$19=\"X\",W72=\"X\"),1,0)","v":0},null,{"$f":"IF(AND('Step 2 - Naturalized'!$AA$19=\"X\",Y72=\"X\"),1,0)","v":0},"X",{"$f":"IF(AND('Step 2 - Naturalized'!$AB$19=\"X\",AA72=\"X\"),1,0)","v":0},"X",{"$f":"IF(AND('Step 2 - Naturalized'!$AC$19=\"X\",AC72=\"X\"),1,0)","v":0},"X",{"$f":"IF(AND('Step 2 - Naturalized'!$AA$20=\"X\",AE72=\"X\"),1,0)","v":0},"X",{"$f":"IF(AND('Step 2 - Naturalized'!$AA$20=\"X\",AG72=\"X\"),1,0)","v":0},null,{"$f":"IF(AND('Step 2 - Naturalized'!$AB$20=\"X\",AI72=\"X\"),1,0)","v":0},null,{"$f":"IF(AND('Step 2 - Naturalized'!$AC$20=\"X\",AK72=\"X\"),1,0)","v":0},null,{"$f":"IF(AND('Step 2 - Naturalized'!$AA$18=\"X\",AM72=\"X\"),1,0)","v":0},"X",{"$f":"IF(AND('Step 2 - Naturalized'!$AB$18=\"X\",AO72=\"X\"),1,0)","v":0},null,{"$f":"IF(AND('Step 2 - Naturalized'!$AC$18=\"X\",AQ72=\"X\"),1,0)","v":0},null,{"$f":"IF(AND('Step 2 - Naturalized'!$AD$18=\"X\",AS72=\"X\"),1,0)","v":0},null,{"$f":"IF(AND('Step 2 - Naturalized'!$AE$18=\"X\",AU72=\"X\"),1,0)","v":0},null,{"$f":"IF(AND('Step 2 - Naturalized'!$AA$17=\"X\",AW72=\"X\"),1,0)","v":0},"X",{"$f":"IF(AND('Step 2 - Naturalized'!$AB$17=\"X\",AY72=\"X\"),1,0)","v":0},"X",{"$f":"IF(AND('Step 2 - Naturalized'!$AC$17=\"X\",BA72=\"X\"),1,0)","v":0},null,{"$f":"IF(AND('Step 2 - Naturalized'!$AA$22=\"X\",BC72=\"X\"),1,0)","v":0},null,{"$f":"IF(AND('Step 2 - Naturalized'!$AB$22=\"X\",BE72=\"X\"),1,0)","v":0},null,{"$f":"IF(AND('Step 2 - Naturalized'!$AC$22=\"X\",BG72=\"X\"),1,0)","v":0},"X",{"$f":"IF(AND('Step 2 - Naturalized'!$AD$22=\"X\",BI72=\"X\"),1,0)","v":0},"X",null,null,null,null,null,null,"White / 1.0'-2.0'"]
["Legume",1,"AS CA","Astragalus canadensis","Canadian Milk-Vetch","18\" O.C.","Legumous species, Cream colored flowers in June-August at 36\""," ","X","X",null,null,null,0,null,{"$f":"IF(AND('Step 2 - Naturalized'!$AA$21=\"X\",Q73=\"X\"),1,0)","v":0},"X",{"$f":"IF(AND('Step 2 - Naturalized'!$AB$21=\"X\",S73=\"X\"),1,0)","v":0},"X",{"$f":"IF(AND('Step 2 - Naturalized'!$AC$21=\"X\",U73=\"X\"),1,0)","v":0},"X",{"$f":"IF(AND('Step 2 - Naturalized'!$AA$19=\"X\",W73=\"X\"),1,0)","v":0},null,{"$f":"IF(AND('Step 2 - Naturalized'!$AA$19=\"X\",Y73=\"X\"),1,0)","v":0},"X",{"$f":"IF(AND('Step 2 - Naturalized'!$AB$19=\"X\",AA73=\"X\"),1,0)","v":0},null,{"$f":"IF(AND('Step 2 - Naturalized'!$AC$19=\"X\",AC73=\"X\"),1,0)","v":0},null,{"$f":"IF(AND('Step 2 - Naturalized'!$AA$20=\"X\",AE73=\"X\"),1,0)","v":0},null,{"$f":"IF(AND('Step 2 - Naturalized'!$AA$20=\"X\",AG73=\"X\"),1,0)","v":0},"X",{"$f":"IF(AND('Step 2 - Naturalized'!$AB$20=\"X\",AI73=\"X\"),1,0)","v":0},null,{"$f":"IF(AND('Step 2 - Naturalized'!$AC$20=\"X\",AK73=\"X\"),1,0)","v":0},null,{"$f":"IF(AND('Step 2 - Naturalized'!$AA$18=\"X\",AM73=\"X\"),1,0)","v":0},"X",{"$f":"IF(AND('Step 2 - Naturalized'!$AB$18=\"X\",AO73=\"X\"),1,0)","v":0},"X",{"$f":"IF(AND('Step 2 - Naturalized'!$AC$18=\"X\",AQ73=\"X\"),1,0)","v":0},null,{"$f":"IF(AND('Step 2 - Naturalized'!$AD$18=\"X\",AS73=\"X\"),1,0)","v":0},null,{"$f":"IF(AND('Step 2 - Naturalized'!$AE$18=\"X\",AU73=\"X\"),1,0)","v":0},null,{"$f":"IF(AND('Step 2 - Naturalized'!$AA$17=\"X\",AW73=\"X\"),1,0)","v":0},"X",{"$f":"IF(AND('Step 2 - Naturalized'!$AB$17=\"X\",AY73=\"X\"),1,0)","v":0},"X",{"$f":"IF(AND('Step 2 - Naturalized'!$AC$17=\"X\",BA73=\"X\"),1,0)","v":0},null,{"$f":"IF(AND('Step 2 - Naturalized'!$AA$22=\"X\",BC73=\"X\"),1,0)","v":0},null,{"$f":"IF(AND('Step 2 - Naturalized'!$AB$22=\"X\",BE73=\"X\"),1,0)","v":0},null,{"$f":"IF(AND('Step 2 - Naturalized'!$AC$22=\"X\",BG73=\"X\"),1,0)","v":0},"X",{"$f":"IF(AND('Step 2 - Naturalized'!$AD$22=\"X\",BI73=\"X\"),1,0)","v":0},"X",null,null,null,null,null,"Pale yellow - greenish / 1.0'-3.5'"]
[null,1,"BI CE","Bidens cernua","Nodding Beggar-ticks, Nodding Bur Marigold","24\" O.C.","Yellow flowers to 3' in June-Sept",null,"X","X",null,null,null,0,null,{"$f":"IF(AND('Step 2 - Naturalized'!$AA$21=\"X\",Q74=\"X\"),1,0)","v":0},"X",{"$f":"IF(AND('Step 2 - Naturalized'!$AB$21=\"X\",S74=\"X\"),1,0)","v":0},"X",{"$f":"IF(AND('Step 2 - Naturalized'!$AC$21=\"X\",U74=\"X\"),1,0)","v":0},null,{"$f":"IF(AND('Step 2 - Naturalized'!$AA$19=\"X\",W74=\"X\"),1,0)","v":0},null,{"$f":"IF(AND('Step 2 - Naturalized'!$AA$19=\"X\",Y74=\"X\"),1,0)","v":0},"X",{"$f":"IF(AND('Step 2 - Naturalized'!$AB$19=\"X\",AA74=\"X\"),1,0)","v":0},"X",{"$f":"IF(AND('Step 2 - Naturalized'!$AC$19=\"X\",AC74=\"X\"),1,0)","v":0},null,{"$f":"IF(AND('Step 2 - Naturalized'!$AA$20=\"X\",AE74=\"X\"),1,0)","v":0},null,{"$f":"IF(AND('Step 2 - Naturalized'!$AA$20=\"X\",AG74=\"X\"),1,0)","v":0},"X",{"$f":"IF(AND('Step 2 - Naturalized'!$AB$20=\"X\",AI74=\"X\"),1,0)","v":0},"X",{"$f":"IF(AND('Step 2 - Naturalized'!$AC$20=\"X\",AK74=\"X\"),1,0)","v":0},null,{"$f":"IF(AND('Step 2 - Naturalized'!$AA$18=\"X\",AM74=\"X\"),1,0)","v":0},null,{"$f":"IF(AND('Step 2 - Naturalized'!$AB$18=\"X\",AO74=\"X\"),1,0)","v":0},null,{"$f":"IF(AND('Step 2 - Naturalized'!$AC$18=\"X\",AQ74=\"X\"),1,0)","v":0},"X",{"$f":"IF(AND('Step 2 - Naturalized'!$AD$18=\"X\",AS74=\"X\"),1,0)","v":0},null,{"$f":"IF(AND('Step 2 - Naturalized'!$AE$18=\"X\",AU74=\"X\"),1,0)","v":0},null,{"$f":"IF(AND('Step 2 - Naturalized'!$AA$17=\"X\",AW74=\"X\"),1,0)","v":0},"X",{"$f":"IF(AND('Step 2 - Naturalized'!$AB$17=\"X\",AY74=\"X\"),1,0)","v":0},null,{"$f":"IF(AND('Step 2 - Naturalized'!$AC$17=\"X\",BA74=\"X\"),1,0)","v":0},null,{"$f":"IF(AND('Step 2 - Naturalized'!$AA$22=\"X\",BC74=\"X\"),1,0)","v":0},null,{"$f":"IF(AND('Step 2 - Naturalized'!$AB$22=\"X\",BE74=\"X\"),1,0)","v":0},null,{"$f":"IF(AND('Step 2 - Naturalized'!$AC$22=\"X\",BG74=\"X\"),1,0)","v":0},"X",{"$f":"IF(AND('Step 2 - Naturalized'!$AD$22=\"X\",BI74=\"X\"),1,0)","v":0},"X",null,null,null,null,null,null,null,"Yellow / 0.5'-3.0'"]
[null,1,"BR EU","Brickellia eupatoriodes (Kuhnia eupatorioides)","False Boneset","30\" O.C.","Tall easily grown native (2'-4' tall) with creamy white flowers in July-Oct"," ","X","X",null,null,null,0,null,{"$f":"IF(AND('Step 2 - Naturalized'!$AA$21=\"X\",Q75=\"X\"),1,0)","v":0},null,{"$f":"IF(AND('Step 2 - Naturalized'!$AB$21=\"X\",S75=\"X\"),1,0)","v":0},"X",{"$f":"IF(AND('Step 2 - Naturalized'!$AC$21=\"X\",U75=\"X\"),1,0)","v":0},"X",{"$f":"IF(AND('Step 2 - Naturalized'!$AA$19=\"X\",W75=\"X\"),1,0)","v":0},"X",{"$f":"IF(AND('Step 2 - Naturalized'!$AA$19=\"X\",Y75=\"X\"),1,0)","v":0},null,{"$f":"IF(AND('Step 2 - Naturalized'!$AB$19=\"X\",AA75=\"X\"),1,0)","v":0},null,{"$f":"IF(AND('Step 2 - Naturalized'!$AC$19=\"X\",AC75=\"X\"),1,0)","v":0},null,{"$f":"IF(AND('Step 2 - Naturalized'!$AA$20=\"X\",AE75=\"X\"),1,0)","v":0},"X",{"$f":"IF(AND('Step 2 - Naturalized'!$AA$20=\"X\",AG75=\"X\"),1,0)","v":0},null,{"$f":"IF(AND('Step 2 - Naturalized'!$AB$20=\"X\",AI75=\"X\"),1,0)","v":0},null,{"$f":"IF(AND('Step 2 - Naturalized'!$AC$20=\"X\",AK75=\"X\"),1,0)","v":0},null,{"$f":"IF(AND('Step 2 - Naturalized'!$AA$18=\"X\",AM75=\"X\"),1,0)","v":0},"X",{"$f":"IF(AND('Step 2 - Naturalized'!$AB$18=\"X\",AO75=\"X\"),1,0)","v":0},"X",{"$f":"IF(AND('Step 2 - Naturalized'!$AC$18=\"X\",AQ75=\"X\"),1,0)","v":0},null,{"$f":"IF(AND('Step 2 - Naturalized'!$AD$18=\"X\",AS75=\"X\"),1,0)","v":0},null,{"$f":"IF(AND('Step 2 - Naturalized'!$AE$18=\"X\",AU75=\"X\"),1,0)","v":0},null,{"$f":"IF(AND('Step 2 - Naturalized'!$AA$17=\"X\",AW75=\"X\"),1,0)","v":0},"X",{"$f":"IF(AND('Step 2 - Naturalized'!$AB$17=\"X\",AY75=\"X\"),1,0)","v":0},null,{"$f":"IF(AND('Step 2 - Naturalized'!$AC$17=\"X\",BA75=\"X\"),1,0)","v":0},null,{"$f":"IF(AND('Step 2 - Naturalized'!$AA$22=\"X\",BC75=\"X\"),1,0)","v":0},null,{"$f":"IF(AND('Step 2 - Naturalized'!$AB$22=\"X\",BE75=\"X\"),1,0)","v":0},null,{"$f":"IF(AND('Step 2 - Naturalized'!$AC$22=\"X\",BG75=\"X\"),1,0)","v":0},null,{"$f":"IF(AND('Step 2 - Naturalized'!$AD$22=\"X\",BI75=\"X\"),1,0)","v":0},"X",null,null,null,null,null,null,"Creamy white / 2.0'-4.0'"]
["Legume",1,"CH FA","Chamaecrista fasciculata (Cassia chamaecrista, Cassia fasciculate)","Partridge Pea, Prairie Senna, Golden Cassia","24\" O.C.","Scarification needed. Hardy annual that will self-seed, fixes nitrogen for the soil, showy yellow flowers to 3' tall in June-Sept"," ","X","X",null,null,null,0,null,{"$f":"IF(AND('Step 2 - Naturalized'!$AA$21=\"X\",Q76=\"X\"),1,0)","v":0},"X",{"$f":"IF(AND('Step 2 - Naturalized'!$AB$21=\"X\",S76=\"X\"),1,0)","v":0},"X",{"$f":"IF(AND('Step 2 - Naturalized'!$AC$21=\"X\",U76=\"X\"),1,0)","v":0},"X",{"$f":"IF(AND('Step 2 - Naturalized'!$AA$19=\"X\",W76=\"X\"),1,0)","v":0},null,{"$f":"IF(AND('Step 2 - Naturalized'!$AA$19=\"X\",Y76=\"X\"),1,0)","v":0},"X",{"$f":"IF(AND('Step 2 - Naturalized'!$AB$19=\"X\",AA76=\"X\"),1,0)","v":0},"X",{"$f":"IF(AND('Step 2 - Naturalized'!$AC$19=\"X\",AC76=\"X\"),1,0)","v":0},null,{"$f":"IF(AND('Step 2 - Naturalized'!$AA$20=\"X\",AE76=\"X\"),1,0)","v":0},"X",{"$f":"IF(AND('Step 2 - Naturalized'!$AA$20=\"X\",AG76=\"X\"),1,0)","v":0},null,{"$f":"IF(AND('Step 2 - Naturalized'!$AB$20=\"X\",AI76=\"X\"),1,0)","v":0},null,{"$f":"IF(AND('Step 2 - Naturalized'!$AC$20=\"X\",AK76=\"X\"),1,0)","v":0},null,{"$f":"IF(AND('Step 2 - Naturalized'!$AA$18=\"X\",AM76=\"X\"),1,0)","v":0},"X",{"$f":"IF(AND('Step 2 - Naturalized'!$AB$18=\"X\",AO76=\"X\"),1,0)","v":0},"X",{"$f":"IF(AND('Step 2 - Naturalized'!$AC$18=\"X\",AQ76=\"X\"),1,0)","v":0},null,{"$f":"IF(AND('Step 2 - Naturalized'!$AD$18=\"X\",AS76=\"X\"),1,0)","v":0},null,{"$f":"IF(AND('Step 2 - Naturalized'!$AE$18=\"X\",AU76=\"X\"),1,0)","v":0},null,{"$f":"IF(AND('Step 2 - Naturalized'!$AA$17=\"X\",AW76=\"X\"),1,0)","v":0},"X",{"$f":"IF(AND('Step 2 - Naturalized'!$AB$17=\"X\",AY76=\"X\"),1,0)","v":0},null,{"$f":"IF(AND('Step 2 - Naturalized'!$AC$17=\"X\",BA76=\"X\"),1,0)","v":0},null,{"$f":"IF(AND('Step 2 - Naturalized'!$AA$22=\"X\",BC76=\"X\"),1,0)","v":0},null,{"$f":"IF(AND('Step 2 - Naturalized'!$AB$22=\"X\",BE76=\"X\"),1,0)","v":0},"X",{"$f":"IF(AND('Step 2 - Naturalized'!$AC$22=\"X\",BG76=\"X\"),1,0)","v":0},"X",{"$f":"IF(AND('Step 2 - Naturalized'!$AD$22=\"X\",BI76=\"X\"),1,0)","v":0},"X",null,null,null,null,null,"Yellow / 2.0'-3.0'"]
[null,1,"CO LA","Coreopsis lanceolata","Lanceleaf Coreopsis, Sand Coreopsis, Lanceleaf Tickseed","12\" O.C.","Small plant (1'-2' tall)  with yellow flowers in May-July, good for dry gravelly sites in full sun"," ","X","X","X",null,null,0,null,{"$f":"IF(AND('Step 2 - Naturalized'!$AA$21=\"X\",Q77=\"X\"),1,0)","v":0},"X",{"$f":"IF(AND('Step 2 - Naturalized'!$AB$21=\"X\",S77=\"X\"),1,0)","v":0},"X",{"$f":"IF(AND('Step 2 - Naturalized'!$AC$21=\"X\",U77=\"X\"),1,0)","v":0},"X",{"$f":"IF(AND('Step 2 - Naturalized'!$AA$19=\"X\",W77=\"X\"),1,0)","v":0},"X",{"$f":"IF(AND('Step 2 - Naturalized'!$AA$19=\"X\",Y77=\"X\"),1,0)","v":0},null,{"$f":"IF(AND('Step 2 - Naturalized'!$AB$19=\"X\",AA77=\"X\"),1,0)","v":0},null,{"$f":"IF(AND('Step 2 - Naturalized'!$AC$19=\"X\",AC77=\"X\"),1,0)","v":0},null,{"$f":"IF(AND('Step 2 - Naturalized'!$AA$20=\"X\",AE77=\"X\"),1,0)","v":0},"X",{"$f":"IF(AND('Step 2 - Naturalized'!$AA$20=\"X\",AG77=\"X\"),1,0)","v":0},null,{"$f":"IF(AND('Step 2 - Naturalized'!$AB$20=\"X\",AI77=\"X\"),1,0)","v":0},null,{"$f":"IF(AND('Step 2 - Naturalized'!$AC$20=\"X\",AK77=\"X\"),1,0)","v":0},null,{"$f":"IF(AND('Step 2 - Naturalized'!$AA$18=\"X\",AM77=\"X\"),1,0)","v":0},"X",{"$f":"IF(AND('Step 2 - Naturalized'!$AB$18=\"X\",AO77=\"X\"),1,0)","v":0},"X",{"$f":"IF(AND('Step 2 - Naturalized'!$AC$18=\"X\",AQ77=\"X\"),1,0)","v":0},null,{"$f":"IF(AND('Step 2 - Naturalized'!$AD$18=\"X\",AS77=\"X\"),1,0)","v":0},null,{"$f":"IF(AND('Step 2 - Naturalized'!$AE$18=\"X\",AU77=\"X\"),1,0)","v":0},null,{"$f":"IF(AND('Step 2 - Naturalized'!$AA$17=\"X\",AW77=\"X\"),1,0)","v":0},"X",{"$f":"IF(AND('Step 2 - Naturalized'!$AB$17=\"X\",AY77=\"X\"),1,0)","v":0},null,{"$f":"IF(AND('Step 2 - Naturalized'!$AC$17=\"X\",BA77=\"X\"),1,0)","v":0},null,{"$f":"IF(AND('Step 2 - Naturalized'!$AA$22=\"X\",BC77=\"X\"),1,0)","v":0},"X",{"$f":"IF(AND('Step 2 - Naturalized'!$AB$22=\"X\",BE77=\"X\"),1,0)","v":0},"X",{"$f":"IF(AND('Step 2 - Naturalized'!$AC$22=\"X\",BG77=\"X\"),1,0)","v":0},"X",{"$f":"IF(AND('Step 2 - Naturalized'!$AD$22=\"X\",BI77=\"X\"),1,0)","v":0},"X",null,null,null,null,"Yellow / 1.0'-2.0'"]
[null,1,"CO PA","Coreopsis palmata","Prairie Coreopsis","12\" O.C.","Easily grown, rhizomatous, 2.5' tall yellow daisy-like flowers in May-July for dry sunny sites"," ","X","X","X",null,null,1,"X",{"$f":"IF(AND('Step 2 - Naturalized'!$AA$21=\"X\",Q78=\"X\"),1,0)","v":0},null,{"$f":"IF(AND('Step 2 - Naturalized'!$AB$21=\"X\",S78=\"X\"),1,0)","v":0},null,{"$f":"IF(AND('Step 2 - Naturalized'!$AC$21=\"X\",U78=\"X\"),1,0)","v":0},null,{"$f":"IF(AND('Step 2 - Naturalized'!$AA$19=\"X\",W78=\"X\"),1,0)","v":0},null,{"$f":"IF(AND('Step 2 - Naturalized'!$AA$19=\"X\",Y78=\"X\"),1,0)","v":0},"X",{"$f":"IF(AND('Step 2 - Naturalized'!$AB$19=\"X\",AA78=\"X\"),1,0)","v":0},"X",{"$f":"IF(AND('Step 2 - Naturalized'!$AC$19=\"X\",AC78=\"X\"),1,0)","v":0},null,{"$f":"IF(AND('Step 2 - Naturalized'!$AA$20=\"X\",AE78=\"X\"),1,0)","v":0},null,{"$f":"IF(AND('Step 2 - Naturalized'!$AA$20=\"X\",AG78=\"X\"),1,0)","v":0},"X",{"$f":"IF(AND('Step 2 - Naturalized'!$AB$20=\"X\",AI78=\"X\"),1,0)","v":0},null,{"$f":"IF(AND('Step 2 - Naturalized'!$AC$20=\"X\",AK78=\"X\"),1,0)","v":0},null,{"$f":"IF(AND('Step 2 - Naturalized'!$AA$18=\"X\",AM78=\"X\"),1,0)","v":0},"X",{"$f":"IF(AND('Step 2 - Naturalized'!$AB$18=\"X\",AO78=\"X\"),1,0)","v":0},"X",{"$f":"IF(AND('Step 2 - Naturalized'!$AC$18=\"X\",AQ78=\"X\"),1,0)","v":0},null,{"$f":"IF(AND('Step 2 - Naturalized'!$AD$18=\"X\",AS78=\"X\"),1,0)","v":0},null,{"$f":"IF(AND('Step 2 - Naturalized'!$AE$18=\"X\",AU78=\"X\"),1,0)","v":0},null,{"$f":"IF(AND('Step 2 - Naturalized'!$AA$17=\"X\",AW78=\"X\"),1,0)","v":0},"X",{"$f":"IF(AND('Step 2 - Naturalized'!$AB$17=\"X\",AY78=\"X\"),1,0)","v":0},null,{"$f":"IF(AND('Step 2 - Naturalized'!$AC$17=\"X\",BA78=\"X\"),1,0)","v":0},null,{"$f":"IF(AND('Step 2 - Naturalized'!$AA$22=\"X\",BC78=\"X\"),1,0)","v":0},null,{"$f":"IF(AND('Step 2 - Naturalized'!$AB$22=\"X\",BE78=\"X\"),1,0)","v":0},"X",{"$f":"IF(AND('Step 2 - Naturalized'!$AC$22=\"X\",BG78=\"X\"),1,0)","v":0},"X",{"$f":"IF(AND('Step 2 - Naturalized'!$AD$22=\"X\",BI78=\"X\"),1,0)","v":0},"X",null,null,null,null,"Yellow / 1.5'-2.5'"]
[null,1,"CO TR","Coreopsis tripteris","Tall Coreopsis","48\" O.C.","Very tall (10'), yellow flowers in June-Sept., ",null,"X",null,"X",null,null,1,"X",{"$f":"IF(AND('Step 2 - Naturalized'!$AA$21=\"X\",Q79=\"X\"),1,0)","v":0},null,{"$f":"IF(AND('Step 2 - Naturalized'!$AB$21=\"X\",S79=\"X\"),1,0)","v":0},null,{"$f":"IF(AND('Step 2 - Naturalized'!$AC$21=\"X\",U79=\"X\"),1,0)","v":0},null,{"$f":"IF(AND('Step 2 - Naturalized'!$AA$19=\"X\",W79=\"X\"),1,0)","v":0},"X",{"$f":"IF(AND('Step 2 - Naturalized'!$AA$19=\"X\",Y79=\"X\"),1,0)","v":0},null,{"$f":"IF(AND('Step 2 - Naturalized'!$AB$19=\"X\",AA79=\"X\"),1,0)","v":0},null,{"$f":"IF(AND('Step 2 - Naturalized'!$AC$19=\"X\",AC79=\"X\"),1,0)","v":0},null,{"$f":"IF(AND('Step 2 - Naturalized'!$AA$20=\"X\",AE79=\"X\"),1,0)","v":0},"X",{"$f":"IF(AND('Step 2 - Naturalized'!$AA$20=\"X\",AG79=\"X\"),1,0)","v":0},null,{"$f":"IF(AND('Step 2 - Naturalized'!$AB$20=\"X\",AI79=\"X\"),1,0)","v":0},null,{"$f":"IF(AND('Step 2 - Naturalized'!$AC$20=\"X\",AK79=\"X\"),1,0)","v":0},null,{"$f":"IF(AND('Step 2 - Naturalized'!$AA$18=\"X\",AM79=\"X\"),1,0)","v":0},"X",{"$f":"IF(AND('Step 2 - Naturalized'!$AB$18=\"X\",AO79=\"X\"),1,0)","v":0},null,{"$f":"IF(AND('Step 2 - Naturalized'!$AC$18=\"X\",AQ79=\"X\"),1,0)","v":0},null,{"$f":"IF(AND('Step 2 - Naturalized'!$AD$18=\"X\",AS79=\"X\"),1,0)","v":0},null,{"$f":"IF(AND('Step 2 - Naturalized'!$AE$18=\"X\",AU79=\"X\"),1,0)","v":0},null,{"$f":"IF(AND('Step 2 - Naturalized'!$AA$17=\"X\",AW79=\"X\"),1,0)","v":0},"X",{"$f":"IF(AND('Step 2 - Naturalized'!$AB$17=\"X\",AY79=\"X\"),1,0)","v":0},null,{"$f":"IF(AND('Step 2 - Naturalized'!$AC$17=\"X\",BA79=\"X\"),1,0)","v":0},null,{"$f":"IF(AND('Step 2 - Naturalized'!$AA$22=\"X\",BC79=\"X\"),1,0)","v":0},null,{"$f":"IF(AND('Step 2 - Naturalized'!$AB$22=\"X\",BE79=\"X\"),1,0)","v":0},"X",{"$f":"IF(AND('Step 2 - Naturalized'!$AC$22=\"X\",BG79=\"X\"),1,0)","v":0},"X",{"$f":"IF(AND('Step 2 - Naturalized'!$AD$22=\"X\",BI79=\"X\"),1,0)","v":0},"X",null,null,null,null,null,null,"Yellow rays with brown cones / 2.0'-8.0'"]
["Legume",1,"DA CA","Dalea candida","White Prairie Clover","18\" O.C.","Scarification needed. 1'-2' Ht, white flowers in May/July, drought tolerant"," ","X","X",null,null,null,0,null,{"$f":"IF(AND('Step 2 - Naturalized'!$AA$21=\"X\",Q80=\"X\"),1,0)","v":0},"X",{"$f":"IF(AND('Step 2 - Naturalized'!$AB$21=\"X\",S80=\"X\"),1,0)","v":0},"X",{"$f":"IF(AND('Step 2 - Naturalized'!$AC$21=\"X\",U80=\"X\"),1,0)","v":0},"X",{"$f":"IF(AND('Step 2 - Naturalized'!$AA$19=\"X\",W80=\"X\"),1,0)","v":0},null,{"$f":"IF(AND('Step 2 - Naturalized'!$AA$19=\"X\",Y80=\"X\"),1,0)","v":0},"X",{"$f":"IF(AND('Step 2 - Naturalized'!$AB$19=\"X\",AA80=\"X\"),1,0)","v":0},null,{"$f":"IF(AND('Step 2 - Naturalized'!$AC$19=\"X\",AC80=\"X\"),1,0)","v":0},null,{"$f":"IF(AND('Step 2 - Naturalized'!$AA$20=\"X\",AE80=\"X\"),1,0)","v":0},null,{"$f":"IF(AND('Step 2 - Naturalized'!$AA$20=\"X\",AG80=\"X\"),1,0)","v":0},"X",{"$f":"IF(AND('Step 2 - Naturalized'!$AB$20=\"X\",AI80=\"X\"),1,0)","v":0},null,{"$f":"IF(AND('Step 2 - Naturalized'!$AC$20=\"X\",AK80=\"X\"),1,0)","v":0},null,{"$f":"IF(AND('Step 2 - Naturalized'!$AA$18=\"X\",AM80=\"X\"),1,0)","v":0},"X",{"$f":"IF(AND('Step 2 - Naturalized'!$AB$18=\"X\",AO80=\"X\"),1,0)","v":0},"X",{"$f":"IF(AND('Step 2 - Naturalized'!$AC$18=\"X\",AQ80=\"X\"),1,0)","v":0},null,{"$f":"IF(AND('Step 2 - Naturalized'!$AD$18=\"X\",AS80=\"X\"),1,0)","v":0},null,{"$f":"IF(AND('Step 2 - Naturalized'!$AE$18=\"X\",AU80=\"X\"),1,0)","v":0},null,{"$f":"IF(AND('Step 2 - Naturalized'!$AA$17=\"X\",AW80=\"X\"),1,0)","v":0},"X",{"$f":"IF(AND('Step 2 - Naturalized'!$AB$17=\"X\",AY80=\"X\"),1,0)","v":0},null,{"$f":"IF(AND('Step 2 - Naturalized'!$AC$17=\"X\",BA80=\"X\"),1,0)","v":0},null,{"$f":"IF(AND('Step 2 - Naturalized'!$AA$22=\"X\",BC80=\"X\"),1,0)","v":0},null,{"$f":"IF(AND('Step 2 - Naturalized'!$AB$22=\"X\",BE80=\"X\"),1,0)","v":0},"X",{"$f":"IF(AND('Step 2 - Naturalized'!$AC$22=\"X\",BG80=\"X\"),1,0)","v":0},"X",{"$f":"IF(AND('Step 2 - Naturalized'!$AD$22=\"X\",BI80=\"X\"),1,0)","v":0},"X",null,null,null,null,"White / 1.0'-2.0'"]
["Legume",1,"DA PU","Dalea purpurea (Petalostemum purpureum)","Prairie Clover","12\" O.C.","Scarification needed. Nitrogen fixer, rose/purple blooms June-Aug, good with pale purple coneflower and sporobolus"," ","X","X",null,null,null,0,null,{"$f":"IF(AND('Step 2 - Naturalized'!$AA$21=\"X\",Q81=\"X\"),1,0)","v":0},null,{"$f":"IF(AND('Step 2 - Naturalized'!$AB$21=\"X\",S81=\"X\"),1,0)","v":0},"X",{"$f":"IF(AND('Step 2 - Naturalized'!$AC$21=\"X\",U81=\"X\"),1,0)","v":0},"X",{"$f":"IF(AND('Step 2 - Naturalized'!$AA$19=\"X\",W81=\"X\"),1,0)","v":0},null,{"$f":"IF(AND('Step 2 - Naturalized'!$AA$19=\"X\",Y81=\"X\"),1,0)","v":0},"X",{"$f":"IF(AND('Step 2 - Naturalized'!$AB$19=\"X\",AA81=\"X\"),1,0)","v":0},"X",{"$f":"IF(AND('Step 2 - Naturalized'!$AC$19=\"X\",AC81=\"X\"),1,0)","v":0},null,{"$f":"IF(AND('Step 2 - Naturalized'!$AA$20=\"X\",AE81=\"X\"),1,0)","v":0},"X",{"$f":"IF(AND('Step 2 - Naturalized'!$AA$20=\"X\",AG81=\"X\"),1,0)","v":0},null,{"$f":"IF(AND('Step 2 - Naturalized'!$AB$20=\"X\",AI81=\"X\"),1,0)","v":0},null,{"$f":"IF(AND('Step 2 - Naturalized'!$AC$20=\"X\",AK81=\"X\"),1,0)","v":0},null,{"$f":"IF(AND('Step 2 - Naturalized'!$AA$18=\"X\",AM81=\"X\"),1,0)","v":0},null,{"$f":"IF(AND('Step 2 - Naturalized'!$AB$18=\"X\",AO81=\"X\"),1,0)","v":0},"X",{"$f":"IF(AND('Step 2 - Naturalized'!$AC$18=\"X\",AQ81=\"X\"),1,0)","v":0},null,{"$f":"IF(AND('Step 2 - Naturalized'!$AD$18=\"X\",AS81=\"X\"),1,0)","v":0},null,{"$f":"IF(AND('Step 2 - Naturalized'!$AE$18=\"X\",AU81=\"X\"),1,0)","v":0},null,{"$f":"IF(AND('Step 2 - Naturalized'!$AA$17=\"X\",AW81=\"X\"),1,0)","v":0},"X",{"$f":"IF(AND('Step 2 - Naturalized'!$AB$17=\"X\",AY81=\"X\"),1,0)","v":0},null,{"$f":"IF(AND('Step 2 - Naturalized'!$AC$17=\"X\",BA81=\"X\"),1,0)","v":0},null,{"$f":"IF(AND('Step 2 - Naturalized'!$AA$22=\"X\",BC81=\"X\"),1,0)","v":0},null,{"$f":"IF(AND('Step 2 - Naturalized'!$AB$22=\"X\",BE81=\"X\"),1,0)","v":0},null,{"$f":"IF(AND('Step 2 - Naturalized'!$AC$22=\"X\",BG81=\"X\"),1,0)","v":0},"X",{"$f":"IF(AND('Step 2 - Naturalized'!$AD$22=\"X\",BI81=\"X\"),1,0)","v":0},"X",null,null,null,null,null,"Rose-purple / 1.0'-3.0'"]
["Legume",1,"DE CA","Desmodium canadense","Canadian Tick-Trefoil","24\" O.C.","Scarification needed. Pink flowers in July-Aug at 40\", ",null,"X","X","X",null,null,0,null,{"$f":"IF(AND('Step 2 - Naturalized'!$AA$21=\"X\",Q82=\"X\"),1,0)","v":0},"X",{"$f":"IF(AND('Step 2 - Naturalized'!$AB$21=\"X\",S82=\"X\"),1,0)","v":0},null,{"$f":"IF(AND('Step 2 - Naturalized'!$AC$21=\"X\",U82=\"X\"),1,0)","v":0},null,{"$f":"IF(AND('Step 2 - Naturalized'!$AA$19=\"X\",W82=\"X\"),1,0)","v":0},null,{"$f":"IF(AND('Step 2 - Naturalized'!$AA$19=\"X\",Y82=\"X\"),1,0)","v":0},"X",{"$f":"IF(AND('Step 2 - Naturalized'!$AB$19=\"X\",AA82=\"X\"),1,0)","v":0},null,{"$f":"IF(AND('Step 2 - Naturalized'!$AC$19=\"X\",AC82=\"X\"),1,0)","v":0},null,{"$f":"IF(AND('Step 2 - Naturalized'!$AA$20=\"X\",AE82=\"X\"),1,0)","v":0},null,{"$f":"IF(AND('Step 2 - Naturalized'!$AA$20=\"X\",AG82=\"X\"),1,0)","v":0},"X",{"$f":"IF(AND('Step 2 - Naturalized'!$AB$20=\"X\",AI82=\"X\"),1,0)","v":0},null,{"$f":"IF(AND('Step 2 - Naturalized'!$AC$20=\"X\",AK82=\"X\"),1,0)","v":0},null,{"$f":"IF(AND('Step 2 - Naturalized'!$AA$18=\"X\",AM82=\"X\"),1,0)","v":0},null,{"$f":"IF(AND('Step 2 - Naturalized'!$AB$18=\"X\",AO82=\"X\"),1,0)","v":0},"X",{"$f":"IF(AND('Step 2 - Naturalized'!$AC$18=\"X\",AQ82=\"X\"),1,0)","v":0},null,{"$f":"IF(AND('Step 2 - Naturalized'!$AD$18=\"X\",AS82=\"X\"),1,0)","v":0},null,{"$f":"IF(AND('Step 2 - Naturalized'!$AE$18=\"X\",AU82=\"X\"),1,0)","v":0},null,{"$f":"IF(AND('Step 2 - Naturalized'!$AA$17=\"X\",AW82=\"X\"),1,0)","v":0},"X",{"$f":"IF(AND('Step 2 - Naturalized'!$AB$17=\"X\",AY82=\"X\"),1,0)","v":0},"X",{"$f":"IF(AND('Step 2 - Naturalized'!$AC$17=\"X\",BA82=\"X\"),1,0)","v":0},null,{"$f":"IF(AND('Step 2 - Naturalized'!$AA$22=\"X\",BC82=\"X\"),1,0)","v":0},null,{"$f":"IF(AND('Step 2 - Naturalized'!$AB$22=\"X\",BE82=\"X\"),1,0)","v":0},null,{"$f":"IF(AND('Step 2 - Naturalized'!$AC$22=\"X\",BG82=\"X\"),1,0)","v":0},"X",{"$f":"IF(AND('Step 2 - Naturalized'!$AD$22=\"X\",BI82=\"X\"),1,0)","v":0},"X",null,null,null,null,null,null,"Pink to Purple / 2.0'-6.0'"]
["Legume",1,"DE IL","Desmodium illinoense","Illinois Tick-Trefoil, Tick Trefoil","12\" O.C.","Scarification needed. A nitrogen fixing legume, flowers not showy, prefers full or partial sun and mesic soil"," ","X","X",null,null,null,0,null,{"$f":"IF(AND('Step 2 - Naturalized'!$AA$21=\"X\",Q83=\"X\"),1,0)","v":0},"X",{"$f":"IF(AND('Step 2 - Naturalized'!$AB$21=\"X\",S83=\"X\"),1,0)","v":0},null,{"$f":"IF(AND('Step 2 - Naturalized'!$AC$21=\"X\",U83=\"X\"),1,0)","v":0},null,{"$f":"IF(AND('Step 2 - Naturalized'!$AA$19=\"X\",W83=\"X\"),1,0)","v":0},"X",{"$f":"IF(AND('Step 2 - Naturalized'!$AA$19=\"X\",Y83=\"X\"),1,0)","v":0},null,{"$f":"IF(AND('Step 2 - Naturalized'!$AB$19=\"X\",AA83=\"X\"),1,0)","v":0},null,{"$f":"IF(AND('Step 2 - Naturalized'!$AC$19=\"X\",AC83=\"X\"),1,0)","v":0},null,{"$f":"IF(AND('Step 2 - Naturalized'!$AA$20=\"X\",AE83=\"X\"),1,0)","v":0},"X",{"$f":"IF(AND('Step 2 - Naturalized'!$AA$20=\"X\",AG83=\"X\"),1,0)","v":0},null,{"$f":"IF(AND('Step 2 - Naturalized'!$AB$20=\"X\",AI83=\"X\"),1,0)","v":0},null,{"$f":"IF(AND('Step 2 - Naturalized'!$AC$20=\"X\",AK83=\"X\"),1,0)","v":0},null,{"$f":"IF(AND('Step 2 - Naturalized'!$AA$18=\"X\",AM83=\"X\"),1,0)","v":0},null,{"$f":"IF(AND('Step 2 - Naturalized'!$AB$18=\"X\",AO83=\"X\"),1,0)","v":0},"X",{"$f":"IF(AND('Step 2 - Naturalized'!$AC$18=\"X\",AQ83=\"X\"),1,0)","v":0},null,{"$f":"IF(AND('Step 2 - Naturalized'!$AD$18=\"X\",AS83=\"X\"),1,0)","v":0},null,{"$f":"IF(AND('Step 2 - Naturalized'!$AE$18=\"X\",AU83=\"X\"),1,0)","v":0},null,{"$f":"IF(AND('Step 2 - Naturalized'!$AA$17=\"X\",AW83=\"X\"),1,0)","v":0},"X",{"$f":"IF(AND('Step 2 - Naturalized'!$AB$17=\"X\",AY83=\"X\"),1,0)","v":0},"X",{"$f":"IF(AND('Step 2 - Naturalized'!$AC$17=\"X\",BA83=\"X\"),1,0)","v":0},null,{"$f":"IF(AND('Step 2 - Naturalized'!$AA$22=\"X\",BC83=\"X\"),1,0)","v":0},null,{"$f":"IF(AND('Step 2 - Naturalized'!$AB$22=\"X\",BE83=\"X\"),1,0)","v":0},null,{"$f":"IF(AND('Step 2 - Naturalized'!$AC$22=\"X\",BG83=\"X\"),1,0)","v":0},"X",{"$f":"IF(AND('Step 2 - Naturalized'!$AD$22=\"X\",BI83=\"X\"),1,0)","v":0},"X",null,null,null,null,null,"Flowers are insignificant"]
[null,1,"DI CU","Dicentra cucullaria","Dutchman's Breeches","10\" O.C.","Lovely little woodland flower (12\" tall) pinkish white in March",null,"X","X",null,"X",null,0,null,{"$f":"IF(AND('Step 2 - Naturalized'!$AA$21=\"X\",Q84=\"X\"),1,0)","v":0},"X",{"$f":"IF(AND('Step 2 - Naturalized'!$AB$21=\"X\",S84=\"X\"),1,0)","v":0},"X",{"$f":"IF(AND('Step 2 - Naturalized'!$AC$21=\"X\",U84=\"X\"),1,0)","v":0},null,{"$f":"IF(AND('Step 2 - Naturalized'!$AA$19=\"X\",W84=\"X\"),1,0)","v":0},"X",{"$f":"IF(AND('Step 2 - Naturalized'!$AA$19=\"X\",Y84=\"X\"),1,0)","v":0},null,{"$f":"IF(AND('Step 2 - Naturalized'!$AB$19=\"X\",AA84=\"X\"),1,0)","v":0},null,{"$f":"IF(AND('Step 2 - Naturalized'!$AC$19=\"X\",AC84=\"X\"),1,0)","v":0},null,{"$f":"IF(AND('Step 2 - Naturalized'!$AA$20=\"X\",AE84=\"X\"),1,0)","v":0},"X",{"$f":"IF(AND('Step 2 - Naturalized'!$AA$20=\"X\",AG84=\"X\"),1,0)","v":0},null,{"$f":"IF(AND('Step 2 - Naturalized'!$AB$20=\"X\",AI84=\"X\"),1,0)","v":0},null,{"$f":"IF(AND('Step 2 - Naturalized'!$AC$20=\"X\",AK84=\"X\"),1,0)","v":0},null,{"$f":"IF(AND('Step 2 - Naturalized'!$AA$18=\"X\",AM84=\"X\"),1,0)","v":0},null,{"$f":"IF(AND('Step 2 - Naturalized'!$AB$18=\"X\",AO84=\"X\"),1,0)","v":0},"X",{"$f":"IF(AND('Step 2 - Naturalized'!$AC$18=\"X\",AQ84=\"X\"),1,0)","v":0},null,{"$f":"IF(AND('Step 2 - Naturalized'!$AD$18=\"X\",AS84=\"X\"),1,0)","v":0},null,{"$f":"IF(AND('Step 2 - Naturalized'!$AE$18=\"X\",AU84=\"X\"),1,0)","v":0},null,{"$f":"IF(AND('Step 2 - Naturalized'!$AA$17=\"X\",AW84=\"X\"),1,0)","v":0},null,{"$f":"IF(AND('Step 2 - Naturalized'!$AB$17=\"X\",AY84=\"X\"),1,0)","v":0},"X",{"$f":"IF(AND('Step 2 - Naturalized'!$AC$17=\"X\",BA84=\"X\"),1,0)","v":0},"X",{"$f":"IF(AND('Step 2 - Naturalized'!$AA$22=\"X\",BC84=\"X\"),1,0)","v":0},null,{"$f":"IF(AND('Step 2 - Naturalized'!$AB$22=\"X\",BE84=\"X\"),1,0)","v":0},null,{"$f":"IF(AND('Step 2 - Naturalized'!$AC$22=\"X\",BG84=\"X\"),1,0)","v":0},"X",{"$f":"IF(AND('Step 2 - Naturalized'!$AD$22=\"X\",BI84=\"X\"),1,0)","v":0},"X",null,null,"Pinkish white / 0.5'-1.0'"]
[null,1,"DO ME","Dodecatheon meadia","Shooting Star","10\" O.C.","Prefers moist, rich soils in part shade, tolerates clay soil, white/pink/purple flowers to 18\" in May"," ","X","X",null,null,null,0,null,{"$f":"IF(AND('Step 2 - Naturalized'!$AA$21=\"X\",Q85=\"X\"),1,0)","v":0},"X",{"$f":"IF(AND('Step 2 - Naturalized'!$AB$21=\"X\",S85=\"X\"),1,0)","v":0},null,{"$f":"IF(AND('Step 2 - Naturalized'!$AC$21=\"X\",U85=\"X\"),1,0)","v":0},null,{"$f":"IF(AND('Step 2 - Naturalized'!$AA$19=\"X\",W85=\"X\"),1,0)","v":0},null,{"$f":"IF(AND('Step 2 - Naturalized'!$AA$19=\"X\",Y85=\"X\"),1,0)","v":0},"X",{"$f":"IF(AND('Step 2 - Naturalized'!$AB$19=\"X\",AA85=\"X\"),1,0)","v":0},null,{"$f":"IF(AND('Step 2 - Naturalized'!$AC$19=\"X\",AC85=\"X\"),1,0)","v":0},null,{"$f":"IF(AND('Step 2 - Naturalized'!$AA$20=\"X\",AE85=\"X\"),1,0)","v":0},"X",{"$f":"IF(AND('Step 2 - Naturalized'!$AA$20=\"X\",AG85=\"X\"),1,0)","v":0},null,{"$f":"IF(AND('Step 2 - Naturalized'!$AB$20=\"X\",AI85=\"X\"),1,0)","v":0},null,{"$f":"IF(AND('Step 2 - Naturalized'!$AC$20=\"X\",AK85=\"X\"),1,0)","v":0},null,{"$f":"IF(AND('Step 2 - Naturalized'!$AA$18=\"X\",AM85=\"X\"),1,0)","v":0},null,{"$f":"IF(AND('Step 2 - Naturalized'!$AB$18=\"X\",AO85=\"X\"),1,0)","v":0},"X",{"$f":"IF(AND('Step 2 - Naturalized'!$AC$18=\"X\",AQ85=\"X\"),1,0)","v":0},null,{"$f":"IF(AND('Step 2 - Naturalized'!$AD$18=\"X\",AS85=\"X\"),1,0)","v":0},null,{"$f":"IF(AND('Step 2 - Naturalized'!$AE$18=\"X\",AU85=\"X\"),1,0)","v":0},null,{"$f":"IF(AND('Step 2 - Naturalized'!$AA$17=\"X\",AW85=\"X\"),1,0)","v":0},null,{"$f":"IF(AND('Step 2 - Naturalized'!$AB$17=\"X\",AY85=\"X\"),1,0)","v":0},"X",{"$f":"IF(AND('Step 2 - Naturalized'!$AC$17=\"X\",BA85=\"X\"),1,0)","v":0},"X",{"$f":"IF(AND('Step 2 - Naturalized'!$AA$22=\"X\",BC85=\"X\"),1,0)","v":0},null,{"$f":"IF(AND('Step 2 - Naturalized'!$AB$22=\"X\",BE85=\"X\"),1,0)","v":0},null,{"$f":"IF(AND('Step 2 - Naturalized'!$AC$22=\"X\",BG85=\"X\"),1,0)","v":0},"X",{"$f":"IF(AND('Step 2 - Naturalized'!$AD$22=\"X\",BI85=\"X\"),1,0)","v":0},"X",null,null,null,null,"White,Pink, or Light Purple/0.75'-1'"]
[null,1,"DO UM","Doellingeria umbellata (Aster umbellatus)","Flat-topped Aster","24\" O.C.","Prefers slightly acidic soil, light yellow to tan flowers, 2'-7' tall in July-Oct"," ","X","X",null,null,null,0,null,{"$f":"IF(AND('Step 2 - Naturalized'!$AA$21=\"X\",Q86=\"X\"),1,0)","v":0},"X",{"$f":"IF(AND('Step 2 - Naturalized'!$AB$21=\"X\",S86=\"X\"),1,0)","v":0},null,{"$f":"IF(AND('Step 2 - Naturalized'!$AC$21=\"X\",U86=\"X\"),1,0)","v":0},null,{"$f":"IF(AND('Step 2 - Naturalized'!$AA$19=\"X\",W86=\"X\"),1,0)","v":0},null,{"$f":"IF(AND('Step 2 - Naturalized'!$AA$19=\"X\",Y86=\"X\"),1,0)","v":0},"X",{"$f":"IF(AND('Step 2 - Naturalized'!$AB$19=\"X\",AA86=\"X\"),1,0)","v":0},null,{"$f":"IF(AND('Step 2 - Naturalized'!$AC$19=\"X\",AC86=\"X\"),1,0)","v":0},null,{"$f":"IF(AND('Step 2 - Naturalized'!$AA$20=\"X\",AE86=\"X\"),1,0)","v":0},null,{"$f":"IF(AND('Step 2 - Naturalized'!$AA$20=\"X\",AG86=\"X\"),1,0)","v":0},"X",{"$f":"IF(AND('Step 2 - Naturalized'!$AB$20=\"X\",AI86=\"X\"),1,0)","v":0},null,{"$f":"IF(AND('Step 2 - Naturalized'!$AC$20=\"X\",AK86=\"X\"),1,0)","v":0},null,{"$f":"IF(AND('Step 2 - Naturalized'!$AA$18=\"X\",AM86=\"X\"),1,0)","v":0},null,{"$f":"IF(AND('Step 2 - Naturalized'!$AB$18=\"X\",AO86=\"X\"),1,0)","v":0},null,{"$f":"IF(AND('Step 2 - Naturalized'!$AC$18=\"X\",AQ86=\"X\"),1,0)","v":0},"X",{"$f":"IF(AND('Step 2 - Naturalized'!$AD$18=\"X\",AS86=\"X\"),1,0)","v":0},null,{"$f":"IF(AND('Step 2 - Naturalized'!$AE$18=\"X\",AU86=\"X\"),1,0)","v":0},null,{"$f":"IF(AND('Step 2 - Naturalized'!$AA$17=\"X\",AW86=\"X\"),1,0)","v":0},"X",{"$f":"IF(AND('Step 2 - Naturalized'!$AB$17=\"X\",AY86=\"X\"),1,0)","v":0},"X",{"$f":"IF(AND('Step 2 - Naturalized'!$AC$17=\"X\",BA86=\"X\"),1,0)","v":0},null,{"$f":"IF(AND('Step 2 - Naturalized'!$AA$22=\"X\",BC86=\"X\"),1,0)","v":0},null,{"$f":"IF(AND('Step 2 - Naturalized'!$AB$22=\"X\",BE86=\"X\"),1,0)","v":0},null,{"$f":"IF(AND('Step 2 - Naturalized'!$AC$22=\"X\",BG86=\"X\"),1,0)","v":0},"X",{"$f":"IF(AND('Step 2 - Naturalized'!$AD$22=\"X\",BI86=\"X\"),1,0)","v":0},"X",null,null,null,null,null,null,"Yellow to tan / 4.0'-6.0'"]
[null,1,"DR AR","Drymocallis arguta (Potentilla arguta)","Prairie Cinquefoil","18\" O.C.","A 1'-3' tall native with white/yellow flowers rising over basal foliage in July-August"," ","X","X",null,null,null,1,"X",{"$f":"IF(AND('Step 2 - Naturalized'!$AA$21=\"X\",Q87=\"X\"),1,0)","v":0},null,{"$f":"IF(AND('Step 2 - Naturalized'!$AB$21=\"X\",S87=\"X\"),1,0)","v":0},null,{"$f":"IF(AND('Step 2 - Naturalized'!$AC$21=\"X\",U87=\"X\"),1,0)","v":0},null,{"$f":"IF(AND('Step 2 - Naturalized'!$AA$19=\"X\",W87=\"X\"),1,0)","v":0},"X",{"$f":"IF(AND('Step 2 - Naturalized'!$AA$19=\"X\",Y87=\"X\"),1,0)","v":0},null,{"$f":"IF(AND('Step 2 - Naturalized'!$AB$19=\"X\",AA87=\"X\"),1,0)","v":0},null,{"$f":"IF(AND('Step 2 - Naturalized'!$AC$19=\"X\",AC87=\"X\"),1,0)","v":0},null,{"$f":"IF(AND('Step 2 - Naturalized'!$AA$20=\"X\",AE87=\"X\"),1,0)","v":0},"X",{"$f":"IF(AND('Step 2 - Naturalized'!$AA$20=\"X\",AG87=\"X\"),1,0)","v":0},null,{"$f":"IF(AND('Step 2 - Naturalized'!$AB$20=\"X\",AI87=\"X\"),1,0)","v":0},null,{"$f":"IF(AND('Step 2 - Naturalized'!$AC$20=\"X\",AK87=\"X\"),1,0)","v":0},null,{"$f":"IF(AND('Step 2 - Naturalized'!$AA$18=\"X\",AM87=\"X\"),1,0)","v":0},"X",{"$f":"IF(AND('Step 2 - Naturalized'!$AB$18=\"X\",AO87=\"X\"),1,0)","v":0},"X",{"$f":"IF(AND('Step 2 - Naturalized'!$AC$18=\"X\",AQ87=\"X\"),1,0)","v":0},null,{"$f":"IF(AND('Step 2 - Naturalized'!$AD$18=\"X\",AS87=\"X\"),1,0)","v":0},null,{"$f":"IF(AND('Step 2 - Naturalized'!$AE$18=\"X\",AU87=\"X\"),1,0)","v":0},null,{"$f":"IF(AND('Step 2 - Naturalized'!$AA$17=\"X\",AW87=\"X\"),1,0)","v":0},"X",{"$f":"IF(AND('Step 2 - Naturalized'!$AB$17=\"X\",AY87=\"X\"),1,0)","v":0},null,{"$f":"IF(AND('Step 2 - Naturalized'!$AC$17=\"X\",BA87=\"X\"),1,0)","v":0},null,{"$f":"IF(AND('Step 2 - Naturalized'!$AA$22=\"X\",BC87=\"X\"),1,0)","v":0},null,{"$f":"IF(AND('Step 2 - Naturalized'!$AB$22=\"X\",BE87=\"X\"),1,0)","v":0},"X",{"$f":"IF(AND('Step 2 - Naturalized'!$AC$22=\"X\",BG87=\"X\"),1,0)","v":0},"X",{"$f":"IF(AND('Step 2 - Naturalized'!$AD$22=\"X\",BI87=\"X\"),1,0)","v":0},"X",null,null,null,null,null,null,"White and Yelllow / 1.0'-3.0'"]
[null,1,"ER YU","Eryngium yuccifolium","Rattlesnake Master","30\" O.C.","Showy spiked-ball  flower heads and yucca like leaves,  likes lean soil, 4-5' tall  "," ","X","X",null,null,null,0,null,{"$f":"IF(AND('Step 2 - Naturalized'!$AA$21=\"X\",Q88=\"X\"),1,0)","v":0},null,{"$f":"IF(AND('Step 2 - Naturalized'!$AB$21=\"X\",S88=\"X\"),1,0)","v":0},"X",{"$f":"IF(AND('Step 2 - Naturalized'!$AC$21=\"X\",U88=\"X\"),1,0)","v":0},null,{"$f":"IF(AND('Step 2 - Naturalized'!$AA$19=\"X\",W88=\"X\"),1,0)","v":0},null,{"$f":"IF(AND('Step 2 - Naturalized'!$AA$19=\"X\",Y88=\"X\"),1,0)","v":0},"X",{"$f":"IF(AND('Step 2 - Naturalized'!$AB$19=\"X\",AA88=\"X\"),1,0)","v":0},"X",{"$f":"IF(AND('Step 2 - Naturalized'!$AC$19=\"X\",AC88=\"X\"),1,0)","v":0},null,{"$f":"IF(AND('Step 2 - Naturalized'!$AA$20=\"X\",AE88=\"X\"),1,0)","v":0},null,{"$f":"IF(AND('Step 2 - Naturalized'!$AA$20=\"X\",AG88=\"X\"),1,0)","v":0},"X",{"$f":"IF(AND('Step 2 - Naturalized'!$AB$20=\"X\",AI88=\"X\"),1,0)","v":0},null,{"$f":"IF(AND('Step 2 - Naturalized'!$AC$20=\"X\",AK88=\"X\"),1,0)","v":0},null,{"$f":"IF(AND('Step 2 - Naturalized'!$AA$18=\"X\",AM88=\"X\"),1,0)","v":0},"X",{"$f":"IF(AND('Step 2 - Naturalized'!$AB$18=\"X\",AO88=\"X\"),1,0)","v":0}," ",{"$f":"IF(AND('Step 2 - Naturalized'!$AC$18=\"X\",AQ88=\"X\"),1,0)","v":0},null,{"$f":"IF(AND('Step 2 - Naturalized'!$AD$18=\"X\",AS88=\"X\"),1,0)","v":0},null,{"$f":"IF(AND('Step 2 - Naturalized'!$AE$18=\"X\",AU88=\"X\"),1,0)","v":0},null,{"$f":"IF(AND('Step 2 - Naturalized'!$AA$17=\"X\",AW88=\"X\"),1,0)","v":0},"X",{"$f":"IF(AND('Step 2 - Naturalized'!$AB$17=\"X\",AY88=\"X\"),1,0)","v":0},null,{"$f":"IF(AND('Step 2 - Naturalized'!$AC$17=\"X\",BA88=\"X\"),1,0)","v":0},null,{"$f":"IF(AND('Step 2 - Naturalized'!$AA$22=\"X\",BC88=\"X\"),1,0)","v":0},null,{"$f":"IF(AND('Step 2 - Naturalized'!$AB$22=\"X\",BE88=\"X\"),1,0)","v":0},null,{"$f":"IF(AND('Step 2 - Naturalized'!$AC$22=\"X\",BG88=\"X\"),1,0)","v":0},"X",{"$f":"IF(AND('Step 2 - Naturalized'!$AD$22=\"X\",BI88=\"X\"),1,0)","v":0},"X",null,null,null,null,"White / 4.0' - 6.0'"]
[null,1,"EU AL","Eupatorium altissimum","Tall Boneset, Tall Thoroughwort,  ","24\" O.C.","A re-seeding native (3'-5' tall) with dull white flowers in Aug-Sept for part sun dry soils or full sun mesic "," ","X","X","X",null,null,1,"X",{"$f":"IF(AND('Step 2 - Naturalized'!$AA$21=\"X\",Q89=\"X\"),1,0)","v":0},null,{"$f":"IF(AND('Step 2 - Naturalized'!$AB$21=\"X\",S89=\"X\"),1,0)","v":0},null,{"$f":"IF(AND('Step 2 - Naturalized'!$AC$21=\"X\",U89=\"X\"),1,0)","v":0},null,{"$f":"IF(AND('Step 2 - Naturalized'!$AA$19=\"X\",W89=\"X\"),1,0)","v":0},"X",{"$f":"IF(AND('Step 2 - Naturalized'!$AA$19=\"X\",Y89=\"X\"),1,0)","v":0},null,{"$f":"IF(AND('Step 2 - Naturalized'!$AB$19=\"X\",AA89=\"X\"),1,0)","v":0},null,{"$f":"IF(AND('Step 2 - Naturalized'!$AC$19=\"X\",AC89=\"X\"),1,0)","v":0},null,{"$f":"IF(AND('Step 2 - Naturalized'!$AA$20=\"X\",AE89=\"X\"),1,0)","v":0},"X",{"$f":"IF(AND('Step 2 - Naturalized'!$AA$20=\"X\",AG89=\"X\"),1,0)","v":0},null,{"$f":"IF(AND('Step 2 - Naturalized'!$AB$20=\"X\",AI89=\"X\"),1,0)","v":0},null,{"$f":"IF(AND('Step 2 - Naturalized'!$AC$20=\"X\",AK89=\"X\"),1,0)","v":0},null,{"$f":"IF(AND('Step 2 - Naturalized'!$AA$18=\"X\",AM89=\"X\"),1,0)","v":0},"X",{"$f":"IF(AND('Step 2 - Naturalized'!$AB$18=\"X\",AO89=\"X\"),1,0)","v":0},"X",{"$f":"IF(AND('Step 2 - Naturalized'!$AC$18=\"X\",AQ89=\"X\"),1,0)","v":0},null,{"$f":"IF(AND('Step 2 - Naturalized'!$AD$18=\"X\",AS89=\"X\"),1,0)","v":0},null,{"$f":"IF(AND('Step 2 - Naturalized'!$AE$18=\"X\",AU89=\"X\"),1,0)","v":0},null,{"$f":"IF(AND('Step 2 - Naturalized'!$AA$17=\"X\",AW89=\"X\"),1,0)","v":0},"X",{"$f":"IF(AND('Step 2 - Naturalized'!$AB$17=\"X\",AY89=\"X\"),1,0)","v":0},"X",{"$f":"IF(AND('Step 2 - Naturalized'!$AC$17=\"X\",BA89=\"X\"),1,0)","v":0},null,{"$f":"IF(AND('Step 2 - Naturalized'!$AA$22=\"X\",BC89=\"X\"),1,0)","v":0},null,{"$f":"IF(AND('Step 2 - Naturalized'!$AB$22=\"X\",BE89=\"X\"),1,0)","v":0},null,{"$f":"IF(AND('Step 2 - Naturalized'!$AC$22=\"X\",BG89=\"X\"),1,0)","v":0},"X",{"$f":"IF(AND('Step 2 - Naturalized'!$AD$22=\"X\",BI89=\"X\"),1,0)","v":0},"X",null,null,null,null,null,null,null,"Dull white / 3.0'-5.0'"]
[null,1,"EU MA","Eutrochium maculatum (Eupatorium maculatum) ","Joe-Pye Weed","36\" O.C.","Mauve-pink flowers to 5' tall in July/Sept, prefers medium to wet soils in full sun"," ","X","X",null,null,null,0,null,{"$f":"IF(AND('Step 2 - Naturalized'!$AA$21=\"X\",Q90=\"X\"),1,0)","v":0},"X",{"$f":"IF(AND('Step 2 - Naturalized'!$AB$21=\"X\",S90=\"X\"),1,0)","v":0},"X",{"$f":"IF(AND('Step 2 - Naturalized'!$AC$21=\"X\",U90=\"X\"),1,0)","v":0},null,{"$f":"IF(AND('Step 2 - Naturalized'!$AA$19=\"X\",W90=\"X\"),1,0)","v":0},null,{"$f":"IF(AND('Step 2 - Naturalized'!$AA$19=\"X\",Y90=\"X\"),1,0)","v":0},"X",{"$f":"IF(AND('Step 2 - Naturalized'!$AB$19=\"X\",AA90=\"X\"),1,0)","v":0},null,{"$f":"IF(AND('Step 2 - Naturalized'!$AC$19=\"X\",AC90=\"X\"),1,0)","v":0},null,{"$f":"IF(AND('Step 2 - Naturalized'!$AA$20=\"X\",AE90=\"X\"),1,0)","v":0},null,{"$f":"IF(AND('Step 2 - Naturalized'!$AA$20=\"X\",AG90=\"X\"),1,0)","v":0},"X",{"$f":"IF(AND('Step 2 - Naturalized'!$AB$20=\"X\",AI90=\"X\"),1,0)","v":0},"X",{"$f":"IF(AND('Step 2 - Naturalized'!$AC$20=\"X\",AK90=\"X\"),1,0)","v":0},null,{"$f":"IF(AND('Step 2 - Naturalized'!$AA$18=\"X\",AM90=\"X\"),1,0)","v":0},null,{"$f":"IF(AND('Step 2 - Naturalized'!$AB$18=\"X\",AO90=\"X\"),1,0)","v":0},"X",{"$f":"IF(AND('Step 2 - Naturalized'!$AC$18=\"X\",AQ90=\"X\"),1,0)","v":0},"X",{"$f":"IF(AND('Step 2 - Naturalized'!$AD$18=\"X\",AS90=\"X\"),1,0)","v":0},null,{"$f":"IF(AND('Step 2 - Naturalized'!$AE$18=\"X\",AU90=\"X\"),1,0)","v":0},null,{"$f":"IF(AND('Step 2 - Naturalized'!$AA$17=\"X\",AW90=\"X\"),1,0)","v":0},"X",{"$f":"IF(AND('Step 2 - Naturalized'!$AB$17=\"X\",AY90=\"X\"),1,0)","v":0},"X",{"$f":"IF(AND('Step 2 - Naturalized'!$AC$17=\"X\",BA90=\"X\"),1,0)","v":0},null,{"$f":"IF(AND('Step 2 - Naturalized'!$AA$22=\"X\",BC90=\"X\"),1,0)","v":0},null,{"$f":"IF(AND('Step 2 - Naturalized'!$AB$22=\"X\",BE90=\"X\"),1,0)","v":0},null,{"$f":"IF(AND('Step 2 - Naturalized'!$AC$22=\"X\",BG90=\"X\"),1,0)","v":0},"X",{"$f":"IF(AND('Step 2 - Naturalized'!$AD$22=\"X\",BI90=\"X\"),1,0)","v":0},"X",null,null,null,null,null,null,"Mauve / Pink / 4.0'-5.0'"]
[null,1,"EU PU","Eutrochium purpureum (Eupatorium purpureum)","Joe-Pye Weed, Sweet Joe-Pye Weed","36\" O.C.","Mauve-pink flowers to 5'-7' tall in July/Sept, prefers mesic-moist soils in partial shade"," ","X","X","X",null,null,1,"X",{"$f":"IF(AND('Step 2 - Naturalized'!$AA$21=\"X\",Q91=\"X\"),1,0)","v":0},null,{"$f":"IF(AND('Step 2 - Naturalized'!$AB$21=\"X\",S91=\"X\"),1,0)","v":0},null,{"$f":"IF(AND('Step 2 - Naturalized'!$AC$21=\"X\",U91=\"X\"),1,0)","v":0},null,{"$f":"IF(AND('Step 2 - Naturalized'!$AA$19=\"X\",W91=\"X\"),1,0)","v":0},"X",{"$f":"IF(AND('Step 2 - Naturalized'!$AA$19=\"X\",Y91=\"X\"),1,0)","v":0},null,{"$f":"IF(AND('Step 2 - Naturalized'!$AB$19=\"X\",AA91=\"X\"),1,0)","v":0},null,{"$f":"IF(AND('Step 2 - Naturalized'!$AC$19=\"X\",AC91=\"X\"),1,0)","v":0},null,{"$f":"IF(AND('Step 2 - Naturalized'!$AA$20=\"X\",AE91=\"X\"),1,0)","v":0},"X",{"$f":"IF(AND('Step 2 - Naturalized'!$AA$20=\"X\",AG91=\"X\"),1,0)","v":0},null,{"$f":"IF(AND('Step 2 - Naturalized'!$AB$20=\"X\",AI91=\"X\"),1,0)","v":0},null,{"$f":"IF(AND('Step 2 - Naturalized'!$AC$20=\"X\",AK91=\"X\"),1,0)","v":0},null,{"$f":"IF(AND('Step 2 - Naturalized'!$AA$18=\"X\",AM91=\"X\"),1,0)","v":0},null,{"$f":"IF(AND('Step 2 - Naturalized'!$AB$18=\"X\",AO91=\"X\"),1,0)","v":0},"X",{"$f":"IF(AND('Step 2 - Naturalized'!$AC$18=\"X\",AQ91=\"X\"),1,0)","v":0},"X",{"$f":"IF(AND('Step 2 - Naturalized'!$AD$18=\"X\",AS91=\"X\"),1,0)","v":0},null,{"$f":"IF(AND('Step 2 - Naturalized'!$AE$18=\"X\",AU91=\"X\"),1,0)","v":0},null,{"$f":"IF(AND('Step 2 - Naturalized'!$AA$17=\"X\",AW91=\"X\"),1,0)","v":0},null,{"$f":"IF(AND('Step 2 - Naturalized'!$AB$17=\"X\",AY91=\"X\"),1,0)","v":0},"X",{"$f":"IF(AND('Step 2 - Naturalized'!$AC$17=\"X\",BA91=\"X\"),1,0)","v":0},null,{"$f":"IF(AND('Step 2 - Naturalized'!$AA$22=\"X\",BC91=\"X\"),1,0)","v":0},null,{"$f":"IF(AND('Step 2 - Naturalized'!$AB$22=\"X\",BE91=\"X\"),1,0)","v":0},null,{"$f":"IF(AND('Step 2 - Naturalized'!$AC$22=\"X\",BG91=\"X\"),1,0)","v":0},"X",{"$f":"IF(AND('Step 2 - Naturalized'!$AD$22=\"X\",BI91=\"X\"),1,0)","v":0},"X",null,null,null,null,null,null,"Mauve / Pink / 4.0'-5.0'"]
[null,1,"EU GR","Euthamia graminifolia","Flat-topped Goldenrod","18\" O.C.","Aggressive native forb, showy yellow flower Jul-Sept at 48\""," ","X","X",null,null,null,1,"X",{"$f":"IF(AND('Step 2 - Naturalized'!$AA$21=\"X\",Q92=\"X\"),1,0)","v":0},null,{"$f":"IF(AND('Step 2 - Naturalized'!$AB$21=\"X\",S92=\"X\"),1,0)","v":0},null,{"$f":"IF(AND('Step 2 - Naturalized'!$AC$21=\"X\",U92=\"X\"),1,0)","v":0},null,{"$f":"IF(AND('Step 2 - Naturalized'!$AA$19=\"X\",W92=\"X\"),1,0)","v":0},null,{"$f":"IF(AND('Step 2 - Naturalized'!$AA$19=\"X\",Y92=\"X\"),1,0)","v":0},"X",{"$f":"IF(AND('Step 2 - Naturalized'!$AB$19=\"X\",AA92=\"X\"),1,0)","v":0},"X",{"$f":"IF(AND('Step 2 - Naturalized'!$AC$19=\"X\",AC92=\"X\"),1,0)","v":0},null,{"$f":"IF(AND('Step 2 - Naturalized'!$AA$20=\"X\",AE92=\"X\"),1,0)","v":0},null,{"$f":"IF(AND('Step 2 - Naturalized'!$AA$20=\"X\",AG92=\"X\"),1,0)","v":0},"X",{"$f":"IF(AND('Step 2 - Naturalized'!$AB$20=\"X\",AI92=\"X\"),1,0)","v":0},null,{"$f":"IF(AND('Step 2 - Naturalized'!$AC$20=\"X\",AK92=\"X\"),1,0)","v":0},null,{"$f":"IF(AND('Step 2 - Naturalized'!$AA$18=\"X\",AM92=\"X\"),1,0)","v":0},null,{"$f":"IF(AND('Step 2 - Naturalized'!$AB$18=\"X\",AO92=\"X\"),1,0)","v":0},"X",{"$f":"IF(AND('Step 2 - Naturalized'!$AC$18=\"X\",AQ92=\"X\"),1,0)","v":0},"X",{"$f":"IF(AND('Step 2 - Naturalized'!$AD$18=\"X\",AS92=\"X\"),1,0)","v":0},null,{"$f":"IF(AND('Step 2 - Naturalized'!$AE$18=\"X\",AU92=\"X\"),1,0)","v":0},null,{"$f":"IF(AND('Step 2 - Naturalized'!$AA$17=\"X\",AW92=\"X\"),1,0)","v":0},"X",{"$f":"IF(AND('Step 2 - Naturalized'!$AB$17=\"X\",AY92=\"X\"),1,0)","v":0},"X",{"$f":"IF(AND('Step 2 - Naturalized'!$AC$17=\"X\",BA92=\"X\"),1,0)","v":0},null,{"$f":"IF(AND('Step 2 - Naturalized'!$AA$22=\"X\",BC92=\"X\"),1,0)","v":0},null,{"$f":"IF(AND('Step 2 - Naturalized'!$AB$22=\"X\",BE92=\"X\"),1,0)","v":0},null,{"$f":"IF(AND('Step 2 - Naturalized'!$AC$22=\"X\",BG92=\"X\"),1,0)","v":0},"X",{"$f":"IF(AND('Step 2 - Naturalized'!$AD$22=\"X\",BI92=\"X\"),1,0)","v":0},"X",null,null,null,null,null,null,"Yellow / 2.0'-4.0'"]
[null,1,"GA BI","Gaura biennis","Biennial Gaura, Biennial Beeblossom","24\" O.C.","Weedy, short-lived biennial with white turning pink flowers to 2'-5' tall in August"," ","X","X",null,null,null,1,"X",{"$f":"IF(AND('Step 2 - Naturalized'!$AA$21=\"X\",Q93=\"X\"),1,0)","v":0},null,{"$f":"IF(AND('Step 2 - Naturalized'!$AB$21=\"X\",S93=\"X\"),1,0)","v":0},null,{"$f":"IF(AND('Step 2 - Naturalized'!$AC$21=\"X\",U93=\"X\"),1,0)","v":0},null,{"$f":"IF(AND('Step 2 - Naturalized'!$AA$19=\"X\",W93=\"X\"),1,0)","v":0},"X",{"$f":"IF(AND('Step 2 - Naturalized'!$AA$19=\"X\",Y93=\"X\"),1,0)","v":0},null,{"$f":"IF(AND('Step 2 - Naturalized'!$AB$19=\"X\",AA93=\"X\"),1,0)","v":0},null,{"$f":"IF(AND('Step 2 - Naturalized'!$AC$19=\"X\",AC93=\"X\"),1,0)","v":0},null,{"$f":"IF(AND('Step 2 - Naturalized'!$AA$20=\"X\",AE93=\"X\"),1,0)","v":0},"X",{"$f":"IF(AND('Step 2 - Naturalized'!$AA$20=\"X\",AG93=\"X\"),1,0)","v":0},null,{"$f":"IF(AND('Step 2 - Naturalized'!$AB$20=\"X\",AI93=\"X\"),1,0)","v":0},null,{"$f":"IF(AND('Step 2 - Naturalized'!$AC$20=\"X\",AK93=\"X\"),1,0)","v":0},null,{"$f":"IF(AND('Step 2 - Naturalized'!$AA$18=\"X\",AM93=\"X\"),1,0)","v":0},null,{"$f":"IF(AND('Step 2 - Naturalized'!$AB$18=\"X\",AO93=\"X\"),1,0)","v":0},"X",{"$f":"IF(AND('Step 2 - Naturalized'!$AC$18=\"X\",AQ93=\"X\"),1,0)","v":0},null,{"$f":"IF(AND('Step 2 - Naturalized'!$AD$18=\"X\",AS93=\"X\"),1,0)","v":0},null,{"$f":"IF(AND('Step 2 - Naturalized'!$AE$18=\"X\",AU93=\"X\"),1,0)","v":0},null,{"$f":"IF(AND('Step 2 - Naturalized'!$AA$17=\"X\",AW93=\"X\"),1,0)","v":0},"X",{"$f":"IF(AND('Step 2 - Naturalized'!$AB$17=\"X\",AY93=\"X\"),1,0)","v":0},null,{"$f":"IF(AND('Step 2 - Naturalized'!$AC$17=\"X\",BA93=\"X\"),1,0)","v":0},null,{"$f":"IF(AND('Step 2 - Naturalized'!$AA$22=\"X\",BC93=\"X\"),1,0)","v":0},null,{"$f":"IF(AND('Step 2 - Naturalized'!$AB$22=\"X\",BE93=\"X\"),1,0)","v":0},null,{"$f":"IF(AND('Step 2 - Naturalized'!$AC$22=\"X\",BG93=\"X\"),1,0)","v":0},"X",{"$f":"IF(AND('Step 2 - Naturalized'!$AD$22=\"X\",BI93=\"X\"),1,0)","v":0},"X",null,null,null,null,null,null,"White to Pink / 2.0'-5.0'"]
[null,1,"GE AN","Gentiana andrewsii","Closed Gentian","18\" O.C.","Best grown in part shade, dark blue flowers in October to 2' tall",null,"X","X","X",null,null,0,null,{"$f":"IF(AND('Step 2 - Naturalized'!$AA$21=\"X\",Q94=\"X\"),1,0)","v":0},"X",{"$f":"IF(AND('Step 2 - Naturalized'!$AB$21=\"X\",S94=\"X\"),1,0)","v":0},null,{"$f":"IF(AND('Step 2 - Naturalized'!$AC$21=\"X\",U94=\"X\"),1,0)","v":0},null,{"$f":"IF(AND('Step 2 - Naturalized'!$AA$19=\"X\",W94=\"X\"),1,0)","v":0},null,{"$f":"IF(AND('Step 2 - Naturalized'!$AA$19=\"X\",Y94=\"X\"),1,0)","v":0},"X",{"$f":"IF(AND('Step 2 - Naturalized'!$AB$19=\"X\",AA94=\"X\"),1,0)","v":0},null,{"$f":"IF(AND('Step 2 - Naturalized'!$AC$19=\"X\",AC94=\"X\"),1,0)","v":0},null,{"$f":"IF(AND('Step 2 - Naturalized'!$AA$20=\"X\",AE94=\"X\"),1,0)","v":0},null,{"$f":"IF(AND('Step 2 - Naturalized'!$AA$20=\"X\",AG94=\"X\"),1,0)","v":0},"X",{"$f":"IF(AND('Step 2 - Naturalized'!$AB$20=\"X\",AI94=\"X\"),1,0)","v":0},null,{"$f":"IF(AND('Step 2 - Naturalized'!$AC$20=\"X\",AK94=\"X\"),1,0)","v":0},null,{"$f":"IF(AND('Step 2 - Naturalized'!$AA$18=\"X\",AM94=\"X\"),1,0)","v":0},null,{"$f":"IF(AND('Step 2 - Naturalized'!$AB$18=\"X\",AO94=\"X\"),1,0)","v":0},"X",{"$f":"IF(AND('Step 2 - Naturalized'!$AC$18=\"X\",AQ94=\"X\"),1,0)","v":0},"X",{"$f":"IF(AND('Step 2 - Naturalized'!$AD$18=\"X\",AS94=\"X\"),1,0)","v":0},null,{"$f":"IF(AND('Step 2 - Naturalized'!$AE$18=\"X\",AU94=\"X\"),1,0)","v":0},null,{"$f":"IF(AND('Step 2 - Naturalized'!$AA$17=\"X\",AW94=\"X\"),1,0)","v":0},"X",{"$f":"IF(AND('Step 2 - Naturalized'!$AB$17=\"X\",AY94=\"X\"),1,0)","v":0},"X",{"$f":"IF(AND('Step 2 - Naturalized'!$AC$17=\"X\",BA94=\"X\"),1,0)","v":0},null,{"$f":"IF(AND('Step 2 - Naturalized'!$AA$22=\"X\",BC94=\"X\"),1,0)","v":0},null,{"$f":"IF(AND('Step 2 - Naturalized'!$AB$22=\"X\",BE94=\"X\"),1,0)","v":0},null,{"$f":"IF(AND('Step 2 - Naturalized'!$AC$22=\"X\",BG94=\"X\"),1,0)","v":0},"X",{"$f":"IF(AND('Step 2 - Naturalized'!$AD$22=\"X\",BI94=\"X\"),1,0)","v":0},"X",null,null,null,null,null,null,null,"Dark Blue - Purple / 1.0'-2.0'"]
[null,1,"GE MA","Geranium maculatum","Wild Geranium","18\" O.C.","native species, tolerates poor soil, will spread",null,"X","X","X","X",null,0,null,{"$f":"IF(AND('Step 2 - Naturalized'!$AA$21=\"X\",Q95=\"X\"),1,0)","v":0},"X",{"$f":"IF(AND('Step 2 - Naturalized'!$AB$21=\"X\",S95=\"X\"),1,0)","v":0},"X",{"$f":"IF(AND('Step 2 - Naturalized'!$AC$21=\"X\",U95=\"X\"),1,0)","v":0},"X",{"$f":"IF(AND('Step 2 - Naturalized'!$AA$19=\"X\",W95=\"X\"),1,0)","v":0},null,{"$f":"IF(AND('Step 2 - Naturalized'!$AA$19=\"X\",Y95=\"X\"),1,0)","v":0},"X",{"$f":"IF(AND('Step 2 - Naturalized'!$AB$19=\"X\",AA95=\"X\"),1,0)","v":0},null,{"$f":"IF(AND('Step 2 - Naturalized'!$AC$19=\"X\",AC95=\"X\"),1,0)","v":0},null,{"$f":"IF(AND('Step 2 - Naturalized'!$AA$20=\"X\",AE95=\"X\"),1,0)","v":0},null,{"$f":"IF(AND('Step 2 - Naturalized'!$AA$20=\"X\",AG95=\"X\"),1,0)","v":0},"X",{"$f":"IF(AND('Step 2 - Naturalized'!$AB$20=\"X\",AI95=\"X\"),1,0)","v":0},null,{"$f":"IF(AND('Step 2 - Naturalized'!$AC$20=\"X\",AK95=\"X\"),1,0)","v":0},null,{"$f":"IF(AND('Step 2 - Naturalized'!$AA$18=\"X\",AM95=\"X\"),1,0)","v":0},null,{"$f":"IF(AND('Step 2 - Naturalized'!$AB$18=\"X\",AO95=\"X\"),1,0)","v":0},"X",{"$f":"IF(AND('Step 2 - Naturalized'!$AC$18=\"X\",AQ95=\"X\"),1,0)","v":0},null,{"$f":"IF(AND('Step 2 - Naturalized'!$AD$18=\"X\",AS95=\"X\"),1,0)","v":0},null,{"$f":"IF(AND('Step 2 - Naturalized'!$AE$18=\"X\",AU95=\"X\"),1,0)","v":0},null,{"$f":"IF(AND('Step 2 - Naturalized'!$AA$17=\"X\",AW95=\"X\"),1,0)","v":0},"X",{"$f":"IF(AND('Step 2 - Naturalized'!$AB$17=\"X\",AY95=\"X\"),1,0)","v":0},"X",{"$f":"IF(AND('Step 2 - Naturalized'!$AC$17=\"X\",BA95=\"X\"),1,0)","v":0},null,{"$f":"IF(AND('Step 2 - Naturalized'!$AA$22=\"X\",BC95=\"X\"),1,0)","v":0},null,{"$f":"IF(AND('Step 2 - Naturalized'!$AB$22=\"X\",BE95=\"X\"),1,0)","v":0},null,{"$f":"IF(AND('Step 2 - Naturalized'!$AC$22=\"X\",BG95=\"X\"),1,0)","v":0},"X",{"$f":"IF(AND('Step 2 - Naturalized'!$AD$22=\"X\",BI95=\"X\"),1,0)","v":0},"X",null,null,null,"Pale Pink / 1.5'-2.0'"]
[null,1,"GU TR","Geum triflorum","Prairie Smoke","10\" O.C.","Provide afternoon shade, for dry soils, interesting reddish pink fruiting heads, in June/July"," ","X","X","X",null,null,1,"X",{"$f":"IF(AND('Step 2 - Naturalized'!$AA$21=\"X\",Q96=\"X\"),1,0)","v":0},null,{"$f":"IF(AND('Step 2 - Naturalized'!$AB$21=\"X\",S96=\"X\"),1,0)","v":0},null,{"$f":"IF(AND('Step 2 - Naturalized'!$AC$21=\"X\",U96=\"X\"),1,0)","v":0},null,{"$f":"IF(AND('Step 2 - Naturalized'!$AA$19=\"X\",W96=\"X\"),1,0)","v":0},null,{"$f":"IF(AND('Step 2 - Naturalized'!$AA$19=\"X\",Y96=\"X\"),1,0)","v":0},"X",{"$f":"IF(AND('Step 2 - Naturalized'!$AB$19=\"X\",AA96=\"X\"),1,0)","v":0},"X",{"$f":"IF(AND('Step 2 - Naturalized'!$AC$19=\"X\",AC96=\"X\"),1,0)","v":0},null,{"$f":"IF(AND('Step 2 - Naturalized'!$AA$20=\"X\",AE96=\"X\"),1,0)","v":0},null,{"$f":"IF(AND('Step 2 - Naturalized'!$AA$20=\"X\",AG96=\"X\"),1,0)","v":0},"X",{"$f":"IF(AND('Step 2 - Naturalized'!$AB$20=\"X\",AI96=\"X\"),1,0)","v":0},null,{"$f":"IF(AND('Step 2 - Naturalized'!$AC$20=\"X\",AK96=\"X\"),1,0)","v":0},null,{"$f":"IF(AND('Step 2 - Naturalized'!$AA$18=\"X\",AM96=\"X\"),1,0)","v":0},"X",{"$f":"IF(AND('Step 2 - Naturalized'!$AB$18=\"X\",AO96=\"X\"),1,0)","v":0},"X",{"$f":"IF(AND('Step 2 - Naturalized'!$AC$18=\"X\",AQ96=\"X\"),1,0)","v":0},null,{"$f":"IF(AND('Step 2 - Naturalized'!$AD$18=\"X\",AS96=\"X\"),1,0)","v":0},null,{"$f":"IF(AND('Step 2 - Naturalized'!$AE$18=\"X\",AU96=\"X\"),1,0)","v":0},null,{"$f":"IF(AND('Step 2 - Naturalized'!$AA$17=\"X\",AW96=\"X\"),1,0)","v":0},"X",{"$f":"IF(AND('Step 2 - Naturalized'!$AB$17=\"X\",AY96=\"X\"),1,0)","v":0},"X",{"$f":"IF(AND('Step 2 - Naturalized'!$AC$17=\"X\",BA96=\"X\"),1,0)","v":0},null,{"$f":"IF(AND('Step 2 - Naturalized'!$AA$22=\"X\",BC96=\"X\"),1,0)","v":0},null,{"$f":"IF(AND('Step 2 - Naturalized'!$AB$22=\"X\",BE96=\"X\"),1,0)","v":0},"X",{"$f":"IF(AND('Step 2 - Naturalized'!$AC$22=\"X\",BG96=\"X\"),1,0)","v":0},"X",{"$f":"IF(AND('Step 2 - Naturalized'!$AD$22=\"X\",BI96=\"X\"),1,0)","v":0},"X",null,null,null,null,"Red-Pink / 0.5'-1.5'"]
[null,1,"HE AR","Helenium autumnale ","Sneezeweed","18\" O.C.","plant in spring, red-yellow flowers,",null,"X","X",null,null,null,0,null,{"$f":"IF(AND('Step 2 - Naturalized'!$AA$21=\"X\",Q97=\"X\"),1,0)","v":0},"X",{"$f":"IF(AND('Step 2 - Naturalized'!$AB$21=\"X\",S97=\"X\"),1,0)","v":0},"X",{"$f":"IF(AND('Step 2 - Naturalized'!$AC$21=\"X\",U97=\"X\"),1,0)","v":0},"X",{"$f":"IF(AND('Step 2 - Naturalized'!$AA$19=\"X\",W97=\"X\"),1,0)","v":0},null,{"$f":"IF(AND('Step 2 - Naturalized'!$AA$19=\"X\",Y97=\"X\"),1,0)","v":0},"X",{"$f":"IF(AND('Step 2 - Naturalized'!$AB$19=\"X\",AA97=\"X\"),1,0)","v":0},"X",{"$f":"IF(AND('Step 2 - Naturalized'!$AC$19=\"X\",AC97=\"X\"),1,0)","v":0},null,{"$f":"IF(AND('Step 2 - Naturalized'!$AA$20=\"X\",AE97=\"X\"),1,0)","v":0},null,{"$f":"IF(AND('Step 2 - Naturalized'!$AA$20=\"X\",AG97=\"X\"),1,0)","v":0},"X",{"$f":"IF(AND('Step 2 - Naturalized'!$AB$20=\"X\",AI97=\"X\"),1,0)","v":0},"X",{"$f":"IF(AND('Step 2 - Naturalized'!$AC$20=\"X\",AK97=\"X\"),1,0)","v":0},null,{"$f":"IF(AND('Step 2 - Naturalized'!$AA$18=\"X\",AM97=\"X\"),1,0)","v":0},null,{"$f":"IF(AND('Step 2 - Naturalized'!$AB$18=\"X\",AO97=\"X\"),1,0)","v":0},"X",{"$f":"IF(AND('Step 2 - Naturalized'!$AC$18=\"X\",AQ97=\"X\"),1,0)","v":0},"X",{"$f":"IF(AND('Step 2 - Naturalized'!$AD$18=\"X\",AS97=\"X\"),1,0)","v":0},null,{"$f":"IF(AND('Step 2 - Naturalized'!$AE$18=\"X\",AU97=\"X\"),1,0)","v":0},null,{"$f":"IF(AND('Step 2 - Naturalized'!$AA$17=\"X\",AW97=\"X\"),1,0)","v":0},"X",{"$f":"IF(AND('Step 2 - Naturalized'!$AB$17=\"X\",AY97=\"X\"),1,0)","v":0},null,{"$f":"IF(AND('Step 2 - Naturalized'!$AC$17=\"X\",BA97=\"X\"),1,0)","v":0},null,{"$f":"IF(AND('Step 2 - Naturalized'!$AA$22=\"X\",BC97=\"X\"),1,0)","v":0},null,{"$f":"IF(AND('Step 2 - Naturalized'!$AB$22=\"X\",BE97=\"X\"),1,0)","v":0},null,{"$f":"IF(AND('Step 2 - Naturalized'!$AC$22=\"X\",BG97=\"X\"),1,0)","v":0},"X",{"$f":"IF(AND('Step 2 - Naturalized'!$AD$22=\"X\",BI97=\"X\"),1,0)","v":0},"X",null,null,null,null,null,null,"Orangey Red / 2.0'-3.0'"]
[null,1,"HE OC","Helianthus occidentalis","Sunflower, Western Sunflower, Few-leaf Sunflower","24\" O.C.","2'-4' tall yellow flowers in August - Sept, competes better in leaner soils"," ","X","X",null,null,null,0,null,{"$f":"IF(AND('Step 2 - Naturalized'!$AA$21=\"X\",Q98=\"X\"),1,0)","v":0},"X",{"$f":"IF(AND('Step 2 - Naturalized'!$AB$21=\"X\",S98=\"X\"),1,0)","v":0},"X",{"$f":"IF(AND('Step 2 - Naturalized'!$AC$21=\"X\",U98=\"X\"),1,0)","v":0},"X",{"$f":"IF(AND('Step 2 - Naturalized'!$AA$19=\"X\",W98=\"X\"),1,0)","v":0},"X",{"$f":"IF(AND('Step 2 - Naturalized'!$AA$19=\"X\",Y98=\"X\"),1,0)","v":0},null,{"$f":"IF(AND('Step 2 - Naturalized'!$AB$19=\"X\",AA98=\"X\"),1,0)","v":0},null,{"$f":"IF(AND('Step 2 - Naturalized'!$AC$19=\"X\",AC98=\"X\"),1,0)","v":0},null,{"$f":"IF(AND('Step 2 - Naturalized'!$AA$20=\"X\",AE98=\"X\"),1,0)","v":0},"X",{"$f":"IF(AND('Step 2 - Naturalized'!$AA$20=\"X\",AG98=\"X\"),1,0)","v":0},null,{"$f":"IF(AND('Step 2 - Naturalized'!$AB$20=\"X\",AI98=\"X\"),1,0)","v":0},null,{"$f":"IF(AND('Step 2 - Naturalized'!$AC$20=\"X\",AK98=\"X\"),1,0)","v":0},null,{"$f":"IF(AND('Step 2 - Naturalized'!$AA$18=\"X\",AM98=\"X\"),1,0)","v":0},"X",{"$f":"IF(AND('Step 2 - Naturalized'!$AB$18=\"X\",AO98=\"X\"),1,0)","v":0},"X",{"$f":"IF(AND('Step 2 - Naturalized'!$AC$18=\"X\",AQ98=\"X\"),1,0)","v":0},null,{"$f":"IF(AND('Step 2 - Naturalized'!$AD$18=\"X\",AS98=\"X\"),1,0)","v":0},null,{"$f":"IF(AND('Step 2 - Naturalized'!$AE$18=\"X\",AU98=\"X\"),1,0)","v":0},null,{"$f":"IF(AND('Step 2 - Naturalized'!$AA$17=\"X\",AW98=\"X\"),1,0)","v":0},"X",{"$f":"IF(AND('Step 2 - Naturalized'!$AB$17=\"X\",AY98=\"X\"),1,0)","v":0},null,{"$f":"IF(AND('Step 2 - Naturalized'!$AC$17=\"X\",BA98=\"X\"),1,0)","v":0},null,{"$f":"IF(AND('Step 2 - Naturalized'!$AA$22=\"X\",BC98=\"X\"),1,0)","v":0},null,{"$f":"IF(AND('Step 2 - Naturalized'!$AB$22=\"X\",BE98=\"X\"),1,0)","v":0},null,{"$f":"IF(AND('Step 2 - Naturalized'!$AC$22=\"X\",BG98=\"X\"),1,0)","v":0},"X",{"$f":"IF(AND('Step 2 - Naturalized'!$AD$22=\"X\",BI98=\"X\"),1,0)","v":0},"X",null,null,null,null,null,null,null,"Gold Yllw / 2.0'-4.0'"]
[null,1,"HE HE","Heliopsis helianthoides ","Oxeye sunflower, False Sunflower","30\" O.C.","Tall 3'-4' native with yellow daisy flowers in June/Aug",null,"X","X",null,null,null,0,null,{"$f":"IF(AND('Step 2 - Naturalized'!$AA$21=\"X\",Q99=\"X\"),1,0)","v":0},"X",{"$f":"IF(AND('Step 2 - Naturalized'!$AB$21=\"X\",S99=\"X\"),1,0)","v":0},"X",{"$f":"IF(AND('Step 2 - Naturalized'!$AC$21=\"X\",U99=\"X\"),1,0)","v":0},"X",{"$f":"IF(AND('Step 2 - Naturalized'!$AA$19=\"X\",W99=\"X\"),1,0)","v":0},null,{"$f":"IF(AND('Step 2 - Naturalized'!$AA$19=\"X\",Y99=\"X\"),1,0)","v":0},"X",{"$f":"IF(AND('Step 2 - Naturalized'!$AB$19=\"X\",AA99=\"X\"),1,0)","v":0},"X",{"$f":"IF(AND('Step 2 - Naturalized'!$AC$19=\"X\",AC99=\"X\"),1,0)","v":0},null,{"$f":"IF(AND('Step 2 - Naturalized'!$AA$20=\"X\",AE99=\"X\"),1,0)","v":0},null,{"$f":"IF(AND('Step 2 - Naturalized'!$AA$20=\"X\",AG99=\"X\"),1,0)","v":0},"X",{"$f":"IF(AND('Step 2 - Naturalized'!$AB$20=\"X\",AI99=\"X\"),1,0)","v":0},null,{"$f":"IF(AND('Step 2 - Naturalized'!$AC$20=\"X\",AK99=\"X\"),1,0)","v":0},null,{"$f":"IF(AND('Step 2 - Naturalized'!$AA$18=\"X\",AM99=\"X\"),1,0)","v":0},"X",{"$f":"IF(AND('Step 2 - Naturalized'!$AB$18=\"X\",AO99=\"X\"),1,0)","v":0},"X",{"$f":"IF(AND('Step 2 - Naturalized'!$AC$18=\"X\",AQ99=\"X\"),1,0)","v":0},null,{"$f":"IF(AND('Step 2 - Naturalized'!$AD$18=\"X\",AS99=\"X\"),1,0)","v":0},null,{"$f":"IF(AND('Step 2 - Naturalized'!$AE$18=\"X\",AU99=\"X\"),1,0)","v":0},null,{"$f":"IF(AND('Step 2 - Naturalized'!$AA$17=\"X\",AW99=\"X\"),1,0)","v":0},"X",{"$f":"IF(AND('Step 2 - Naturalized'!$AB$17=\"X\",AY99=\"X\"),1,0)","v":0},null,{"$f":"IF(AND('Step 2 - Naturalized'!$AC$17=\"X\",BA99=\"X\"),1,0)","v":0},null,{"$f":"IF(AND('Step 2 - Naturalized'!$AA$22=\"X\",BC99=\"X\"),1,0)","v":0},null,{"$f":"IF(AND('Step 2 - Naturalized'!$AB$22=\"X\",BE99=\"X\"),1,0)","v":0},"X",{"$f":"IF(AND('Step 2 - Naturalized'!$AC$22=\"X\",BG99=\"X\"),1,0)","v":0},"X",{"$f":"IF(AND('Step 2 - Naturalized'!$AD$22=\"X\",BI99=\"X\"),1,0)","v":0},"X",null,null,null,null,null,"Yellow / 3'-4'"]
[null,1,"HE RI","Heuchera richardsonii","Prairie Alumroot, Richardson's Alumroot","18\" O.C.","Attractive native for groundcover, lobed foliage to 12\" with demure light green flowers to 2' tall in June/July"," ","X","X","X","X",null,0,null,{"$f":"IF(AND('Step 2 - Naturalized'!$AA$21=\"X\",Q100=\"X\"),1,0)","v":0},"X",{"$f":"IF(AND('Step 2 - Naturalized'!$AB$21=\"X\",S100=\"X\"),1,0)","v":0},"X",{"$f":"IF(AND('Step 2 - Naturalized'!$AC$21=\"X\",U100=\"X\"),1,0)","v":0},"X",{"$f":"IF(AND('Step 2 - Naturalized'!$AA$19=\"X\",W100=\"X\"),1,0)","v":0},null,{"$f":"IF(AND('Step 2 - Naturalized'!$AA$19=\"X\",Y100=\"X\"),1,0)","v":0},"X",{"$f":"IF(AND('Step 2 - Naturalized'!$AB$19=\"X\",AA100=\"X\"),1,0)","v":0},"X",{"$f":"IF(AND('Step 2 - Naturalized'!$AC$19=\"X\",AC100=\"X\"),1,0)","v":0},null,{"$f":"IF(AND('Step 2 - Naturalized'!$AA$20=\"X\",AE100=\"X\"),1,0)","v":0},null,{"$f":"IF(AND('Step 2 - Naturalized'!$AA$20=\"X\",AG100=\"X\"),1,0)","v":0},"X",{"$f":"IF(AND('Step 2 - Naturalized'!$AB$20=\"X\",AI100=\"X\"),1,0)","v":0},null,{"$f":"IF(AND('Step 2 - Naturalized'!$AC$20=\"X\",AK100=\"X\"),1,0)","v":0},null,{"$f":"IF(AND('Step 2 - Naturalized'!$AA$18=\"X\",AM100=\"X\"),1,0)","v":0},"X",{"$f":"IF(AND('Step 2 - Naturalized'!$AB$18=\"X\",AO100=\"X\"),1,0)","v":0},"X",{"$f":"IF(AND('Step 2 - Naturalized'!$AC$18=\"X\",AQ100=\"X\"),1,0)","v":0},null,{"$f":"IF(AND('Step 2 - Naturalized'!$AD$18=\"X\",AS100=\"X\"),1,0)","v":0},null,{"$f":"IF(AND('Step 2 - Naturalized'!$AE$18=\"X\",AU100=\"X\"),1,0)","v":0},null,{"$f":"IF(AND('Step 2 - Naturalized'!$AA$17=\"X\",AW100=\"X\"),1,0)","v":0},"X",{"$f":"IF(AND('Step 2 - Naturalized'!$AB$17=\"X\",AY100=\"X\"),1,0)","v":0},null,{"$f":"IF(AND('Step 2 - Naturalized'!$AC$17=\"X\",BA100=\"X\"),1,0)","v":0},null,{"$f":"IF(AND('Step 2 - Naturalized'!$AA$22=\"X\",BC100=\"X\"),1,0)","v":0},null,{"$f":"IF(AND('Step 2 - Naturalized'!$AB$22=\"X\",BE100=\"X\"),1,0)","v":0},"X",{"$f":"IF(AND('Step 2 - Naturalized'!$AC$22=\"X\",BG100=\"X\"),1,0)","v":0},"X",{"$f":"IF(AND('Step 2 - Naturalized'!$AD$22=\"X\",BI100=\"X\"),1,0)","v":0},"X",null,null,null,null,null,"Lt. Green / 2.0'"]
[null,1,"IM CA","Impatiens capensis","Jewelweed, Touch Me Not, ","24\" O.C.","Aggressive re-seeding annual with orange flowers to 5' tall in June-Sept"," ","X","X",null,null,null,0,null,{"$f":"IF(AND('Step 2 - Naturalized'!$AA$21=\"X\",Q101=\"X\"),1,0)","v":0},"X",{"$f":"IF(AND('Step 2 - Naturalized'!$AB$21=\"X\",S101=\"X\"),1,0)","v":0},null,{"$f":"IF(AND('Step 2 - Naturalized'!$AC$21=\"X\",U101=\"X\"),1,0)","v":0},null,{"$f":"IF(AND('Step 2 - Naturalized'!$AA$19=\"X\",W101=\"X\"),1,0)","v":0},"X",{"$f":"IF(AND('Step 2 - Naturalized'!$AA$19=\"X\",Y101=\"X\"),1,0)","v":0},null,{"$f":"IF(AND('Step 2 - Naturalized'!$AB$19=\"X\",AA101=\"X\"),1,0)","v":0},null,{"$f":"IF(AND('Step 2 - Naturalized'!$AC$19=\"X\",AC101=\"X\"),1,0)","v":0},null,{"$f":"IF(AND('Step 2 - Naturalized'!$AA$20=\"X\",AE101=\"X\"),1,0)","v":0},null,{"$f":"IF(AND('Step 2 - Naturalized'!$AA$20=\"X\",AG101=\"X\"),1,0)","v":0},"X",{"$f":"IF(AND('Step 2 - Naturalized'!$AB$20=\"X\",AI101=\"X\"),1,0)","v":0},"X",{"$f":"IF(AND('Step 2 - Naturalized'!$AC$20=\"X\",AK101=\"X\"),1,0)","v":0},"X",{"$f":"IF(AND('Step 2 - Naturalized'!$AA$18=\"X\",AM101=\"X\"),1,0)","v":0},null,{"$f":"IF(AND('Step 2 - Naturalized'!$AB$18=\"X\",AO101=\"X\"),1,0)","v":0},null,{"$f":"IF(AND('Step 2 - Naturalized'!$AC$18=\"X\",AQ101=\"X\"),1,0)","v":0},"X",{"$f":"IF(AND('Step 2 - Naturalized'!$AD$18=\"X\",AS101=\"X\"),1,0)","v":0},null,{"$f":"IF(AND('Step 2 - Naturalized'!$AE$18=\"X\",AU101=\"X\"),1,0)","v":0},null,{"$f":"IF(AND('Step 2 - Naturalized'!$AA$17=\"X\",AW101=\"X\"),1,0)","v":0},null,{"$f":"IF(AND('Step 2 - Naturalized'!$AB$17=\"X\",AY101=\"X\"),1,0)","v":0},"X",{"$f":"IF(AND('Step 2 - Naturalized'!$AC$17=\"X\",BA101=\"X\"),1,0)","v":0},"X",{"$f":"IF(AND('Step 2 - Naturalized'!$AA$22=\"X\",BC101=\"X\"),1,0)","v":0},null,{"$f":"IF(AND('Step 2 - Naturalized'!$AB$22=\"X\",BE101=\"X\"),1,0)","v":0},null,{"$f":"IF(AND('Step 2 - Naturalized'!$AC$22=\"X\",BG101=\"X\"),1,0)","v":0},"X",{"$f":"IF(AND('Step 2 - Naturalized'!$AD$22=\"X\",BI101=\"X\"),1,0)","v":0},"X",null,null,null,null,null,"Orange to Orange Yellow / 3.0'-5.0'"]
[null,1,"IR VI","Iris vigrinica var. shrevei","Blue Flag Iris","18\" O.C.","Violet blue with yellow/white crested, ",null,"X","X","X",null,null,0,null,{"$f":"IF(AND('Step 2 - Naturalized'!$AA$21=\"X\",Q102=\"X\"),1,0)","v":0},"X",{"$f":"IF(AND('Step 2 - Naturalized'!$AB$21=\"X\",S102=\"X\"),1,0)","v":0},"X",{"$f":"IF(AND('Step 2 - Naturalized'!$AC$21=\"X\",U102=\"X\"),1,0)","v":0},null,{"$f":"IF(AND('Step 2 - Naturalized'!$AA$19=\"X\",W102=\"X\"),1,0)","v":0},null,{"$f":"IF(AND('Step 2 - Naturalized'!$AA$19=\"X\",Y102=\"X\"),1,0)","v":0},"X",{"$f":"IF(AND('Step 2 - Naturalized'!$AB$19=\"X\",AA102=\"X\"),1,0)","v":0},null,{"$f":"IF(AND('Step 2 - Naturalized'!$AC$19=\"X\",AC102=\"X\"),1,0)","v":0},null,{"$f":"IF(AND('Step 2 - Naturalized'!$AA$20=\"X\",AE102=\"X\"),1,0)","v":0},null,{"$f":"IF(AND('Step 2 - Naturalized'!$AA$20=\"X\",AG102=\"X\"),1,0)","v":0},"X",{"$f":"IF(AND('Step 2 - Naturalized'!$AB$20=\"X\",AI102=\"X\"),1,0)","v":0},"X",{"$f":"IF(AND('Step 2 - Naturalized'!$AC$20=\"X\",AK102=\"X\"),1,0)","v":0},null,{"$f":"IF(AND('Step 2 - Naturalized'!$AA$18=\"X\",AM102=\"X\"),1,0)","v":0},null,{"$f":"IF(AND('Step 2 - Naturalized'!$AB$18=\"X\",AO102=\"X\"),1,0)","v":0},"X",{"$f":"IF(AND('Step 2 - Naturalized'!$AC$18=\"X\",AQ102=\"X\"),1,0)","v":0},"X",{"$f":"IF(AND('Step 2 - Naturalized'!$AD$18=\"X\",AS102=\"X\"),1,0)","v":0},null,{"$f":"IF(AND('Step 2 - Naturalized'!$AE$18=\"X\",AU102=\"X\"),1,0)","v":0},null,{"$f":"IF(AND('Step 2 - Naturalized'!$AA$17=\"X\",AW102=\"X\"),1,0)","v":0},"X",{"$f":"IF(AND('Step 2 - Naturalized'!$AB$17=\"X\",AY102=\"X\"),1,0)","v":0},null,{"$f":"IF(AND('Step 2 - Naturalized'!$AC$17=\"X\",BA102=\"X\"),1,0)","v":0},null,{"$f":"IF(AND('Step 2 - Naturalized'!$AA$22=\"X\",BC102=\"X\"),1,0)","v":0},null,{"$f":"IF(AND('Step 2 - Naturalized'!$AB$22=\"X\",BE102=\"X\"),1,0)","v":0},null,{"$f":"IF(AND('Step 2 - Naturalized'!$AC$22=\"X\",BG102=\"X\"),1,0)","v":0},"X",{"$f":"IF(AND('Step 2 - Naturalized'!$AD$22=\"X\",BI102=\"X\"),1,0)","v":0},"X",null,null,null,null,null,"Blue / 1.5'-2.0'"]
["Legume",1,"LE CA","Lespedeza captitata","Round-headed Bush Clover, Bush Clover","18\" O.C.","2'-4' tall perennial for well drained site with creamy pea-like flowers in Jul-Sept"," ","X","X",null,null,null,0,null,{"$f":"IF(AND('Step 2 - Naturalized'!$AA$21=\"X\",Q103=\"X\"),1,0)","v":0},"X",{"$f":"IF(AND('Step 2 - Naturalized'!$AB$21=\"X\",S103=\"X\"),1,0)","v":0},"X",{"$f":"IF(AND('Step 2 - Naturalized'!$AC$21=\"X\",U103=\"X\"),1,0)","v":0},"X",{"$f":"IF(AND('Step 2 - Naturalized'!$AA$19=\"X\",W103=\"X\"),1,0)","v":0},"X",{"$f":"IF(AND('Step 2 - Naturalized'!$AA$19=\"X\",Y103=\"X\"),1,0)","v":0},null,{"$f":"IF(AND('Step 2 - Naturalized'!$AB$19=\"X\",AA103=\"X\"),1,0)","v":0},null,{"$f":"IF(AND('Step 2 - Naturalized'!$AC$19=\"X\",AC103=\"X\"),1,0)","v":0},null,{"$f":"IF(AND('Step 2 - Naturalized'!$AA$20=\"X\",AE103=\"X\"),1,0)","v":0},"X",{"$f":"IF(AND('Step 2 - Naturalized'!$AA$20=\"X\",AG103=\"X\"),1,0)","v":0},null,{"$f":"IF(AND('Step 2 - Naturalized'!$AB$20=\"X\",AI103=\"X\"),1,0)","v":0},null,{"$f":"IF(AND('Step 2 - Naturalized'!$AC$20=\"X\",AK103=\"X\"),1,0)","v":0},null,{"$f":"IF(AND('Step 2 - Naturalized'!$AA$18=\"X\",AM103=\"X\"),1,0)","v":0},"X",{"$f":"IF(AND('Step 2 - Naturalized'!$AB$18=\"X\",AO103=\"X\"),1,0)","v":0},"X",{"$f":"IF(AND('Step 2 - Naturalized'!$AC$18=\"X\",AQ103=\"X\"),1,0)","v":0},null,{"$f":"IF(AND('Step 2 - Naturalized'!$AD$18=\"X\",AS103=\"X\"),1,0)","v":0},null,{"$f":"IF(AND('Step 2 - Naturalized'!$AE$18=\"X\",AU103=\"X\"),1,0)","v":0},null,{"$f":"IF(AND('Step 2 - Naturalized'!$AA$17=\"X\",AW103=\"X\"),1,0)","v":0},"X",{"$f":"IF(AND('Step 2 - Naturalized'!$AB$17=\"X\",AY103=\"X\"),1,0)","v":0},null,{"$f":"IF(AND('Step 2 - Naturalized'!$AC$17=\"X\",BA103=\"X\"),1,0)","v":0},null,{"$f":"IF(AND('Step 2 - Naturalized'!$AA$22=\"X\",BC103=\"X\"),1,0)","v":0},null,{"$f":"IF(AND('Step 2 - Naturalized'!$AB$22=\"X\",BE103=\"X\"),1,0)","v":0},"X",{"$f":"IF(AND('Step 2 - Naturalized'!$AC$22=\"X\",BG103=\"X\"),1,0)","v":0},"X",{"$f":"IF(AND('Step 2 - Naturalized'!$AD$22=\"X\",BI103=\"X\"),1,0)","v":0},"X",null,null,null,null,null,null,"Creamy white / 2.0'-4.0'"]
[null,1,"LT AS","Liatris aspera","Rough Blazing Star","18” O.C.","Tolerates dry soil",null,"X","X",null,null,null,0,null,{"$f":"IF(AND('Step 2 - Naturalized'!$AA$21=\"X\",Q104=\"X\"),1,0)","v":0},null,{"$f":"IF(AND('Step 2 - Naturalized'!$AB$21=\"X\",S104=\"X\"),1,0)","v":0},"X",{"$f":"IF(AND('Step 2 - Naturalized'!$AC$21=\"X\",U104=\"X\"),1,0)","v":0},null,{"$f":"IF(AND('Step 2 - Naturalized'!$AA$19=\"X\",W104=\"X\"),1,0)","v":0},null,{"$f":"IF(AND('Step 2 - Naturalized'!$AA$19=\"X\",Y104=\"X\"),1,0)","v":0},"X",{"$f":"IF(AND('Step 2 - Naturalized'!$AB$19=\"X\",AA104=\"X\"),1,0)","v":0},"X",{"$f":"IF(AND('Step 2 - Naturalized'!$AC$19=\"X\",AC104=\"X\"),1,0)","v":0},null,{"$f":"IF(AND('Step 2 - Naturalized'!$AA$20=\"X\",AE104=\"X\"),1,0)","v":0},null,{"$f":"IF(AND('Step 2 - Naturalized'!$AA$20=\"X\",AG104=\"X\"),1,0)","v":0},"X",{"$f":"IF(AND('Step 2 - Naturalized'!$AB$20=\"X\",AI104=\"X\"),1,0)","v":0},null,{"$f":"IF(AND('Step 2 - Naturalized'!$AC$20=\"X\",AK104=\"X\"),1,0)","v":0},null,{"$f":"IF(AND('Step 2 - Naturalized'!$AA$18=\"X\",AM104=\"X\"),1,0)","v":0},"X",{"$f":"IF(AND('Step 2 - Naturalized'!$AB$18=\"X\",AO104=\"X\"),1,0)","v":0},"X",{"$f":"IF(AND('Step 2 - Naturalized'!$AC$18=\"X\",AQ104=\"X\"),1,0)","v":0},null,{"$f":"IF(AND('Step 2 - Naturalized'!$AD$18=\"X\",AS104=\"X\"),1,0)","v":0},null,{"$f":"IF(AND('Step 2 - Naturalized'!$AE$18=\"X\",AU104=\"X\"),1,0)","v":0},null,{"$f":"IF(AND('Step 2 - Naturalized'!$AA$17=\"X\",AW104=\"X\"),1,0)","v":0},"X",{"$f":"IF(AND('Step 2 - Naturalized'!$AB$17=\"X\",AY104=\"X\"),1,0)","v":0},null,{"$f":"IF(AND('Step 2 - Naturalized'!$AC$17=\"X\",BA104=\"X\"),1,0)","v":0},null,{"$f":"IF(AND('Step 2 - Naturalized'!$AA$22=\"X\",BC104=\"X\"),1,0)","v":0},null,{"$f":"IF(AND('Step 2 - Naturalized'!$AB$22=\"X\",BE104=\"X\"),1,0)","v":0},"X",{"$f":"IF(AND('Step 2 - Naturalized'!$AC$22=\"X\",BG104=\"X\"),1,0)","v":0},"X",{"$f":"IF(AND('Step 2 - Naturalized'!$AD$22=\"X\",BI104=\"X\"),1,0)","v":0},"X",null,null,null,null,null,null,null,"Purple / 2.0'-3.0'"]
[null,1,"LT CY","Liatris cylindracea","Slender Blazing Star, Dwarf Blazing Star","12\" O.C.","Smaller Liatris for rockey/sandy soil with rose-purple flowers in July-Sept"," ","X","X",null,null,null,0,null,{"$f":"IF(AND('Step 2 - Naturalized'!$AA$21=\"X\",Q105=\"X\"),1,0)","v":0},"X",{"$f":"IF(AND('Step 2 - Naturalized'!$AB$21=\"X\",S105=\"X\"),1,0)","v":0},"X",{"$f":"IF(AND('Step 2 - Naturalized'!$AC$21=\"X\",U105=\"X\"),1,0)","v":0},"X",{"$f":"IF(AND('Step 2 - Naturalized'!$AA$19=\"X\",W105=\"X\"),1,0)","v":0},"X",{"$f":"IF(AND('Step 2 - Naturalized'!$AA$19=\"X\",Y105=\"X\"),1,0)","v":0},null,{"$f":"IF(AND('Step 2 - Naturalized'!$AB$19=\"X\",AA105=\"X\"),1,0)","v":0},null,{"$f":"IF(AND('Step 2 - Naturalized'!$AC$19=\"X\",AC105=\"X\"),1,0)","v":0},null,{"$f":"IF(AND('Step 2 - Naturalized'!$AA$20=\"X\",AE105=\"X\"),1,0)","v":0},"X",{"$f":"IF(AND('Step 2 - Naturalized'!$AA$20=\"X\",AG105=\"X\"),1,0)","v":0},null,{"$f":"IF(AND('Step 2 - Naturalized'!$AB$20=\"X\",AI105=\"X\"),1,0)","v":0},null,{"$f":"IF(AND('Step 2 - Naturalized'!$AC$20=\"X\",AK105=\"X\"),1,0)","v":0},null,{"$f":"IF(AND('Step 2 - Naturalized'!$AA$18=\"X\",AM105=\"X\"),1,0)","v":0},"X",{"$f":"IF(AND('Step 2 - Naturalized'!$AB$18=\"X\",AO105=\"X\"),1,0)","v":0},null,{"$f":"IF(AND('Step 2 - Naturalized'!$AC$18=\"X\",AQ105=\"X\"),1,0)","v":0},null,{"$f":"IF(AND('Step 2 - Naturalized'!$AD$18=\"X\",AS105=\"X\"),1,0)","v":0},null,{"$f":"IF(AND('Step 2 - Naturalized'!$AE$18=\"X\",AU105=\"X\"),1,0)","v":0},null,{"$f":"IF(AND('Step 2 - Naturalized'!$AA$17=\"X\",AW105=\"X\"),1,0)","v":0},"X",{"$f":"IF(AND('Step 2 - Naturalized'!$AB$17=\"X\",AY105=\"X\"),1,0)","v":0},null,{"$f":"IF(AND('Step 2 - Naturalized'!$AC$17=\"X\",BA105=\"X\"),1,0)","v":0},null,{"$f":"IF(AND('Step 2 - Naturalized'!$AA$22=\"X\",BC105=\"X\"),1,0)","v":0},"X",{"$f":"IF(AND('Step 2 - Naturalized'!$AB$22=\"X\",BE105=\"X\"),1,0)","v":0},"X",{"$f":"IF(AND('Step 2 - Naturalized'!$AC$22=\"X\",BG105=\"X\"),1,0)","v":0},"X",{"$f":"IF(AND('Step 2 - Naturalized'!$AD$22=\"X\",BI105=\"X\"),1,0)","v":0},"X",null,null,null,null,null,null,"Rose-purple / 1.0'-1.5'"]
[null,1,"LT PY","Liatris pycnostachya","Prairie Blazing Star, Prairie Gayfeather","18\" O.C.","A taller liatris for wet/moist sites, slow to establish, lilac-purple flowers up to 5.0' tall in July-Aug"," ","X","X",null,null,null,0,null,{"$f":"IF(AND('Step 2 - Naturalized'!$AA$21=\"X\",Q106=\"X\"),1,0)","v":0},"X",{"$f":"IF(AND('Step 2 - Naturalized'!$AB$21=\"X\",S106=\"X\"),1,0)","v":0},"X",{"$f":"IF(AND('Step 2 - Naturalized'!$AC$21=\"X\",U106=\"X\"),1,0)","v":0},null,{"$f":"IF(AND('Step 2 - Naturalized'!$AA$19=\"X\",W106=\"X\"),1,0)","v":0},null,{"$f":"IF(AND('Step 2 - Naturalized'!$AA$19=\"X\",Y106=\"X\"),1,0)","v":0},"X",{"$f":"IF(AND('Step 2 - Naturalized'!$AB$19=\"X\",AA106=\"X\"),1,0)","v":0},"X",{"$f":"IF(AND('Step 2 - Naturalized'!$AC$19=\"X\",AC106=\"X\"),1,0)","v":0},null,{"$f":"IF(AND('Step 2 - Naturalized'!$AA$20=\"X\",AE106=\"X\"),1,0)","v":0},null,{"$f":"IF(AND('Step 2 - Naturalized'!$AA$20=\"X\",AG106=\"X\"),1,0)","v":0},"X",{"$f":"IF(AND('Step 2 - Naturalized'!$AB$20=\"X\",AI106=\"X\"),1,0)","v":0},"X",{"$f":"IF(AND('Step 2 - Naturalized'!$AC$20=\"X\",AK106=\"X\"),1,0)","v":0},null,{"$f":"IF(AND('Step 2 - Naturalized'!$AA$18=\"X\",AM106=\"X\"),1,0)","v":0},null,{"$f":"IF(AND('Step 2 - Naturalized'!$AB$18=\"X\",AO106=\"X\"),1,0)","v":0},"X",{"$f":"IF(AND('Step 2 - Naturalized'!$AC$18=\"X\",AQ106=\"X\"),1,0)","v":0},"X",{"$f":"IF(AND('Step 2 - Naturalized'!$AD$18=\"X\",AS106=\"X\"),1,0)","v":0},null,{"$f":"IF(AND('Step 2 - Naturalized'!$AE$18=\"X\",AU106=\"X\"),1,0)","v":0},null,{"$f":"IF(AND('Step 2 - Naturalized'!$AA$17=\"X\",AW106=\"X\"),1,0)","v":0},"X",{"$f":"IF(AND('Step 2 - Naturalized'!$AB$17=\"X\",AY106=\"X\"),1,0)","v":0},null,{"$f":"IF(AND('Step 2 - Naturalized'!$AC$17=\"X\",BA106=\"X\"),1,0)","v":0},null,{"$f":"IF(AND('Step 2 - Naturalized'!$AA$22=\"X\",BC106=\"X\"),1,0)","v":0},null,{"$f":"IF(AND('Step 2 - Naturalized'!$AB$22=\"X\",BE106=\"X\"),1,0)","v":0},null,{"$f":"IF(AND('Step 2 - Naturalized'!$AC$22=\"X\",BG106=\"X\"),1,0)","v":0},"X",{"$f":"IF(AND('Step 2 - Naturalized'!$AD$22=\"X\",BI106=\"X\"),1,0)","v":0},"X",null,null,null,null,null,null,"lLilac Purple / 2.0'-5.0'"]
[null,1,"LO CA","Lobelia cardinalis","Cardinal Flower","18\" O.C.","Scarlet flowers in Jul-Sept at 36\" ",null,"X","X","X","X",null,0,null,{"$f":"IF(AND('Step 2 - Naturalized'!$AA$21=\"X\",Q107=\"X\"),1,0)","v":0},"X",{"$f":"IF(AND('Step 2 - Naturalized'!$AB$21=\"X\",S107=\"X\"),1,0)","v":0},"X",{"$f":"IF(AND('Step 2 - Naturalized'!$AC$21=\"X\",U107=\"X\"),1,0)","v":0},"X",{"$f":"IF(AND('Step 2 - Naturalized'!$AA$19=\"X\",W107=\"X\"),1,0)","v":0},null,{"$f":"IF(AND('Step 2 - Naturalized'!$AA$19=\"X\",Y107=\"X\"),1,0)","v":0},"X",{"$f":"IF(AND('Step 2 - Naturalized'!$AB$19=\"X\",AA107=\"X\"),1,0)","v":0},null,{"$f":"IF(AND('Step 2 - Naturalized'!$AC$19=\"X\",AC107=\"X\"),1,0)","v":0},null,{"$f":"IF(AND('Step 2 - Naturalized'!$AA$20=\"X\",AE107=\"X\"),1,0)","v":0},null,{"$f":"IF(AND('Step 2 - Naturalized'!$AA$20=\"X\",AG107=\"X\"),1,0)","v":0},"X",{"$f":"IF(AND('Step 2 - Naturalized'!$AB$20=\"X\",AI107=\"X\"),1,0)","v":0},"X",{"$f":"IF(AND('Step 2 - Naturalized'!$AC$20=\"X\",AK107=\"X\"),1,0)","v":0},"X",{"$f":"IF(AND('Step 2 - Naturalized'!$AA$18=\"X\",AM107=\"X\"),1,0)","v":0},null,{"$f":"IF(AND('Step 2 - Naturalized'!$AB$18=\"X\",AO107=\"X\"),1,0)","v":0},"X",{"$f":"IF(AND('Step 2 - Naturalized'!$AC$18=\"X\",AQ107=\"X\"),1,0)","v":0},"X",{"$f":"IF(AND('Step 2 - Naturalized'!$AD$18=\"X\",AS107=\"X\"),1,0)","v":0},null,{"$f":"IF(AND('Step 2 - Naturalized'!$AE$18=\"X\",AU107=\"X\"),1,0)","v":0},null,{"$f":"IF(AND('Step 2 - Naturalized'!$AA$17=\"X\",AW107=\"X\"),1,0)","v":0},"X",{"$f":"IF(AND('Step 2 - Naturalized'!$AB$17=\"X\",AY107=\"X\"),1,0)","v":0},"X",{"$f":"IF(AND('Step 2 - Naturalized'!$AC$17=\"X\",BA107=\"X\"),1,0)","v":0},null,{"$f":"IF(AND('Step 2 - Naturalized'!$AA$22=\"X\",BC107=\"X\"),1,0)","v":0},null,{"$f":"IF(AND('Step 2 - Naturalized'!$AB$22=\"X\",BE107=\"X\"),1,0)","v":0},null,{"$f":"IF(AND('Step 2 - Naturalized'!$AC$22=\"X\",BG107=\"X\"),1,0)","v":0},"X",{"$f":"IF(AND('Step 2 - Naturalized'!$AD$22=\"X\",BI107=\"X\"),1,0)","v":0},"X",null,null,null,null,null,null,"Scarlett Red / 2.0'-4.0'"]
[null,1,"LO SI","Lobelia siphilitica","Great Blue Lobelia","12\" O.C.","blue flowers to 36\" tall in July/Sept.",null,"X","X","X",null,null,0,null,{"$f":"IF(AND('Step 2 - Naturalized'!$AA$21=\"X\",Q108=\"X\"),1,0)","v":0},"X",{"$f":"IF(AND('Step 2 - Naturalized'!$AB$21=\"X\",S108=\"X\"),1,0)","v":0},"X",{"$f":"IF(AND('Step 2 - Naturalized'!$AC$21=\"X\",U108=\"X\"),1,0)","v":0},null,{"$f":"IF(AND('Step 2 - Naturalized'!$AA$19=\"X\",W108=\"X\"),1,0)","v":0},null,{"$f":"IF(AND('Step 2 - Naturalized'!$AA$19=\"X\",Y108=\"X\"),1,0)","v":0},"X",{"$f":"IF(AND('Step 2 - Naturalized'!$AB$19=\"X\",AA108=\"X\"),1,0)","v":0},"X",{"$f":"IF(AND('Step 2 - Naturalized'!$AC$19=\"X\",AC108=\"X\"),1,0)","v":0},null,{"$f":"IF(AND('Step 2 - Naturalized'!$AA$20=\"X\",AE108=\"X\"),1,0)","v":0},null,{"$f":"IF(AND('Step 2 - Naturalized'!$AA$20=\"X\",AG108=\"X\"),1,0)","v":0},"X",{"$f":"IF(AND('Step 2 - Naturalized'!$AB$20=\"X\",AI108=\"X\"),1,0)","v":0},"X",{"$f":"IF(AND('Step 2 - Naturalized'!$AC$20=\"X\",AK108=\"X\"),1,0)","v":0},"X",{"$f":"IF(AND('Step 2 - Naturalized'!$AA$18=\"X\",AM108=\"X\"),1,0)","v":0},null,{"$f":"IF(AND('Step 2 - Naturalized'!$AB$18=\"X\",AO108=\"X\"),1,0)","v":0},"X",{"$f":"IF(AND('Step 2 - Naturalized'!$AC$18=\"X\",AQ108=\"X\"),1,0)","v":0},"X",{"$f":"IF(AND('Step 2 - Naturalized'!$AD$18=\"X\",AS108=\"X\"),1,0)","v":0},null,{"$f":"IF(AND('Step 2 - Naturalized'!$AE$18=\"X\",AU108=\"X\"),1,0)","v":0},null,{"$f":"IF(AND('Step 2 - Naturalized'!$AA$17=\"X\",AW108=\"X\"),1,0)","v":0},"X",{"$f":"IF(AND('Step 2 - Naturalized'!$AB$17=\"X\",AY108=\"X\"),1,0)","v":0},"X",{"$f":"IF(AND('Step 2 - Naturalized'!$AC$17=\"X\",BA108=\"X\"),1,0)","v":0},null,{"$f":"IF(AND('Step 2 - Naturalized'!$AA$22=\"X\",BC108=\"X\"),1,0)","v":0},null,{"$f":"IF(AND('Step 2 - Naturalized'!$AB$22=\"X\",BE108=\"X\"),1,0)","v":0},null,{"$f":"IF(AND('Step 2 - Naturalized'!$AC$22=\"X\",BG108=\"X\"),1,0)","v":0},"X",{"$f":"IF(AND('Step 2 - Naturalized'!$AD$22=\"X\",BI108=\"X\"),1,0)","v":0},"X",null,null,null,null,null,null,"Blue / 2.0'-3.0'"]
["Legume",1,"LU PE","Lupinus perennis","Wild Lupine, Sundial Lupine","18\" O.C.","Showy blue, pealike flowers to 1'-2' tall in May-June, requires good drainage"," ","X","X",null,null,null,0,null,{"$f":"IF(AND('Step 2 - Naturalized'!$AA$21=\"X\",Q109=\"X\"),1,0)","v":0},"X",{"$f":"IF(AND('Step 2 - Naturalized'!$AB$21=\"X\",S109=\"X\"),1,0)","v":0},null,{"$f":"IF(AND('Step 2 - Naturalized'!$AC$21=\"X\",U109=\"X\"),1,0)","v":0},null,{"$f":"IF(AND('Step 2 - Naturalized'!$AA$19=\"X\",W109=\"X\"),1,0)","v":0},"X",{"$f":"IF(AND('Step 2 - Naturalized'!$AA$19=\"X\",Y109=\"X\"),1,0)","v":0},null,{"$f":"IF(AND('Step 2 - Naturalized'!$AB$19=\"X\",AA109=\"X\"),1,0)","v":0},null,{"$f":"IF(AND('Step 2 - Naturalized'!$AC$19=\"X\",AC109=\"X\"),1,0)","v":0},null,{"$f":"IF(AND('Step 2 - Naturalized'!$AA$20=\"X\",AE109=\"X\"),1,0)","v":0},"X",{"$f":"IF(AND('Step 2 - Naturalized'!$AA$20=\"X\",AG109=\"X\"),1,0)","v":0},null,{"$f":"IF(AND('Step 2 - Naturalized'!$AB$20=\"X\",AI109=\"X\"),1,0)","v":0},null,{"$f":"IF(AND('Step 2 - Naturalized'!$AC$20=\"X\",AK109=\"X\"),1,0)","v":0},null,{"$f":"IF(AND('Step 2 - Naturalized'!$AA$18=\"X\",AM109=\"X\"),1,0)","v":0},"X",{"$f":"IF(AND('Step 2 - Naturalized'!$AB$18=\"X\",AO109=\"X\"),1,0)","v":0},"X",{"$f":"IF(AND('Step 2 - Naturalized'!$AC$18=\"X\",AQ109=\"X\"),1,0)","v":0},null,{"$f":"IF(AND('Step 2 - Naturalized'!$AD$18=\"X\",AS109=\"X\"),1,0)","v":0},null,{"$f":"IF(AND('Step 2 - Naturalized'!$AE$18=\"X\",AU109=\"X\"),1,0)","v":0},null,{"$f":"IF(AND('Step 2 - Naturalized'!$AA$17=\"X\",AW109=\"X\"),1,0)","v":0},"X",{"$f":"IF(AND('Step 2 - Naturalized'!$AB$17=\"X\",AY109=\"X\"),1,0)","v":0},"X",{"$f":"IF(AND('Step 2 - Naturalized'!$AC$17=\"X\",BA109=\"X\"),1,0)","v":0},null,{"$f":"IF(AND('Step 2 - Naturalized'!$AA$22=\"X\",BC109=\"X\"),1,0)","v":0},null,{"$f":"IF(AND('Step 2 - Naturalized'!$AB$22=\"X\",BE109=\"X\"),1,0)","v":0},"X",{"$f":"IF(AND('Step 2 - Naturalized'!$AC$22=\"X\",BG109=\"X\"),1,0)","v":0},"X",{"$f":"IF(AND('Step 2 - Naturalized'!$AD$22=\"X\",BI109=\"X\"),1,0)","v":0},"X",null,null,null,null,"Purple-blue / 1.0'-2.0'"]
[null,1,"LY AM","Lycopus americanus","American Bugleweed, American Water Horehound","24\" O.C.","1'-3' tall member of mint family for wet sites, clusters of small white flowers in July-Sept"," ","X","X",null,null,null,1,"X",{"$f":"IF(AND('Step 2 - Naturalized'!$AA$21=\"X\",Q110=\"X\"),1,0)","v":0},null,{"$f":"IF(AND('Step 2 - Naturalized'!$AB$21=\"X\",S110=\"X\"),1,0)","v":0},null,{"$f":"IF(AND('Step 2 - Naturalized'!$AC$21=\"X\",U110=\"X\"),1,0)","v":0},null,{"$f":"IF(AND('Step 2 - Naturalized'!$AA$19=\"X\",W110=\"X\"),1,0)","v":0},"X",{"$f":"IF(AND('Step 2 - Naturalized'!$AA$19=\"X\",Y110=\"X\"),1,0)","v":0},null,{"$f":"IF(AND('Step 2 - Naturalized'!$AB$19=\"X\",AA110=\"X\"),1,0)","v":0},null,{"$f":"IF(AND('Step 2 - Naturalized'!$AC$19=\"X\",AC110=\"X\"),1,0)","v":0},null,{"$f":"IF(AND('Step 2 - Naturalized'!$AA$20=\"X\",AE110=\"X\"),1,0)","v":0},"X",{"$f":"IF(AND('Step 2 - Naturalized'!$AA$20=\"X\",AG110=\"X\"),1,0)","v":0},null,{"$f":"IF(AND('Step 2 - Naturalized'!$AB$20=\"X\",AI110=\"X\"),1,0)","v":0},null,{"$f":"IF(AND('Step 2 - Naturalized'!$AC$20=\"X\",AK110=\"X\"),1,0)","v":0},null,{"$f":"IF(AND('Step 2 - Naturalized'!$AA$18=\"X\",AM110=\"X\"),1,0)","v":0},null,{"$f":"IF(AND('Step 2 - Naturalized'!$AB$18=\"X\",AO110=\"X\"),1,0)","v":0},null,{"$f":"IF(AND('Step 2 - Naturalized'!$AC$18=\"X\",AQ110=\"X\"),1,0)","v":0},"X",{"$f":"IF(AND('Step 2 - Naturalized'!$AD$18=\"X\",AS110=\"X\"),1,0)","v":0},null,{"$f":"IF(AND('Step 2 - Naturalized'!$AE$18=\"X\",AU110=\"X\"),1,0)","v":0},null,{"$f":"IF(AND('Step 2 - Naturalized'!$AA$17=\"X\",AW110=\"X\"),1,0)","v":0},"X",{"$f":"IF(AND('Step 2 - Naturalized'!$AB$17=\"X\",AY110=\"X\"),1,0)","v":0},"X",{"$f":"IF(AND('Step 2 - Naturalized'!$AC$17=\"X\",BA110=\"X\"),1,0)","v":0},null,{"$f":"IF(AND('Step 2 - Naturalized'!$AA$22=\"X\",BC110=\"X\"),1,0)","v":0},null,{"$f":"IF(AND('Step 2 - Naturalized'!$AB$22=\"X\",BE110=\"X\"),1,0)","v":0},null,{"$f":"IF(AND('Step 2 - Naturalized'!$AC$22=\"X\",BG110=\"X\"),1,0)","v":0},"X",{"$f":"IF(AND('Step 2 - Naturalized'!$AD$22=\"X\",BI110=\"X\"),1,0)","v":0},"X",null,null,null,null,null,null,"White / 1.0'-3.0'"]
[null,1,"LA AL","Lythrum alatum","Winged Loosestrife","24\" O.C.","Not the invasive Lythrum salicaria, this native has winged stems and purple flowers to 3' tall in Jun-Sept"," ","X","X",null,null,null,1,"X",{"$f":"IF(AND('Step 2 - Naturalized'!$AA$21=\"X\",Q111=\"X\"),1,0)","v":0},null,{"$f":"IF(AND('Step 2 - Naturalized'!$AB$21=\"X\",S111=\"X\"),1,0)","v":0},null,{"$f":"IF(AND('Step 2 - Naturalized'!$AC$21=\"X\",U111=\"X\"),1,0)","v":0},null,{"$f":"IF(AND('Step 2 - Naturalized'!$AA$19=\"X\",W111=\"X\"),1,0)","v":0},null,{"$f":"IF(AND('Step 2 - Naturalized'!$AA$19=\"X\",Y111=\"X\"),1,0)","v":0},"X",{"$f":"IF(AND('Step 2 - Naturalized'!$AB$19=\"X\",AA111=\"X\"),1,0)","v":0},null,{"$f":"IF(AND('Step 2 - Naturalized'!$AC$19=\"X\",AC111=\"X\"),1,0)","v":0},null,{"$f":"IF(AND('Step 2 - Naturalized'!$AA$20=\"X\",AE111=\"X\"),1,0)","v":0},null,{"$f":"IF(AND('Step 2 - Naturalized'!$AA$20=\"X\",AG111=\"X\"),1,0)","v":0},"X",{"$f":"IF(AND('Step 2 - Naturalized'!$AB$20=\"X\",AI111=\"X\"),1,0)","v":0},"X",{"$f":"IF(AND('Step 2 - Naturalized'!$AC$20=\"X\",AK111=\"X\"),1,0)","v":0},"X",{"$f":"IF(AND('Step 2 - Naturalized'!$AA$18=\"X\",AM111=\"X\"),1,0)","v":0},null,{"$f":"IF(AND('Step 2 - Naturalized'!$AB$18=\"X\",AO111=\"X\"),1,0)","v":0},"X",{"$f":"IF(AND('Step 2 - Naturalized'!$AC$18=\"X\",AQ111=\"X\"),1,0)","v":0},"X",{"$f":"IF(AND('Step 2 - Naturalized'!$AD$18=\"X\",AS111=\"X\"),1,0)","v":0},null,{"$f":"IF(AND('Step 2 - Naturalized'!$AE$18=\"X\",AU111=\"X\"),1,0)","v":0},null,{"$f":"IF(AND('Step 2 - Naturalized'!$AA$17=\"X\",AW111=\"X\"),1,0)","v":0},"X",{"$f":"IF(AND('Step 2 - Naturalized'!$AB$17=\"X\",AY111=\"X\"),1,0)","v":0},"X",{"$f":"IF(AND('Step 2 - Naturalized'!$AC$17=\"X\",BA111=\"X\"),1,0)","v":0},null,{"$f":"IF(AND('Step 2 - Naturalized'!$AA$22=\"X\",BC111=\"X\"),1,0)","v":0},null,{"$f":"IF(AND('Step 2 - Naturalized'!$AB$22=\"X\",BE111=\"X\"),1,0)","v":0},null,{"$f":"IF(AND('Step 2 - Naturalized'!$AC$22=\"X\",BG111=\"X\"),1,0)","v":0},"X",{"$f":"IF(AND('Step 2 - Naturalized'!$AD$22=\"X\",BI111=\"X\"),1,0)","v":0},"X",null,null,null,null,null,"Pale Lavender / 1.0'-4.0'"]
[null,1,"MI RI","Mimulus ringens","Allegheny Monkey-Flower","12\" O.C.","Lilac purple flowers June-Sept at 24\", spreads in wet, part-shade soils"," ","X","X","X",null,null,0,null,{"$f":"IF(AND('Step 2 - Naturalized'!$AA$21=\"X\",Q112=\"X\"),1,0)","v":0},"X",{"$f":"IF(AND('Step 2 - Naturalized'!$AB$21=\"X\",S112=\"X\"),1,0)","v":0},"X",{"$f":"IF(AND('Step 2 - Naturalized'!$AC$21=\"X\",U112=\"X\"),1,0)","v":0},null,{"$f":"IF(AND('Step 2 - Naturalized'!$AA$19=\"X\",W112=\"X\"),1,0)","v":0},null,{"$f":"IF(AND('Step 2 - Naturalized'!$AA$19=\"X\",Y112=\"X\"),1,0)","v":0},"X",{"$f":"IF(AND('Step 2 - Naturalized'!$AB$19=\"X\",AA112=\"X\"),1,0)","v":0},"X",{"$f":"IF(AND('Step 2 - Naturalized'!$AC$19=\"X\",AC112=\"X\"),1,0)","v":0},null,{"$f":"IF(AND('Step 2 - Naturalized'!$AA$20=\"X\",AE112=\"X\"),1,0)","v":0},null,{"$f":"IF(AND('Step 2 - Naturalized'!$AA$20=\"X\",AG112=\"X\"),1,0)","v":0},"X",{"$f":"IF(AND('Step 2 - Naturalized'!$AB$20=\"X\",AI112=\"X\"),1,0)","v":0},"X",{"$f":"IF(AND('Step 2 - Naturalized'!$AC$20=\"X\",AK112=\"X\"),1,0)","v":0},null,{"$f":"IF(AND('Step 2 - Naturalized'!$AA$18=\"X\",AM112=\"X\"),1,0)","v":0},null,{"$f":"IF(AND('Step 2 - Naturalized'!$AB$18=\"X\",AO112=\"X\"),1,0)","v":0},null,{"$f":"IF(AND('Step 2 - Naturalized'!$AC$18=\"X\",AQ112=\"X\"),1,0)","v":0},"X",{"$f":"IF(AND('Step 2 - Naturalized'!$AD$18=\"X\",AS112=\"X\"),1,0)","v":0},null,{"$f":"IF(AND('Step 2 - Naturalized'!$AE$18=\"X\",AU112=\"X\"),1,0)","v":0},null,{"$f":"IF(AND('Step 2 - Naturalized'!$AA$17=\"X\",AW112=\"X\"),1,0)","v":0},"X",{"$f":"IF(AND('Step 2 - Naturalized'!$AB$17=\"X\",AY112=\"X\"),1,0)","v":0},"X",{"$f":"IF(AND('Step 2 - Naturalized'!$AC$17=\"X\",BA112=\"X\"),1,0)","v":0},null,{"$f":"IF(AND('Step 2 - Naturalized'!$AA$22=\"X\",BC112=\"X\"),1,0)","v":0},null,{"$f":"IF(AND('Step 2 - Naturalized'!$AB$22=\"X\",BE112=\"X\"),1,0)","v":0},null,{"$f":"IF(AND('Step 2 - Naturalized'!$AC$22=\"X\",BG112=\"X\"),1,0)","v":0},"X",{"$f":"IF(AND('Step 2 - Naturalized'!$AD$22=\"X\",BI112=\"X\"),1,0)","v":0},"X",null,null,null,null,null,"Blue Violet / 1.0'-3.0'"]
[null,1,"MO FI","Monarda fistulosa","Wild Bergamot","24\" O.C.","Well-rooted, raspberry flowers, tolerates clay soil, likes circulation"," ","X","X",null,null,null,0,null,{"$f":"IF(AND('Step 2 - Naturalized'!$AA$21=\"X\",Q113=\"X\"),1,0)","v":0},"X",{"$f":"IF(AND('Step 2 - Naturalized'!$AB$21=\"X\",S113=\"X\"),1,0)","v":0},"X",{"$f":"IF(AND('Step 2 - Naturalized'!$AC$21=\"X\",U113=\"X\"),1,0)","v":0},"X",{"$f":"IF(AND('Step 2 - Naturalized'!$AA$19=\"X\",W113=\"X\"),1,0)","v":0},null,{"$f":"IF(AND('Step 2 - Naturalized'!$AA$19=\"X\",Y113=\"X\"),1,0)","v":0},"X",{"$f":"IF(AND('Step 2 - Naturalized'!$AB$19=\"X\",AA113=\"X\"),1,0)","v":0},"X",{"$f":"IF(AND('Step 2 - Naturalized'!$AC$19=\"X\",AC113=\"X\"),1,0)","v":0},null,{"$f":"IF(AND('Step 2 - Naturalized'!$AA$20=\"X\",AE113=\"X\"),1,0)","v":0},null,{"$f":"IF(AND('Step 2 - Naturalized'!$AA$20=\"X\",AG113=\"X\"),1,0)","v":0},"X",{"$f":"IF(AND('Step 2 - Naturalized'!$AB$20=\"X\",AI113=\"X\"),1,0)","v":0},null,{"$f":"IF(AND('Step 2 - Naturalized'!$AC$20=\"X\",AK113=\"X\"),1,0)","v":0},null,{"$f":"IF(AND('Step 2 - Naturalized'!$AA$18=\"X\",AM113=\"X\"),1,0)","v":0},"X",{"$f":"IF(AND('Step 2 - Naturalized'!$AB$18=\"X\",AO113=\"X\"),1,0)","v":0},"X",{"$f":"IF(AND('Step 2 - Naturalized'!$AC$18=\"X\",AQ113=\"X\"),1,0)","v":0},null,{"$f":"IF(AND('Step 2 - Naturalized'!$AD$18=\"X\",AS113=\"X\"),1,0)","v":0},null,{"$f":"IF(AND('Step 2 - Naturalized'!$AE$18=\"X\",AU113=\"X\"),1,0)","v":0},null,{"$f":"IF(AND('Step 2 - Naturalized'!$AA$17=\"X\",AW113=\"X\"),1,0)","v":0},"X",{"$f":"IF(AND('Step 2 - Naturalized'!$AB$17=\"X\",AY113=\"X\"),1,0)","v":0},"X",{"$f":"IF(AND('Step 2 - Naturalized'!$AC$17=\"X\",BA113=\"X\"),1,0)","v":0},null,{"$f":"IF(AND('Step 2 - Naturalized'!$AA$22=\"X\",BC113=\"X\"),1,0)","v":0},null,{"$f":"IF(AND('Step 2 - Naturalized'!$AB$22=\"X\",BE113=\"X\"),1,0)","v":0},null,{"$f":"IF(AND('Step 2 - Naturalized'!$AC$22=\"X\",BG113=\"X\"),1,0)","v":0},"X",{"$f":"IF(AND('Step 2 - Naturalized'!$AD$22=\"X\",BI113=\"X\"),1,0)","v":0},"X",null,null,null,null,null,null,"Pink / 2.0' -4.0'"]
[null,1,"MO PU","Mondarda punctata","Spotted Beebalm, Spotted Horsemint","12\" O.C.","Shorter monarda for drier, sandier soils, bracts are showier than flowers, 0.5'-3.0' tall"," ","X","X","X",null,null,0,null,{"$f":"IF(AND('Step 2 - Naturalized'!$AA$21=\"X\",Q114=\"X\"),1,0)","v":0},null,{"$f":"IF(AND('Step 2 - Naturalized'!$AB$21=\"X\",S114=\"X\"),1,0)","v":0},"X",{"$f":"IF(AND('Step 2 - Naturalized'!$AC$21=\"X\",U114=\"X\"),1,0)","v":0},null,{"$f":"IF(AND('Step 2 - Naturalized'!$AA$19=\"X\",W114=\"X\"),1,0)","v":0},"X",{"$f":"IF(AND('Step 2 - Naturalized'!$AA$19=\"X\",Y114=\"X\"),1,0)","v":0},null,{"$f":"IF(AND('Step 2 - Naturalized'!$AB$19=\"X\",AA114=\"X\"),1,0)","v":0},null,{"$f":"IF(AND('Step 2 - Naturalized'!$AC$19=\"X\",AC114=\"X\"),1,0)","v":0},null,{"$f":"IF(AND('Step 2 - Naturalized'!$AA$20=\"X\",AE114=\"X\"),1,0)","v":0},"X",{"$f":"IF(AND('Step 2 - Naturalized'!$AA$20=\"X\",AG114=\"X\"),1,0)","v":0},null,{"$f":"IF(AND('Step 2 - Naturalized'!$AB$20=\"X\",AI114=\"X\"),1,0)","v":0},null,{"$f":"IF(AND('Step 2 - Naturalized'!$AC$20=\"X\",AK114=\"X\"),1,0)","v":0},null,{"$f":"IF(AND('Step 2 - Naturalized'!$AA$18=\"X\",AM114=\"X\"),1,0)","v":0},"X",{"$f":"IF(AND('Step 2 - Naturalized'!$AB$18=\"X\",AO114=\"X\"),1,0)","v":0},"X",{"$f":"IF(AND('Step 2 - Naturalized'!$AC$18=\"X\",AQ114=\"X\"),1,0)","v":0},null,{"$f":"IF(AND('Step 2 - Naturalized'!$AD$18=\"X\",AS114=\"X\"),1,0)","v":0},null,{"$f":"IF(AND('Step 2 - Naturalized'!$AE$18=\"X\",AU114=\"X\"),1,0)","v":0},null,{"$f":"IF(AND('Step 2 - Naturalized'!$AA$17=\"X\",AW114=\"X\"),1,0)","v":0},"X",{"$f":"IF(AND('Step 2 - Naturalized'!$AB$17=\"X\",AY114=\"X\"),1,0)","v":0},null,{"$f":"IF(AND('Step 2 - Naturalized'!$AC$17=\"X\",BA114=\"X\"),1,0)","v":0},null,{"$f":"IF(AND('Step 2 - Naturalized'!$AA$22=\"X\",BC114=\"X\"),1,0)","v":0},null,{"$f":"IF(AND('Step 2 - Naturalized'!$AB$22=\"X\",BE114=\"X\"),1,0)","v":0},"X",{"$f":"IF(AND('Step 2 - Naturalized'!$AC$22=\"X\",BG114=\"X\"),1,0)","v":0},"X",{"$f":"IF(AND('Step 2 - Naturalized'!$AD$22=\"X\",BI114=\"X\"),1,0)","v":0},"X",null,null,null,null,null,"Purple tinged brachts / 1.0'3.0'"]
[null,1,"NA DI","Napaea dioica","Glade Mallow","36\" O.C.","Tall native (4.0'-8.0'), prefers partial shade and moist soil, white flowers in July-Aug, plant in sheltered location to avoid flopping over"," ","X","X",null,null,null,1,"X",{"$f":"IF(AND('Step 2 - Naturalized'!$AA$21=\"X\",Q115=\"X\"),1,0)","v":0},null,{"$f":"IF(AND('Step 2 - Naturalized'!$AB$21=\"X\",S115=\"X\"),1,0)","v":0},null,{"$f":"IF(AND('Step 2 - Naturalized'!$AC$21=\"X\",U115=\"X\"),1,0)","v":0},null,{"$f":"IF(AND('Step 2 - Naturalized'!$AA$19=\"X\",W115=\"X\"),1,0)","v":0},"X",{"$f":"IF(AND('Step 2 - Naturalized'!$AA$19=\"X\",Y115=\"X\"),1,0)","v":0},null,{"$f":"IF(AND('Step 2 - Naturalized'!$AB$19=\"X\",AA115=\"X\"),1,0)","v":0},null,{"$f":"IF(AND('Step 2 - Naturalized'!$AC$19=\"X\",AC115=\"X\"),1,0)","v":0},null,{"$f":"IF(AND('Step 2 - Naturalized'!$AA$20=\"X\",AE115=\"X\"),1,0)","v":0},"X",{"$f":"IF(AND('Step 2 - Naturalized'!$AA$20=\"X\",AG115=\"X\"),1,0)","v":0},null,{"$f":"IF(AND('Step 2 - Naturalized'!$AB$20=\"X\",AI115=\"X\"),1,0)","v":0},null,{"$f":"IF(AND('Step 2 - Naturalized'!$AC$20=\"X\",AK115=\"X\"),1,0)","v":0},null,{"$f":"IF(AND('Step 2 - Naturalized'!$AA$18=\"X\",AM115=\"X\"),1,0)","v":0},null,{"$f":"IF(AND('Step 2 - Naturalized'!$AB$18=\"X\",AO115=\"X\"),1,0)","v":0},null,{"$f":"IF(AND('Step 2 - Naturalized'!$AC$18=\"X\",AQ115=\"X\"),1,0)","v":0},"X",{"$f":"IF(AND('Step 2 - Naturalized'!$AD$18=\"X\",AS115=\"X\"),1,0)","v":0},null,{"$f":"IF(AND('Step 2 - Naturalized'!$AE$18=\"X\",AU115=\"X\"),1,0)","v":0},null,{"$f":"IF(AND('Step 2 - Naturalized'!$AA$17=\"X\",AW115=\"X\"),1,0)","v":0},null,{"$f":"IF(AND('Step 2 - Naturalized'!$AB$17=\"X\",AY115=\"X\"),1,0)","v":0},"X",{"$f":"IF(AND('Step 2 - Naturalized'!$AC$17=\"X\",BA115=\"X\"),1,0)","v":0},null,{"$f":"IF(AND('Step 2 - Naturalized'!$AA$22=\"X\",BC115=\"X\"),1,0)","v":0},null,{"$f":"IF(AND('Step 2 - Naturalized'!$AB$22=\"X\",BE115=\"X\"),1,0)","v":0},null,{"$f":"IF(AND('Step 2 - Naturalized'!$AC$22=\"X\",BG115=\"X\"),1,0)","v":0},"X",{"$f":"IF(AND('Step 2 - Naturalized'!$AD$22=\"X\",BI115=\"X\"),1,0)","v":0},"X",null,null,null,null,null,null,"White / 4.0'-8.0'"]
[null,1,"OE BI","Oenothera biennis","Common Evening Primrose","36\" O.C.","Somewhat weedy, quick establishing biennial, tall native (2.0'-6.0') for full sun, average soil"," ","X","X",null,null,null,1,"X",{"$f":"IF(AND('Step 2 - Naturalized'!$AA$21=\"X\",Q116=\"X\"),1,0)","v":0},null,{"$f":"IF(AND('Step 2 - Naturalized'!$AB$21=\"X\",S116=\"X\"),1,0)","v":0},null,{"$f":"IF(AND('Step 2 - Naturalized'!$AC$21=\"X\",U116=\"X\"),1,0)","v":0},null,{"$f":"IF(AND('Step 2 - Naturalized'!$AA$19=\"X\",W116=\"X\"),1,0)","v":0},"X",{"$f":"IF(AND('Step 2 - Naturalized'!$AA$19=\"X\",Y116=\"X\"),1,0)","v":0},null,{"$f":"IF(AND('Step 2 - Naturalized'!$AB$19=\"X\",AA116=\"X\"),1,0)","v":0},null,{"$f":"IF(AND('Step 2 - Naturalized'!$AC$19=\"X\",AC116=\"X\"),1,0)","v":0},null,{"$f":"IF(AND('Step 2 - Naturalized'!$AA$20=\"X\",AE116=\"X\"),1,0)","v":0},"X",{"$f":"IF(AND('Step 2 - Naturalized'!$AA$20=\"X\",AG116=\"X\"),1,0)","v":0},null,{"$f":"IF(AND('Step 2 - Naturalized'!$AB$20=\"X\",AI116=\"X\"),1,0)","v":0},null,{"$f":"IF(AND('Step 2 - Naturalized'!$AC$20=\"X\",AK116=\"X\"),1,0)","v":0},null,{"$f":"IF(AND('Step 2 - Naturalized'!$AA$18=\"X\",AM116=\"X\"),1,0)","v":0},null,{"$f":"IF(AND('Step 2 - Naturalized'!$AB$18=\"X\",AO116=\"X\"),1,0)","v":0},"X",{"$f":"IF(AND('Step 2 - Naturalized'!$AC$18=\"X\",AQ116=\"X\"),1,0)","v":0},null,{"$f":"IF(AND('Step 2 - Naturalized'!$AD$18=\"X\",AS116=\"X\"),1,0)","v":0},null,{"$f":"IF(AND('Step 2 - Naturalized'!$AE$18=\"X\",AU116=\"X\"),1,0)","v":0},null,{"$f":"IF(AND('Step 2 - Naturalized'!$AA$17=\"X\",AW116=\"X\"),1,0)","v":0},null,{"$f":"IF(AND('Step 2 - Naturalized'!$AB$17=\"X\",AY116=\"X\"),1,0)","v":0},"X",{"$f":"IF(AND('Step 2 - Naturalized'!$AC$17=\"X\",BA116=\"X\"),1,0)","v":0},null,{"$f":"IF(AND('Step 2 - Naturalized'!$AA$22=\"X\",BC116=\"X\"),1,0)","v":0},null,{"$f":"IF(AND('Step 2 - Naturalized'!$AB$22=\"X\",BE116=\"X\"),1,0)","v":0},"X",{"$f":"IF(AND('Step 2 - Naturalized'!$AC$22=\"X\",BG116=\"X\"),1,0)","v":0},"X",{"$f":"IF(AND('Step 2 - Naturalized'!$AD$22=\"X\",BI116=\"X\"),1,0)","v":0},"X",null,null,null,null,null,"Yellow / 2.0'-6.0'"]
[null,1,"OL AL","Oligoneuron album (Solidago ptarmicoides)","White Goldenrod","18\" O.C.","Pretty white flowering perennial to 1.0'-2.0' tall for sunny, dry sites, flowers in July-Sept"," ","X","X","X",null,null,0,null,{"$f":"IF(AND('Step 2 - Naturalized'!$AA$21=\"X\",Q117=\"X\"),1,0)","v":0},null,{"$f":"IF(AND('Step 2 - Naturalized'!$AB$21=\"X\",S117=\"X\"),1,0)","v":0},"X",{"$f":"IF(AND('Step 2 - Naturalized'!$AC$21=\"X\",U117=\"X\"),1,0)","v":0},null,{"$f":"IF(AND('Step 2 - Naturalized'!$AA$19=\"X\",W117=\"X\"),1,0)","v":0},null,{"$f":"IF(AND('Step 2 - Naturalized'!$AA$19=\"X\",Y117=\"X\"),1,0)","v":0},"X",{"$f":"IF(AND('Step 2 - Naturalized'!$AB$19=\"X\",AA117=\"X\"),1,0)","v":0},"X",{"$f":"IF(AND('Step 2 - Naturalized'!$AC$19=\"X\",AC117=\"X\"),1,0)","v":0},null,{"$f":"IF(AND('Step 2 - Naturalized'!$AA$20=\"X\",AE117=\"X\"),1,0)","v":0},"X",{"$f":"IF(AND('Step 2 - Naturalized'!$AA$20=\"X\",AG117=\"X\"),1,0)","v":0},null,{"$f":"IF(AND('Step 2 - Naturalized'!$AB$20=\"X\",AI117=\"X\"),1,0)","v":0},null,{"$f":"IF(AND('Step 2 - Naturalized'!$AC$20=\"X\",AK117=\"X\"),1,0)","v":0},null,{"$f":"IF(AND('Step 2 - Naturalized'!$AA$18=\"X\",AM117=\"X\"),1,0)","v":0},"X",{"$f":"IF(AND('Step 2 - Naturalized'!$AB$18=\"X\",AO117=\"X\"),1,0)","v":0},"X",{"$f":"IF(AND('Step 2 - Naturalized'!$AC$18=\"X\",AQ117=\"X\"),1,0)","v":0},null,{"$f":"IF(AND('Step 2 - Naturalized'!$AD$18=\"X\",AS117=\"X\"),1,0)","v":0},null,{"$f":"IF(AND('Step 2 - Naturalized'!$AE$18=\"X\",AU117=\"X\"),1,0)","v":0},null,{"$f":"IF(AND('Step 2 - Naturalized'!$AA$17=\"X\",AW117=\"X\"),1,0)","v":0},"X",{"$f":"IF(AND('Step 2 - Naturalized'!$AB$17=\"X\",AY117=\"X\"),1,0)","v":0},null,{"$f":"IF(AND('Step 2 - Naturalized'!$AC$17=\"X\",BA117=\"X\"),1,0)","v":0},null,{"$f":"IF(AND('Step 2 - Naturalized'!$AA$22=\"X\",BC117=\"X\"),1,0)","v":0},null,{"$f":"IF(AND('Step 2 - Naturalized'!$AB$22=\"X\",BE117=\"X\"),1,0)","v":0},"X",{"$f":"IF(AND('Step 2 - Naturalized'!$AC$22=\"X\",BG117=\"X\"),1,0)","v":0},"X",{"$f":"IF(AND('Step 2 - Naturalized'!$AD$22=\"X\",BI117=\"X\"),1,0)","v":0},"X",null,null,null,null,null,null,"White / 1.0'-2.0'"]
[null,1,"OL RI","Oligoneuron rigidum (Solidago rigida)","Stiff Goldenrod","24\" O.C.","Nice flowers and winter form, yellow flowers Aug-Sept at 48\""," ","X","X","X",null,null,0,null,{"$f":"IF(AND('Step 2 - Naturalized'!$AA$21=\"X\",Q118=\"X\"),1,0)","v":0},"X",{"$f":"IF(AND('Step 2 - Naturalized'!$AB$21=\"X\",S118=\"X\"),1,0)","v":0},"X",{"$f":"IF(AND('Step 2 - Naturalized'!$AC$21=\"X\",U118=\"X\"),1,0)","v":0},null,{"$f":"IF(AND('Step 2 - Naturalized'!$AA$19=\"X\",W118=\"X\"),1,0)","v":0},null,{"$f":"IF(AND('Step 2 - Naturalized'!$AA$19=\"X\",Y118=\"X\"),1,0)","v":0},"X",{"$f":"IF(AND('Step 2 - Naturalized'!$AB$19=\"X\",AA118=\"X\"),1,0)","v":0},"X",{"$f":"IF(AND('Step 2 - Naturalized'!$AC$19=\"X\",AC118=\"X\"),1,0)","v":0},null,{"$f":"IF(AND('Step 2 - Naturalized'!$AA$20=\"X\",AE118=\"X\"),1,0)","v":0},null,{"$f":"IF(AND('Step 2 - Naturalized'!$AA$20=\"X\",AG118=\"X\"),1,0)","v":0},"X",{"$f":"IF(AND('Step 2 - Naturalized'!$AB$20=\"X\",AI118=\"X\"),1,0)","v":0},null,{"$f":"IF(AND('Step 2 - Naturalized'!$AC$20=\"X\",AK118=\"X\"),1,0)","v":0},null,{"$f":"IF(AND('Step 2 - Naturalized'!$AA$18=\"X\",AM118=\"X\"),1,0)","v":0},null,{"$f":"IF(AND('Step 2 - Naturalized'!$AB$18=\"X\",AO118=\"X\"),1,0)","v":0},"X",{"$f":"IF(AND('Step 2 - Naturalized'!$AC$18=\"X\",AQ118=\"X\"),1,0)","v":0},null,{"$f":"IF(AND('Step 2 - Naturalized'!$AD$18=\"X\",AS118=\"X\"),1,0)","v":0},null,{"$f":"IF(AND('Step 2 - Naturalized'!$AE$18=\"X\",AU118=\"X\"),1,0)","v":0},null,{"$f":"IF(AND('Step 2 - Naturalized'!$AA$17=\"X\",AW118=\"X\"),1,0)","v":0},"X",{"$f":"IF(AND('Step 2 - Naturalized'!$AB$17=\"X\",AY118=\"X\"),1,0)","v":0},null,{"$f":"IF(AND('Step 2 - Naturalized'!$AC$17=\"X\",BA118=\"X\"),1,0)","v":0},null,{"$f":"IF(AND('Step 2 - Naturalized'!$AA$22=\"X\",BC118=\"X\"),1,0)","v":0},null,{"$f":"IF(AND('Step 2 - Naturalized'!$AB$22=\"X\",BE118=\"X\"),1,0)","v":0},null,{"$f":"IF(AND('Step 2 - Naturalized'!$AC$22=\"X\",BG118=\"X\"),1,0)","v":0},"X",{"$f":"IF(AND('Step 2 - Naturalized'!$AD$22=\"X\",BI118=\"X\"),1,0)","v":0},"X",null,null,null,null,null,null,null,"Yellow / 3.0'-5.0'"]
[null,1,"PA OB","Packera obovata (Senecio obovatus)","Squaw Weed","12\" O.C.","Yellow flowers to 1.5' in April-June,",null,"X","X",null,null,null,1,"X",{"$f":"IF(AND('Step 2 - Naturalized'!$AA$21=\"X\",Q119=\"X\"),1,0)","v":0},null,{"$f":"IF(AND('Step 2 - Naturalized'!$AB$21=\"X\",S119=\"X\"),1,0)","v":0},null,{"$f":"IF(AND('Step 2 - Naturalized'!$AC$21=\"X\",U119=\"X\"),1,0)","v":0},null,{"$f":"IF(AND('Step 2 - Naturalized'!$AA$19=\"X\",W119=\"X\"),1,0)","v":0},"X",{"$f":"IF(AND('Step 2 - Naturalized'!$AA$19=\"X\",Y119=\"X\"),1,0)","v":0},null,{"$f":"IF(AND('Step 2 - Naturalized'!$AB$19=\"X\",AA119=\"X\"),1,0)","v":0},null,{"$f":"IF(AND('Step 2 - Naturalized'!$AC$19=\"X\",AC119=\"X\"),1,0)","v":0},null,{"$f":"IF(AND('Step 2 - Naturalized'!$AA$20=\"X\",AE119=\"X\"),1,0)","v":0},"X",{"$f":"IF(AND('Step 2 - Naturalized'!$AA$20=\"X\",AG119=\"X\"),1,0)","v":0},null,{"$f":"IF(AND('Step 2 - Naturalized'!$AB$20=\"X\",AI119=\"X\"),1,0)","v":0},null,{"$f":"IF(AND('Step 2 - Naturalized'!$AC$20=\"X\",AK119=\"X\"),1,0)","v":0},null,{"$f":"IF(AND('Step 2 - Naturalized'!$AA$18=\"X\",AM119=\"X\"),1,0)","v":0},null,{"$f":"IF(AND('Step 2 - Naturalized'!$AB$18=\"X\",AO119=\"X\"),1,0)","v":0},"X",{"$f":"IF(AND('Step 2 - Naturalized'!$AC$18=\"X\",AQ119=\"X\"),1,0)","v":0},"X",{"$f":"IF(AND('Step 2 - Naturalized'!$AD$18=\"X\",AS119=\"X\"),1,0)","v":0},null,{"$f":"IF(AND('Step 2 - Naturalized'!$AE$18=\"X\",AU119=\"X\"),1,0)","v":0},null,{"$f":"IF(AND('Step 2 - Naturalized'!$AA$17=\"X\",AW119=\"X\"),1,0)","v":0},"X",{"$f":"IF(AND('Step 2 - Naturalized'!$AB$17=\"X\",AY119=\"X\"),1,0)","v":0},"X",{"$f":"IF(AND('Step 2 - Naturalized'!$AC$17=\"X\",BA119=\"X\"),1,0)","v":0},null,{"$f":"IF(AND('Step 2 - Naturalized'!$AA$22=\"X\",BC119=\"X\"),1,0)","v":0},null,{"$f":"IF(AND('Step 2 - Naturalized'!$AB$22=\"X\",BE119=\"X\"),1,0)","v":0},null,{"$f":"IF(AND('Step 2 - Naturalized'!$AC$22=\"X\",BG119=\"X\"),1,0)","v":0},"X",{"$f":"IF(AND('Step 2 - Naturalized'!$AD$22=\"X\",BI119=\"X\"),1,0)","v":0},"X",null,null,null,"Yellow / 1.0'-1.5'"]
[null,1,"PA IN","Parthenium integrifolium ","Wild Quinine","18\" O.C.","pair with foxtail lily, tolerant of poor/rocky/clay soil",null,"X","X",null,null,null,0,null,{"$f":"IF(AND('Step 2 - Naturalized'!$AA$21=\"X\",Q120=\"X\"),1,0)","v":0},"X",{"$f":"IF(AND('Step 2 - Naturalized'!$AB$21=\"X\",S120=\"X\"),1,0)","v":0},"X",{"$f":"IF(AND('Step 2 - Naturalized'!$AC$21=\"X\",U120=\"X\"),1,0)","v":0},"X",{"$f":"IF(AND('Step 2 - Naturalized'!$AA$19=\"X\",W120=\"X\"),1,0)","v":0},"X",{"$f":"IF(AND('Step 2 - Naturalized'!$AA$19=\"X\",Y120=\"X\"),1,0)","v":0},null,{"$f":"IF(AND('Step 2 - Naturalized'!$AB$19=\"X\",AA120=\"X\"),1,0)","v":0},null,{"$f":"IF(AND('Step 2 - Naturalized'!$AC$19=\"X\",AC120=\"X\"),1,0)","v":0},null,{"$f":"IF(AND('Step 2 - Naturalized'!$AA$20=\"X\",AE120=\"X\"),1,0)","v":0},"X",{"$f":"IF(AND('Step 2 - Naturalized'!$AA$20=\"X\",AG120=\"X\"),1,0)","v":0},null,{"$f":"IF(AND('Step 2 - Naturalized'!$AB$20=\"X\",AI120=\"X\"),1,0)","v":0},null,{"$f":"IF(AND('Step 2 - Naturalized'!$AC$20=\"X\",AK120=\"X\"),1,0)","v":0},null,{"$f":"IF(AND('Step 2 - Naturalized'!$AA$18=\"X\",AM120=\"X\"),1,0)","v":0},"X",{"$f":"IF(AND('Step 2 - Naturalized'!$AB$18=\"X\",AO120=\"X\"),1,0)","v":0},"X",{"$f":"IF(AND('Step 2 - Naturalized'!$AC$18=\"X\",AQ120=\"X\"),1,0)","v":0},null,{"$f":"IF(AND('Step 2 - Naturalized'!$AD$18=\"X\",AS120=\"X\"),1,0)","v":0},null,{"$f":"IF(AND('Step 2 - Naturalized'!$AE$18=\"X\",AU120=\"X\"),1,0)","v":0},null,{"$f":"IF(AND('Step 2 - Naturalized'!$AA$17=\"X\",AW120=\"X\"),1,0)","v":0},"X",{"$f":"IF(AND('Step 2 - Naturalized'!$AB$17=\"X\",AY120=\"X\"),1,0)","v":0},null,{"$f":"IF(AND('Step 2 - Naturalized'!$AC$17=\"X\",BA120=\"X\"),1,0)","v":0},null,{"$f":"IF(AND('Step 2 - Naturalized'!$AA$22=\"X\",BC120=\"X\"),1,0)","v":0},null,{"$f":"IF(AND('Step 2 - Naturalized'!$AB$22=\"X\",BE120=\"X\"),1,0)","v":0},"X",{"$f":"IF(AND('Step 2 - Naturalized'!$AC$22=\"X\",BG120=\"X\"),1,0)","v":0},"X",{"$f":"IF(AND('Step 2 - Naturalized'!$AD$22=\"X\",BI120=\"X\"),1,0)","v":0},"X",null,null,null,null,"White / 2.0'-4.0'"]
[null,1,"PE DI","Penstemon digitalis","Foxglove Beard Tongue","18\" O.C.","profuse white flowers in April/June for dry full sun conditions",null,"X","X","X",null,null,0,null,{"$f":"IF(AND('Step 2 - Naturalized'!$AA$21=\"X\",Q121=\"X\"),1,0)","v":0},"X",{"$f":"IF(AND('Step 2 - Naturalized'!$AB$21=\"X\",S121=\"X\"),1,0)","v":0},"X",{"$f":"IF(AND('Step 2 - Naturalized'!$AC$21=\"X\",U121=\"X\"),1,0)","v":0},"X",{"$f":"IF(AND('Step 2 - Naturalized'!$AA$19=\"X\",W121=\"X\"),1,0)","v":0},null,{"$f":"IF(AND('Step 2 - Naturalized'!$AA$19=\"X\",Y121=\"X\"),1,0)","v":0},"X",{"$f":"IF(AND('Step 2 - Naturalized'!$AB$19=\"X\",AA121=\"X\"),1,0)","v":0},"X",{"$f":"IF(AND('Step 2 - Naturalized'!$AC$19=\"X\",AC121=\"X\"),1,0)","v":0},"X",{"$f":"IF(AND('Step 2 - Naturalized'!$AA$20=\"X\",AE121=\"X\"),1,0)","v":0},"X",{"$f":"IF(AND('Step 2 - Naturalized'!$AA$20=\"X\",AG121=\"X\"),1,0)","v":0},null,{"$f":"IF(AND('Step 2 - Naturalized'!$AB$20=\"X\",AI121=\"X\"),1,0)","v":0},null,{"$f":"IF(AND('Step 2 - Naturalized'!$AC$20=\"X\",AK121=\"X\"),1,0)","v":0},null,{"$f":"IF(AND('Step 2 - Naturalized'!$AA$18=\"X\",AM121=\"X\"),1,0)","v":0},"X",{"$f":"IF(AND('Step 2 - Naturalized'!$AB$18=\"X\",AO121=\"X\"),1,0)","v":0},"X",{"$f":"IF(AND('Step 2 - Naturalized'!$AC$18=\"X\",AQ121=\"X\"),1,0)","v":0},null,{"$f":"IF(AND('Step 2 - Naturalized'!$AD$18=\"X\",AS121=\"X\"),1,0)","v":0},null,{"$f":"IF(AND('Step 2 - Naturalized'!$AE$18=\"X\",AU121=\"X\"),1,0)","v":0},null,{"$f":"IF(AND('Step 2 - Naturalized'!$AA$17=\"X\",AW121=\"X\"),1,0)","v":0},"X",{"$f":"IF(AND('Step 2 - Naturalized'!$AB$17=\"X\",AY121=\"X\"),1,0)","v":0},null,{"$f":"IF(AND('Step 2 - Naturalized'!$AC$17=\"X\",BA121=\"X\"),1,0)","v":0},null,{"$f":"IF(AND('Step 2 - Naturalized'!$AA$22=\"X\",BC121=\"X\"),1,0)","v":0},null,{"$f":"IF(AND('Step 2 - Naturalized'!$AB$22=\"X\",BE121=\"X\"),1,0)","v":0},"X",{"$f":"IF(AND('Step 2 - Naturalized'!$AC$22=\"X\",BG121=\"X\"),1,0)","v":0},"X",{"$f":"IF(AND('Step 2 - Naturalized'!$AD$22=\"X\",BI121=\"X\"),1,0)","v":0},"X",null,null,null,"White / 2.0'-3.0'"]
[null,1,"PH VI","Physostegia virginiana","False Dragonhead, Obedient Plant","30\" O.C.","Easily grown, Pink - white flowers Jun-Sept at 40\"",null,"X","X","X",null,null,0,null,{"$f":"IF(AND('Step 2 - Naturalized'!$AA$21=\"X\",Q122=\"X\"),1,0)","v":0},"X",{"$f":"IF(AND('Step 2 - Naturalized'!$AB$21=\"X\",S122=\"X\"),1,0)","v":0},"X",{"$f":"IF(AND('Step 2 - Naturalized'!$AC$21=\"X\",U122=\"X\"),1,0)","v":0},null,{"$f":"IF(AND('Step 2 - Naturalized'!$AA$19=\"X\",W122=\"X\"),1,0)","v":0},null,{"$f":"IF(AND('Step 2 - Naturalized'!$AA$19=\"X\",Y122=\"X\"),1,0)","v":0},"X",{"$f":"IF(AND('Step 2 - Naturalized'!$AB$19=\"X\",AA122=\"X\"),1,0)","v":0},null,{"$f":"IF(AND('Step 2 - Naturalized'!$AC$19=\"X\",AC122=\"X\"),1,0)","v":0},null,{"$f":"IF(AND('Step 2 - Naturalized'!$AA$20=\"X\",AE122=\"X\"),1,0)","v":0},null,{"$f":"IF(AND('Step 2 - Naturalized'!$AA$20=\"X\",AG122=\"X\"),1,0)","v":0},"X",{"$f":"IF(AND('Step 2 - Naturalized'!$AB$20=\"X\",AI122=\"X\"),1,0)","v":0},null,{"$f":"IF(AND('Step 2 - Naturalized'!$AC$20=\"X\",AK122=\"X\"),1,0)","v":0},null,{"$f":"IF(AND('Step 2 - Naturalized'!$AA$18=\"X\",AM122=\"X\"),1,0)","v":0},null,{"$f":"IF(AND('Step 2 - Naturalized'!$AB$18=\"X\",AO122=\"X\"),1,0)","v":0},"X",{"$f":"IF(AND('Step 2 - Naturalized'!$AC$18=\"X\",AQ122=\"X\"),1,0)","v":0},"X",{"$f":"IF(AND('Step 2 - Naturalized'!$AD$18=\"X\",AS122=\"X\"),1,0)","v":0},null,{"$f":"IF(AND('Step 2 - Naturalized'!$AE$18=\"X\",AU122=\"X\"),1,0)","v":0},null,{"$f":"IF(AND('Step 2 - Naturalized'!$AA$17=\"X\",AW122=\"X\"),1,0)","v":0},"X",{"$f":"IF(AND('Step 2 - Naturalized'!$AB$17=\"X\",AY122=\"X\"),1,0)","v":0},"X",{"$f":"IF(AND('Step 2 - Naturalized'!$AC$17=\"X\",BA122=\"X\"),1,0)","v":0},null,{"$f":"IF(AND('Step 2 - Naturalized'!$AA$22=\"X\",BC122=\"X\"),1,0)","v":0},null,{"$f":"IF(AND('Step 2 - Naturalized'!$AB$22=\"X\",BE122=\"X\"),1,0)","v":0},null,{"$f":"IF(AND('Step 2 - Naturalized'!$AC$22=\"X\",BG122=\"X\"),1,0)","v":0},"X",{"$f":"IF(AND('Step 2 - Naturalized'!$AD$22=\"X\",BI122=\"X\"),1,0)","v":0},"X",null,null,null,null,null,"Pink - white / 3.0'-4.0'"]
[null,1,"PO PE","Podophyllum peltatum","May-Apple","12\" O.C.","Rhizomatous Spring ephemeral with white flowers to 18\" tall in April, edible fruit"," ","X","X",null,null,null,0,null,{"$f":"IF(AND('Step 2 - Naturalized'!$AA$21=\"X\",Q123=\"X\"),1,0)","v":0},"X",{"$f":"IF(AND('Step 2 - Naturalized'!$AB$21=\"X\",S123=\"X\"),1,0)","v":0},"X",{"$f":"IF(AND('Step 2 - Naturalized'!$AC$21=\"X\",U123=\"X\"),1,0)","v":0},null,{"$f":"IF(AND('Step 2 - Naturalized'!$AA$19=\"X\",W123=\"X\"),1,0)","v":0},null,{"$f":"IF(AND('Step 2 - Naturalized'!$AA$19=\"X\",Y123=\"X\"),1,0)","v":0},"X",{"$f":"IF(AND('Step 2 - Naturalized'!$AB$19=\"X\",AA123=\"X\"),1,0)","v":0},null,{"$f":"IF(AND('Step 2 - Naturalized'!$AC$19=\"X\",AC123=\"X\"),1,0)","v":0},null,{"$f":"IF(AND('Step 2 - Naturalized'!$AA$20=\"X\",AE123=\"X\"),1,0)","v":0},null,{"$f":"IF(AND('Step 2 - Naturalized'!$AA$20=\"X\",AG123=\"X\"),1,0)","v":0},"X",{"$f":"IF(AND('Step 2 - Naturalized'!$AB$20=\"X\",AI123=\"X\"),1,0)","v":0},null,{"$f":"IF(AND('Step 2 - Naturalized'!$AC$20=\"X\",AK123=\"X\"),1,0)","v":0},null,{"$f":"IF(AND('Step 2 - Naturalized'!$AA$18=\"X\",AM123=\"X\"),1,0)","v":0},null,{"$f":"IF(AND('Step 2 - Naturalized'!$AB$18=\"X\",AO123=\"X\"),1,0)","v":0},"X",{"$f":"IF(AND('Step 2 - Naturalized'!$AC$18=\"X\",AQ123=\"X\"),1,0)","v":0},null,{"$f":"IF(AND('Step 2 - Naturalized'!$AD$18=\"X\",AS123=\"X\"),1,0)","v":0},null,{"$f":"IF(AND('Step 2 - Naturalized'!$AE$18=\"X\",AU123=\"X\"),1,0)","v":0},null,{"$f":"IF(AND('Step 2 - Naturalized'!$AA$17=\"X\",AW123=\"X\"),1,0)","v":0},null,{"$f":"IF(AND('Step 2 - Naturalized'!$AB$17=\"X\",AY123=\"X\"),1,0)","v":0},"X",{"$f":"IF(AND('Step 2 - Naturalized'!$AC$17=\"X\",BA123=\"X\"),1,0)","v":0},"X",{"$f":"IF(AND('Step 2 - Naturalized'!$AA$22=\"X\",BC123=\"X\"),1,0)","v":0},null,{"$f":"IF(AND('Step 2 - Naturalized'!$AB$22=\"X\",BE123=\"X\"),1,0)","v":0},"X",{"$f":"IF(AND('Step 2 - Naturalized'!$AC$22=\"X\",BG123=\"X\"),1,0)","v":0},"X",{"$f":"IF(AND('Step 2 - Naturalized'!$AD$22=\"X\",BI123=\"X\"),1,0)","v":0},"X",null,null,null,"White / 1.0'-1.5'"]
[null,1,"PO BI","Polygonatum biflorum var. commutatum","Solomon's Seal","18\" O.C.","Best in moist soils in part shade",null,"X","X",null,null,null,0,null,{"$f":"IF(AND('Step 2 - Naturalized'!$AA$21=\"X\",Q124=\"X\"),1,0)","v":0},"X",{"$f":"IF(AND('Step 2 - Naturalized'!$AB$21=\"X\",S124=\"X\"),1,0)","v":0},"X",{"$f":"IF(AND('Step 2 - Naturalized'!$AC$21=\"X\",U124=\"X\"),1,0)","v":0},"X",{"$f":"IF(AND('Step 2 - Naturalized'!$AA$19=\"X\",W124=\"X\"),1,0)","v":0},"X",{"$f":"IF(AND('Step 2 - Naturalized'!$AA$19=\"X\",Y124=\"X\"),1,0)","v":0},null,{"$f":"IF(AND('Step 2 - Naturalized'!$AB$19=\"X\",AA124=\"X\"),1,0)","v":0},null,{"$f":"IF(AND('Step 2 - Naturalized'!$AC$19=\"X\",AC124=\"X\"),1,0)","v":0},null,{"$f":"IF(AND('Step 2 - Naturalized'!$AA$20=\"X\",AE124=\"X\"),1,0)","v":0},"X",{"$f":"IF(AND('Step 2 - Naturalized'!$AA$20=\"X\",AG124=\"X\"),1,0)","v":0},null,{"$f":"IF(AND('Step 2 - Naturalized'!$AB$20=\"X\",AI124=\"X\"),1,0)","v":0},null,{"$f":"IF(AND('Step 2 - Naturalized'!$AC$20=\"X\",AK124=\"X\"),1,0)","v":0},null,{"$f":"IF(AND('Step 2 - Naturalized'!$AA$18=\"X\",AM124=\"X\"),1,0)","v":0},null,{"$f":"IF(AND('Step 2 - Naturalized'!$AB$18=\"X\",AO124=\"X\"),1,0)","v":0},"X",{"$f":"IF(AND('Step 2 - Naturalized'!$AC$18=\"X\",AQ124=\"X\"),1,0)","v":0},"X",{"$f":"IF(AND('Step 2 - Naturalized'!$AD$18=\"X\",AS124=\"X\"),1,0)","v":0},null,{"$f":"IF(AND('Step 2 - Naturalized'!$AE$18=\"X\",AU124=\"X\"),1,0)","v":0},null,{"$f":"IF(AND('Step 2 - Naturalized'!$AA$17=\"X\",AW124=\"X\"),1,0)","v":0},null,{"$f":"IF(AND('Step 2 - Naturalized'!$AB$17=\"X\",AY124=\"X\"),1,0)","v":0},"X",{"$f":"IF(AND('Step 2 - Naturalized'!$AC$17=\"X\",BA124=\"X\"),1,0)","v":0},"X",{"$f":"IF(AND('Step 2 - Naturalized'!$AA$22=\"X\",BC124=\"X\"),1,0)","v":0},null,{"$f":"IF(AND('Step 2 - Naturalized'!$AB$22=\"X\",BE124=\"X\"),1,0)","v":0},null,{"$f":"IF(AND('Step 2 - Naturalized'!$AC$22=\"X\",BG124=\"X\"),1,0)","v":0},"X",{"$f":"IF(AND('Step 2 - Naturalized'!$AD$22=\"X\",BI124=\"X\"),1,0)","v":0},"X",null,null,null,null,"Greenish white / 3.0'-6.0'"]
[null,1,"PY VI","Pycnanthemum virginianum","Common Mountain Mint","12\" O.C.","White flowers Jul-Sept at 30\"",null,"X","X",null,null,null,0,null,{"$f":"IF(AND('Step 2 - Naturalized'!$AA$21=\"X\",Q125=\"X\"),1,0)","v":0},"X",{"$f":"IF(AND('Step 2 - Naturalized'!$AB$21=\"X\",S125=\"X\"),1,0)","v":0},null,{"$f":"IF(AND('Step 2 - Naturalized'!$AC$21=\"X\",U125=\"X\"),1,0)","v":0},null,{"$f":"IF(AND('Step 2 - Naturalized'!$AA$19=\"X\",W125=\"X\"),1,0)","v":0},null,{"$f":"IF(AND('Step 2 - Naturalized'!$AA$19=\"X\",Y125=\"X\"),1,0)","v":0},"X",{"$f":"IF(AND('Step 2 - Naturalized'!$AB$19=\"X\",AA125=\"X\"),1,0)","v":0},"X",{"$f":"IF(AND('Step 2 - Naturalized'!$AC$19=\"X\",AC125=\"X\"),1,0)","v":0},null,{"$f":"IF(AND('Step 2 - Naturalized'!$AA$20=\"X\",AE125=\"X\"),1,0)","v":0},null,{"$f":"IF(AND('Step 2 - Naturalized'!$AA$20=\"X\",AG125=\"X\"),1,0)","v":0},"X",{"$f":"IF(AND('Step 2 - Naturalized'!$AB$20=\"X\",AI125=\"X\"),1,0)","v":0},null,{"$f":"IF(AND('Step 2 - Naturalized'!$AC$20=\"X\",AK125=\"X\"),1,0)","v":0},null,{"$f":"IF(AND('Step 2 - Naturalized'!$AA$18=\"X\",AM125=\"X\"),1,0)","v":0},null,{"$f":"IF(AND('Step 2 - Naturalized'!$AB$18=\"X\",AO125=\"X\"),1,0)","v":0},"X",{"$f":"IF(AND('Step 2 - Naturalized'!$AC$18=\"X\",AQ125=\"X\"),1,0)","v":0},"X",{"$f":"IF(AND('Step 2 - Naturalized'!$AD$18=\"X\",AS125=\"X\"),1,0)","v":0},null,{"$f":"IF(AND('Step 2 - Naturalized'!$AE$18=\"X\",AU125=\"X\"),1,0)","v":0},null,{"$f":"IF(AND('Step 2 - Naturalized'!$AA$17=\"X\",AW125=\"X\"),1,0)","v":0},"X",{"$f":"IF(AND('Step 2 - Naturalized'!$AB$17=\"X\",AY125=\"X\"),1,0)","v":0},"X",{"$f":"IF(AND('Step 2 - Naturalized'!$AC$17=\"X\",BA125=\"X\"),1,0)","v":0},null,{"$f":"IF(AND('Step 2 - Naturalized'!$AA$22=\"X\",BC125=\"X\"),1,0)","v":0},null,{"$f":"IF(AND('Step 2 - Naturalized'!$AB$22=\"X\",BE125=\"X\"),1,0)","v":0},null,{"$f":"IF(AND('Step 2 - Naturalized'!$AC$22=\"X\",BG125=\"X\"),1,0)","v":0},"X",{"$f":"IF(AND('Step 2 - Naturalized'!$AD$22=\"X\",BI125=\"X\"),1,0)","v":0},"X",null,null,null,null,null,null,"White / 2.0'-3.0'"]
[null,1,"RA PI","Ratibida pinnata","Grey-head Coneflower","18\" O.C.","tolerates clay soil, yellow flowers June-Aug., attracts butterflies",null,"X","X",null,null,null,0,null,{"$f":"IF(AND('Step 2 - Naturalized'!$AA$21=\"X\",Q126=\"X\"),1,0)","v":0},null,{"$f":"IF(AND('Step 2 - Naturalized'!$AB$21=\"X\",S126=\"X\"),1,0)","v":0},"X",{"$f":"IF(AND('Step 2 - Naturalized'!$AC$21=\"X\",U126=\"X\"),1,0)","v":0},"X",{"$f":"IF(AND('Step 2 - Naturalized'!$AA$19=\"X\",W126=\"X\"),1,0)","v":0},null,{"$f":"IF(AND('Step 2 - Naturalized'!$AA$19=\"X\",Y126=\"X\"),1,0)","v":0},"X",{"$f":"IF(AND('Step 2 - Naturalized'!$AB$19=\"X\",AA126=\"X\"),1,0)","v":0},"X",{"$f":"IF(AND('Step 2 - Naturalized'!$AC$19=\"X\",AC126=\"X\"),1,0)","v":0},null,{"$f":"IF(AND('Step 2 - Naturalized'!$AA$20=\"X\",AE126=\"X\"),1,0)","v":0},null,{"$f":"IF(AND('Step 2 - Naturalized'!$AA$20=\"X\",AG126=\"X\"),1,0)","v":0},"X",{"$f":"IF(AND('Step 2 - Naturalized'!$AB$20=\"X\",AI126=\"X\"),1,0)","v":0},null,{"$f":"IF(AND('Step 2 - Naturalized'!$AC$20=\"X\",AK126=\"X\"),1,0)","v":0},null,{"$f":"IF(AND('Step 2 - Naturalized'!$AA$18=\"X\",AM126=\"X\"),1,0)","v":0},null,{"$f":"IF(AND('Step 2 - Naturalized'!$AB$18=\"X\",AO126=\"X\"),1,0)","v":0},"X",{"$f":"IF(AND('Step 2 - Naturalized'!$AC$18=\"X\",AQ126=\"X\"),1,0)","v":0},null,{"$f":"IF(AND('Step 2 - Naturalized'!$AD$18=\"X\",AS126=\"X\"),1,0)","v":0},null,{"$f":"IF(AND('Step 2 - Naturalized'!$AE$18=\"X\",AU126=\"X\"),1,0)","v":0},null,{"$f":"IF(AND('Step 2 - Naturalized'!$AA$17=\"X\",AW126=\"X\"),1,0)","v":0},"X",{"$f":"IF(AND('Step 2 - Naturalized'!$AB$17=\"X\",AY126=\"X\"),1,0)","v":0},null,{"$f":"IF(AND('Step 2 - Naturalized'!$AC$17=\"X\",BA126=\"X\"),1,0)","v":0},null,{"$f":"IF(AND('Step 2 - Naturalized'!$AA$22=\"X\",BC126=\"X\"),1,0)","v":0},null,{"$f":"IF(AND('Step 2 - Naturalized'!$AB$22=\"X\",BE126=\"X\"),1,0)","v":0},null,{"$f":"IF(AND('Step 2 - Naturalized'!$AC$22=\"X\",BG126=\"X\"),1,0)","v":0},"X",{"$f":"IF(AND('Step 2 - Naturalized'!$AD$22=\"X\",BI126=\"X\"),1,0)","v":0},"X",null,null,null,null,null,null,null,"Yellow / 3.0'-4.0'"]
[null,1,"RU HI","Rudbeckia hirta","Black-eyed Susan Coneflower","18\" O.C.","Repeat bloomer, Bright yellow daisy flowers June-Sept about 24\" tall",null,"X","X","X",null,null,0,null,{"$f":"IF(AND('Step 2 - Naturalized'!$AA$21=\"X\",Q127=\"X\"),1,0)","v":0},"X",{"$f":"IF(AND('Step 2 - Naturalized'!$AB$21=\"X\",S127=\"X\"),1,0)","v":0},"X",{"$f":"IF(AND('Step 2 - Naturalized'!$AC$21=\"X\",U127=\"X\"),1,0)","v":0},null,{"$f":"IF(AND('Step 2 - Naturalized'!$AA$19=\"X\",W127=\"X\"),1,0)","v":0},null,{"$f":"IF(AND('Step 2 - Naturalized'!$AA$19=\"X\",Y127=\"X\"),1,0)","v":0},"X",{"$f":"IF(AND('Step 2 - Naturalized'!$AB$19=\"X\",AA127=\"X\"),1,0)","v":0},"X",{"$f":"IF(AND('Step 2 - Naturalized'!$AC$19=\"X\",AC127=\"X\"),1,0)","v":0},null,{"$f":"IF(AND('Step 2 - Naturalized'!$AA$20=\"X\",AE127=\"X\"),1,0)","v":0},null,{"$f":"IF(AND('Step 2 - Naturalized'!$AA$20=\"X\",AG127=\"X\"),1,0)","v":0},"X",{"$f":"IF(AND('Step 2 - Naturalized'!$AB$20=\"X\",AI127=\"X\"),1,0)","v":0},null,{"$f":"IF(AND('Step 2 - Naturalized'!$AC$20=\"X\",AK127=\"X\"),1,0)","v":0},null,{"$f":"IF(AND('Step 2 - Naturalized'!$AA$18=\"X\",AM127=\"X\"),1,0)","v":0},"X",{"$f":"IF(AND('Step 2 - Naturalized'!$AB$18=\"X\",AO127=\"X\"),1,0)","v":0},"X",{"$f":"IF(AND('Step 2 - Naturalized'!$AC$18=\"X\",AQ127=\"X\"),1,0)","v":0},null,{"$f":"IF(AND('Step 2 - Naturalized'!$AD$18=\"X\",AS127=\"X\"),1,0)","v":0},null,{"$f":"IF(AND('Step 2 - Naturalized'!$AE$18=\"X\",AU127=\"X\"),1,0)","v":0},null,{"$f":"IF(AND('Step 2 - Naturalized'!$AA$17=\"X\",AW127=\"X\"),1,0)","v":0},"X",{"$f":"IF(AND('Step 2 - Naturalized'!$AB$17=\"X\",AY127=\"X\"),1,0)","v":0},"X",{"$f":"IF(AND('Step 2 - Naturalized'!$AC$17=\"X\",BA127=\"X\"),1,0)","v":0},null,{"$f":"IF(AND('Step 2 - Naturalized'!$AA$22=\"X\",BC127=\"X\"),1,0)","v":0},null,{"$f":"IF(AND('Step 2 - Naturalized'!$AB$22=\"X\",BE127=\"X\"),1,0)","v":0},"X",{"$f":"IF(AND('Step 2 - Naturalized'!$AC$22=\"X\",BG127=\"X\"),1,0)","v":0},"X",{"$f":"IF(AND('Step 2 - Naturalized'!$AD$22=\"X\",BI127=\"X\"),1,0)","v":0},"X",null,null,null,null,null,"Yellow to yellow-orange / 2.0'-3.0'"]
[null,{"$f":"SUM((N128+P128+R128+T128)*(V128+X128+Z128+AB128)*(AD128+AF128+AH128+AJ128)*(AL128+AN128+AP128+AR128+AT128)*(AV128+AX128+AZ128)*(BB128+BD128+BF128+BH128))+1","v":1},"RU LA","Rudbeckia laciniata","Tall coneflower, cutleaf coneflower","24\" O.C.","Tall coneflower (3'-8') for part shade, moist sites, somewhat lanky with yellow flowers in July-Sept"," ","X","X","X",null,null,{"$f":"IF(O128=\"X\",1,0)","v":0},null,{"$f":"IF(AND('Step 2 - Naturalized'!$AA$21=\"X\",Q128=\"X\"),1,0)","v":0},"X",{"$f":"IF(AND('Step 2 - Naturalized'!$AB$21=\"X\",S128=\"X\"),1,0)","v":0},null,{"$f":"IF(AND('Step 2 - Naturalized'!$AC$21=\"X\",U128=\"X\"),1,0)","v":0},null,{"$f":"IF(AND('Step 2 - Naturalized'!$AA$19=\"X\",W128=\"X\"),1,0)","v":0},null,{"$f":"IF(AND('Step 2 - Naturalized'!$AA$19=\"X\",Y128=\"X\"),1,0)","v":0},"X",{"$f":"IF(AND('Step 2 - Naturalized'!$AB$19=\"X\",AA128=\"X\"),1,0)","v":0},"X",{"$f":"IF(AND('Step 2 - Naturalized'!$AC$19=\"X\",AC128=\"X\"),1,0)","v":0},null,{"$f":"IF(AND('Step 2 - Naturalized'!$AA$20=\"X\",AE128=\"X\"),1,0)","v":0},null,{"$f":"IF(AND('Step 2 - Naturalized'!$AA$20=\"X\",AG128=\"X\"),1,0)","v":0},"X",{"$f":"IF(AND('Step 2 - Naturalized'!$AB$20=\"X\",AI128=\"X\"),1,0)","v":0},"X",{"$f":"IF(AND('Step 2 - Naturalized'!$AC$20=\"X\",AK128=\"X\"),1,0)","v":0},"X",{"$f":"IF(AND('Step 2 - Naturalized'!$AA$18=\"X\",AM128=\"X\"),1,0)","v":0},null,{"$f":"IF(AND('Step 2 - Naturalized'!$AB$18=\"X\",AO128=\"X\"),1,0)","v":0},null,{"$f":"IF(AND('Step 2 - Naturalized'!$AC$18=\"X\",AQ128=\"X\"),1,0)","v":0},"X",{"$f":"IF(AND('Step 2 - Naturalized'!$AD$18=\"X\",AS128=\"X\"),1,0)","v":0},null,{"$f":"IF(AND('Step 2 - Naturalized'!$AE$18=\"X\",AU128=\"X\"),1,0)","v":0},null,{"$f":"IF(AND('Step 2 - Naturalized'!$AA$17=\"X\",AW128=\"X\"),1,0)","v":0},null,{"$f":"IF(AND('Step 2 - Naturalized'!$AB$17=\"X\",AY128=\"X\"),1,0)","v":0},"X",{"$f":"IF(AND('Step 2 - Naturalized'!$AC$17=\"X\",BA128=\"X\"),1,0)","v":0},null,{"$f":"IF(AND('Step 2 - Naturalized'!$AA$22=\"X\",BC128=\"X\"),1,0)","v":0},null,{"$f":"IF(AND('Step 2 - Naturalized'!$AB$22=\"X\",BE128=\"X\"),1,0)","v":0},null,{"$f":"IF(AND('Step 2 - Naturalized'!$AC$22=\"X\",BG128=\"X\"),1,0)","v":0},"X",{"$f":"IF(AND('Step 2 - Naturalized'!$AD$22=\"X\",BI128=\"X\"),1,0)","v":0},"X",null,null,null,null,null,null,"Yellow / 3.0'-8.0'"]
[null,1,"RU SU","Rudbeckia subtomentosa ","Sweet Coneflower","18\" O.C.","3'-5' tall yellow flowers in July-Oct, good for part shade conditions",null,"X","X","X",null,null,0,null,{"$f":"IF(AND('Step 2 - Naturalized'!$AA$21=\"X\",Q129=\"X\"),1,0)","v":0},"X",{"$f":"IF(AND('Step 2 - Naturalized'!$AB$21=\"X\",S129=\"X\"),1,0)","v":0},"X",{"$f":"IF(AND('Step 2 - Naturalized'!$AC$21=\"X\",U129=\"X\"),1,0)","v":0},null,{"$f":"IF(AND('Step 2 - Naturalized'!$AA$19=\"X\",W129=\"X\"),1,0)","v":0},null,{"$f":"IF(AND('Step 2 - Naturalized'!$AA$19=\"X\",Y129=\"X\"),1,0)","v":0},"X",{"$f":"IF(AND('Step 2 - Naturalized'!$AB$19=\"X\",AA129=\"X\"),1,0)","v":0},null,{"$f":"IF(AND('Step 2 - Naturalized'!$AC$19=\"X\",AC129=\"X\"),1,0)","v":0},null,{"$f":"IF(AND('Step 2 - Naturalized'!$AA$20=\"X\",AE129=\"X\"),1,0)","v":0},null,{"$f":"IF(AND('Step 2 - Naturalized'!$AA$20=\"X\",AG129=\"X\"),1,0)","v":0},"X",{"$f":"IF(AND('Step 2 - Naturalized'!$AB$20=\"X\",AI129=\"X\"),1,0)","v":0},"X",{"$f":"IF(AND('Step 2 - Naturalized'!$AC$20=\"X\",AK129=\"X\"),1,0)","v":0},null,{"$f":"IF(AND('Step 2 - Naturalized'!$AA$18=\"X\",AM129=\"X\"),1,0)","v":0}," ",{"$f":"IF(AND('Step 2 - Naturalized'!$AB$18=\"X\",AO129=\"X\"),1,0)","v":0},"X",{"$f":"IF(AND('Step 2 - Naturalized'!$AC$18=\"X\",AQ129=\"X\"),1,0)","v":0},"X",{"$f":"IF(AND('Step 2 - Naturalized'!$AD$18=\"X\",AS129=\"X\"),1,0)","v":0},null,{"$f":"IF(AND('Step 2 - Naturalized'!$AE$18=\"X\",AU129=\"X\"),1,0)","v":0},null,{"$f":"IF(AND('Step 2 - Naturalized'!$AA$17=\"X\",AW129=\"X\"),1,0)","v":0},"X",{"$f":"IF(AND('Step 2 - Naturalized'!$AB$17=\"X\",AY129=\"X\"),1,0)","v":0},null,{"$f":"IF(AND('Step 2 - Naturalized'!$AC$17=\"X\",BA129=\"X\"),1,0)","v":0},null,{"$f":"IF(AND('Step 2 - Naturalized'!$AA$22=\"X\",BC129=\"X\"),1,0)","v":0},null,{"$f":"IF(AND('Step 2 - Naturalized'!$AB$22=\"X\",BE129=\"X\"),1,0)","v":0},null,{"$f":"IF(AND('Step 2 - Naturalized'!$AC$22=\"X\",BG129=\"X\"),1,0)","v":0},"X",{"$f":"IF(AND('Step 2 - Naturalized'!$AD$22=\"X\",BI129=\"X\"),1,0)","v":0},"X",null,null,null,null,null,null,"Yellow / 3.0'-5.0'"]
[null,1,"RU TR","Rudbeckia triloba","Brown-eyed Susan","18\" O.C.","Biennial with 3'-5' yellow flowers in July-Oct",null,"X","X","X",null,null,1,"X",{"$f":"IF(AND('Step 2 - Naturalized'!$AA$21=\"X\",Q130=\"X\"),1,0)","v":0},null,{"$f":"IF(AND('Step 2 - Naturalized'!$AB$21=\"X\",S130=\"X\"),1,0)","v":0},null,{"$f":"IF(AND('Step 2 - Naturalized'!$AC$21=\"X\",U130=\"X\"),1,0)","v":0},null,{"$f":"IF(AND('Step 2 - Naturalized'!$AA$19=\"X\",W130=\"X\"),1,0)","v":0},"X",{"$f":"IF(AND('Step 2 - Naturalized'!$AA$19=\"X\",Y130=\"X\"),1,0)","v":0},null,{"$f":"IF(AND('Step 2 - Naturalized'!$AB$19=\"X\",AA130=\"X\"),1,0)","v":0},null,{"$f":"IF(AND('Step 2 - Naturalized'!$AC$19=\"X\",AC130=\"X\"),1,0)","v":0},null,{"$f":"IF(AND('Step 2 - Naturalized'!$AA$20=\"X\",AE130=\"X\"),1,0)","v":0},"X",{"$f":"IF(AND('Step 2 - Naturalized'!$AA$20=\"X\",AG130=\"X\"),1,0)","v":0},null,{"$f":"IF(AND('Step 2 - Naturalized'!$AB$20=\"X\",AI130=\"X\"),1,0)","v":0},null,{"$f":"IF(AND('Step 2 - Naturalized'!$AC$20=\"X\",AK130=\"X\"),1,0)","v":0},null,{"$f":"IF(AND('Step 2 - Naturalized'!$AA$18=\"X\",AM130=\"X\"),1,0)","v":0},null,{"$f":"IF(AND('Step 2 - Naturalized'!$AB$18=\"X\",AO130=\"X\"),1,0)","v":0},"X",{"$f":"IF(AND('Step 2 - Naturalized'!$AC$18=\"X\",AQ130=\"X\"),1,0)","v":0},"X",{"$f":"IF(AND('Step 2 - Naturalized'!$AD$18=\"X\",AS130=\"X\"),1,0)","v":0},null,{"$f":"IF(AND('Step 2 - Naturalized'!$AE$18=\"X\",AU130=\"X\"),1,0)","v":0},null,{"$f":"IF(AND('Step 2 - Naturalized'!$AA$17=\"X\",AW130=\"X\"),1,0)","v":0},"X",{"$f":"IF(AND('Step 2 - Naturalized'!$AB$17=\"X\",AY130=\"X\"),1,0)","v":0},"X",{"$f":"IF(AND('Step 2 - Naturalized'!$AC$17=\"X\",BA130=\"X\"),1,0)","v":0},null,{"$f":"IF(AND('Step 2 - Naturalized'!$AA$22=\"X\",BC130=\"X\"),1,0)","v":0},null,{"$f":"IF(AND('Step 2 - Naturalized'!$AB$22=\"X\",BE130=\"X\"),1,0)","v":0},null,{"$f":"IF(AND('Step 2 - Naturalized'!$AC$22=\"X\",BG130=\"X\"),1,0)","v":0},"X",{"$f":"IF(AND('Step 2 - Naturalized'!$AD$22=\"X\",BI130=\"X\"),1,0)","v":0},"X",null,null,null,null,null,null,"Yellow / 3.0'-5.0'"]
["Legume",1,"SE HE","Senna hebecarpa (Cassia hebecarpa)","Wild Senna, American Senna, Wild Cassia","36\" O.C.","Striking native with attractive foliage and flowers, 4'-6' with lt. yellow to orange flowers in July-Aug"," ","X","X",null,null,null,0,null,{"$f":"IF(AND('Step 2 - Naturalized'!$AA$21=\"X\",Q131=\"X\"),1,0)","v":0},null,{"$f":"IF(AND('Step 2 - Naturalized'!$AB$21=\"X\",S131=\"X\"),1,0)","v":0},"X",{"$f":"IF(AND('Step 2 - Naturalized'!$AC$21=\"X\",U131=\"X\"),1,0)","v":0},null,{"$f":"IF(AND('Step 2 - Naturalized'!$AA$19=\"X\",W131=\"X\"),1,0)","v":0},"X",{"$f":"IF(AND('Step 2 - Naturalized'!$AA$19=\"X\",Y131=\"X\"),1,0)","v":0},null,{"$f":"IF(AND('Step 2 - Naturalized'!$AB$19=\"X\",AA131=\"X\"),1,0)","v":0},null,{"$f":"IF(AND('Step 2 - Naturalized'!$AC$19=\"X\",AC131=\"X\"),1,0)","v":0},null,{"$f":"IF(AND('Step 2 - Naturalized'!$AA$20=\"X\",AE131=\"X\"),1,0)","v":0},"X",{"$f":"IF(AND('Step 2 - Naturalized'!$AA$20=\"X\",AG131=\"X\"),1,0)","v":0},null,{"$f":"IF(AND('Step 2 - Naturalized'!$AB$20=\"X\",AI131=\"X\"),1,0)","v":0},null,{"$f":"IF(AND('Step 2 - Naturalized'!$AC$20=\"X\",AK131=\"X\"),1,0)","v":0},null,{"$f":"IF(AND('Step 2 - Naturalized'!$AA$18=\"X\",AM131=\"X\"),1,0)","v":0},null,{"$f":"IF(AND('Step 2 - Naturalized'!$AB$18=\"X\",AO131=\"X\"),1,0)","v":0},"X",{"$f":"IF(AND('Step 2 - Naturalized'!$AC$18=\"X\",AQ131=\"X\"),1,0)","v":0},"X",{"$f":"IF(AND('Step 2 - Naturalized'!$AD$18=\"X\",AS131=\"X\"),1,0)","v":0},null,{"$f":"IF(AND('Step 2 - Naturalized'!$AE$18=\"X\",AU131=\"X\"),1,0)","v":0},null,{"$f":"IF(AND('Step 2 - Naturalized'!$AA$17=\"X\",AW131=\"X\"),1,0)","v":0},"X",{"$f":"IF(AND('Step 2 - Naturalized'!$AB$17=\"X\",AY131=\"X\"),1,0)","v":0},"X",{"$f":"IF(AND('Step 2 - Naturalized'!$AC$17=\"X\",BA131=\"X\"),1,0)","v":0},null,{"$f":"IF(AND('Step 2 - Naturalized'!$AA$22=\"X\",BC131=\"X\"),1,0)","v":0},null,{"$f":"IF(AND('Step 2 - Naturalized'!$AB$22=\"X\",BE131=\"X\"),1,0)","v":0},null,{"$f":"IF(AND('Step 2 - Naturalized'!$AC$22=\"X\",BG131=\"X\"),1,0)","v":0},"X",{"$f":"IF(AND('Step 2 - Naturalized'!$AD$22=\"X\",BI131=\"X\"),1,0)","v":0},"X",null,null,null,null,null,null,"Lt. Yellow - orange / 3.0'-5.0'"]
[null,1,"SI IN","Silphium integrifolium","Prairie Rosinweed","24\" O.C.","Yellow flowers July-Sept around 48\" tall",null,"X","X",null,null,null,1,"X",{"$f":"IF(AND('Step 2 - Naturalized'!$AA$21=\"X\",Q132=\"X\"),1,0)","v":0},null,{"$f":"IF(AND('Step 2 - Naturalized'!$AB$21=\"X\",S132=\"X\"),1,0)","v":0},null,{"$f":"IF(AND('Step 2 - Naturalized'!$AC$21=\"X\",U132=\"X\"),1,0)","v":0},null,{"$f":"IF(AND('Step 2 - Naturalized'!$AA$19=\"X\",W132=\"X\"),1,0)","v":0},null,{"$f":"IF(AND('Step 2 - Naturalized'!$AA$19=\"X\",Y132=\"X\"),1,0)","v":0},"X",{"$f":"IF(AND('Step 2 - Naturalized'!$AB$19=\"X\",AA132=\"X\"),1,0)","v":0},null,{"$f":"IF(AND('Step 2 - Naturalized'!$AC$19=\"X\",AC132=\"X\"),1,0)","v":0},null,{"$f":"IF(AND('Step 2 - Naturalized'!$AA$20=\"X\",AE132=\"X\"),1,0)","v":0},null,{"$f":"IF(AND('Step 2 - Naturalized'!$AA$20=\"X\",AG132=\"X\"),1,0)","v":0},"X",{"$f":"IF(AND('Step 2 - Naturalized'!$AB$20=\"X\",AI132=\"X\"),1,0)","v":0},null,{"$f":"IF(AND('Step 2 - Naturalized'!$AC$20=\"X\",AK132=\"X\"),1,0)","v":0},null,{"$f":"IF(AND('Step 2 - Naturalized'!$AA$18=\"X\",AM132=\"X\"),1,0)","v":0},"X",{"$f":"IF(AND('Step 2 - Naturalized'!$AB$18=\"X\",AO132=\"X\"),1,0)","v":0},"X",{"$f":"IF(AND('Step 2 - Naturalized'!$AC$18=\"X\",AQ132=\"X\"),1,0)","v":0},null,{"$f":"IF(AND('Step 2 - Naturalized'!$AD$18=\"X\",AS132=\"X\"),1,0)","v":0},null,{"$f":"IF(AND('Step 2 - Naturalized'!$AE$18=\"X\",AU132=\"X\"),1,0)","v":0},null,{"$f":"IF(AND('Step 2 - Naturalized'!$AA$17=\"X\",AW132=\"X\"),1,0)","v":0},"X",{"$f":"IF(AND('Step 2 - Naturalized'!$AB$17=\"X\",AY132=\"X\"),1,0)","v":0},null,{"$f":"IF(AND('Step 2 - Naturalized'!$AC$17=\"X\",BA132=\"X\"),1,0)","v":0},null,{"$f":"IF(AND('Step 2 - Naturalized'!$AA$22=\"X\",BC132=\"X\"),1,0)","v":0},null,{"$f":"IF(AND('Step 2 - Naturalized'!$AB$22=\"X\",BE132=\"X\"),1,0)","v":0},null,{"$f":"IF(AND('Step 2 - Naturalized'!$AC$22=\"X\",BG132=\"X\"),1,0)","v":0},null,{"$f":"IF(AND('Step 2 - Naturalized'!$AD$22=\"X\",BI132=\"X\"),1,0)","v":0},"X",null,null,null,null,null,null,"Yellow / 2.0'-6.0'"]
[null,1,"SI LA","Silphium laciniatum","Compass-Plant","24\" O.C.","Very tall yellow daisies Jul-Sept to 8 feet",null,"X","X","X",null,null,0,null,{"$f":"IF(AND('Step 2 - Naturalized'!$AA$21=\"X\",Q133=\"X\"),1,0)","v":0},null,{"$f":"IF(AND('Step 2 - Naturalized'!$AB$21=\"X\",S133=\"X\"),1,0)","v":0},"X",{"$f":"IF(AND('Step 2 - Naturalized'!$AC$21=\"X\",U133=\"X\"),1,0)","v":0},"X",{"$f":"IF(AND('Step 2 - Naturalized'!$AA$19=\"X\",W133=\"X\"),1,0)","v":0},null,{"$f":"IF(AND('Step 2 - Naturalized'!$AA$19=\"X\",Y133=\"X\"),1,0)","v":0},"X",{"$f":"IF(AND('Step 2 - Naturalized'!$AB$19=\"X\",AA133=\"X\"),1,0)","v":0},null,{"$f":"IF(AND('Step 2 - Naturalized'!$AC$19=\"X\",AC133=\"X\"),1,0)","v":0},null,{"$f":"IF(AND('Step 2 - Naturalized'!$AA$20=\"X\",AE133=\"X\"),1,0)","v":0},null,{"$f":"IF(AND('Step 2 - Naturalized'!$AA$20=\"X\",AG133=\"X\"),1,0)","v":0},"X",{"$f":"IF(AND('Step 2 - Naturalized'!$AB$20=\"X\",AI133=\"X\"),1,0)","v":0},null,{"$f":"IF(AND('Step 2 - Naturalized'!$AC$20=\"X\",AK133=\"X\"),1,0)","v":0},null,{"$f":"IF(AND('Step 2 - Naturalized'!$AA$18=\"X\",AM133=\"X\"),1,0)","v":0},null,{"$f":"IF(AND('Step 2 - Naturalized'!$AB$18=\"X\",AO133=\"X\"),1,0)","v":0},"X",{"$f":"IF(AND('Step 2 - Naturalized'!$AC$18=\"X\",AQ133=\"X\"),1,0)","v":0},null,{"$f":"IF(AND('Step 2 - Naturalized'!$AD$18=\"X\",AS133=\"X\"),1,0)","v":0},null,{"$f":"IF(AND('Step 2 - Naturalized'!$AE$18=\"X\",AU133=\"X\"),1,0)","v":0},null,{"$f":"IF(AND('Step 2 - Naturalized'!$AA$17=\"X\",AW133=\"X\"),1,0)","v":0},"X",{"$f":"IF(AND('Step 2 - Naturalized'!$AB$17=\"X\",AY133=\"X\"),1,0)","v":0},null,{"$f":"IF(AND('Step 2 - Naturalized'!$AC$17=\"X\",BA133=\"X\"),1,0)","v":0},null,{"$f":"IF(AND('Step 2 - Naturalized'!$AA$22=\"X\",BC133=\"X\"),1,0)","v":0},null,{"$f":"IF(AND('Step 2 - Naturalized'!$AB$22=\"X\",BE133=\"X\"),1,0)","v":0},null,{"$f":"IF(AND('Step 2 - Naturalized'!$AC$22=\"X\",BG133=\"X\"),1,0)","v":0},null,{"$f":"IF(AND('Step 2 - Naturalized'!$AD$22=\"X\",BI133=\"X\"),1,0)","v":0},"X",null,null,null,null,null,null,"Yellow / 5.0'-9.0'"]
[null,1,"SI PE","Silphium perfoliatum","Cup Plant, Cup Rosin Weed","36\" O.C.","Very large perennial (4'-10'), perfoliate leaves hold water, yellow flowers in July-Sept"," ","X","X",null,null,null,0,null,{"$f":"IF(AND('Step 2 - Naturalized'!$AA$21=\"X\",Q134=\"X\"),1,0)","v":0},null,{"$f":"IF(AND('Step 2 - Naturalized'!$AB$21=\"X\",S134=\"X\"),1,0)","v":0},"X",{"$f":"IF(AND('Step 2 - Naturalized'!$AC$21=\"X\",U134=\"X\"),1,0)","v":0},"X",{"$f":"IF(AND('Step 2 - Naturalized'!$AA$19=\"X\",W134=\"X\"),1,0)","v":0},null,{"$f":"IF(AND('Step 2 - Naturalized'!$AA$19=\"X\",Y134=\"X\"),1,0)","v":0},"X",{"$f":"IF(AND('Step 2 - Naturalized'!$AB$19=\"X\",AA134=\"X\"),1,0)","v":0},"X",{"$f":"IF(AND('Step 2 - Naturalized'!$AC$19=\"X\",AC134=\"X\"),1,0)","v":0},null,{"$f":"IF(AND('Step 2 - Naturalized'!$AA$20=\"X\",AE134=\"X\"),1,0)","v":0},null,{"$f":"IF(AND('Step 2 - Naturalized'!$AA$20=\"X\",AG134=\"X\"),1,0)","v":0},"X",{"$f":"IF(AND('Step 2 - Naturalized'!$AB$20=\"X\",AI134=\"X\"),1,0)","v":0},"X",{"$f":"IF(AND('Step 2 - Naturalized'!$AC$20=\"X\",AK134=\"X\"),1,0)","v":0},null,{"$f":"IF(AND('Step 2 - Naturalized'!$AA$18=\"X\",AM134=\"X\"),1,0)","v":0},null,{"$f":"IF(AND('Step 2 - Naturalized'!$AB$18=\"X\",AO134=\"X\"),1,0)","v":0},null,{"$f":"IF(AND('Step 2 - Naturalized'!$AC$18=\"X\",AQ134=\"X\"),1,0)","v":0},"X",{"$f":"IF(AND('Step 2 - Naturalized'!$AD$18=\"X\",AS134=\"X\"),1,0)","v":0},null,{"$f":"IF(AND('Step 2 - Naturalized'!$AE$18=\"X\",AU134=\"X\"),1,0)","v":0},null,{"$f":"IF(AND('Step 2 - Naturalized'!$AA$17=\"X\",AW134=\"X\"),1,0)","v":0},"X",{"$f":"IF(AND('Step 2 - Naturalized'!$AB$17=\"X\",AY134=\"X\"),1,0)","v":0},"X",{"$f":"IF(AND('Step 2 - Naturalized'!$AC$17=\"X\",BA134=\"X\"),1,0)","v":0},null,{"$f":"IF(AND('Step 2 - Naturalized'!$AA$22=\"X\",BC134=\"X\"),1,0)","v":0},null,{"$f":"IF(AND('Step 2 - Naturalized'!$AB$22=\"X\",BE134=\"X\"),1,0)","v":0},null,{"$f":"IF(AND('Step 2 - Naturalized'!$AC$22=\"X\",BG134=\"X\"),1,0)","v":0},null,{"$f":"IF(AND('Step 2 - Naturalized'!$AD$22=\"X\",BI134=\"X\"),1,0)","v":0},"X",null,null,null,null,null,null,"Yellow / 4.0'-10'"]
[null,1,"SI TE","Silphium terebinthaceum","Prairie Dock","24\" O.C.","Dramatic tall yellow flower to 10' and large oval leaves",null,"X","X",null,null,null,0,null,{"$f":"IF(AND('Step 2 - Naturalized'!$AA$21=\"X\",Q135=\"X\"),1,0)","v":0},null,{"$f":"IF(AND('Step 2 - Naturalized'!$AB$21=\"X\",S135=\"X\"),1,0)","v":0},"X",{"$f":"IF(AND('Step 2 - Naturalized'!$AC$21=\"X\",U135=\"X\"),1,0)","v":0},null,{"$f":"IF(AND('Step 2 - Naturalized'!$AA$19=\"X\",W135=\"X\"),1,0)","v":0},"X",{"$f":"IF(AND('Step 2 - Naturalized'!$AA$19=\"X\",Y135=\"X\"),1,0)","v":0},null,{"$f":"IF(AND('Step 2 - Naturalized'!$AB$19=\"X\",AA135=\"X\"),1,0)","v":0},null,{"$f":"IF(AND('Step 2 - Naturalized'!$AC$19=\"X\",AC135=\"X\"),1,0)","v":0},null,{"$f":"IF(AND('Step 2 - Naturalized'!$AA$20=\"X\",AE135=\"X\"),1,0)","v":0},"X",{"$f":"IF(AND('Step 2 - Naturalized'!$AA$20=\"X\",AG135=\"X\"),1,0)","v":0},null,{"$f":"IF(AND('Step 2 - Naturalized'!$AB$20=\"X\",AI135=\"X\"),1,0)","v":0},null,{"$f":"IF(AND('Step 2 - Naturalized'!$AC$20=\"X\",AK135=\"X\"),1,0)","v":0},null,{"$f":"IF(AND('Step 2 - Naturalized'!$AA$18=\"X\",AM135=\"X\"),1,0)","v":0},null,{"$f":"IF(AND('Step 2 - Naturalized'!$AB$18=\"X\",AO135=\"X\"),1,0)","v":0},"X",{"$f":"IF(AND('Step 2 - Naturalized'!$AC$18=\"X\",AQ135=\"X\"),1,0)","v":0},null,{"$f":"IF(AND('Step 2 - Naturalized'!$AD$18=\"X\",AS135=\"X\"),1,0)","v":0},null,{"$f":"IF(AND('Step 2 - Naturalized'!$AE$18=\"X\",AU135=\"X\"),1,0)","v":0},null,{"$f":"IF(AND('Step 2 - Naturalized'!$AA$17=\"X\",AW135=\"X\"),1,0)","v":0},"X",{"$f":"IF(AND('Step 2 - Naturalized'!$AB$17=\"X\",AY135=\"X\"),1,0)","v":0},null,{"$f":"IF(AND('Step 2 - Naturalized'!$AC$17=\"X\",BA135=\"X\"),1,0)","v":0},null,{"$f":"IF(AND('Step 2 - Naturalized'!$AA$22=\"X\",BC135=\"X\"),1,0)","v":0},null,{"$f":"IF(AND('Step 2 - Naturalized'!$AB$22=\"X\",BE135=\"X\"),1,0)","v":0},null,{"$f":"IF(AND('Step 2 - Naturalized'!$AC$22=\"X\",BG135=\"X\"),1,0)","v":0},null,{"$f":"IF(AND('Step 2 - Naturalized'!$AD$22=\"X\",BI135=\"X\"),1,0)","v":0},"X",null,null,null,null,null,null,"Yellow / 3.0'-10.0'"]
[null,1,"SI CA","Sisyrinchium campestre","Prairie Blue-eyed Grass","12\" O.C.","A small native (0.5'-1.0' tall) with light blue to white flowers in May-June for full sun and mesic soils"," ","X","X",null,null,null,1,"X",{"$f":"IF(AND('Step 2 - Naturalized'!$AA$21=\"X\",Q136=\"X\"),1,0)","v":0},null,{"$f":"IF(AND('Step 2 - Naturalized'!$AB$21=\"X\",S136=\"X\"),1,0)","v":0},null,{"$f":"IF(AND('Step 2 - Naturalized'!$AC$21=\"X\",U136=\"X\"),1,0)","v":0},null,{"$f":"IF(AND('Step 2 - Naturalized'!$AA$19=\"X\",W136=\"X\"),1,0)","v":0},"X",{"$f":"IF(AND('Step 2 - Naturalized'!$AA$19=\"X\",Y136=\"X\"),1,0)","v":0},null,{"$f":"IF(AND('Step 2 - Naturalized'!$AB$19=\"X\",AA136=\"X\"),1,0)","v":0},null,{"$f":"IF(AND('Step 2 - Naturalized'!$AC$19=\"X\",AC136=\"X\"),1,0)","v":0},null,{"$f":"IF(AND('Step 2 - Naturalized'!$AA$20=\"X\",AE136=\"X\"),1,0)","v":0},"X",{"$f":"IF(AND('Step 2 - Naturalized'!$AA$20=\"X\",AG136=\"X\"),1,0)","v":0},null,{"$f":"IF(AND('Step 2 - Naturalized'!$AB$20=\"X\",AI136=\"X\"),1,0)","v":0},null,{"$f":"IF(AND('Step 2 - Naturalized'!$AC$20=\"X\",AK136=\"X\"),1,0)","v":0},null,{"$f":"IF(AND('Step 2 - Naturalized'!$AA$18=\"X\",AM136=\"X\"),1,0)","v":0},"X",{"$f":"IF(AND('Step 2 - Naturalized'!$AB$18=\"X\",AO136=\"X\"),1,0)","v":0},"X",{"$f":"IF(AND('Step 2 - Naturalized'!$AC$18=\"X\",AQ136=\"X\"),1,0)","v":0},null,{"$f":"IF(AND('Step 2 - Naturalized'!$AD$18=\"X\",AS136=\"X\"),1,0)","v":0},null,{"$f":"IF(AND('Step 2 - Naturalized'!$AE$18=\"X\",AU136=\"X\"),1,0)","v":0},null,{"$f":"IF(AND('Step 2 - Naturalized'!$AA$17=\"X\",AW136=\"X\"),1,0)","v":0},"X",{"$f":"IF(AND('Step 2 - Naturalized'!$AB$17=\"X\",AY136=\"X\"),1,0)","v":0},null,{"$f":"IF(AND('Step 2 - Naturalized'!$AC$17=\"X\",BA136=\"X\"),1,0)","v":0},null,{"$f":"IF(AND('Step 2 - Naturalized'!$AA$22=\"X\",BC136=\"X\"),1,0)","v":0},null,{"$f":"IF(AND('Step 2 - Naturalized'!$AB$22=\"X\",BE136=\"X\"),1,0)","v":0},"X",{"$f":"IF(AND('Step 2 - Naturalized'!$AC$22=\"X\",BG136=\"X\"),1,0)","v":0},"X",{"$f":"IF(AND('Step 2 - Naturalized'!$AD$22=\"X\",BI136=\"X\"),1,0)","v":0},"X",null,null,null,null,"Lt. Blue / 0.5'-1.0'"]
[null,1,"SO SP","Solidago speciosa","Showy Goldenrod","24\" O.C.","Vibrant yellow flowers in July-Sept at 30\""," ","X","X","X",null,null,0,null,{"$f":"IF(AND('Step 2 - Naturalized'!$AA$21=\"X\",Q137=\"X\"),1,0)","v":0},"X",{"$f":"IF(AND('Step 2 - Naturalized'!$AB$21=\"X\",S137=\"X\"),1,0)","v":0},"X",{"$f":"IF(AND('Step 2 - Naturalized'!$AC$21=\"X\",U137=\"X\"),1,0)","v":0},null,{"$f":"IF(AND('Step 2 - Naturalized'!$AA$19=\"X\",W137=\"X\"),1,0)","v":0},null,{"$f":"IF(AND('Step 2 - Naturalized'!$AA$19=\"X\",Y137=\"X\"),1,0)","v":0},"X",{"$f":"IF(AND('Step 2 - Naturalized'!$AB$19=\"X\",AA137=\"X\"),1,0)","v":0},null,{"$f":"IF(AND('Step 2 - Naturalized'!$AC$19=\"X\",AC137=\"X\"),1,0)","v":0},null,{"$f":"IF(AND('Step 2 - Naturalized'!$AA$20=\"X\",AE137=\"X\"),1,0)","v":0},null,{"$f":"IF(AND('Step 2 - Naturalized'!$AA$20=\"X\",AG137=\"X\"),1,0)","v":0},"X",{"$f":"IF(AND('Step 2 - Naturalized'!$AB$20=\"X\",AI137=\"X\"),1,0)","v":0},null,{"$f":"IF(AND('Step 2 - Naturalized'!$AC$20=\"X\",AK137=\"X\"),1,0)","v":0},null,{"$f":"IF(AND('Step 2 - Naturalized'!$AA$18=\"X\",AM137=\"X\"),1,0)","v":0},"X",{"$f":"IF(AND('Step 2 - Naturalized'!$AB$18=\"X\",AO137=\"X\"),1,0)","v":0},"X",{"$f":"IF(AND('Step 2 - Naturalized'!$AC$18=\"X\",AQ137=\"X\"),1,0)","v":0},null,{"$f":"IF(AND('Step 2 - Naturalized'!$AD$18=\"X\",AS137=\"X\"),1,0)","v":0},null,{"$f":"IF(AND('Step 2 - Naturalized'!$AE$18=\"X\",AU137=\"X\"),1,0)","v":0},null,{"$f":"IF(AND('Step 2 - Naturalized'!$AA$17=\"X\",AW137=\"X\"),1,0)","v":0},"X",{"$f":"IF(AND('Step 2 - Naturalized'!$AB$17=\"X\",AY137=\"X\"),1,0)","v":0},null,{"$f":"IF(AND('Step 2 - Naturalized'!$AC$17=\"X\",BA137=\"X\"),1,0)","v":0},null,{"$f":"IF(AND('Step 2 - Naturalized'!$AA$22=\"X\",BC137=\"X\"),1,0)","v":0},null,{"$f":"IF(AND('Step 2 - Naturalized'!$AB$22=\"X\",BE137=\"X\"),1,0)","v":0},"X",{"$f":"IF(AND('Step 2 - Naturalized'!$AC$22=\"X\",BG137=\"X\"),1,0)","v":0},"X",{"$f":"IF(AND('Step 2 - Naturalized'!$AD$22=\"X\",BI137=\"X\"),1,0)","v":0},"X",null,null,null,null,null,null,"Yellow / 2.0'-3.0'"]
[null,1,"SO NE","Solidago nemoralis","Field Goldenrod, Prairie Goldenrod, Grey Goldenrod","18\" O.C.","Smaller goldenrod (1.0'-3.0') for dry sites in full sun, yellow flowers in Aug-Oct"," ","X","X","X",null,null,0,null,{"$f":"IF(AND('Step 2 - Naturalized'!$AA$21=\"X\",Q138=\"X\"),1,0)","v":0},"X",{"$f":"IF(AND('Step 2 - Naturalized'!$AB$21=\"X\",S138=\"X\"),1,0)","v":0},"X",{"$f":"IF(AND('Step 2 - Naturalized'!$AC$21=\"X\",U138=\"X\"),1,0)","v":0},null,{"$f":"IF(AND('Step 2 - Naturalized'!$AA$19=\"X\",W138=\"X\"),1,0)","v":0},"X",{"$f":"IF(AND('Step 2 - Naturalized'!$AA$19=\"X\",Y138=\"X\"),1,0)","v":0},null,{"$f":"IF(AND('Step 2 - Naturalized'!$AB$19=\"X\",AA138=\"X\"),1,0)","v":0},null,{"$f":"IF(AND('Step 2 - Naturalized'!$AC$19=\"X\",AC138=\"X\"),1,0)","v":0},null,{"$f":"IF(AND('Step 2 - Naturalized'!$AA$20=\"X\",AE138=\"X\"),1,0)","v":0},"X",{"$f":"IF(AND('Step 2 - Naturalized'!$AA$20=\"X\",AG138=\"X\"),1,0)","v":0},null,{"$f":"IF(AND('Step 2 - Naturalized'!$AB$20=\"X\",AI138=\"X\"),1,0)","v":0},null,{"$f":"IF(AND('Step 2 - Naturalized'!$AC$20=\"X\",AK138=\"X\"),1,0)","v":0},null,{"$f":"IF(AND('Step 2 - Naturalized'!$AA$18=\"X\",AM138=\"X\"),1,0)","v":0},"X",{"$f":"IF(AND('Step 2 - Naturalized'!$AB$18=\"X\",AO138=\"X\"),1,0)","v":0},null,{"$f":"IF(AND('Step 2 - Naturalized'!$AC$18=\"X\",AQ138=\"X\"),1,0)","v":0},null,{"$f":"IF(AND('Step 2 - Naturalized'!$AD$18=\"X\",AS138=\"X\"),1,0)","v":0},null,{"$f":"IF(AND('Step 2 - Naturalized'!$AE$18=\"X\",AU138=\"X\"),1,0)","v":0},null,{"$f":"IF(AND('Step 2 - Naturalized'!$AA$17=\"X\",AW138=\"X\"),1,0)","v":0},"X",{"$f":"IF(AND('Step 2 - Naturalized'!$AB$17=\"X\",AY138=\"X\"),1,0)","v":0},null,{"$f":"IF(AND('Step 2 - Naturalized'!$AC$17=\"X\",BA138=\"X\"),1,0)","v":0},null,{"$f":"IF(AND('Step 2 - Naturalized'!$AA$22=\"X\",BC138=\"X\"),1,0)","v":0},"X",{"$f":"IF(AND('Step 2 - Naturalized'!$AB$22=\"X\",BE138=\"X\"),1,0)","v":0},"X",{"$f":"IF(AND('Step 2 - Naturalized'!$AC$22=\"X\",BG138=\"X\"),1,0)","v":0},"X",{"$f":"IF(AND('Step 2 - Naturalized'!$AD$22=\"X\",BI138=\"X\"),1,0)","v":0},"X",null,null,null,null,null,null,null,"Yellow / 1.0'-3.0'"]
[null,1,"SY CO","Symphyotrichum cordifolium (Aster cordifolius)","Blue Wood Aster, Heart-leaved Aster","24\" O.C.","Perennial aster for light shade with 3'-4' tall light blue flowers in Aug-Sept"," ","X","X",null,null,null,1,"X",{"$f":"IF(AND('Step 2 - Naturalized'!$AA$21=\"X\",Q139=\"X\"),1,0)","v":0},null,{"$f":"IF(AND('Step 2 - Naturalized'!$AB$21=\"X\",S139=\"X\"),1,0)","v":0},null,{"$f":"IF(AND('Step 2 - Naturalized'!$AC$21=\"X\",U139=\"X\"),1,0)","v":0},null,{"$f":"IF(AND('Step 2 - Naturalized'!$AA$19=\"X\",W139=\"X\"),1,0)","v":0},"X",{"$f":"IF(AND('Step 2 - Naturalized'!$AA$19=\"X\",Y139=\"X\"),1,0)","v":0},null,{"$f":"IF(AND('Step 2 - Naturalized'!$AB$19=\"X\",AA139=\"X\"),1,0)","v":0},null,{"$f":"IF(AND('Step 2 - Naturalized'!$AC$19=\"X\",AC139=\"X\"),1,0)","v":0},null,{"$f":"IF(AND('Step 2 - Naturalized'!$AA$20=\"X\",AE139=\"X\"),1,0)","v":0},"X",{"$f":"IF(AND('Step 2 - Naturalized'!$AA$20=\"X\",AG139=\"X\"),1,0)","v":0},null,{"$f":"IF(AND('Step 2 - Naturalized'!$AB$20=\"X\",AI139=\"X\"),1,0)","v":0},null,{"$f":"IF(AND('Step 2 - Naturalized'!$AC$20=\"X\",AK139=\"X\"),1,0)","v":0},null,{"$f":"IF(AND('Step 2 - Naturalized'!$AA$18=\"X\",AM139=\"X\"),1,0)","v":0},null,{"$f":"IF(AND('Step 2 - Naturalized'!$AB$18=\"X\",AO139=\"X\"),1,0)","v":0},"X",{"$f":"IF(AND('Step 2 - Naturalized'!$AC$18=\"X\",AQ139=\"X\"),1,0)","v":0},"X",{"$f":"IF(AND('Step 2 - Naturalized'!$AD$18=\"X\",AS139=\"X\"),1,0)","v":0},null,{"$f":"IF(AND('Step 2 - Naturalized'!$AE$18=\"X\",AU139=\"X\"),1,0)","v":0},null,{"$f":"IF(AND('Step 2 - Naturalized'!$AA$17=\"X\",AW139=\"X\"),1,0)","v":0},null,{"$f":"IF(AND('Step 2 - Naturalized'!$AB$17=\"X\",AY139=\"X\"),1,0)","v":0},"X",{"$f":"IF(AND('Step 2 - Naturalized'!$AC$17=\"X\",BA139=\"X\"),1,0)","v":0},null,{"$f":"IF(AND('Step 2 - Naturalized'!$AA$22=\"X\",BC139=\"X\"),1,0)","v":0},null,{"$f":"IF(AND('Step 2 - Naturalized'!$AB$22=\"X\",BE139=\"X\"),1,0)","v":0},null,{"$f":"IF(AND('Step 2 - Naturalized'!$AC$22=\"X\",BG139=\"X\"),1,0)","v":0},"X",{"$f":"IF(AND('Step 2 - Naturalized'!$AD$22=\"X\",BI139=\"X\"),1,0)","v":0},"X",null,null,null,null,null,null,null,"Pale Blue / 3.0'-4.0'"]
[null,1,"SY ER","Symphyotrichum ericoides (Aster ericoides)","Heath Aster","12\" O.C.","Well-rooted, prostrate spreader",null,"X","X",null,null,null,0,null,{"$f":"IF(AND('Step 2 - Naturalized'!$AA$21=\"X\",Q140=\"X\"),1,0)","v":0},"X",{"$f":"IF(AND('Step 2 - Naturalized'!$AB$21=\"X\",S140=\"X\"),1,0)","v":0},"X",{"$f":"IF(AND('Step 2 - Naturalized'!$AC$21=\"X\",U140=\"X\"),1,0)","v":0},null,{"$f":"IF(AND('Step 2 - Naturalized'!$AA$19=\"X\",W140=\"X\"),1,0)","v":0},null,{"$f":"IF(AND('Step 2 - Naturalized'!$AA$19=\"X\",Y140=\"X\"),1,0)","v":0},"X",{"$f":"IF(AND('Step 2 - Naturalized'!$AB$19=\"X\",AA140=\"X\"),1,0)","v":0},null,{"$f":"IF(AND('Step 2 - Naturalized'!$AC$19=\"X\",AC140=\"X\"),1,0)","v":0},null,{"$f":"IF(AND('Step 2 - Naturalized'!$AA$20=\"X\",AE140=\"X\"),1,0)","v":0},null,{"$f":"IF(AND('Step 2 - Naturalized'!$AA$20=\"X\",AG140=\"X\"),1,0)","v":0},"X",{"$f":"IF(AND('Step 2 - Naturalized'!$AB$20=\"X\",AI140=\"X\"),1,0)","v":0},null,{"$f":"IF(AND('Step 2 - Naturalized'!$AC$20=\"X\",AK140=\"X\"),1,0)","v":0},null,{"$f":"IF(AND('Step 2 - Naturalized'!$AA$18=\"X\",AM140=\"X\"),1,0)","v":0},"X",{"$f":"IF(AND('Step 2 - Naturalized'!$AB$18=\"X\",AO140=\"X\"),1,0)","v":0},"X",{"$f":"IF(AND('Step 2 - Naturalized'!$AC$18=\"X\",AQ140=\"X\"),1,0)","v":0},null,{"$f":"IF(AND('Step 2 - Naturalized'!$AD$18=\"X\",AS140=\"X\"),1,0)","v":0},null,{"$f":"IF(AND('Step 2 - Naturalized'!$AE$18=\"X\",AU140=\"X\"),1,0)","v":0},null,{"$f":"IF(AND('Step 2 - Naturalized'!$AA$17=\"X\",AW140=\"X\"),1,0)","v":0},"X",{"$f":"IF(AND('Step 2 - Naturalized'!$AB$17=\"X\",AY140=\"X\"),1,0)","v":0},"X",{"$f":"IF(AND('Step 2 - Naturalized'!$AC$17=\"X\",BA140=\"X\"),1,0)","v":0},null,{"$f":"IF(AND('Step 2 - Naturalized'!$AA$22=\"X\",BC140=\"X\"),1,0)","v":0},null,{"$f":"IF(AND('Step 2 - Naturalized'!$AB$22=\"X\",BE140=\"X\"),1,0)","v":0},null,{"$f":"IF(AND('Step 2 - Naturalized'!$AC$22=\"X\",BG140=\"X\"),1,0)","v":0},"X",{"$f":"IF(AND('Step 2 - Naturalized'!$AD$22=\"X\",BI140=\"X\"),1,0)","v":0},"X",null,null,null,null,null,null,null,null,"White / 0.25'-0.5'"]
[null,1,"SY LA","Symphyotrichum laeve (Aster laevis var. laevis)","Smooth Aster","18\" O.C.","white to purple flowers in autumn at 36\"",null,"X","X",null,null,null,0,null,{"$f":"IF(AND('Step 2 - Naturalized'!$AA$21=\"X\",Q141=\"X\"),1,0)","v":0},"X",{"$f":"IF(AND('Step 2 - Naturalized'!$AB$21=\"X\",S141=\"X\"),1,0)","v":0},"X",{"$f":"IF(AND('Step 2 - Naturalized'!$AC$21=\"X\",U141=\"X\"),1,0)","v":0},null,{"$f":"IF(AND('Step 2 - Naturalized'!$AA$19=\"X\",W141=\"X\"),1,0)","v":0},null,{"$f":"IF(AND('Step 2 - Naturalized'!$AA$19=\"X\",Y141=\"X\"),1,0)","v":0},"X",{"$f":"IF(AND('Step 2 - Naturalized'!$AB$19=\"X\",AA141=\"X\"),1,0)","v":0},null,{"$f":"IF(AND('Step 2 - Naturalized'!$AC$19=\"X\",AC141=\"X\"),1,0)","v":0},null,{"$f":"IF(AND('Step 2 - Naturalized'!$AA$20=\"X\",AE141=\"X\"),1,0)","v":0},null,{"$f":"IF(AND('Step 2 - Naturalized'!$AA$20=\"X\",AG141=\"X\"),1,0)","v":0},"X",{"$f":"IF(AND('Step 2 - Naturalized'!$AB$20=\"X\",AI141=\"X\"),1,0)","v":0},null,{"$f":"IF(AND('Step 2 - Naturalized'!$AC$20=\"X\",AK141=\"X\"),1,0)","v":0},null,{"$f":"IF(AND('Step 2 - Naturalized'!$AA$18=\"X\",AM141=\"X\"),1,0)","v":0},"X",{"$f":"IF(AND('Step 2 - Naturalized'!$AB$18=\"X\",AO141=\"X\"),1,0)","v":0},"X",{"$f":"IF(AND('Step 2 - Naturalized'!$AC$18=\"X\",AQ141=\"X\"),1,0)","v":0},null,{"$f":"IF(AND('Step 2 - Naturalized'!$AD$18=\"X\",AS141=\"X\"),1,0)","v":0},null,{"$f":"IF(AND('Step 2 - Naturalized'!$AE$18=\"X\",AU141=\"X\"),1,0)","v":0},null,{"$f":"IF(AND('Step 2 - Naturalized'!$AA$17=\"X\",AW141=\"X\"),1,0)","v":0},"X",{"$f":"IF(AND('Step 2 - Naturalized'!$AB$17=\"X\",AY141=\"X\"),1,0)","v":0},null,{"$f":"IF(AND('Step 2 - Naturalized'!$AC$17=\"X\",BA141=\"X\"),1,0)","v":0},null,{"$f":"IF(AND('Step 2 - Naturalized'!$AA$22=\"X\",BC141=\"X\"),1,0)","v":0},null,{"$f":"IF(AND('Step 2 - Naturalized'!$AB$22=\"X\",BE141=\"X\"),1,0)","v":0},null,{"$f":"IF(AND('Step 2 - Naturalized'!$AC$22=\"X\",BG141=\"X\"),1,0)","v":0},"X",{"$f":"IF(AND('Step 2 - Naturalized'!$AD$22=\"X\",BI141=\"X\"),1,0)","v":0},"X",null,null,null,null,null,null,null,null,"Violet - Purple / 2.0'-4.0'"]
[null,1,"SY LT","Symphyotrichum lateriflorum (Aster lateriflorus)","White Woodland Aster, Calico Aster","18\" O.C.","1'-3' Tall aster with white flowers in August-Oct for moist semi-shade sites"," ","X","X",null,null,null,1,"X",{"$f":"IF(AND('Step 2 - Naturalized'!$AA$21=\"X\",Q142=\"X\"),1,0)","v":0},null,{"$f":"IF(AND('Step 2 - Naturalized'!$AB$21=\"X\",S142=\"X\"),1,0)","v":0},null,{"$f":"IF(AND('Step 2 - Naturalized'!$AC$21=\"X\",U142=\"X\"),1,0)","v":0},null,{"$f":"IF(AND('Step 2 - Naturalized'!$AA$19=\"X\",W142=\"X\"),1,0)","v":0},"X",{"$f":"IF(AND('Step 2 - Naturalized'!$AA$19=\"X\",Y142=\"X\"),1,0)","v":0},null,{"$f":"IF(AND('Step 2 - Naturalized'!$AB$19=\"X\",AA142=\"X\"),1,0)","v":0},null,{"$f":"IF(AND('Step 2 - Naturalized'!$AC$19=\"X\",AC142=\"X\"),1,0)","v":0},null,{"$f":"IF(AND('Step 2 - Naturalized'!$AA$20=\"X\",AE142=\"X\"),1,0)","v":0},"X",{"$f":"IF(AND('Step 2 - Naturalized'!$AA$20=\"X\",AG142=\"X\"),1,0)","v":0},null,{"$f":"IF(AND('Step 2 - Naturalized'!$AB$20=\"X\",AI142=\"X\"),1,0)","v":0},null,{"$f":"IF(AND('Step 2 - Naturalized'!$AC$20=\"X\",AK142=\"X\"),1,0)","v":0},null,{"$f":"IF(AND('Step 2 - Naturalized'!$AA$18=\"X\",AM142=\"X\"),1,0)","v":0},null,{"$f":"IF(AND('Step 2 - Naturalized'!$AB$18=\"X\",AO142=\"X\"),1,0)","v":0},"X",{"$f":"IF(AND('Step 2 - Naturalized'!$AC$18=\"X\",AQ142=\"X\"),1,0)","v":0},"X",{"$f":"IF(AND('Step 2 - Naturalized'!$AD$18=\"X\",AS142=\"X\"),1,0)","v":0},null,{"$f":"IF(AND('Step 2 - Naturalized'!$AE$18=\"X\",AU142=\"X\"),1,0)","v":0},null,{"$f":"IF(AND('Step 2 - Naturalized'!$AA$17=\"X\",AW142=\"X\"),1,0)","v":0},null,{"$f":"IF(AND('Step 2 - Naturalized'!$AB$17=\"X\",AY142=\"X\"),1,0)","v":0},"X",{"$f":"IF(AND('Step 2 - Naturalized'!$AC$17=\"X\",BA142=\"X\"),1,0)","v":0},null,{"$f":"IF(AND('Step 2 - Naturalized'!$AA$22=\"X\",BC142=\"X\"),1,0)","v":0},null,{"$f":"IF(AND('Step 2 - Naturalized'!$AB$22=\"X\",BE142=\"X\"),1,0)","v":0},null,{"$f":"IF(AND('Step 2 - Naturalized'!$AC$22=\"X\",BG142=\"X\"),1,0)","v":0},"X",{"$f":"IF(AND('Step 2 - Naturalized'!$AD$22=\"X\",BI142=\"X\"),1,0)","v":0},"X",null,null,null,null,null,null,null,"White / 1.0'-3.0'"]
[null,1,"SY NO","Symphyotrichum novae-angliae (Aster novea-angliae)","New England Aster","30\" O.C.","Intense deep pink-purple flowering to 6' tall in Aug/Sept, tolerates clay soil, can self seed, "," ","X","X",null,null,null,0,null,{"$f":"IF(AND('Step 2 - Naturalized'!$AA$21=\"X\",Q143=\"X\"),1,0)","v":0},"X",{"$f":"IF(AND('Step 2 - Naturalized'!$AB$21=\"X\",S143=\"X\"),1,0)","v":0},null,{"$f":"IF(AND('Step 2 - Naturalized'!$AC$21=\"X\",U143=\"X\"),1,0)","v":0},null,{"$f":"IF(AND('Step 2 - Naturalized'!$AA$19=\"X\",W143=\"X\"),1,0)","v":0},null,{"$f":"IF(AND('Step 2 - Naturalized'!$AA$19=\"X\",Y143=\"X\"),1,0)","v":0},"X",{"$f":"IF(AND('Step 2 - Naturalized'!$AB$19=\"X\",AA143=\"X\"),1,0)","v":0},null,{"$f":"IF(AND('Step 2 - Naturalized'!$AC$19=\"X\",AC143=\"X\"),1,0)","v":0},null,{"$f":"IF(AND('Step 2 - Naturalized'!$AA$20=\"X\",AE143=\"X\"),1,0)","v":0},null,{"$f":"IF(AND('Step 2 - Naturalized'!$AA$20=\"X\",AG143=\"X\"),1,0)","v":0},"X",{"$f":"IF(AND('Step 2 - Naturalized'!$AB$20=\"X\",AI143=\"X\"),1,0)","v":0},"X",{"$f":"IF(AND('Step 2 - Naturalized'!$AC$20=\"X\",AK143=\"X\"),1,0)","v":0},null,{"$f":"IF(AND('Step 2 - Naturalized'!$AA$18=\"X\",AM143=\"X\"),1,0)","v":0},null,{"$f":"IF(AND('Step 2 - Naturalized'!$AB$18=\"X\",AO143=\"X\"),1,0)","v":0},"X",{"$f":"IF(AND('Step 2 - Naturalized'!$AC$18=\"X\",AQ143=\"X\"),1,0)","v":0},null,{"$f":"IF(AND('Step 2 - Naturalized'!$AD$18=\"X\",AS143=\"X\"),1,0)","v":0},null,{"$f":"IF(AND('Step 2 - Naturalized'!$AE$18=\"X\",AU143=\"X\"),1,0)","v":0},null,{"$f":"IF(AND('Step 2 - Naturalized'!$AA$17=\"X\",AW143=\"X\"),1,0)","v":0},"X",{"$f":"IF(AND('Step 2 - Naturalized'!$AB$17=\"X\",AY143=\"X\"),1,0)","v":0},null,{"$f":"IF(AND('Step 2 - Naturalized'!$AC$17=\"X\",BA143=\"X\"),1,0)","v":0},null,{"$f":"IF(AND('Step 2 - Naturalized'!$AA$22=\"X\",BC143=\"X\"),1,0)","v":0},null,{"$f":"IF(AND('Step 2 - Naturalized'!$AB$22=\"X\",BE143=\"X\"),1,0)","v":0},null,{"$f":"IF(AND('Step 2 - Naturalized'!$AC$22=\"X\",BG143=\"X\"),1,0)","v":0},"X",{"$f":"IF(AND('Step 2 - Naturalized'!$AD$22=\"X\",BI143=\"X\"),1,0)","v":0},"X",null,null,null,null,null,null,null,"Deep pink-purple / 3.0'-6.0'"]
[null,1,"SY OO","Symphyotrichum oolentangiensis (Aster azureus)","Skyblue Aster","24\" O.C.","lavender blue flowers, spreads,",null,"X","X",null,null,null,1,"X",{"$f":"IF(AND('Step 2 - Naturalized'!$AA$21=\"X\",Q144=\"X\"),1,0)","v":0},null,{"$f":"IF(AND('Step 2 - Naturalized'!$AB$21=\"X\",S144=\"X\"),1,0)","v":0},null,{"$f":"IF(AND('Step 2 - Naturalized'!$AC$21=\"X\",U144=\"X\"),1,0)","v":0},null,{"$f":"IF(AND('Step 2 - Naturalized'!$AA$19=\"X\",W144=\"X\"),1,0)","v":0},null,{"$f":"IF(AND('Step 2 - Naturalized'!$AA$19=\"X\",Y144=\"X\"),1,0)","v":0},"X",{"$f":"IF(AND('Step 2 - Naturalized'!$AB$19=\"X\",AA144=\"X\"),1,0)","v":0},null,{"$f":"IF(AND('Step 2 - Naturalized'!$AC$19=\"X\",AC144=\"X\"),1,0)","v":0},null,{"$f":"IF(AND('Step 2 - Naturalized'!$AA$20=\"X\",AE144=\"X\"),1,0)","v":0},"X",{"$f":"IF(AND('Step 2 - Naturalized'!$AA$20=\"X\",AG144=\"X\"),1,0)","v":0},null,{"$f":"IF(AND('Step 2 - Naturalized'!$AB$20=\"X\",AI144=\"X\"),1,0)","v":0},null,{"$f":"IF(AND('Step 2 - Naturalized'!$AC$20=\"X\",AK144=\"X\"),1,0)","v":0},null,{"$f":"IF(AND('Step 2 - Naturalized'!$AA$18=\"X\",AM144=\"X\"),1,0)","v":0},"X",{"$f":"IF(AND('Step 2 - Naturalized'!$AB$18=\"X\",AO144=\"X\"),1,0)","v":0},"X",{"$f":"IF(AND('Step 2 - Naturalized'!$AC$18=\"X\",AQ144=\"X\"),1,0)","v":0},null,{"$f":"IF(AND('Step 2 - Naturalized'!$AD$18=\"X\",AS144=\"X\"),1,0)","v":0},null,{"$f":"IF(AND('Step 2 - Naturalized'!$AE$18=\"X\",AU144=\"X\"),1,0)","v":0},null,{"$f":"IF(AND('Step 2 - Naturalized'!$AA$17=\"X\",AW144=\"X\"),1,0)","v":0},"X",{"$f":"IF(AND('Step 2 - Naturalized'!$AB$17=\"X\",AY144=\"X\"),1,0)","v":0},null,{"$f":"IF(AND('Step 2 - Naturalized'!$AC$17=\"X\",BA144=\"X\"),1,0)","v":0},null,{"$f":"IF(AND('Step 2 - Naturalized'!$AA$22=\"X\",BC144=\"X\"),1,0)","v":0},null,{"$f":"IF(AND('Step 2 - Naturalized'!$AB$22=\"X\",BE144=\"X\"),1,0)","v":0},"X",{"$f":"IF(AND('Step 2 - Naturalized'!$AC$22=\"X\",BG144=\"X\"),1,0)","v":0},"X",{"$f":"IF(AND('Step 2 - Naturalized'!$AD$22=\"X\",BI144=\"X\"),1,0)","v":0},"X",null,null,null,null,null,null,null,null,"Blue / 2.0'-3.0'"]
[null,1,"SY PI","Symphyotrichum pilosum (Aster pilosus)","Frost Aster, Awl Aster","24\" O.C.","2'-4' Tall aster with white flowers in August-Oct for mesic full sun"," ","X","X",null,null,null,1,"X",{"$f":"IF(AND('Step 2 - Naturalized'!$AA$21=\"X\",Q145=\"X\"),1,0)","v":0},null,{"$f":"IF(AND('Step 2 - Naturalized'!$AB$21=\"X\",S145=\"X\"),1,0)","v":0},null,{"$f":"IF(AND('Step 2 - Naturalized'!$AC$21=\"X\",U145=\"X\"),1,0)","v":0},null,{"$f":"IF(AND('Step 2 - Naturalized'!$AA$19=\"X\",W145=\"X\"),1,0)","v":0},"X",{"$f":"IF(AND('Step 2 - Naturalized'!$AA$19=\"X\",Y145=\"X\"),1,0)","v":0},null,{"$f":"IF(AND('Step 2 - Naturalized'!$AB$19=\"X\",AA145=\"X\"),1,0)","v":0},null,{"$f":"IF(AND('Step 2 - Naturalized'!$AC$19=\"X\",AC145=\"X\"),1,0)","v":0},null,{"$f":"IF(AND('Step 2 - Naturalized'!$AA$20=\"X\",AE145=\"X\"),1,0)","v":0},null,{"$f":"IF(AND('Step 2 - Naturalized'!$AA$20=\"X\",AG145=\"X\"),1,0)","v":0},"X",{"$f":"IF(AND('Step 2 - Naturalized'!$AB$20=\"X\",AI145=\"X\"),1,0)","v":0},null,{"$f":"IF(AND('Step 2 - Naturalized'!$AC$20=\"X\",AK145=\"X\"),1,0)","v":0},null,{"$f":"IF(AND('Step 2 - Naturalized'!$AA$18=\"X\",AM145=\"X\"),1,0)","v":0},"X",{"$f":"IF(AND('Step 2 - Naturalized'!$AB$18=\"X\",AO145=\"X\"),1,0)","v":0},"X",{"$f":"IF(AND('Step 2 - Naturalized'!$AC$18=\"X\",AQ145=\"X\"),1,0)","v":0},null,{"$f":"IF(AND('Step 2 - Naturalized'!$AD$18=\"X\",AS145=\"X\"),1,0)","v":0},null,{"$f":"IF(AND('Step 2 - Naturalized'!$AE$18=\"X\",AU145=\"X\"),1,0)","v":0},null,{"$f":"IF(AND('Step 2 - Naturalized'!$AA$17=\"X\",AW145=\"X\"),1,0)","v":0},"X",{"$f":"IF(AND('Step 2 - Naturalized'!$AB$17=\"X\",AY145=\"X\"),1,0)","v":0},"X",{"$f":"IF(AND('Step 2 - Naturalized'!$AC$17=\"X\",BA145=\"X\"),1,0)","v":0},null,{"$f":"IF(AND('Step 2 - Naturalized'!$AA$22=\"X\",BC145=\"X\"),1,0)","v":0},null,{"$f":"IF(AND('Step 2 - Naturalized'!$AB$22=\"X\",BE145=\"X\"),1,0)","v":0},"X",{"$f":"IF(AND('Step 2 - Naturalized'!$AC$22=\"X\",BG145=\"X\"),1,0)","v":0},"X",{"$f":"IF(AND('Step 2 - Naturalized'!$AD$22=\"X\",BI145=\"X\"),1,0)","v":0},"X",null,null,null,null,null,null,null,"White / 2.0'-4.0'"]
[null,1,"SY PU","Symphyotrichum puniceum (Aster puniceus)","Swamp Aster, Red-stemmed Aster","30\" O.C.","Tall aster (4'-6') with large purple flowers in Aug-Oct for wet sites",null,"X","X",null,null,null,1,"X",{"$f":"IF(AND('Step 2 - Naturalized'!$AA$21=\"X\",Q146=\"X\"),1,0)","v":0},null,{"$f":"IF(AND('Step 2 - Naturalized'!$AB$21=\"X\",S146=\"X\"),1,0)","v":0},null,{"$f":"IF(AND('Step 2 - Naturalized'!$AC$21=\"X\",U146=\"X\"),1,0)","v":0},null,{"$f":"IF(AND('Step 2 - Naturalized'!$AA$19=\"X\",W146=\"X\"),1,0)","v":0},"X",{"$f":"IF(AND('Step 2 - Naturalized'!$AA$19=\"X\",Y146=\"X\"),1,0)","v":0},null,{"$f":"IF(AND('Step 2 - Naturalized'!$AB$19=\"X\",AA146=\"X\"),1,0)","v":0},null,{"$f":"IF(AND('Step 2 - Naturalized'!$AC$19=\"X\",AC146=\"X\"),1,0)","v":0},null,{"$f":"IF(AND('Step 2 - Naturalized'!$AA$20=\"X\",AE146=\"X\"),1,0)","v":0},null,{"$f":"IF(AND('Step 2 - Naturalized'!$AA$20=\"X\",AG146=\"X\"),1,0)","v":0},"X",{"$f":"IF(AND('Step 2 - Naturalized'!$AB$20=\"X\",AI146=\"X\"),1,0)","v":0},"X",{"$f":"IF(AND('Step 2 - Naturalized'!$AC$20=\"X\",AK146=\"X\"),1,0)","v":0},"X",{"$f":"IF(AND('Step 2 - Naturalized'!$AA$18=\"X\",AM146=\"X\"),1,0)","v":0},null,{"$f":"IF(AND('Step 2 - Naturalized'!$AB$18=\"X\",AO146=\"X\"),1,0)","v":0},null,{"$f":"IF(AND('Step 2 - Naturalized'!$AC$18=\"X\",AQ146=\"X\"),1,0)","v":0},"X",{"$f":"IF(AND('Step 2 - Naturalized'!$AD$18=\"X\",AS146=\"X\"),1,0)","v":0},null,{"$f":"IF(AND('Step 2 - Naturalized'!$AE$18=\"X\",AU146=\"X\"),1,0)","v":0},null,{"$f":"IF(AND('Step 2 - Naturalized'!$AA$17=\"X\",AW146=\"X\"),1,0)","v":0},"X",{"$f":"IF(AND('Step 2 - Naturalized'!$AB$17=\"X\",AY146=\"X\"),1,0)","v":0},"X",{"$f":"IF(AND('Step 2 - Naturalized'!$AC$17=\"X\",BA146=\"X\"),1,0)","v":0},null,{"$f":"IF(AND('Step 2 - Naturalized'!$AA$22=\"X\",BC146=\"X\"),1,0)","v":0},null,{"$f":"IF(AND('Step 2 - Naturalized'!$AB$22=\"X\",BE146=\"X\"),1,0)","v":0},null,{"$f":"IF(AND('Step 2 - Naturalized'!$AC$22=\"X\",BG146=\"X\"),1,0)","v":0},"X",{"$f":"IF(AND('Step 2 - Naturalized'!$AD$22=\"X\",BI146=\"X\"),1,0)","v":0},"X",null,null,null,null,null,null,null,"Pale Violet / 3.0'-4.0'"]
[null,1,"SY SE","Symphyotrichum sericeum","Silky Aster","18\" O.C.","Short aster for dry soils in full to part sun, lavender purple flowers in Aug-Oct"," ","X","X",null,null,null,0,null,{"$f":"IF(AND('Step 2 - Naturalized'!$AA$21=\"X\",Q147=\"X\"),1,0)","v":0},"X",{"$f":"IF(AND('Step 2 - Naturalized'!$AB$21=\"X\",S147=\"X\"),1,0)","v":0},"X",{"$f":"IF(AND('Step 2 - Naturalized'!$AC$21=\"X\",U147=\"X\"),1,0)","v":0},"X",{"$f":"IF(AND('Step 2 - Naturalized'!$AA$19=\"X\",W147=\"X\"),1,0)","v":0},"X",{"$f":"IF(AND('Step 2 - Naturalized'!$AA$19=\"X\",Y147=\"X\"),1,0)","v":0},null,{"$f":"IF(AND('Step 2 - Naturalized'!$AB$19=\"X\",AA147=\"X\"),1,0)","v":0},null,{"$f":"IF(AND('Step 2 - Naturalized'!$AC$19=\"X\",AC147=\"X\"),1,0)","v":0},null,{"$f":"IF(AND('Step 2 - Naturalized'!$AA$20=\"X\",AE147=\"X\"),1,0)","v":0},"X",{"$f":"IF(AND('Step 2 - Naturalized'!$AA$20=\"X\",AG147=\"X\"),1,0)","v":0},null,{"$f":"IF(AND('Step 2 - Naturalized'!$AB$20=\"X\",AI147=\"X\"),1,0)","v":0},null,{"$f":"IF(AND('Step 2 - Naturalized'!$AC$20=\"X\",AK147=\"X\"),1,0)","v":0},null,{"$f":"IF(AND('Step 2 - Naturalized'!$AA$18=\"X\",AM147=\"X\"),1,0)","v":0},"X",{"$f":"IF(AND('Step 2 - Naturalized'!$AB$18=\"X\",AO147=\"X\"),1,0)","v":0},"X",{"$f":"IF(AND('Step 2 - Naturalized'!$AC$18=\"X\",AQ147=\"X\"),1,0)","v":0},null,{"$f":"IF(AND('Step 2 - Naturalized'!$AD$18=\"X\",AS147=\"X\"),1,0)","v":0},null,{"$f":"IF(AND('Step 2 - Naturalized'!$AE$18=\"X\",AU147=\"X\"),1,0)","v":0},null,{"$f":"IF(AND('Step 2 - Naturalized'!$AA$17=\"X\",AW147=\"X\"),1,0)","v":0},"X",{"$f":"IF(AND('Step 2 - Naturalized'!$AB$17=\"X\",AY147=\"X\"),1,0)","v":0},null,{"$f":"IF(AND('Step 2 - Naturalized'!$AC$17=\"X\",BA147=\"X\"),1,0)","v":0},null,{"$f":"IF(AND('Step 2 - Naturalized'!$AA$22=\"X\",BC147=\"X\"),1,0)","v":0},null,{"$f":"IF(AND('Step 2 - Naturalized'!$AB$22=\"X\",BE147=\"X\"),1,0)","v":0},"X",{"$f":"IF(AND('Step 2 - Naturalized'!$AC$22=\"X\",BG147=\"X\"),1,0)","v":0},"X",{"$f":"IF(AND('Step 2 - Naturalized'!$AD$22=\"X\",BI147=\"X\"),1,0)","v":0},"X",null,null,null,null,null,null,null,"Lavender Purple / 1.0'-2.0'"]
[null,1,"TH DA","Thalictrum dasycarpum","Purple Meadow Rue, Meadow Rue","36\" O.C.","Tall (3'-7') perennial for moist sites, whitish flowers in May-June, ",null,"X","X","X",null,null,1,"X",{"$f":"IF(AND('Step 2 - Naturalized'!$AA$21=\"X\",Q148=\"X\"),1,0)","v":0},null,{"$f":"IF(AND('Step 2 - Naturalized'!$AB$21=\"X\",S148=\"X\"),1,0)","v":0},null,{"$f":"IF(AND('Step 2 - Naturalized'!$AC$21=\"X\",U148=\"X\"),1,0)","v":0},null,{"$f":"IF(AND('Step 2 - Naturalized'!$AA$19=\"X\",W148=\"X\"),1,0)","v":0},null,{"$f":"IF(AND('Step 2 - Naturalized'!$AA$19=\"X\",Y148=\"X\"),1,0)","v":0},"X",{"$f":"IF(AND('Step 2 - Naturalized'!$AB$19=\"X\",AA148=\"X\"),1,0)","v":0},null,{"$f":"IF(AND('Step 2 - Naturalized'!$AC$19=\"X\",AC148=\"X\"),1,0)","v":0},null,{"$f":"IF(AND('Step 2 - Naturalized'!$AA$20=\"X\",AE148=\"X\"),1,0)","v":0},null,{"$f":"IF(AND('Step 2 - Naturalized'!$AA$20=\"X\",AG148=\"X\"),1,0)","v":0},"X",{"$f":"IF(AND('Step 2 - Naturalized'!$AB$20=\"X\",AI148=\"X\"),1,0)","v":0},"X",{"$f":"IF(AND('Step 2 - Naturalized'!$AC$20=\"X\",AK148=\"X\"),1,0)","v":0},null,{"$f":"IF(AND('Step 2 - Naturalized'!$AA$18=\"X\",AM148=\"X\"),1,0)","v":0},null,{"$f":"IF(AND('Step 2 - Naturalized'!$AB$18=\"X\",AO148=\"X\"),1,0)","v":0},null,{"$f":"IF(AND('Step 2 - Naturalized'!$AC$18=\"X\",AQ148=\"X\"),1,0)","v":0},"X",{"$f":"IF(AND('Step 2 - Naturalized'!$AD$18=\"X\",AS148=\"X\"),1,0)","v":0},null,{"$f":"IF(AND('Step 2 - Naturalized'!$AE$18=\"X\",AU148=\"X\"),1,0)","v":0},null,{"$f":"IF(AND('Step 2 - Naturalized'!$AA$17=\"X\",AW148=\"X\"),1,0)","v":0},"X",{"$f":"IF(AND('Step 2 - Naturalized'!$AB$17=\"X\",AY148=\"X\"),1,0)","v":0},"X",{"$f":"IF(AND('Step 2 - Naturalized'!$AC$17=\"X\",BA148=\"X\"),1,0)","v":0},null,{"$f":"IF(AND('Step 2 - Naturalized'!$AA$22=\"X\",BC148=\"X\"),1,0)","v":0},null,{"$f":"IF(AND('Step 2 - Naturalized'!$AB$22=\"X\",BE148=\"X\"),1,0)","v":0},null,{"$f":"IF(AND('Step 2 - Naturalized'!$AC$22=\"X\",BG148=\"X\"),1,0)","v":0},"X",{"$f":"IF(AND('Step 2 - Naturalized'!$AD$22=\"X\",BI148=\"X\"),1,0)","v":0},"X",null,null,null,null,"White / 3.0'-7.0'"]
[null,1,"TR OH","Tradescantia ohiensis","Blue-Jacket, Ohio Spiderwort","30\" O.C.","Deep Blue flowers in May-July at 30\", ",null,"X","X",null,null,null,0,null,{"$f":"IF(AND('Step 2 - Naturalized'!$AA$21=\"X\",Q149=\"X\"),1,0)","v":0},"X",{"$f":"IF(AND('Step 2 - Naturalized'!$AB$21=\"X\",S149=\"X\"),1,0)","v":0},"X",{"$f":"IF(AND('Step 2 - Naturalized'!$AC$21=\"X\",U149=\"X\"),1,0)","v":0},null,{"$f":"IF(AND('Step 2 - Naturalized'!$AA$19=\"X\",W149=\"X\"),1,0)","v":0},null,{"$f":"IF(AND('Step 2 - Naturalized'!$AA$19=\"X\",Y149=\"X\"),1,0)","v":0},"X",{"$f":"IF(AND('Step 2 - Naturalized'!$AB$19=\"X\",AA149=\"X\"),1,0)","v":0},"X",{"$f":"IF(AND('Step 2 - Naturalized'!$AC$19=\"X\",AC149=\"X\"),1,0)","v":0},null,{"$f":"IF(AND('Step 2 - Naturalized'!$AA$20=\"X\",AE149=\"X\"),1,0)","v":0},null,{"$f":"IF(AND('Step 2 - Naturalized'!$AA$20=\"X\",AG149=\"X\"),1,0)","v":0},"X",{"$f":"IF(AND('Step 2 - Naturalized'!$AB$20=\"X\",AI149=\"X\"),1,0)","v":0},null,{"$f":"IF(AND('Step 2 - Naturalized'!$AC$20=\"X\",AK149=\"X\"),1,0)","v":0},null,{"$f":"IF(AND('Step 2 - Naturalized'!$AA$18=\"X\",AM149=\"X\"),1,0)","v":0},"X",{"$f":"IF(AND('Step 2 - Naturalized'!$AB$18=\"X\",AO149=\"X\"),1,0)","v":0},"X",{"$f":"IF(AND('Step 2 - Naturalized'!$AC$18=\"X\",AQ149=\"X\"),1,0)","v":0},null,{"$f":"IF(AND('Step 2 - Naturalized'!$AD$18=\"X\",AS149=\"X\"),1,0)","v":0},null,{"$f":"IF(AND('Step 2 - Naturalized'!$AE$18=\"X\",AU149=\"X\"),1,0)","v":0},null,{"$f":"IF(AND('Step 2 - Naturalized'!$AA$17=\"X\",AW149=\"X\"),1,0)","v":0},"X",{"$f":"IF(AND('Step 2 - Naturalized'!$AB$17=\"X\",AY149=\"X\"),1,0)","v":0},"X",{"$f":"IF(AND('Step 2 - Naturalized'!$AC$17=\"X\",BA149=\"X\"),1,0)","v":0},null,{"$f":"IF(AND('Step 2 - Naturalized'!$AA$22=\"X\",BC149=\"X\"),1,0)","v":0},null,{"$f":"IF(AND('Step 2 - Naturalized'!$AB$22=\"X\",BE149=\"X\"),1,0)","v":0},null,{"$f":"IF(AND('Step 2 - Naturalized'!$AC$22=\"X\",BG149=\"X\"),1,0)","v":0},"X",{"$f":"IF(AND('Step 2 - Naturalized'!$AD$22=\"X\",BI149=\"X\"),1,0)","v":0},"X",null,null,null,null,"Rose Blue / 2.0'-3.0'"]
[null,1,"VE HA","Verbena hastata","Blue Vervain","24\" O.C.","Purplish-blue flowers in Jul-Sept to 5', may self-seed",null,"X","X",null,null,null,0,null,{"$f":"IF(AND('Step 2 - Naturalized'!$AA$21=\"X\",Q150=\"X\"),1,0)","v":0},"X",{"$f":"IF(AND('Step 2 - Naturalized'!$AB$21=\"X\",S150=\"X\"),1,0)","v":0},"X",{"$f":"IF(AND('Step 2 - Naturalized'!$AC$21=\"X\",U150=\"X\"),1,0)","v":0},null,{"$f":"IF(AND('Step 2 - Naturalized'!$AA$19=\"X\",W150=\"X\"),1,0)","v":0},null,{"$f":"IF(AND('Step 2 - Naturalized'!$AA$19=\"X\",Y150=\"X\"),1,0)","v":0},"X",{"$f":"IF(AND('Step 2 - Naturalized'!$AB$19=\"X\",AA150=\"X\"),1,0)","v":0},"X",{"$f":"IF(AND('Step 2 - Naturalized'!$AC$19=\"X\",AC150=\"X\"),1,0)","v":0},"X",{"$f":"IF(AND('Step 2 - Naturalized'!$AA$20=\"X\",AE150=\"X\"),1,0)","v":0},null,{"$f":"IF(AND('Step 2 - Naturalized'!$AA$20=\"X\",AG150=\"X\"),1,0)","v":0},"X",{"$f":"IF(AND('Step 2 - Naturalized'!$AB$20=\"X\",AI150=\"X\"),1,0)","v":0},"X",{"$f":"IF(AND('Step 2 - Naturalized'!$AC$20=\"X\",AK150=\"X\"),1,0)","v":0},"X",{"$f":"IF(AND('Step 2 - Naturalized'!$AA$18=\"X\",AM150=\"X\"),1,0)","v":0},null,{"$f":"IF(AND('Step 2 - Naturalized'!$AB$18=\"X\",AO150=\"X\"),1,0)","v":0},"X",{"$f":"IF(AND('Step 2 - Naturalized'!$AC$18=\"X\",AQ150=\"X\"),1,0)","v":0},"X",{"$f":"IF(AND('Step 2 - Naturalized'!$AD$18=\"X\",AS150=\"X\"),1,0)","v":0},null,{"$f":"IF(AND('Step 2 - Naturalized'!$AE$18=\"X\",AU150=\"X\"),1,0)","v":0},null,{"$f":"IF(AND('Step 2 - Naturalized'!$AA$17=\"X\",AW150=\"X\"),1,0)","v":0},"X",{"$f":"IF(AND('Step 2 - Naturalized'!$AB$17=\"X\",AY150=\"X\"),1,0)","v":0},null,{"$f":"IF(AND('Step 2 - Naturalized'!$AC$17=\"X\",BA150=\"X\"),1,0)","v":0},null,{"$f":"IF(AND('Step 2 - Naturalized'!$AA$22=\"X\",BC150=\"X\"),1,0)","v":0},null,{"$f":"IF(AND('Step 2 - Naturalized'!$AB$22=\"X\",BE150=\"X\"),1,0)","v":0},null,{"$f":"IF(AND('Step 2 - Naturalized'!$AC$22=\"X\",BG150=\"X\"),1,0)","v":0},"X",{"$f":"IF(AND('Step 2 - Naturalized'!$AD$22=\"X\",BI150=\"X\"),1,0)","v":0},"X",null,null,null,null,null,null,"Purplish Blue / 2.0'-6.0'"]
[null,1,"VE ST","Verbena stricta","Hoary Vervain","18\" O.C.","Interesting wt. fuzzy leaves, blue-purple flowers in May-Set. At 36\""," ","X","X",null,null,null,0,null,{"$f":"IF(AND('Step 2 - Naturalized'!$AA$21=\"X\",Q151=\"X\"),1,0)","v":0},"X",{"$f":"IF(AND('Step 2 - Naturalized'!$AB$21=\"X\",S151=\"X\"),1,0)","v":0},"X",{"$f":"IF(AND('Step 2 - Naturalized'!$AC$21=\"X\",U151=\"X\"),1,0)","v":0},null,{"$f":"IF(AND('Step 2 - Naturalized'!$AA$19=\"X\",W151=\"X\"),1,0)","v":0},null,{"$f":"IF(AND('Step 2 - Naturalized'!$AA$19=\"X\",Y151=\"X\"),1,0)","v":0},"X",{"$f":"IF(AND('Step 2 - Naturalized'!$AB$19=\"X\",AA151=\"X\"),1,0)","v":0},null,{"$f":"IF(AND('Step 2 - Naturalized'!$AC$19=\"X\",AC151=\"X\"),1,0)","v":0},null,{"$f":"IF(AND('Step 2 - Naturalized'!$AA$20=\"X\",AE151=\"X\"),1,0)","v":0},null,{"$f":"IF(AND('Step 2 - Naturalized'!$AA$20=\"X\",AG151=\"X\"),1,0)","v":0},"X",{"$f":"IF(AND('Step 2 - Naturalized'!$AB$20=\"X\",AI151=\"X\"),1,0)","v":0},null,{"$f":"IF(AND('Step 2 - Naturalized'!$AC$20=\"X\",AK151=\"X\"),1,0)","v":0},null,{"$f":"IF(AND('Step 2 - Naturalized'!$AA$18=\"X\",AM151=\"X\"),1,0)","v":0},"X",{"$f":"IF(AND('Step 2 - Naturalized'!$AB$18=\"X\",AO151=\"X\"),1,0)","v":0},"X",{"$f":"IF(AND('Step 2 - Naturalized'!$AC$18=\"X\",AQ151=\"X\"),1,0)","v":0},null,{"$f":"IF(AND('Step 2 - Naturalized'!$AD$18=\"X\",AS151=\"X\"),1,0)","v":0},null,{"$f":"IF(AND('Step 2 - Naturalized'!$AE$18=\"X\",AU151=\"X\"),1,0)","v":0},null,{"$f":"IF(AND('Step 2 - Naturalized'!$AA$17=\"X\",AW151=\"X\"),1,0)","v":0},"X",{"$f":"IF(AND('Step 2 - Naturalized'!$AB$17=\"X\",AY151=\"X\"),1,0)","v":0},null,{"$f":"IF(AND('Step 2 - Naturalized'!$AC$17=\"X\",BA151=\"X\"),1,0)","v":0},null,{"$f":"IF(AND('Step 2 - Naturalized'!$AA$22=\"X\",BC151=\"X\"),1,0)","v":0},null,{"$f":"IF(AND('Step 2 - Naturalized'!$AB$22=\"X\",BE151=\"X\"),1,0)","v":0},"X",{"$f":"IF(AND('Step 2 - Naturalized'!$AC$22=\"X\",BG151=\"X\"),1,0)","v":0},"X",{"$f":"IF(AND('Step 2 - Naturalized'!$AD$22=\"X\",BI151=\"X\"),1,0)","v":0},"X",null,null,null,null,null,"Blue Violet / 1.0'-3.0'"]
[null,1,"VE FA","Vernonia fasciculata","Common Ironweed","24\" O.C.","Easily grown, Purple flowers in Jul-Sept at 36\"",null,"X","X","X",null,null,0,null,{"$f":"IF(AND('Step 2 - Naturalized'!$AA$21=\"X\",Q152=\"X\"),1,0)","v":0},"X",{"$f":"IF(AND('Step 2 - Naturalized'!$AB$21=\"X\",S152=\"X\"),1,0)","v":0},"X",{"$f":"IF(AND('Step 2 - Naturalized'!$AC$21=\"X\",U152=\"X\"),1,0)","v":0},null,{"$f":"IF(AND('Step 2 - Naturalized'!$AA$19=\"X\",W152=\"X\"),1,0)","v":0},null,{"$f":"IF(AND('Step 2 - Naturalized'!$AA$19=\"X\",Y152=\"X\"),1,0)","v":0},"X",{"$f":"IF(AND('Step 2 - Naturalized'!$AB$19=\"X\",AA152=\"X\"),1,0)","v":0},null,{"$f":"IF(AND('Step 2 - Naturalized'!$AC$19=\"X\",AC152=\"X\"),1,0)","v":0},null,{"$f":"IF(AND('Step 2 - Naturalized'!$AA$20=\"X\",AE152=\"X\"),1,0)","v":0},null,{"$f":"IF(AND('Step 2 - Naturalized'!$AA$20=\"X\",AG152=\"X\"),1,0)","v":0},"X",{"$f":"IF(AND('Step 2 - Naturalized'!$AB$20=\"X\",AI152=\"X\"),1,0)","v":0},"X",{"$f":"IF(AND('Step 2 - Naturalized'!$AC$20=\"X\",AK152=\"X\"),1,0)","v":0},null,{"$f":"IF(AND('Step 2 - Naturalized'!$AA$18=\"X\",AM152=\"X\"),1,0)","v":0},null,{"$f":"IF(AND('Step 2 - Naturalized'!$AB$18=\"X\",AO152=\"X\"),1,0)","v":0},"X",{"$f":"IF(AND('Step 2 - Naturalized'!$AC$18=\"X\",AQ152=\"X\"),1,0)","v":0},"X",{"$f":"IF(AND('Step 2 - Naturalized'!$AD$18=\"X\",AS152=\"X\"),1,0)","v":0},null,{"$f":"IF(AND('Step 2 - Naturalized'!$AE$18=\"X\",AU152=\"X\"),1,0)","v":0},null,{"$f":"IF(AND('Step 2 - Naturalized'!$AA$17=\"X\",AW152=\"X\"),1,0)","v":0},"X",{"$f":"IF(AND('Step 2 - Naturalized'!$AB$17=\"X\",AY152=\"X\"),1,0)","v":0},null,{"$f":"IF(AND('Step 2 - Naturalized'!$AC$17=\"X\",BA152=\"X\"),1,0)","v":0},null,{"$f":"IF(AND('Step 2 - Naturalized'!$AA$22=\"X\",BC152=\"X\"),1,0)","v":0},null,{"$f":"IF(AND('Step 2 - Naturalized'!$AB$22=\"X\",BE152=\"X\"),1,0)","v":0},null,{"$f":"IF(AND('Step 2 - Naturalized'!$AC$22=\"X\",BG152=\"X\"),1,0)","v":0},"X",{"$f":"IF(AND('Step 2 - Naturalized'!$AD$22=\"X\",BI152=\"X\"),1,0)","v":0},"X",null,null,null,null,null,null,"Purple / 3.0'-6.0'"]
[null,1,"VE VI","Veronicastrum virginicum","Culver's Root","36\" O.C.","needs moist soil, full sun",null,"X","X",null,null,null,0,null,{"$f":"IF(AND('Step 2 - Naturalized'!$AA$21=\"X\",Q153=\"X\"),1,0)","v":0},"X",{"$f":"IF(AND('Step 2 - Naturalized'!$AB$21=\"X\",S153=\"X\"),1,0)","v":0},"X",{"$f":"IF(AND('Step 2 - Naturalized'!$AC$21=\"X\",U153=\"X\"),1,0)","v":0},"X",{"$f":"IF(AND('Step 2 - Naturalized'!$AA$19=\"X\",W153=\"X\"),1,0)","v":0},null,{"$f":"IF(AND('Step 2 - Naturalized'!$AA$19=\"X\",Y153=\"X\"),1,0)","v":0},"X",{"$f":"IF(AND('Step 2 - Naturalized'!$AB$19=\"X\",AA153=\"X\"),1,0)","v":0},null,{"$f":"IF(AND('Step 2 - Naturalized'!$AC$19=\"X\",AC153=\"X\"),1,0)","v":0},null,{"$f":"IF(AND('Step 2 - Naturalized'!$AA$20=\"X\",AE153=\"X\"),1,0)","v":0},null,{"$f":"IF(AND('Step 2 - Naturalized'!$AA$20=\"X\",AG153=\"X\"),1,0)","v":0},"X",{"$f":"IF(AND('Step 2 - Naturalized'!$AB$20=\"X\",AI153=\"X\"),1,0)","v":0},"X",{"$f":"IF(AND('Step 2 - Naturalized'!$AC$20=\"X\",AK153=\"X\"),1,0)","v":0},null,{"$f":"IF(AND('Step 2 - Naturalized'!$AA$18=\"X\",AM153=\"X\"),1,0)","v":0},null,{"$f":"IF(AND('Step 2 - Naturalized'!$AB$18=\"X\",AO153=\"X\"),1,0)","v":0},"X",{"$f":"IF(AND('Step 2 - Naturalized'!$AC$18=\"X\",AQ153=\"X\"),1,0)","v":0},"X",{"$f":"IF(AND('Step 2 - Naturalized'!$AD$18=\"X\",AS153=\"X\"),1,0)","v":0},null,{"$f":"IF(AND('Step 2 - Naturalized'!$AE$18=\"X\",AU153=\"X\"),1,0)","v":0},null,{"$f":"IF(AND('Step 2 - Naturalized'!$AA$17=\"X\",AW153=\"X\"),1,0)","v":0},"X",{"$f":"IF(AND('Step 2 - Naturalized'!$AB$17=\"X\",AY153=\"X\"),1,0)","v":0},null,{"$f":"IF(AND('Step 2 - Naturalized'!$AC$17=\"X\",BA153=\"X\"),1,0)","v":0},null,{"$f":"IF(AND('Step 2 - Naturalized'!$AA$22=\"X\",BC153=\"X\"),1,0)","v":0},null,{"$f":"IF(AND('Step 2 - Naturalized'!$AB$22=\"X\",BE153=\"X\"),1,0)","v":0},null,{"$f":"IF(AND('Step 2 - Naturalized'!$AC$22=\"X\",BG153=\"X\"),1,0)","v":0},"X",{"$f":"IF(AND('Step 2 - Naturalized'!$AD$22=\"X\",BI153=\"X\"),1,0)","v":0},"X",null,null,null,null,"White / 4.0'-7.0'"]
[null,1,"ZI AP","Zizia aptera","Heart-leaved Alexanders,  Meadow Zizia, Heart-leaved Meadow Parsnip","18\" O.C.","Early flowering perennial with yellow flowers in April -May to 2'-3' tall",null,"X","X","X",null,null,0,null,{"$f":"IF(AND('Step 2 - Naturalized'!$AA$21=\"X\",Q154=\"X\"),1,0)","v":0},"X",{"$f":"IF(AND('Step 2 - Naturalized'!$AB$21=\"X\",S154=\"X\"),1,0)","v":0},"X",{"$f":"IF(AND('Step 2 - Naturalized'!$AC$21=\"X\",U154=\"X\"),1,0)","v":0},"X",{"$f":"IF(AND('Step 2 - Naturalized'!$AA$19=\"X\",W154=\"X\"),1,0)","v":0},"X",{"$f":"IF(AND('Step 2 - Naturalized'!$AA$19=\"X\",Y154=\"X\"),1,0)","v":0},null,{"$f":"IF(AND('Step 2 - Naturalized'!$AB$19=\"X\",AA154=\"X\"),1,0)","v":0},null,{"$f":"IF(AND('Step 2 - Naturalized'!$AC$19=\"X\",AC154=\"X\"),1,0)","v":0},null,{"$f":"IF(AND('Step 2 - Naturalized'!$AA$20=\"X\",AE154=\"X\"),1,0)","v":0},"X",{"$f":"IF(AND('Step 2 - Naturalized'!$AA$20=\"X\",AG154=\"X\"),1,0)","v":0},null,{"$f":"IF(AND('Step 2 - Naturalized'!$AB$20=\"X\",AI154=\"X\"),1,0)","v":0},null,{"$f":"IF(AND('Step 2 - Naturalized'!$AC$20=\"X\",AK154=\"X\"),1,0)","v":0},null,{"$f":"IF(AND('Step 2 - Naturalized'!$AA$18=\"X\",AM154=\"X\"),1,0)","v":0},"X",{"$f":"IF(AND('Step 2 - Naturalized'!$AB$18=\"X\",AO154=\"X\"),1,0)","v":0},"X",{"$f":"IF(AND('Step 2 - Naturalized'!$AC$18=\"X\",AQ154=\"X\"),1,0)","v":0},null,{"$f":"IF(AND('Step 2 - Naturalized'!$AD$18=\"X\",AS154=\"X\"),1,0)","v":0},null,{"$f":"IF(AND('Step 2 - Naturalized'!$AE$18=\"X\",AU154=\"X\"),1,0)","v":0},null,{"$f":"IF(AND('Step 2 - Naturalized'!$AA$17=\"X\",AW154=\"X\"),1,0)","v":0},"X",{"$f":"IF(AND('Step 2 - Naturalized'!$AB$17=\"X\",AY154=\"X\"),1,0)","v":0},"X",{"$f":"IF(AND('Step 2 - Naturalized'!$AC$17=\"X\",BA154=\"X\"),1,0)","v":0},null,{"$f":"IF(AND('Step 2 - Naturalized'!$AA$22=\"X\",BC154=\"X\"),1,0)","v":0},null,{"$f":"IF(AND('Step 2 - Naturalized'!$AB$22=\"X\",BE154=\"X\"),1,0)","v":0},null,{"$f":"IF(AND('Step 2 - Naturalized'!$AC$22=\"X\",BG154=\"X\"),1,0)","v":0},"X",{"$f":"IF(AND('Step 2 - Naturalized'!$AD$22=\"X\",BI154=\"X\"),1,0)","v":0},"X",null,null,null,null,"Yellow / 2.0'-3.0'"]
[null,1,"ZI AU","Zizia aurea","Golden Alexanders","18\" O.C.","Early emerging with yellow flowers in April-June at 3'",null,"X","X",null,null,null,0,null,{"$f":"IF(AND('Step 2 - Naturalized'!$AA$21=\"X\",Q155=\"X\"),1,0)","v":0},"X",{"$f":"IF(AND('Step 2 - Naturalized'!$AB$21=\"X\",S155=\"X\"),1,0)","v":0},"X",{"$f":"IF(AND('Step 2 - Naturalized'!$AC$21=\"X\",U155=\"X\"),1,0)","v":0},"X",{"$f":"IF(AND('Step 2 - Naturalized'!$AA$19=\"X\",W155=\"X\"),1,0)","v":0},null,{"$f":"IF(AND('Step 2 - Naturalized'!$AA$19=\"X\",Y155=\"X\"),1,0)","v":0},"X",{"$f":"IF(AND('Step 2 - Naturalized'!$AB$19=\"X\",AA155=\"X\"),1,0)","v":0},"X",{"$f":"IF(AND('Step 2 - Naturalized'!$AC$19=\"X\",AC155=\"X\"),1,0)","v":0},null,{"$f":"IF(AND('Step 2 - Naturalized'!$AA$20=\"X\",AE155=\"X\"),1,0)","v":0},null,{"$f":"IF(AND('Step 2 - Naturalized'!$AA$20=\"X\",AG155=\"X\"),1,0)","v":0},"X",{"$f":"IF(AND('Step 2 - Naturalized'!$AB$20=\"X\",AI155=\"X\"),1,0)","v":0},null,{"$f":"IF(AND('Step 2 - Naturalized'!$AC$20=\"X\",AK155=\"X\"),1,0)","v":0},null,{"$f":"IF(AND('Step 2 - Naturalized'!$AA$18=\"X\",AM155=\"X\"),1,0)","v":0},null,{"$f":"IF(AND('Step 2 - Naturalized'!$AB$18=\"X\",AO155=\"X\"),1,0)","v":0},"X",{"$f":"IF(AND('Step 2 - Naturalized'!$AC$18=\"X\",AQ155=\"X\"),1,0)","v":0},null,{"$f":"IF(AND('Step 2 - Naturalized'!$AD$18=\"X\",AS155=\"X\"),1,0)","v":0},null,{"$f":"IF(AND('Step 2 - Naturalized'!$AE$18=\"X\",AU155=\"X\"),1,0)","v":0},null,{"$f":"IF(AND('Step 2 - Naturalized'!$AA$17=\"X\",AW155=\"X\"),1,0)","v":0},"X",{"$f":"IF(AND('Step 2 - Naturalized'!$AB$17=\"X\",AY155=\"X\"),1,0)","v":0},"X",{"$f":"IF(AND('Step 2 - Naturalized'!$AC$17=\"X\",BA155=\"X\"),1,0)","v":0},null,{"$f":"IF(AND('Step 2 - Naturalized'!$AA$22=\"X\",BC155=\"X\"),1,0)","v":0},null,{"$f":"IF(AND('Step 2 - Naturalized'!$AB$22=\"X\",BE155=\"X\"),1,0)","v":0},null,{"$f":"IF(AND('Step 2 - Naturalized'!$AC$22=\"X\",BG155=\"X\"),1,0)","v":0},"X",{"$f":"IF(AND('Step 2 - Naturalized'!$AD$22=\"X\",BI155=\"X\"),1,0)","v":0},"X",null,null,null,null,"Yellow / 1.5'-3.0'"]
[]
[]
[]
[]
[]
[]
[]
[]
[]
[]
[]
[]
[null,null,null,null,null,null,null,null,null,null,null,null,null,null,null,null,null,null,null,null,null,null,null,null,null,null,null,null,null,null,null,null,null,null,null,null,null,null,null,null,null,null,null,null,null,null,null,null,null,null,null,null,null,null,null,null,null,null,null,null,null,null,null,null,null,null,null,null,null,null,null,null,null,null,null,null,null,null,null,null,null,null,null,null,null,null,null,null,null,null,null,"Maintenance/Installation Specification"]
[]
[]
[]
[null,null,null,null,null,null,null,null,null,null,null,null,null,null,null,null,null,null,null,null,null,null,null,null,null,null,null,null,null,null,null,null,null,null,null,null,null,null,null,null,null,null,null,null,null,null,null,null,null,null,null,null,null,null,null,null,null,null,null,null,null,null,null,null,null,null,null,null,null,null,null,null,null,null,null,null,null,null,null,null,null,null,null,null,null,null,null,null,null,null,null,"Recommended Plant Patterns"]